{"text_format":"1","workbook":"xlsx","n_sheets":13,"sheets":["Parameters","Tools","Product-tool","Standard output","Orders","Tools avail","Tool time needed per product","Sum of needed tool time","Hours per product per tool","Tools loading","What products need tool change","Balanced Time Per Product","After balance HoursPerProduct"],"not_rendered":{"charts":0,"images":1,"macros":1,"external_links":1,"defined_names":21,"comments":1,"pivot_tables":2},"unopened":[],"bounds":{"document_bytes":16777216,"sheet_cells":100000,"rows_first":2000,"rows_last":500,"rows_between":2000,"halvings":0,"cell_chars":16384,"cell_head_chars":4096},"cells_cut":0,"cells_raw":0,"read":"whole","date_system":"1900"}

{"sheet":"Parameters","index":0,"n_rows":87,"n_cols":2,"rows_kept":87,"cut":false,"hidden":false,"merged":[]}
[]
["Time bucket for balancing","Week1"]
["Target balancing value :",0.85]
[]
[]
[]
[]
[]
[]
[]
[]
[]
[]
[]
[]
[]
[]
[]
[]
[]
[]
[]
[]
[]
[]
[]
[]
[]
[]
[]
[]
[]
[]
[]
[]
[]
[]
[]
[]
[]
[]
[]
[]
[]
[]
[]
[]
[]
[]
[]
[]
[]
[]
[]
[]
[]
[]
[]
[]
[]
[]
[]
[]
[]
[]
[]
[]
[]
[]
[]
[]
[]
[]
[]
[]
[]
[]
[]
[]
[]
["Time bucket trans. - do not tuch this list"]
[{"$f":"INDEX(Orders!$B$2:$J$2,1,1)","v":"Week1"}]
[{"$f":"INDEX(Orders!$B$2:$J$2,1,2)","v":"Week2"}]
[{"$f":"INDEX(Orders!$B$2:$J$2,1,3)","v":"Week3"}]
[{"$f":"INDEX(Orders!$B$2:$J$2,1,4)","v":0}]
[{"$f":"INDEX(Orders!$B$2:$J$2,1,5)","v":0}]
[{"$f":"INDEX(Orders!$B$2:$J$2,1,6)","v":0}]

{"sheet":"Tools","index":1,"n_rows":21,"n_cols":4,"rows_kept":21,"cut":false,"hidden":false,"merged":[]}
["Tools","Availability","Units per hour","Tool balance priority"]
["Tool 01",0.78498842774067645,1200,1]
["Tool 02",1.4,2600,1]
["Tool 03",0.64608025109526479,2400,2]
["Tool 04",0.68685571663355671,2223,1]
["Tool 05",0.78498842774067645,1200,2]
["Tool 06",0.6678858026257144,5800,1]
["Tool 07",0.62062114521721934,6400,3]
["Tool 08",1.2,3920,3]
["Tool 09",0.79249614380264144,480,1]
["Tool 10",0.81205632919293158,1550,1]
["Tool 11",0.62307484850778594,2032,1]
["Tool 12",0.64521605055512699,4000,1]
["Tool 13",0.51369984622337794,2400,1]
["Tool 14",0.66890844995698961,2300,1]
["Tool 15",0.60366512367183045,4400,1]
["Tool 16",0.67793981480289245,6800,1]
["Tool 17",0.70780159146430577,6800,1]
["Tool 18",0.82415037289220261,2800,1]
["Tool 19",0.80966821144260115,10168,1]
["Tool 20",0.80966821144260115,7847.6422349005379,1]

{"sheet":"Product-tool","index":2,"n_rows":802,"n_cols":6,"rows_kept":802,"cut":false,"hidden":false,"merged":[[0,0,0,2]]}
["Input"]
["Product","Main tool","Secondary tool",null,"Balanced result","Was balanced?"]
["AB0329160","Tool 10",null,null,"Tool 10",false]
["AB0513704","Tool 10",null,null,"Tool 10",false]
["AB0635046","Tool 10",null,null,"Tool 10",false]
["AB0975463","Tool 09",null,null,"Tool 09",false]
["AB1018910","Tool 10",null,null,"Tool 10",false]
["AB1305109","Tool 04","Tool 17",null,"Tool 17",true]
["AB2092362","Tool 10",null,null,"Tool 10",false]
["AB2569538","Tool 10",null,null,"Tool 10",false]
["AB2665756","Tool 06",null,null,"Tool 06",false]
["AB3534415","Tool 05",null,null,"Tool 05",false]
["AB3839653","Tool 10",null,null,"Tool 10",false]
["AB4133650","Tool 04","Tool 17",null,"Tool 17",true]
["AB4302436","Tool 10",null,null,"Tool 10",false]
["AB4952945","Tool 16",null,null,"Tool 16",false]
["AB5677022","Tool 07",null,null,"Tool 07",false]
["AB617476","Tool 18","Tool 13",null,"Tool 13",true]
["AB6803301","Tool 04","Tool 17",null,"Tool 17",true]
["AB6883086","Tool 09",null,null,"Tool 09",false]
["AF2334989","Tool 17",null,null,"Tool 17",false]
["AF2797300","Tool 09",null,null,"Tool 09",false]
["AF4224863","Tool 09",null,null,"Tool 09",false]
["AF4955974","Tool 09",null,null,"Tool 09",false]
["AF5847200","Tool 15",null,null,"Tool 15",false]
["AL1492544","Tool 06",null,null,"Tool 06",false]
["AL2661736","Tool 15",null,null,"Tool 15",false]
["AO0324556","Tool 16",null,null,"Tool 16",false]
["AO0414069","Tool 02","Tool 03",null,"Tool 02",false]
["AO2105290","Tool 15",null,null,"Tool 15",false]
["AO4874959","Tool 18","Tool 13",null,"Tool 13",true]
["AO5342652","Tool 07",null,null,"Tool 07",false]
["AO5834357","Tool 15",null,null,"Tool 15",false]
["AO8517171","Tool 14",null,null,"Tool 14",false]
["AO855133","Tool 07",null,null,"Tool 07",false]
["AP0171319","Tool 07",null,null,"Tool 07",false]
["AP0202155","Tool 15",null,null,"Tool 15",false]
["AP086256","Tool 07",null,null,"Tool 07",false]
["AP242884","Tool 16",null,null,"Tool 16",false]
["AP3078837","Tool 07",null,null,"Tool 07",false]
["AP352983","Tool 17",null,null,"Tool 17",false]
["AP3728500","Tool 02","Tool 03",null,"Tool 02",false]
["AP3951566","Tool 02","Tool 03",null,"Tool 02",false]
["AP4223947","Tool 02","Tool 03",null,"Tool 02",false]
["AP4745289","Tool 02","Tool 03",null,"Tool 02",false]
["AP4972828","Tool 07",null,null,"Tool 07",false]
["AP5614262","Tool 07",null,null,"Tool 07",false]
["AP5647883","Tool 15",null,null,"Tool 15",false]
["AP5897782","Tool 07",null,null,"Tool 07",false]
["AP853615","Tool 13",null,null,"Tool 13",false]
["AS0105077","Tool 12",null,null,"Tool 12",false]
["AS0125536","Tool 05",null,null,"Tool 05",false]
["AS0888075","Tool 13",null,null,"Tool 13",false]
["AS1143091","Tool 05",null,null,"Tool 05",false]
["AS5378181","Tool 13",null,null,"Tool 13",false]
["AS6815735","Tool 06",null,null,"Tool 06",false]
["BC1086722","Tool 06",null,null,"Tool 06",false]
["BC1381899","Tool 06",null,null,"Tool 06",false]
["BC1638233","Tool 06",null,null,"Tool 06",false]
["BC2465775","Tool 06",null,null,"Tool 06",false]
["BC2509115","Tool 06",null,null,"Tool 06",false]
["BC2965316","Tool 06",null,null,"Tool 06",false]
["BC3857293","Tool 15",null,null,"Tool 15",false]
["BC5752252","Tool 06",null,null,"Tool 06",false]
["BC6306450","Tool 05",null,null,"Tool 05",false]
["CC0084549","Tool 12",null,null,"Tool 12",false]
["CC0189122","Tool 20",null,null,"Tool 20",false]
["CC0921636","Tool 20",null,null,"Tool 20",false]
["CC092903","Tool 20",null,null,"Tool 20",false]
["CC2454697","Tool 20",null,null,"Tool 20",false]
["CC2566445","Tool 15",null,null,"Tool 15",false]
["CC2575","Tool 19",null,null,"Tool 19",false]
["CC2936183","Tool 20",null,null,"Tool 20",false]
["CC2965217","Tool 20",null,null,"Tool 20",false]
["CC3609599","Tool 04","Tool 17",null,"Tool 17",true]
["CC3979402","Tool 13",null,null,"Tool 13",false]
["CC4329116","Tool 19",null,null,"Tool 19",false]
["CC4618183","Tool 18","Tool 13",null,"Tool 13",true]
["CC4774419","Tool 12",null,null,"Tool 12",false]
["CC4941594","Tool 13",null,null,"Tool 13",false]
["CC4945569","Tool 04","Tool 17",null,"Tool 17",true]
["CC5387633","Tool 04","Tool 17",null,"Tool 17",true]
["CC5505924","Tool 19",null,null,"Tool 19",false]
["CC5603244","Tool 12",null,null,"Tool 12",false]
["CC5605066","Tool 08","Tool 11",null,"Tool 08",false]
["CC5646794","Tool 20",null,null,"Tool 20",false]
["CC5671451","Tool 19",null,null,"Tool 19",false]
["CC5798817","Tool 20",null,null,"Tool 20",false]
["CC5805891","Tool 04","Tool 17",null,"Tool 17",true]
["CC5803851","Tool 20",null,null,"Tool 20",false]
["CC5835642","Tool 12",null,null,"Tool 12",false]
["CC5844379","Tool 13",null,null,"Tool 13",false]
["CC5859307","Tool 15",null,null,"Tool 15",false]
["CC5877145","Tool 12",null,null,"Tool 12",false]
["CC5872620","Tool 19",null,null,"Tool 19",false]
["CC5949597","Tool 15",null,null,"Tool 15",false]
["CC5951749","Tool 19",null,null,"Tool 19",false]
["CC6069687","Tool 04","Tool 17",null,"Tool 17",true]
["CC6146771","Tool 19",null,null,"Tool 19",false]
["CC642531","Tool 19",null,null,"Tool 19",false]
["CC6514546","Tool 15",null,null,"Tool 15",false]
["CL1528731","Tool 15",null,null,"Tool 15",false]
["CL4179003","Tool 08","Tool 11",null,"Tool 08",false]
["CM2146129","Tool 08","Tool 11",null,"Tool 08",false]
["CM2144500","Tool 08","Tool 11",null,"Tool 08",false]
["CM2364748","Tool 04",null,null,"Tool 04",false]
["CM2573429","Tool 08","Tool 11",null,"Tool 08",false]
["CM267912","Tool 08","Tool 11",null,"Tool 08",false]
["CM2981742","Tool 10",null,null,"Tool 10",false]
["CM350886","Tool 08","Tool 11",null,"Tool 08",false]
["CM3509051","Tool 08","Tool 11",null,"Tool 08",false]
["CM5648071","Tool 19",null,null,"Tool 19",false]
["CM5946003","Tool 19",null,null,"Tool 19",false]
["CM5947011","Tool 04",null,null,"Tool 04",false]
["CP2759269","Tool 09",null,null,"Tool 09",false]
["CP3651771","Tool 02","Tool 03",null,"Tool 02",false]
["CP3782517","Tool 16",null,null,"Tool 16",false]
["CP5891290","Tool 12",null,null,"Tool 12",false]
["CP5915175","Tool 17",null,null,"Tool 17",false]
["CT0314214","Tool 20",null,null,"Tool 20",false]
["CT0686710","Tool 04","Tool 17",null,"Tool 17",true]
["CT0911438","Tool 13",null,null,"Tool 13",false]
["CT1153413","Tool 20",null,null,"Tool 20",false]
["CT1195860","Tool 19",null,null,"Tool 19",false]
["CT1344126","Tool 16",null,null,"Tool 16",false]
["CT1427436","Tool 16",null,null,"Tool 16",false]
["CT1422602","Tool 13",null,null,"Tool 13",false]
["CT1693771","Tool 19",null,null,"Tool 19",false]
["CT2356543","Tool 18","Tool 13",null,"Tool 13",true]
["CT2727204","Tool 11","Tool 12",null,"Tool 12",true]
["CT2748008","Tool 20",null,null,"Tool 20",false]
["CT2882108","Tool 19",null,null,"Tool 19",false]
["CT2899279","Tool 11","Tool 12",null,"Tool 12",true]
["CT2921184","Tool 15",null,null,"Tool 15",false]
["CT2976643","Tool 18","Tool 13",null,"Tool 13",true]
["CT3251740","Tool 18","Tool 13",null,"Tool 18",false]
["CT3327591","Tool 20",null,null,"Tool 20",false]
["CT3389630","Tool 03",null,null,"Tool 03",false]
["CT3513686","Tool 15",null,null,"Tool 15",false]
["CT3676279","Tool 18","Tool 13",null,"Tool 18",false]
["CT3847465","Tool 08","Tool 11",null,"Tool 08",false]
["CT3866790","Tool 20",null,null,"Tool 20",false]
["CT4394015","Tool 04","Tool 17",null,"Tool 17",true]
["CT4485707","Tool 19",null,null,"Tool 19",false]
["CT4625235","Tool 11","Tool 12",null,"Tool 12",true]
["CT4696984","Tool 12",null,null,"Tool 12",false]
["CT4766693","Tool 19",null,null,"Tool 19",false]
["CT4972454","Tool 20",null,null,"Tool 20",false]
["CT4983245","Tool 19",null,null,"Tool 19",false]
["CT4998062","Tool 19",null,null,"Tool 19",false]
["CT5306052","Tool 20",null,null,"Tool 20",false]
["CT5312249","Tool 19",null,null,"Tool 19",false]
["CT5387974","Tool 10",null,null,"Tool 10",false]
["CT5424793","Tool 12",null,null,"Tool 12",false]
["CT54540","Tool 15",null,null,"Tool 15",false]
["CT5587547","Tool 19",null,null,"Tool 19",false]
["CT5594793","Tool 18","Tool 13",null,"Tool 13",true]
["CT5668919","Tool 20",null,null,"Tool 20",false]
["CT5745169","Tool 12",null,null,"Tool 12",false]
["CT5745914","Tool 12",null,null,"Tool 12",false]
["CT5783436","Tool 20",null,null,"Tool 20",false]
["CT5802839","Tool 19",null,null,"Tool 19",false]
["CT5819298","Tool 20",null,null,"Tool 20",false]
["CT5829315","Tool 18","Tool 13",null,"Tool 13",true]
["CT5869387","Tool 19",null,null,"Tool 19",false]
["CT588550","Tool 11","Tool 12",null,"Tool 12",true]
["CT5885641","Tool 18","Tool 13",null,"Tool 18",false]
["CT593521","Tool 18","Tool 13",null,"Tool 18",false]
["CT5932817","Tool 20",null,null,"Tool 20",false]
["CT5982395","Tool 04","Tool 17",null,"Tool 04",false]
["CT6358073","Tool 20",null,null,"Tool 20",false]
["CT6438604","Tool 20",null,null,"Tool 20",false]
["CT6445143","Tool 20",null,null,"Tool 20",false]
["CT823663","Tool 07",null,null,"Tool 07",false]
["DA2128864","Tool 05",null,null,"Tool 05",false]
["DA5685201","Tool 01",null,null,"Tool 01",false]
["DP0098702","Tool 17",null,null,"Tool 17",false]
["DP087138","Tool 14",null,null,"Tool 14",false]
["DP1792938","Tool 15",null,null,"Tool 15",false]
["DP2403779","Tool 15",null,null,"Tool 15",false]
["DP2404504","Tool 03",null,null,"Tool 03",false]
["DP4769417","Tool 17",null,null,"Tool 17",false]
["DP4764853","Tool 18","Tool 13",null,"Tool 18",false]
["DP5007199","Tool 01",null,null,"Tool 01",false]
["DP5383174","Tool 01",null,null,"Tool 01",false]
["DP5698799","Tool 01",null,null,"Tool 01",false]
["DP5908334","Tool 01",null,null,"Tool 01",false]
["DP638679","Tool 18","Tool 13",null,"Tool 13",true]
["FR0061274","Tool 11",null,null,"Tool 11",false]
["FR009628","Tool 11",null,null,"Tool 11",false]
["FR0362571","Tool 11",null,null,"Tool 11",false]
["FR0614261","Tool 11",null,null,"Tool 11",false]
["FR0622263","Tool 11",null,null,"Tool 11",false]
["FR066151","Tool 04",null,null,"Tool 04",false]
["FR0667973","Tool 11",null,null,"Tool 11",false]
["FR0679719","Tool 10",null,null,"Tool 10",false]
["FR0696557","Tool 15",null,null,"Tool 15",false]
["FR0905418","Tool 15",null,null,"Tool 15",false]
["FR0919209","Tool 11",null,null,"Tool 11",false]
["FR0935436","Tool 11",null,null,"Tool 11",false]
["FR1379592","Tool 15",null,null,"Tool 15",false]
["FR141742","Tool 15",null,null,"Tool 15",false]
["FR1415438","Tool 11",null,null,"Tool 11",false]
["FR1452826","Tool 18","Tool 13",null,"Tool 13",true]
["FR1615194","Tool 15",null,null,"Tool 15",false]
["FR219333","Tool 19",null,null,"Tool 19",false]
["FR2345868","Tool 15",null,null,"Tool 15",false]
["FR2492515","Tool 19",null,null,"Tool 19",false]
["FR2795111","Tool 11",null,null,"Tool 11",false]
["FR2815273","Tool 11",null,null,"Tool 11",false]
["FR2948803","Tool 11",null,null,"Tool 11",false]
["FR317601","Tool 11",null,null,"Tool 11",false]
["FR3359591","Tool 19",null,null,"Tool 19",false]
["FR3467978","Tool 18","Tool 13",null,"Tool 18",false]
["FR3576193","Tool 11",null,null,"Tool 11",false]
["FR3597468","Tool 19",null,null,"Tool 19",false]
["FR3659141","Tool 11",null,null,"Tool 11",false]
["FR378786","Tool 11",null,null,"Tool 11",false]
["FR3966167","Tool 03",null,null,"Tool 03",false]
["FR3998413","Tool 15",null,null,"Tool 15",false]
["FR4374057","Tool 19",null,null,"Tool 19",false]
["FR4526775","Tool 11",null,null,"Tool 11",false]
["FR4539511","Tool 11",null,null,"Tool 11",false]
["FR457233","Tool 18","Tool 13",null,"Tool 13",true]
["FR4624850","Tool 11",null,null,"Tool 11",false]
["FR4897160","Tool 15",null,null,"Tool 15",false]
["FR4954051","Tool 19",null,null,"Tool 19",false]
["FR4965335","Tool 11",null,null,"Tool 11",false]
["FR5342502","Tool 11",null,null,"Tool 11",false]
["FR5371365","Tool 15",null,null,"Tool 15",false]
["FR5384444","Tool 11",null,null,"Tool 11",false]
["FR5404360","Tool 19",null,null,"Tool 19",false]
["FR5454864","Tool 11",null,null,"Tool 11",false]
["FR5608301","Tool 11",null,null,"Tool 11",false]
["FR5664727","Tool 11",null,null,"Tool 11",false]
["FR5671746","Tool 15",null,null,"Tool 15",false]
["FR5682241","Tool 11",null,null,"Tool 11",false]
["FR5684287","Tool 11",null,null,"Tool 11",false]
["FR5744950","Tool 11",null,null,"Tool 11",false]
["FR5796610","Tool 11",null,null,"Tool 11",false]
["FR5894727","Tool 11",null,null,"Tool 11",false]
["FR5931113","Tool 17",null,null,"Tool 17",false]
["FR5935871","Tool 11",null,null,"Tool 11",false]
["FR5969812","Tool 11",null,null,"Tool 11",false]
["FR5979463","Tool 11",null,null,"Tool 11",false]
["FR5992952","Tool 11",null,null,"Tool 11",false]
["FR6818423","Tool 14",null,null,"Tool 14",false]
["GF0013491","Tool 14",null,null,"Tool 14",false]
["GF0149565","Tool 14",null,null,"Tool 14",false]
["GF1114780","Tool 17",null,null,"Tool 17",false]
["GF1349895","Tool 14",null,null,"Tool 14",false]
["GF1438930","Tool 14",null,null,"Tool 14",false]
["GF368849","Tool 14",null,null,"Tool 14",false]
["GF3811858","Tool 14",null,null,"Tool 14",false]
["GF4305823","Tool 14",null,null,"Tool 14",false]
["GF498873","Tool 14",null,null,"Tool 14",false]
["GF5598636","Tool 14",null,null,"Tool 14",false]
["GF5747120","Tool 14",null,null,"Tool 14",false]
["GF586901","Tool 14",null,null,"Tool 14",false]
["GF5886834","Tool 14",null,null,"Tool 14",false]
["GF5885097","Tool 14",null,null,"Tool 14",false]
["GF5892823","Tool 14",null,null,"Tool 14",false]
["GF5942175","Tool 14",null,null,"Tool 14",false]
["GF67655","Tool 11","Tool 12",null,"Tool 12",true]
["IP453302","Tool 05",null,null,"Tool 05",false]
["IR1385574","Tool 19",null,null,"Tool 19",false]
["IR539559","Tool 05",null,null,"Tool 05",false]
["IR5796915","Tool 12",null,null,"Tool 12",false]
["IR6327281","Tool 12",null,null,"Tool 12",false]
["MC3428427","Tool 13",null,null,"Tool 13",false]
["MC3543546","Tool 11","Tool 12",null,"Tool 12",true]
["MC3717873","Tool 12",null,null,"Tool 12",false]
["MC4244977","Tool 11","Tool 12",null,"Tool 12",true]
["MC4291921","Tool 10",null,null,"Tool 10",false]
["MC4993575","Tool 19",null,null,"Tool 19",false]
["MC4997628","Tool 19",null,null,"Tool 19",false]
["MC5625753","Tool 05",null,null,"Tool 05",false]
["MC5663542","Tool 05",null,null,"Tool 05",false]
["MC5823622","Tool 19",null,null,"Tool 19",false]
["MC594145","Tool 08","Tool 11",null,"Tool 08",false]
["ME8004536","Tool 08",null,null,"Tool 08",false]
["ME8004064","Tool 08",null,null,"Tool 08",false]
["ME8009107","Tool 08",null,null,"Tool 08",false]
["ME8007924","Tool 08",null,null,"Tool 08",false]
["ME8082434","Tool 08",null,null,"Tool 08",false]
["ME8115997","Tool 08",null,null,"Tool 08",false]
["ME8144143","Tool 08",null,null,"Tool 08",false]
["ME81564","Tool 08",null,null,"Tool 08",false]
["ME8164351","Tool 11","Tool 12",null,"Tool 12",true]
["ME8183059","Tool 08",null,null,"Tool 08",false]
["ME8182883","Tool 08",null,null,"Tool 08",false]
["ME8186457","Tool 08",null,null,"Tool 08",false]
["ME8183894","Tool 08",null,null,"Tool 08",false]
["ME8203838","Tool 08",null,null,"Tool 08",false]
["ME8216708","Tool 08",null,null,"Tool 08",false]
["ME8212034","Tool 08",null,null,"Tool 08",false]
["ME8219605","Tool 08",null,null,"Tool 08",false]
["ME8227923","Tool 08",null,null,"Tool 08",false]
["ME8254069","Tool 08",null,null,"Tool 08",false]
["ME8294469","Tool 08",null,null,"Tool 08",false]
["ME8314847","Tool 08",null,null,"Tool 08",false]
["ME8808939","Tool 08",null,null,"Tool 08",false]
["ME8804901","Tool 08",null,null,"Tool 08",false]
["ME8809588","Tool 08",null,null,"Tool 08",false]
["ME8846873","Tool 08",null,null,"Tool 08",false]
["ME8876987","Tool 04","Tool 06",null,"Tool 04",false]
["MP8004078","Tool 04","Tool 06",null,"Tool 04",false]
["MP8026858","Tool 04","Tool 06",null,"Tool 04",false]
["MP8061520","Tool 04","Tool 06",null,"Tool 04",false]
["MP8104858","Tool 04","Tool 06",null,"Tool 04",false]
["MP8109471","Tool 04","Tool 06",null,"Tool 04",false]
["MP8189416","Tool 07",null,null,"Tool 07",false]
["MR0869382","Tool 10",null,null,"Tool 10",false]
["MT0524796","Tool 09",null,null,"Tool 09",false]
["MT458935","Tool 09",null,null,"Tool 09",false]
["MT4603768","Tool 15",null,null,"Tool 15",false]
["NU0449734","Tool 15",null,null,"Tool 15",false]
["NU0799419","Tool 15",null,null,"Tool 15",false]
["NU0913559","Tool 15",null,null,"Tool 15",false]
["NU1662490","Tool 15",null,null,"Tool 15",false]
["NU1816428","Tool 10",null,null,"Tool 10",false]
["NU2694528","Tool 15",null,null,"Tool 15",false]
["NU2703355","Tool 02",null,null,"Tool 02",false]
["NU2754771","Tool 05",null,null,"Tool 05",false]
["NU290431","Tool 15",null,null,"Tool 15",false]
["NU3608271","Tool 10",null,null,"Tool 10",false]
["NU3708683","Tool 02",null,null,"Tool 02",false]
["NU3827246","Tool 02",null,null,"Tool 02",false]
["NU3927324","Tool 11","Tool 12",null,"Tool 12",true]
["NU4893598","Tool 02",null,null,"Tool 02",false]
["NU5305035","Tool 17",null,null,"Tool 17",false]
["NU5785654","Tool 10",null,null,"Tool 10",false]
["OX5859021","Tool 10",null,null,"Tool 10",false]
["OX5851901","Tool 16",null,null,"Tool 16",false]
["RC146190","Tool 18",null,null,"Tool 18",false]
["RC4928508","Tool 18",null,null,"Tool 18",false]
["RM0095773","Tool 18",null,null,"Tool 18",false]
["RM1193363","Tool 18",null,null,"Tool 18",false]
["RM12722","Tool 18",null,null,"Tool 18",false]
["RM2364622","Tool 18",null,null,"Tool 18",false]
["RM4669200","Tool 18",null,null,"Tool 18",false]
["RM4667709","Tool 18",null,null,"Tool 18",false]
["RM4695168","Tool 18",null,null,"Tool 18",false]
["RM4934415","Tool 18",null,null,"Tool 18",false]
["RM5456028","Tool 18",null,null,"Tool 18",false]
["RM56355","Tool 18",null,null,"Tool 18",false]
["RM5696783","Tool 18",null,null,"Tool 18",false]
["RM5699820","Tool 18",null,null,"Tool 18",false]
["RM5986206","Tool 18",null,null,"Tool 18",false]
["RM6463347","Tool 18",null,null,"Tool 18",false]
["RT2524952","Tool 18",null,null,"Tool 18",false]
["RT2601597","Tool 18",null,null,"Tool 18",false]
["RT2887016","Tool 18",null,null,"Tool 18",false]
["RT3164824","Tool 10",null,null,"Tool 10",false]
["SB0191101","Tool 15",null,null,"Tool 15",false]
["SB0898923","Tool 07",null,null,"Tool 07",false]
["SB1429502","Tool 10",null,null,"Tool 10",false]
["SB2162364","Tool 15",null,null,"Tool 15",false]
["SB3338674","Tool 02",null,null,"Tool 02",false]
["SB4985987","Tool 02",null,null,"Tool 02",false]
["SB585933","Tool 16",null,null,"Tool 16",false]
["SB6619702","Tool 02",null,null,"Tool 02",false]
["SB6782689","Tool 15",null,null,"Tool 15",false]
["SB6851891","Tool 15",null,null,"Tool 15",false]
["SB6883672","Tool 10",null,null,"Tool 10",false]
["SB699340","Tool 10",null,null,"Tool 10",false]
["SL035245","Tool 15",null,null,"Tool 15",false]
["SL04371","Tool 17",null,null,"Tool 17",false]
["SL0454342","Tool 09",null,null,"Tool 09",false]
["SL0979997","Tool 09",null,null,"Tool 09",false]
["SL0973907","Tool 16",null,null,"Tool 16",false]
["SL1205692","Tool 02","Tool 03",null,"Tool 02",false]
["SL1739082","Tool 02","Tool 03",null,"Tool 02",false]
["SL1814144","Tool 02","Tool 03",null,"Tool 02",false]
["SL2223216","Tool 02","Tool 03",null,"Tool 02",false]
["SL4542202","Tool 02","Tool 03",null,"Tool 02",false]
["SL6923987","Tool 16",null,null,"Tool 16",false]
["SL6949404","Tool 09",null,null,"Tool 09",false]
["SS0108","Tool 09",null,null,"Tool 09",false]
["ST0044507","Tool 02","Tool 03",null,"Tool 02",false]
["ST0248243","Tool 02","Tool 03",null,"Tool 02",false]
["ST0249290","Tool 09",null,null,"Tool 09",false]
["ST086120","Tool 02","Tool 03",null,"Tool 02",false]
["ST0904669","Tool 02","Tool 03",null,"Tool 02",false]
["ST1025440","Tool 09",null,null,"Tool 09",false]
["ST1444632","Tool 02","Tool 03",null,"Tool 02",false]
["ST1661696","Tool 02","Tool 03",null,"Tool 02",false]
["ST269903","Tool 15",null,null,"Tool 15",false]
["ST3078513","Tool 02","Tool 03",null,"Tool 02",false]
["ST3795473","Tool 02","Tool 03",null,"Tool 02",false]
["ST3859207","Tool 02","Tool 03",null,"Tool 02",false]
["ST5444150","Tool 02","Tool 03",null,"Tool 02",false]
["ST5622830","Tool 02","Tool 03",null,"Tool 02",false]
["ST5775560","Tool 02","Tool 03",null,"Tool 02",false]
["ST5866857","Tool 02","Tool 03",null,"Tool 02",false]
["ST5905549","Tool 15",null,null,"Tool 15",false]
["UV0008455","Tool 02",null,null,"Tool 02",false]
["UV0002089","Tool 15",null,null,"Tool 15",false]
["UV0122500","Tool 17",null,null,"Tool 17",false]
["UV0167578","Tool 16",null,null,"Tool 16",false]
["UV0185671","Tool 09",null,null,"Tool 09",false]
["UV0432519","Tool 16",null,null,"Tool 16",false]
["UV0436753","Tool 17",null,null,"Tool 17",false]
["UV046672","Tool 02",null,null,"Tool 02",false]
["UV0685993","Tool 17",null,null,"Tool 17",false]
["UV0787788","Tool 02",null,null,"Tool 02",false]
["UV0787562","Tool 02",null,null,"Tool 02",false]
["UV0831317","Tool 16",null,null,"Tool 16",false]
["UV091154","Tool 15",null,null,"Tool 15",false]
["UV0924680","Tool 16",null,null,"Tool 16",false]
["UV1106642","Tool 02",null,null,"Tool 02",false]
["UV1121941","Tool 16",null,null,"Tool 16",false]
["UV1187156","Tool 15",null,null,"Tool 15",false]
["UV120727","Tool 19",null,null,"Tool 19",false]
["UV133670","Tool 16",null,null,"Tool 16",false]
["UV1394884","Tool 15",null,null,"Tool 15",false]
["UV1585237","Tool 09",null,null,"Tool 09",false]
["UV1723988","Tool 18",null,null,"Tool 18",false]
["UV2189115","Tool 02",null,null,"Tool 02",false]
["UV2195087","Tool 07",null,null,"Tool 07",false]
["UV2198207","Tool 09",null,null,"Tool 09",false]
["UV2213161","Tool 02",null,null,"Tool 02",false]
["UV2285856","Tool 09",null,null,"Tool 09",false]
["UV2374219","Tool 18",null,null,"Tool 18",false]
["UV2452537","Tool 02","Tool 03",null,"Tool 02",false]
["UV250174","Tool 15",null,null,"Tool 15",false]
["UV251396","Tool 09",null,null,"Tool 09",false]
["UV252791","Tool 15",null,null,"Tool 15",false]
["UV2535805","Tool 02","Tool 03",null,"Tool 02",false]
["UV2636450","Tool 15",null,null,"Tool 15",false]
["UV2781330","Tool 17",null,null,"Tool 17",false]
["UV2805946","Tool 03",null,null,"Tool 03",false]
["UV2985514","Tool 02","Tool 03",null,"Tool 02",false]
["UV3281153","Tool 11","Tool 12",null,"Tool 12",true]
["UV3287428","Tool 09",null,null,"Tool 09",false]
["UV3439245","Tool 18",null,null,"Tool 18",false]
["UV3533088","Tool 16",null,null,"Tool 16",false]
["UV3595016","Tool 02","Tool 03",null,"Tool 02",false]
["UV3633599","Tool 02","Tool 03",null,"Tool 02",false]
["UV3728968","Tool 15",null,null,"Tool 15",false]
["UV385351","Tool 18",null,null,"Tool 18",false]
["UV3942188","Tool 02","Tool 03",null,"Tool 02",false]
["UV4094667","Tool 02","Tool 03",null,"Tool 02",false]
["UV4105152","Tool 02","Tool 03",null,"Tool 02",false]
["UV4173990","Tool 18",null,null,"Tool 18",false]
["UV4289343","Tool 16",null,null,"Tool 16",false]
["UV4665563","Tool 07",null,null,"Tool 07",false]
["UV4787798","Tool 02","Tool 03",null,"Tool 02",false]
["UV4917026","Tool 17",null,null,"Tool 17",false]
["UV4926151","Tool 02","Tool 03",null,"Tool 02",false]
["UV495822","Tool 17",null,null,"Tool 17",false]
["UV5313868","Tool 15",null,null,"Tool 15",false]
["UV5311573","Tool 09",null,null,"Tool 09",false]
["UV5362907","Tool 03",null,null,"Tool 03",false]
["UV5366748","Tool 17",null,null,"Tool 17",false]
["UV5379200","Tool 02","Tool 03",null,"Tool 02",false]
["UV5416692","Tool 02","Tool 03",null,"Tool 02",false]
["UV5473062","Tool 02","Tool 03",null,"Tool 02",false]
["UV5494145","Tool 04","Tool 06",null,"Tool 04",false]
["UV5555407","Tool 07",null,null,"Tool 07",false]
["UV562824","Tool 03",null,null,"Tool 03",false]
["UV5677822","Tool 02","Tool 03",null,"Tool 02",false]
["UV5685234","Tool 09",null,null,"Tool 09",false]
["UV5689814","Tool 03",null,null,"Tool 03",false]
["UV5762734","Tool 09",null,null,"Tool 09",false]
["UV579433","Tool 02","Tool 03",null,"Tool 02",false]
["UV5815295","Tool 02","Tool 03",null,"Tool 02",false]
["UV5813627","Tool 03",null,null,"Tool 03",false]
["UV588115","Tool 19",null,null,"Tool 19",false]
["UV5924094","Tool 15",null,null,"Tool 15",false]
["UV5928329","Tool 15",null,null,"Tool 15",false]
["UV5947578","Tool 03",null,null,"Tool 03",false]
["UV5956413","Tool 03",null,null,"Tool 03",false]
["UV5951712","Tool 16",null,null,"Tool 16",false]
["UV6238373","Tool 16",null,null,"Tool 16",false]
["UV6241191","Tool 02","Tool 03",null,"Tool 02",false]
["UV6252256","Tool 07",null,null,"Tool 07",false]
["UV631601","Tool 17",null,null,"Tool 17",false]
["UV6411805","Tool 02","Tool 03",null,"Tool 02",false]
["UV6937295","Tool 02","Tool 03",null,"Tool 02",false]
["UV8505006","Tool 02","Tool 03",null,"Tool 02",false]
["UV8538779","Tool 02","Tool 03",null,"Tool 02",false]
["VE8008533","Tool 02","Tool 03",null,"Tool 02",false]
["VE8096041","Tool 02","Tool 03",null,"Tool 02",false]
["VE8166035","Tool 02","Tool 03",null,"Tool 02",false]
["VE8168353","Tool 02","Tool 03",null,"Tool 02",false]
["VE8207633","Tool 17",null,null,"Tool 17",false]
["Z00307730","Tool 19",null,null,"Tool 19",false]
["ZD1446821","Tool 05",null,null,"Tool 05",false]
["ZD1471989","Tool 05",null,null,"Tool 05",false]
["ZD173254","Tool 05",null,null,"Tool 05",false]
["ZD2443045","Tool 02","Tool 03",null,"Tool 02",false]
["VE8109961","Tool 10",null,null,"Tool 10",false]
["VE5219409","Tool 03",null,null,"Tool 03",false]
["UV5881465","Tool 10",null,null,null,false]
["SB0197426","Tool 11","Tool 12",null,null,false]
["FR0668280","Tool 13",null,null,null,false]
["AS5782773","Tool 13",null,null,null,false]
["CC5635362","Tool 02","Tool 03",null,null,false]
["SL4629457","Tool 02","Tool 03",null,null,false]
["UV2191719","Tool 19",null,null,null,false]
["BC4388435","Tool 15",null,null,null,false]
["UV016954","Tool 09",null,null,null,false]
["SS0506520","Tool 01",null,null,null,false]
["DP4598193","Tool 01",null,null,null,false]
["DP5451976","Tool 02","Tool 03",null,null,false]
["SB4986166","Tool 18",null,null,null,false]
["028609203","Tool 17",null,null,null,false]
["SL0063652","Tool 18",null,null,null,false]
["CT1166012","Tool 08",null,null,null,false]
["CM2143928","Tool 18",null,null,null,false]
["DP565222","Tool 08",null,null,null,false]
["CM2101327","Tool 04","Tool 06",null,null,false]
["ME8214194","Tool 18",null,null,null,false]
["DP5629976","Tool 15",null,null,null,false]
["DP4691702","Tool 18",null,null,null,false]
["DP4595759","Tool 11","Tool 12",null,null,false]
["CT5637769","Tool 19",null,null,null,false]
["KP9037564","Tool 14",null,null,null,false]
["GF5946419","Tool 17",null,null,null,false]
["GF533467","Tool 09",null,null,null,false]
["UV3432768","Tool 19",null,null,null,false]
["BC650618","Tool 11","Tool 12",null,null,false]
["FR5822641","Tool 08",null,null,null,false]
["CM5482424","Tool 11","Tool 12",null,null,false]
["FR3787807","Tool 15",null,null,null,false]
["CT3206813","Tool 01",null,null,null,false]
["DP5634203","Tool 01",null,null,null,false]
["DP2364788","Tool 09",null,null,null,false]
["CP3656765","Tool 02","Tool 03",null,null,false]
["DA6423154","Tool 17",null,null,null,false]
["UV2802570","Tool 19",null,null,null,false]
["CM2559364","Tool 19",null,null,null,false]
["CC4998399","Tool 02","Tool 03",null,null,false]
["UV3826095","Tool 11","Tool 12",null,null,false]
["CM3501010","Tool 19",null,null,null,false]
["CC3492021","Tool 08","Tool 11",null,null,false]
["CM2102732","Tool 11","Tool 12",null,null,false]
["CC61261","Tool 19",null,null,null,false]
["CT5694363","Tool 15",null,null,null,false]
["CL1803510","Tool 12",null,null,null,false]
["AS578715","Tool 15",null,null,null,false]
["UV8601951","Tool 08","Tool 11",null,null,false]
["CM2319937","Tool 19",null,null,null,false]
["ZD3373309","Tool 10",null,null,null,false]
["UV5598089","Tool 18",null,null,null,false]
["AE0002565","Tool 10",null,null,null,false]
["MC5674057","Tool 17",null,null,null,false]
["UV5622418","Tool 02","Tool 03",null,null,false]
["AO5631737","Tool 06",null,null,null,false]
["CT344633","Tool 16",null,null,null,false]
["UV6764444","Tool 09",null,null,null,false]
["UV5774226","Tool 17",null,null,null,false]
["FR0035345","Tool 10",null,null,null,false]
["UV5361715","Tool 15",null,null,null,false]
["UV5549528","Tool 09",null,null,null,false]
["UV4237997","Tool 18",null,null,null,false]
["028606503","Tool 06",null,null,null,false]
["UV2895409","Tool 06",null,null,null,false]
["BC5399951","Tool 15",null,null,null,false]
["UV2441071","Tool 10",null,null,null,false]
["UV0945735","Tool 02","Tool 03",null,null,false]
["UV038849","Tool 15",null,null,null,false]
["UV0002243","Tool 02","Tool 03",null,null,false]
["ST3179872","Tool 09",null,null,null,false]
["SS5379352","Tool 05",null,null,null,false]
["CC5547526","Tool 10",null,null,null,false]
["SB5405076","Tool 18",null,null,null,false]
["RC5428639","Tool 18",null,null,null,false]
["RC4279363","Tool 18",null,null,null,false]
["RC1122489","Tool 11","Tool 12",null,null,false]
["FR5551744","Tool 04","Tool 06",null,null,false]
["CC2858516","Tool 09",null,null,null,false]
["UV291762","Tool 11","Tool 12",null,null,false]
["MC4592186","Tool 11","Tool 12",null,null,false]
["MC3521226","Tool 18",null,null,null,false]
["IP2696227","Tool 14",null,null,null,false]
["GF5534806","Tool 14",null,null,null,false]
["GF5383871","Tool 14",null,null,null,false]
["GF3586031","Tool 14",null,null,null,false]
["GF2638799","Tool 14",null,null,null,false]
["GF1185949","Tool 11","Tool 12",null,null,false]
["FR5747037","Tool 11",null,null,null,false]
["FR5604839","Tool 11",null,null,null,false]
["CM5649049","Tool 10",null,null,null,false]
["UV5642948","Tool 11",null,null,null,false]
["FR5345389","Tool 15",null,null,null,false]
["FR3332551","Tool 11",null,null,null,false]
["FR2743900","Tool 15",null,null,null,false]
["FR2453609","Tool 11",null,null,null,false]
["FR0665960","Tool 17",null,null,null,false]
["FR0315090","Tool 18",null,null,null,false]
["FR0168451","Tool 18",null,null,null,false]
["DP5576599","Tool 01",null,null,null,false]
["DP5461743","Tool 01",null,null,null,false]
["DP546919","Tool 11","Tool 12",null,null,false]
["CM5619610","Tool 09",null,null,null,false]
["DA5488689","Tool 18",null,null,null,false]
["CT5688441","Tool 10",null,null,null,false]
["UV5766707","Tool 18",null,null,null,false]
["CT5605818","Tool 10",null,null,null,false]
["CT5482084","Tool 11","Tool 12",null,null,false]
["CT4789575","Tool 04","Tool 06",null,null,false]
["CT4296104","Tool 06",null,null,null,false]
["CT5742043","Tool 06",null,null,null,false]
["CT3951375","Tool 17",null,null,null,false]
["FR5596199","Tool 04","Tool 06",null,null,false]
["CT3088481","Tool 04","Tool 06",null,null,false]
["CT2911051","Tool 11","Tool 12",null,null,false]
["CM5616356","Tool 10",null,null,null,false]
["CT1033238","Tool 18",null,null,null,false]
["CT0913275","Tool 06",null,null,null,false]
["CT0601817","Tool 18",null,null,null,false]
["CP5602324","Tool 02","Tool 03",null,null,false]
["AF5687782","Tool 10",null,null,null,false]
["CC5481743","Tool 11","Tool 12",null,null,false]
["CM5616207","Tool 18","Tool 13",null,null,false]
["CM3161117","Tool 18","Tool 13",null,null,false]
["CM258634","Tool 18","Tool 13",null,null,false]
["CM2581094","Tool 10",null,null,null,false]
["CC5474686","Tool 06",null,null,null,false]
["CC56681","Tool 06",null,null,null,false]
["CT2625676","Tool 11","Tool 12",null,null,false]
["FR5793488","Tool 10",null,null,null,false]
["ST5622066","Tool 06",null,null,null,false]
["CT4107816","Tool 12",null,null,null,false]
["CC5595349","Tool 06",null,null,null,false]
["CC5761362","Tool 11","Tool 12",null,null,false]
["MC5877286","Tool 10",null,null,null,false]
["UV5425654","Tool 11","Tool 12",null,null,false]
["MC587993","Tool 06",null,null,null,false]
["CC4971312","Tool 06",null,null,null,false]
["CC095457","Tool 09",null,null,null,false]
["AF5365903","Tool 09",null,null,null,false]
["UV1316541","Tool 09",null,null,null,false]
["UV3573806","Tool 11","Tool 12",null,null,false]
["FR3663323","Tool 05",null,null,null,false]
["CC6465256","Tool 04","Tool 06",null,null,false]
["CM2361297","Tool 11","Tool 12",null,null,false]
["FR6531081","Tool 05",null,null,null,false]
["CC2128829","Tool 15",null,null,null,false]
["FR6582162","Tool 04","Tool 06",null,null,false]
["CC6588592","Tool 11","Tool 12",null,null,false]
["FR5835585","Tool 06",null,null,null,false]
["UV4382866","Tool 04","Tool 06",null,null,false]
["MP8006346","Tool 11","Tool 12",null,null,false]
["FR5931178","Tool 06",null,null,null,false]
["FR2544649","Tool 04","Tool 06",null,null,false]
["MP8066875","Tool 09",null,null,null,false]
["LD5898769","Tool 14",null,null,null,false]
["UV4653923","Tool 17",null,null,null,false]
["AP6595381","Tool 11","Tool 12",null,null,false]
["FR2494755","Tool 14",null,null,null,false]
[null,null,null,null,null,false]
[null,null,null,null,null,false]
[null,null,null,null,null,false]
[null,null,null,null,null,false]
[null,null,null,null,null,false]
[null,null,null,null,null,false]
[null,null,null,null,null,false]
[null,null,null,null,null,false]
[null,null,null,null,null,false]
[null,null,null,null,null,false]
[null,null,null,null,null,false]
[null,null,null,null,null,false]
[null,null,null,null,null,false]
[null,null,null,null,null,false]
[null,null,null,null,null,false]
[null,null,null,null,null,false]
[null,null,null,null,null,false]
[null,null,null,null,null,false]
[null,null,null,null,null,false]
[null,null,null,null,null,false]
[null,null,null,null,null,false]
[null,null,null,null,null,false]
[null,null,null,null,null,false]
[null,null,null,null,null,false]
[null,null,null,null,null,false]
[null,null,null,null,null,false]
[null,null,null,null,null,false]
[null,null,null,null,null,false]
[null,null,null,null,null,false]
[null,null,null,null,null,false]
[null,null,null,null,null,false]
[null,null,null,null,null,false]
[null,null,null,null,null,false]
[null,null,null,null,null,false]
[null,null,null,null,null,false]
[null,null,null,null,null,false]
[null,null,null,null,null,false]
[null,null,null,null,null,false]
[null,null,null,null,null,false]
[null,null,null,null,null,false]
[null,null,null,null,null,false]
[null,null,null,null,null,false]
[null,null,null,null,null,false]
[null,null,null,null,null,false]
[null,null,null,null,null,false]
[null,null,null,null,null,false]
[null,null,null,null,null,false]
[null,null,null,null,null,false]
[null,null,null,null,null,false]
[null,null,null,null,null,false]
[null,null,null,null,null,false]
[null,null,null,null,null,false]
[null,null,null,null,null,false]
[null,null,null,null,null,false]
[null,null,null,null,null,false]
[null,null,null,null,null,false]
[null,null,null,null,null,false]
[null,null,null,null,null,false]
[null,null,null,null,null,false]
[null,null,null,null,null,false]
[null,null,null,null,null,false]
[null,null,null,null,null,false]
[null,null,null,null,null,false]
[null,null,null,null,null,false]
[null,null,null,null,null,false]
[null,null,null,null,null,false]
[null,null,null,null,null,false]
[null,null,null,null,null,false]
[null,null,null,null,null,false]
[null,null,null,null,null,false]
[null,null,null,null,null,false]
[null,null,null,null,null,false]
[null,null,null,null,null,false]
[null,null,null,null,null,false]
[null,null,null,null,null,false]
[null,null,null,null,null,false]
[null,null,null,null,null,false]
[null,null,null,null,null,false]
[null,null,null,null,null,false]
[null,null,null,null,null,false]
[null,null,null,null,null,false]
[null,null,null,null,null,false]
[null,null,null,null,null,false]
[null,null,null,null,null,false]
[null,null,null,null,null,false]
[null,null,null,null,null,false]
[null,null,null,null,null,false]
[null,null,null,null,null,false]
[null,null,null,null,null,false]
[null,null,null,null,null,false]
[null,null,null,null,null,false]
[null,null,null,null,null,false]
[null,null,null,null,null,false]
[null,null,null,null,null,false]
[null,null,null,null,null,false]
[null,null,null,null,null,false]
[null,null,null,null,null,false]
[null,null,null,null,null,false]
[null,null,null,null,null,false]
[null,null,null,null,null,false]
[null,null,null,null,null,false]
[null,null,null,null,null,false]
[null,null,null,null,null,false]
[null,null,null,null,null,false]
[null,null,null,null,null,false]
[null,null,null,null,null,false]
[null,null,null,null,null,false]
[null,null,null,null,null,false]
[null,null,null,null,null,false]
[null,null,null,null,null,false]
[null,null,null,null,null,false]
[null,null,null,null,null,false]
[null,null,null,null,null,false]
[null,null,null,null,null,false]
[null,null,null,null,null,false]
[null,null,null,null,null,false]
[null,null,null,null,null,false]
[null,null,null,null,null,false]
[null,null,null,null,null,false]
[null,null,null,null,null,false]
[null,null,null,null,null,false]
[null,null,null,null,null,false]
[null,null,null,null,null,false]
[null,null,null,null,null,false]
[null,null,null,null,null,false]
[null,null,null,null,null,false]
[null,null,null,null,null,false]
[null,null,null,null,null,false]
[null,null,null,null,null,false]
[null,null,null,null,null,false]
[null,null,null,null,null,false]
[null,null,null,null,null,false]
[null,null,null,null,null,false]
[null,null,null,null,null,false]
[null,null,null,null,null,false]
[null,null,null,null,null,false]
[null,null,null,null,null,false]
[null,null,null,null,null,false]
[null,null,null,null,null,false]
[null,null,null,null,null,false]
[null,null,null,null,null,false]
[null,null,null,null,null,false]
[null,null,null,null,null,false]
[null,null,null,null,null,false]
[null,null,null,null,null,false]
[null,null,null,null,null,false]
[null,null,null,null,null,false]
[null,null,null,null,null,false]
[null,null,null,null,null,false]

{"sheet":"Standard output","index":3,"n_rows":4000,"n_cols":5,"rows_kept":4000,"cut":false,"hidden":false,"merged":[]}
["Product+Tool","Product","Tool","UPH (unit per hour)","Defects"]
[{"$f":"B2&C2","v":"AB0329160Tool 10"},"AB0329160","Tool 10",1553,0.02]
[{"$f":"B3&C3","v":"AB0513704Tool 10"},"AB0513704","Tool 10",1646,0.02]
["AB0635046Tool 10","AB0635046","Tool 10",1628,0.02]
["AB0975463Tool 09","AB0975463","Tool 09",491,0.02]
["AB1018910Tool 10","AB1018910","Tool 10",1608,0.02]
["AB1305109Tool 04","AB1305109","Tool 04",2272,0.02]
["AB2092362Tool 10","AB2092362","Tool 10",1631,0.02]
["AB2569538Tool 10","AB2569538","Tool 10",1616,0.02]
["AB2665756Tool 06","AB2665756","Tool 06",5847,0.02]
["AB3534415Tool 05","AB3534415","Tool 05",1214,0.02]
["AB3839653Tool 10","AB3839653","Tool 10",1581,0.02]
["AB4133650Tool 04","AB4133650","Tool 04",2242,0.02]
["AB4302436Tool 10","AB4302436","Tool 10",1560,0.02]
["AB4952945Tool 16","AB4952945","Tool 16",6802,0.02]
["AB5677022Tool 07","AB5677022","Tool 07",6488,0.02]
["AB617476Tool 18","AB617476","Tool 18",2875,0.02]
["AB6803301Tool 04","AB6803301","Tool 04",2277,0.02]
["AB6883086Tool 09","AB6883086","Tool 09",554,0.02]
["AF2334989Tool 17","AF2334989","Tool 17",6837,0.02]
["AF2797300Tool 09","AF2797300","Tool 09",538,0.02]
["AF4224863Tool 09","AF4224863","Tool 09",579,0.02]
["AF4955974Tool 09","AF4955974","Tool 09",505,0.02]
["AF5847200Tool 15","AF5847200","Tool 15",4457,0.02]
["AL1492544Tool 06","AL1492544","Tool 06",5884,0.02]
["AL2661736Tool 15","AL2661736","Tool 15",4446,0.02]
["AO0324556Tool 16","AO0324556","Tool 16",6866,0.02]
["AO0414069Tool 02","AO0414069","Tool 02",2673,0.02]
["AO2105290Tool 15","AO2105290","Tool 15",4418,0.02]
["AO4874959Tool 18","AO4874959","Tool 18",2881,0.02]
["AO5342652Tool 07","AO5342652","Tool 07",6408,0.02]
["AO5834357Tool 15","AO5834357","Tool 15",4429,0.02]
["AO8517171Tool 14","AO8517171","Tool 14",2377,0.02]
["AO855133Tool 07","AO855133","Tool 07",6471,0.02]
["AP0171319Tool 07","AP0171319","Tool 07",6492,0.02]
["AP0202155Tool 15","AP0202155","Tool 15",4426,0.02]
["AP086256Tool 07","AP086256","Tool 07",6448,0.02]
["AP242884Tool 16","AP242884","Tool 16",6871,0.02]
["AP3078837Tool 07","AP3078837","Tool 07",6438,0.02]
["AP352983Tool 17","AP352983","Tool 17",6884,0.02]
["AP3728500Tool 02","AP3728500","Tool 02",2647,0.02]
["AP3951566Tool 02","AP3951566","Tool 02",2668,0.02]
["AP4223947Tool 02","AP4223947","Tool 02",2623,0.02]
["AP4745289Tool 02","AP4745289","Tool 02",2609,0.02]
["AP4972828Tool 07","AP4972828","Tool 07",6498,0.02]
["AP5614262Tool 07","AP5614262","Tool 07",6484,0.02]
["AP5647883Tool 15","AP5647883","Tool 15",4419,0.02]
["AP5897782Tool 07","AP5897782","Tool 07",6452,0.02]
["AP853615Tool 13","AP853615","Tool 13",2423,0.02]
["AS0105077Tool 12","AS0105077","Tool 12",4006,0.02]
["AS0125536Tool 05","AS0125536","Tool 05",1237,0.02]
["AS0888075Tool 13","AS0888075","Tool 13",2458,0.02]
["AS1143091Tool 05","AS1143091","Tool 05",1269,0.02]
["AS5378181Tool 13","AS5378181","Tool 13",2493,0.02]
["AS6815735Tool 06","AS6815735","Tool 06",5827,0.02]
["BC1086722Tool 06","BC1086722","Tool 06",5805,0.02]
["BC1381899Tool 06","BC1381899","Tool 06",5808,0.02]
["BC1638233Tool 06","BC1638233","Tool 06",5837,0.02]
["BC2465775Tool 06","BC2465775","Tool 06",5873,0.02]
["BC2509115Tool 06","BC2509115","Tool 06",5828,0.02]
["BC2965316Tool 06","BC2965316","Tool 06",5864,0.02]
["BC3857293Tool 15","BC3857293","Tool 15",4476,0.02]
["BC5752252Tool 06","BC5752252","Tool 06",5843,0.02]
["BC6306450Tool 05","BC6306450","Tool 05",1249,0.02]
["CC0084549Tool 12","CC0084549","Tool 12",4031,0.02]
["CC0189122Tool 20","CC0189122","Tool 20",7862.6422349005379,0.02]
[{"$f":"B67&C67","v":"CC0921636Tool 20"},"CC0921636","Tool 20",7933.6422349005379,0.02]
["CC092903Tool 20","CC092903","Tool 20",7930.6422349005379,0.02]
["CC2454697Tool 20","CC2454697","Tool 20",7849.6422349005379,0.02]
["CC2566445Tool 15","CC2566445","Tool 15",4481,0.02]
["CC2575Tool 19","CC2575","Tool 19",10239,0.02]
["CC2936183Tool 20","CC2936183","Tool 20",7918.6422349005379,0.02]
["CC2965217Tool 20","CC2965217","Tool 20",7927.6422349005379,0.02]
["CC3609599Tool 04","CC3609599","Tool 04",2235,0.02]
["CC3979402Tool 13","CC3979402","Tool 13",2458,0.02]
["CC4329116Tool 19","CC4329116","Tool 19",10217,0.02]
["CC4618183Tool 18","CC4618183","Tool 18",2806,0.02]
["CC4774419Tool 12","CC4774419","Tool 12",4021,0.02]
["CC4941594Tool 13","CC4941594","Tool 13",2438,0.02]
["CC4945569Tool 04","CC4945569","Tool 04",2261,0.02]
["CC5387633Tool 04","CC5387633","Tool 04",2248,0.02]
["CC5505924Tool 19","CC5505924","Tool 19",10196,0.02]
["CC5603244Tool 12","CC5603244","Tool 12",4024,0.02]
["CC5605066Tool 08","CC5605066","Tool 08",3943,0.02]
["CC5646794Tool 20","CC5646794","Tool 20",7897.6422349005379,0.02]
["CC5671451Tool 19","CC5671451","Tool 19",10198,0.02]
["CC5798817Tool 20","CC5798817","Tool 20",7915.6422349005379,0.02]
["CC5805891Tool 04","CC5805891","Tool 04",2308,0.02]
["CC5803851Tool 20","CC5803851","Tool 20",7859.6422349005379,0.02]
["CC5835642Tool 12","CC5835642","Tool 12",4039,0.02]
["CC5844379Tool 13","CC5844379","Tool 13",2483,0.02]
["CC5859307Tool 15","CC5859307","Tool 15",4481,0.02]
["CC5877145Tool 12","CC5877145","Tool 12",4037,0.02]
["CC5872620Tool 19","CC5872620","Tool 19",10241,0.02]
["CC5949597Tool 15","CC5949597","Tool 15",4434,0.02]
["CC5951749Tool 19","CC5951749","Tool 19",10212,0.02]
["CC6069687Tool 04","CC6069687","Tool 04",2315,0.02]
["CC6146771Tool 19","CC6146771","Tool 19",10189,0.02]
["CC642531Tool 19","CC642531","Tool 19",10186,0.02]
["CC6514546Tool 15","CC6514546","Tool 15",4404,0.02]
["CL1528731Tool 15","CL1528731","Tool 15",4477,0.02]
["CL4179003Tool 08","CL4179003","Tool 08",4001,0.02]
["CM2146129Tool 08","CM2146129","Tool 08",3935,0.02]
["CM2144500Tool 08","CM2144500","Tool 08",3949,0.02]
["CM2364748Tool 04","CM2364748","Tool 04",2234,0.02]
["CM2573429Tool 08","CM2573429","Tool 08",3930,0.02]
["CM267912Tool 08","CM267912","Tool 08",3932,0.02]
["CM2981742Tool 10","CM2981742","Tool 10",1619,0.02]
["CM350886Tool 08","CM350886","Tool 08",3937,0.02]
["CM3509051Tool 08","CM3509051","Tool 08",3942,0.02]
["CM5648071Tool 19","CM5648071","Tool 19",10173,0.02]
["CM5946003Tool 19","CM5946003","Tool 19",10242,0.02]
["CM5947011Tool 04","CM5947011","Tool 04",2298,0.02]
["CP2759269Tool 09","CP2759269","Tool 09",484,0.02]
["CP3651771Tool 02","CP3651771","Tool 02",2681,0.02]
["CP3782517Tool 16","CP3782517","Tool 16",6861,0.02]
["CP5891290Tool 12","CP5891290","Tool 12",4089,0.02]
["CP5915175Tool 17","CP5915175","Tool 17",6839,0.02]
["CT0314214Tool 20","CT0314214","Tool 20",7870.6422349005379,0.02]
["CT0686710Tool 04","CT0686710","Tool 04",2295,0.02]
["CT0911438Tool 13","CT0911438","Tool 13",2444,0.02]
["CT1153413Tool 20","CT1153413","Tool 20",7871.6422349005379,0.02]
["CT1195860Tool 19","CT1195860","Tool 19",10244,0.02]
["CT1344126Tool 16","CT1344126","Tool 16",6833,0.02]
["CT1427436Tool 16","CT1427436","Tool 16",6841,0.02]
["CT1422602Tool 13","CT1422602","Tool 13",2401,0.02]
["CT1693771Tool 19","CT1693771","Tool 19",10241,0.02]
["CT2356543Tool 18","CT2356543","Tool 18",2829,0.02]
["CT2727204Tool 11","CT2727204","Tool 11",2035,0.02]
["CT2748008Tool 20","CT2748008","Tool 20",7862.6422349005379,0.02]
[{"$f":"B131&C131","v":"CT2882108Tool 19"},"CT2882108","Tool 19",10248,0.02]
["CT2899279Tool 11","CT2899279","Tool 11",2121,0.02]
["CT2921184Tool 15","CT2921184","Tool 15",4472,0.02]
["CT2976643Tool 18","CT2976643","Tool 18",2834,0.02]
["CT3251740Tool 18","CT3251740","Tool 18",2887,0.02]
["CT3327591Tool 20","CT3327591","Tool 20",7931.6422349005379,0.02]
["CT3389630Tool 03","CT3389630","Tool 03",2447,0.02]
["CT3513686Tool 15","CT3513686","Tool 15",4406,0.02]
["CT3676279Tool 18","CT3676279","Tool 18",2803,0.02]
["CT3847465Tool 08","CT3847465","Tool 08",3955,0.02]
["CT3866790Tool 20","CT3866790","Tool 20",7941.6422349005379,0.02]
["CT4394015Tool 04","CT4394015","Tool 04",2230,0.02]
["CT4485707Tool 19","CT4485707","Tool 19",10169,0.02]
["CT4625235Tool 11","CT4625235","Tool 11",2067,0.02]
["CT4696984Tool 12","CT4696984","Tool 12",4054,0.02]
["CT4766693Tool 19","CT4766693","Tool 19",10225,0.02]
["CT4972454Tool 20","CT4972454","Tool 20",7868.6422349005379,0.02]
["CT4983245Tool 19","CT4983245","Tool 19",10224,0.02]
["CT4998062Tool 19","CT4998062","Tool 19",10186,0.02]
["CT5306052Tool 20","CT5306052","Tool 20",7869.6422349005379,0.02]
["CT5312249Tool 19","CT5312249","Tool 19",10265,0.02]
["CT5387974Tool 10","CT5387974","Tool 10",1586,0.02]
["CT5424793Tool 12","CT5424793","Tool 12",4056,0.02]
["CT54540Tool 15","CT54540","Tool 15",4467,0.02]
["CT5587547Tool 19","CT5587547","Tool 19",10202,0.02]
["CT5594793Tool 18","CT5594793","Tool 18",2864,0.02]
["CT5668919Tool 20","CT5668919","Tool 20",7912.6422349005379,0.02]
["CT5745169Tool 12","CT5745169","Tool 12",4071,0.02]
["CT5745914Tool 12","CT5745914","Tool 12",4054,0.02]
["CT5783436Tool 20","CT5783436","Tool 20",7869.6422349005379,0.02]
["CT5802839Tool 19","CT5802839","Tool 19",10173,0.02]
["CT5819298Tool 20","CT5819298","Tool 20",7858.6422349005379,0.02]
["CT5829315Tool 18","CT5829315","Tool 18",2851,0.02]
["CT5869387Tool 19","CT5869387","Tool 19",10217,0.02]
["CT588550Tool 11","CT588550","Tool 11",2063,0.02]
["CT5885641Tool 18","CT5885641","Tool 18",2814,0.02]
["CT593521Tool 18","CT593521","Tool 18",2853,0.02]
["CT5932817Tool 20","CT5932817","Tool 20",7850.6422349005379,0.02]
["CT5982395Tool 04","CT5982395","Tool 04",2227,0.02]
["CT6358073Tool 20","CT6358073","Tool 20",7883.6422349005379,0.02]
["CT6438604Tool 20","CT6438604","Tool 20",7893.6422349005379,0.02]
["CT6445143Tool 20","CT6445143","Tool 20",7913.6422349005379,0.02]
["CT823663Tool 07","CT823663","Tool 07",6446,0.02]
["DA2128864Tool 05","DA2128864","Tool 05",1267,0.02]
["DA5685201Tool 01","DA5685201","Tool 01",1270,0.02]
["DP0098702Tool 17","DP0098702","Tool 17",6800,0.02]
["DP087138Tool 14","DP087138","Tool 14",2350,0.02]
["DP1792938Tool 15","DP1792938","Tool 15",4404,0.02]
["DP2403779Tool 15","DP2403779","Tool 15",4406,0.02]
["DP2404504Tool 03","DP2404504","Tool 03",2460,0.02]
["DP4769417Tool 17","DP4769417","Tool 17",6853,0.02]
["DP4764853Tool 18","DP4764853","Tool 18",2863,0.02]
["DP5007199Tool 01","DP5007199","Tool 01",1279,0.02]
["DP5383174Tool 01","DP5383174","Tool 01",1278,0.02]
["DP5698799Tool 01","DP5698799","Tool 01",1281,0.02]
["DP5908334Tool 01","DP5908334","Tool 01",1276,0.02]
["DP638679Tool 18","DP638679","Tool 18",2889,0.02]
["FR0061274Tool 11","FR0061274","Tool 11",2069,0.02]
["FR009628Tool 11","FR009628","Tool 11",2089,0.02]
["FR0362571Tool 11","FR0362571","Tool 11",2087,0.02]
["FR0614261Tool 11","FR0614261","Tool 11",2107,0.02]
["FR0622263Tool 11","FR0622263","Tool 11",2035,0.02]
["FR066151Tool 04","FR066151","Tool 04",2257,0.02]
["FR0667973Tool 11","FR0667973","Tool 11",2050,0.02]
[{"$f":"B195&C195","v":"FR0679719Tool 10"},"FR0679719","Tool 10",1605,0.02]
["FR0696557Tool 15","FR0696557","Tool 15",4478,0.02]
["FR0905418Tool 15","FR0905418","Tool 15",4421,0.02]
["FR0919209Tool 11","FR0919209","Tool 11",2083,0.02]
["FR0935436Tool 11","FR0935436","Tool 11",2087,0.02]
["FR1379592Tool 15","FR1379592","Tool 15",4494,0.02]
["FR141742Tool 15","FR141742","Tool 15",4422,0.02]
["FR1415438Tool 11","FR1415438","Tool 11",2094,0.02]
["FR1452826Tool 18","FR1452826","Tool 18",2801,0.02]
["FR1615194Tool 15","FR1615194","Tool 15",4405,0.02]
["FR219333Tool 19","FR219333","Tool 19",10264,0.02]
["FR2345868Tool 15","FR2345868","Tool 15",4438,0.02]
["FR2492515Tool 19","FR2492515","Tool 19",10257,0.02]
["FR2795111Tool 11","FR2795111","Tool 11",2061,0.02]
["FR2815273Tool 11","FR2815273","Tool 11",2103,0.02]
["FR2948803Tool 11","FR2948803","Tool 11",2056,0.02]
["FR317601Tool 11","FR317601","Tool 11",2064,0.02]
["FR3359591Tool 19","FR3359591","Tool 19",10248,0.02]
["FR3467978Tool 18","FR3467978","Tool 18",2843,0.02]
["FR3576193Tool 11","FR3576193","Tool 11",2098,0.02]
["FR3597468Tool 19","FR3597468","Tool 19",10237,0.02]
["FR3659141Tool 11","FR3659141","Tool 11",2092,0.02]
["FR378786Tool 11","FR378786","Tool 11",2034,0.02]
["FR3966167Tool 03","FR3966167","Tool 03",2402,0.02]
["FR3998413Tool 15","FR3998413","Tool 15",4454,0.02]
["FR4374057Tool 19","FR4374057","Tool 19",10207,0.02]
["FR4526775Tool 11","FR4526775","Tool 11",2121,0.02]
["FR4539511Tool 11","FR4539511","Tool 11",2100,0.02]
["FR457233Tool 18","FR457233","Tool 18",2894,0.02]
["FR4624850Tool 11","FR4624850","Tool 11",2080,0.02]
["FR4897160Tool 15","FR4897160","Tool 15",4457,0.02]
["FR4954051Tool 19","FR4954051","Tool 19",10264,0.02]
["FR4965335Tool 11","FR4965335","Tool 11",2093,0.02]
["FR5342502Tool 11","FR5342502","Tool 11",2033,0.02]
["FR5371365Tool 15","FR5371365","Tool 15",4421,0.02]
["FR5384444Tool 11","FR5384444","Tool 11",2046,0.02]
["FR5404360Tool 19","FR5404360","Tool 19",10248,0.02]
["FR5454864Tool 11","FR5454864","Tool 11",2091,0.02]
["FR5608301Tool 11","FR5608301","Tool 11",2068,0.02]
["FR5664727Tool 11","FR5664727","Tool 11",2095,0.02]
["FR5671746Tool 15","FR5671746","Tool 15",4463,0.02]
["FR5682241Tool 11","FR5682241","Tool 11",2106,0.02]
["FR5684287Tool 11","FR5684287","Tool 11",2068,0.02]
["FR5744950Tool 11","FR5744950","Tool 11",2033,0.02]
["FR5796610Tool 11","FR5796610","Tool 11",2120,0.02]
["FR5894727Tool 11","FR5894727","Tool 11",2055,0.02]
["FR5931113Tool 17","FR5931113","Tool 17",6869,0.02]
["FR5935871Tool 11","FR5935871","Tool 11",2061,0.02]
["FR5969812Tool 11","FR5969812","Tool 11",2063,0.02]
["FR5979463Tool 11","FR5979463","Tool 11",2039,0.02]
["FR5992952Tool 11","FR5992952","Tool 11",2083,0.02]
["FR6818423Tool 14","FR6818423","Tool 14",2343,0.02]
["GF0013491Tool 14","GF0013491","Tool 14",2371,0.02]
["GF0149565Tool 14","GF0149565","Tool 14",2327,0.02]
["GF1114780Tool 17","GF1114780","Tool 17",6883,0.02]
["GF1349895Tool 14","GF1349895","Tool 14",2328,0.02]
["GF1438930Tool 14","GF1438930","Tool 14",2376,0.02]
["GF368849Tool 14","GF368849","Tool 14",2301,0.02]
["GF3811858Tool 14","GF3811858","Tool 14",2309,0.02]
["GF4305823Tool 14","GF4305823","Tool 14",2302,0.02]
["GF498873Tool 14","GF498873","Tool 14",2322,0.02]
["GF5598636Tool 14","GF5598636","Tool 14",2305,0.02]
["GF5747120Tool 14","GF5747120","Tool 14",2337,0.02]
["GF586901Tool 14","GF586901","Tool 14",2332,0.02]
[{"$f":"B259&C259","v":"GF5886834Tool 14"},"GF5886834","Tool 14",2308,0.02]
["GF5885097Tool 14","GF5885097","Tool 14",2312,0.02]
["GF5892823Tool 14","GF5892823","Tool 14",2391,0.02]
["GF5942175Tool 14","GF5942175","Tool 14",2335,0.02]
["GF67655Tool 11","GF67655","Tool 11",2129,0.02]
["IP453302Tool 05","IP453302","Tool 05",1287,0.02]
["IR1385574Tool 19","IR1385574","Tool 19",10177,0.02]
["IR539559Tool 05","IR539559","Tool 05",1256,0.02]
["IR5796915Tool 12","IR5796915","Tool 12",4068,0.02]
["IR6327281Tool 12","IR6327281","Tool 12",4000,0.02]
["MC3428427Tool 13","MC3428427","Tool 13",2430,0.02]
["MC3543546Tool 11","MC3543546","Tool 11",2108,0.02]
["MC3717873Tool 12","MC3717873","Tool 12",4056,0.02]
["MC4244977Tool 11","MC4244977","Tool 11",2115,0.02]
["MC4291921Tool 10","MC4291921","Tool 10",1552,0.02]
["MC4993575Tool 19","MC4993575","Tool 19",10264,0.02]
["MC4997628Tool 19","MC4997628","Tool 19",10252,0.02]
["MC5625753Tool 05","MC5625753","Tool 05",1217,0.02]
["MC5663542Tool 05","MC5663542","Tool 05",1239,0.02]
["MC5823622Tool 19","MC5823622","Tool 19",10225,0.02]
["MC594145Tool 08","MC594145","Tool 08",3971,0.02]
["ME8004536Tool 08","ME8004536","Tool 08",3972,0.02]
["ME8004064Tool 08","ME8004064","Tool 08",3957,0.02]
["ME8009107Tool 08","ME8009107","Tool 08",3960,0.02]
["ME8007924Tool 08","ME8007924","Tool 08",3990,0.02]
["ME8082434Tool 08","ME8082434","Tool 08",3939,0.02]
["ME8115997Tool 08","ME8115997","Tool 08",3920,0.02]
["ME8144143Tool 08","ME8144143","Tool 08",3981,0.02]
["ME81564Tool 08","ME81564","Tool 08",3930,0.02]
["ME8164351Tool 11","ME8164351","Tool 11",2072,0.02]
["ME8183059Tool 08","ME8183059","Tool 08",3988,0.02]
["ME8182883Tool 08","ME8182883","Tool 08",3987,0.02]
["ME8186457Tool 08","ME8186457","Tool 08",3997,0.02]
["ME8183894Tool 08","ME8183894","Tool 08",3946,0.02]
["ME8203838Tool 08","ME8203838","Tool 08",3986,0.02]
["ME8216708Tool 08","ME8216708","Tool 08",3988,0.02]
["ME8212034Tool 08","ME8212034","Tool 08",3990,0.02]
["ME8219605Tool 08","ME8219605","Tool 08",3951,0.02]
["ME8227923Tool 08","ME8227923","Tool 08",3962,0.02]
["ME8254069Tool 08","ME8254069","Tool 08",3943,0.02]
["ME8294469Tool 08","ME8294469","Tool 08",3989,0.02]
["ME8314847Tool 08","ME8314847","Tool 08",4003,0.02]
["ME8808939Tool 08","ME8808939","Tool 08",3977,0.02]
["ME8804901Tool 08","ME8804901","Tool 08",3933,0.02]
["ME8809588Tool 08","ME8809588","Tool 08",3934,0.02]
["ME8846873Tool 08","ME8846873","Tool 08",4003,0.02]
["ME8876987Tool 04","ME8876987","Tool 04",2302,0.02]
["MP8004078Tool 04","MP8004078","Tool 04",2293,0.02]
["MP8026858Tool 04","MP8026858","Tool 04",2253,0.02]
["MP8061520Tool 04","MP8061520","Tool 04",2265,0.02]
["MP8104858Tool 04","MP8104858","Tool 04",2302,0.02]
["MP8109471Tool 04","MP8109471","Tool 04",2313,0.02]
["MP8189416Tool 07","MP8189416","Tool 07",6436,0.02]
["MR0869382Tool 10","MR0869382","Tool 10",1636,0.02]
["MT0524796Tool 09","MT0524796","Tool 09",488,0.02]
["MT458935Tool 09","MT458935","Tool 09",504,0.02]
["MT4603768Tool 15","MT4603768","Tool 15",4489,0.02]
["NU0449734Tool 15","NU0449734","Tool 15",4417,0.02]
["NU0799419Tool 15","NU0799419","Tool 15",4456,0.02]
["NU0913559Tool 15","NU0913559","Tool 15",4414,0.02]
["NU1662490Tool 15","NU1662490","Tool 15",4457,0.02]
["NU1816428Tool 10","NU1816428","Tool 10",1636,0.02]
["NU2694528Tool 15","NU2694528","Tool 15",4499,0.02]
["NU2703355Tool 02","NU2703355","Tool 02",2647,0.02]
[{"$f":"B323&C323","v":"NU2754771Tool 05"},"NU2754771","Tool 05",1289,0.02]
["NU290431Tool 15","NU290431","Tool 15",4482,0.02]
["NU3608271Tool 10","NU3608271","Tool 10",1630,0.02]
["NU3708683Tool 02","NU3708683","Tool 02",2619,0.02]
["NU3827246Tool 02","NU3827246","Tool 02",2693,0.02]
["NU3927324Tool 11","NU3927324","Tool 11",2084,0.02]
["NU4893598Tool 02","NU4893598","Tool 02",2619,0.02]
["NU5305035Tool 17","NU5305035","Tool 17",6846,0.02]
["NU5785654Tool 10","NU5785654","Tool 10",1606,0.02]
["OX5859021Tool 10","OX5859021","Tool 10",1609,0.02]
["OX5851901Tool 16","OX5851901","Tool 16",6845,0.02]
["RC146190Tool 18","RC146190","Tool 18",2872,0.02]
["RC4928508Tool 18","RC4928508","Tool 18",2878,0.02]
["RM0095773Tool 18","RM0095773","Tool 18",2882,0.02]
["RM1193363Tool 18","RM1193363","Tool 18",2843,0.02]
["RM12722Tool 18","RM12722","Tool 18",2880,0.02]
["RM2364622Tool 18","RM2364622","Tool 18",2839,0.02]
["RM4669200Tool 18","RM4669200","Tool 18",2899,0.02]
["RM4667709Tool 18","RM4667709","Tool 18",2856,0.02]
["RM4695168Tool 18","RM4695168","Tool 18",2806,0.02]
["RM4934415Tool 18","RM4934415","Tool 18",2834,0.02]
["RM5456028Tool 18","RM5456028","Tool 18",2880,0.02]
["RM56355Tool 18","RM56355","Tool 18",2888,0.02]
["RM5696783Tool 18","RM5696783","Tool 18",2819,0.02]
["RM5699820Tool 18","RM5699820","Tool 18",2880,0.02]
["RM5986206Tool 18","RM5986206","Tool 18",2811,0.02]
["RM6463347Tool 18","RM6463347","Tool 18",2840,0.02]
["RT2524952Tool 18","RT2524952","Tool 18",2855,0.02]
["RT2601597Tool 18","RT2601597","Tool 18",2850,0.02]
["RT2887016Tool 18","RT2887016","Tool 18",2873,0.02]
["RT3164824Tool 10","RT3164824","Tool 10",1643,0.02]
["SB0191101Tool 15","SB0191101","Tool 15",4456,0.02]
["SB0898923Tool 07","SB0898923","Tool 07",6488,0.02]
["SB1429502Tool 10","SB1429502","Tool 10",1553,0.02]
["SB2162364Tool 15","SB2162364","Tool 15",4420,0.02]
["SB3338674Tool 02","SB3338674","Tool 02",2664,0.02]
["SB4985987Tool 02","SB4985987","Tool 02",2648,0.02]
["SB585933Tool 16","SB585933","Tool 16",6889,0.02]
["SB6619702Tool 02","SB6619702","Tool 02",2684,0.02]
["SB6782689Tool 15","SB6782689","Tool 15",4435,0.02]
["SB6851891Tool 15","SB6851891","Tool 15",4487,0.02]
["SB6883672Tool 10","SB6883672","Tool 10",1554,0.02]
["SB699340Tool 10","SB699340","Tool 10",1561,0.02]
["SL035245Tool 15","SL035245","Tool 15",4403,0.02]
["SL04371Tool 17","SL04371","Tool 17",6844,0.02]
["SL0454342Tool 09","SL0454342","Tool 09",509,0.02]
["SL0979997Tool 09","SL0979997","Tool 09",547,0.02]
["SL0973907Tool 16","SL0973907","Tool 16",6891,0.02]
["SL1205692Tool 02","SL1205692","Tool 02",2648,0.02]
["SL1739082Tool 02","SL1739082","Tool 02",2618,0.02]
["SL1814144Tool 02","SL1814144","Tool 02",2656,0.02]
["SL2223216Tool 02","SL2223216","Tool 02",2679,0.02]
["SL4542202Tool 02","SL4542202","Tool 02",2624,0.02]
["SL6923987Tool 16","SL6923987","Tool 16",6819,0.02]
["SL6949404Tool 09","SL6949404","Tool 09",549,0.02]
["SS0108Tool 09","SS0108","Tool 09",520,0.02]
["ST0044507Tool 02","ST0044507","Tool 02",2679,0.02]
["ST0248243Tool 02","ST0248243","Tool 02",2636,0.02]
["ST0249290Tool 09","ST0249290","Tool 09",576,0.02]
["ST086120Tool 02","ST086120","Tool 02",2651,0.02]
["ST0904669Tool 02","ST0904669","Tool 02",2683,0.02]
["ST1025440Tool 09","ST1025440","Tool 09",516,0.02]
["ST1444632Tool 02","ST1444632","Tool 02",2691,0.02]
["ST1661696Tool 02","ST1661696","Tool 02",2679,0.02]
[{"$f":"B387&C387","v":"ST269903Tool 15"},"ST269903","Tool 15",4405,0.02]
["ST3078513Tool 02","ST3078513","Tool 02",2627,0.02]
["ST3795473Tool 02","ST3795473","Tool 02",2678,0.02]
["ST3859207Tool 02","ST3859207","Tool 02",2605,0.02]
["ST5444150Tool 02","ST5444150","Tool 02",2680,0.02]
["ST5622830Tool 02","ST5622830","Tool 02",2642,0.02]
["ST5775560Tool 02","ST5775560","Tool 02",2690,0.02]
["ST5866857Tool 02","ST5866857","Tool 02",2627,0.02]
["ST5905549Tool 15","ST5905549","Tool 15",4410,0.02]
["UV0008455Tool 02","UV0008455","Tool 02",2672,0.02]
["UV0002089Tool 15","UV0002089","Tool 15",4428,0.02]
["UV0122500Tool 17","UV0122500","Tool 17",6820,0.02]
["UV0167578Tool 16","UV0167578","Tool 16",6818,0.02]
["UV0185671Tool 09","UV0185671","Tool 09",489,0.02]
["UV0432519Tool 16","UV0432519","Tool 16",6853,0.02]
["UV0436753Tool 17","UV0436753","Tool 17",6817,0.02]
["UV046672Tool 02","UV046672","Tool 02",2637,0.02]
["UV0685993Tool 17","UV0685993","Tool 17",6882,0.02]
["UV0787788Tool 02","UV0787788","Tool 02",2658,0.02]
["UV0787562Tool 02","UV0787562","Tool 02",2632,0.02]
["UV0831317Tool 16","UV0831317","Tool 16",6800,0.02]
["UV091154Tool 15","UV091154","Tool 15",4401,0.02]
["UV0924680Tool 16","UV0924680","Tool 16",6800,0.02]
["UV1106642Tool 02","UV1106642","Tool 02",2682,0.02]
["UV1121941Tool 16","UV1121941","Tool 16",6848,0.02]
["UV1187156Tool 15","UV1187156","Tool 15",4476,0.02]
["UV120727Tool 19","UV120727","Tool 19",10190,0.02]
["UV133670Tool 16","UV133670","Tool 16",6844,0.02]
["UV1394884Tool 15","UV1394884","Tool 15",4487,0.02]
["UV1585237Tool 09","UV1585237","Tool 09",523,0.02]
["UV1723988Tool 18","UV1723988","Tool 18",2807,0.02]
["UV2189115Tool 02","UV2189115","Tool 02",2624,0.02]
["UV2195087Tool 07","UV2195087","Tool 07",6422,0.02]
["UV2198207Tool 09","UV2198207","Tool 09",579,0.02]
["UV2213161Tool 02","UV2213161","Tool 02",2610,0.02]
["UV2285856Tool 09","UV2285856","Tool 09",573,0.02]
["UV2374219Tool 18","UV2374219","Tool 18",2867,0.02]
["UV2452537Tool 02","UV2452537","Tool 02",2699,0.02]
["UV250174Tool 15","UV250174","Tool 15",4477,0.02]
["UV251396Tool 09","UV251396","Tool 09",522,0.02]
["UV252791Tool 15","UV252791","Tool 15",4401,0.02]
["UV2535805Tool 02","UV2535805","Tool 02",2652,0.02]
["UV2636450Tool 15","UV2636450","Tool 15",4466,0.02]
["UV2781330Tool 17","UV2781330","Tool 17",6852,0.02]
["UV2805946Tool 03","UV2805946","Tool 03",2415,0.02]
["UV2985514Tool 02","UV2985514","Tool 02",2661,0.02]
["UV3281153Tool 11","UV3281153","Tool 11",2114,0.02]
["UV3287428Tool 09","UV3287428","Tool 09",501,0.02]
["UV3439245Tool 18","UV3439245","Tool 18",2858,0.02]
["UV3533088Tool 16","UV3533088","Tool 16",6805,0.02]
["UV3595016Tool 02","UV3595016","Tool 02",2694,0.02]
["UV3633599Tool 02","UV3633599","Tool 02",2617,0.02]
["UV3728968Tool 15","UV3728968","Tool 15",4468,0.02]
["UV385351Tool 18","UV385351","Tool 18",2843,0.02]
["UV3942188Tool 02","UV3942188","Tool 02",2690,0.02]
["UV4094667Tool 02","UV4094667","Tool 02",2638,0.02]
["UV4105152Tool 02","UV4105152","Tool 02",2601,0.02]
["UV4173990Tool 18","UV4173990","Tool 18",2881,0.02]
["UV4289343Tool 16","UV4289343","Tool 16",6847,0.02]
["UV4665563Tool 07","UV4665563","Tool 07",6415,0.02]
["UV4787798Tool 02","UV4787798","Tool 02",2681,0.02]
["UV4917026Tool 17","UV4917026","Tool 17",6800,0.02]
["UV4926151Tool 02","UV4926151","Tool 02",2601,0.02]
["UV495822Tool 17","UV495822","Tool 17",6842,0.02]
[{"$f":"B451&C451","v":"UV5313868Tool 15"},"UV5313868","Tool 15",4452,0.02]
["UV5311573Tool 09","UV5311573","Tool 09",488,0.02]
["UV5362907Tool 03","UV5362907","Tool 03",2437,0.02]
["UV5366748Tool 17","UV5366748","Tool 17",6887,0.02]
["UV5379200Tool 02","UV5379200","Tool 02",2637,0.02]
["UV5416692Tool 02","UV5416692","Tool 02",2686,0.02]
["UV5473062Tool 02","UV5473062","Tool 02",2666,0.02]
["UV5494145Tool 04","UV5494145","Tool 04",2259,0.02]
["UV5555407Tool 07","UV5555407","Tool 07",6445,0.02]
["UV562824Tool 03","UV562824","Tool 03",2416,0.02]
["UV5677822Tool 02","UV5677822","Tool 02",2682,0.02]
["UV5685234Tool 09","UV5685234","Tool 09",511,0.02]
["UV5689814Tool 03","UV5689814","Tool 03",2499,0.02]
["UV5762734Tool 09","UV5762734","Tool 09",539,0.02]
["UV579433Tool 02","UV579433","Tool 02",2623,0.02]
["UV5815295Tool 02","UV5815295","Tool 02",2666,0.02]
["UV5813627Tool 03","UV5813627","Tool 03",2412,0.02]
["UV588115Tool 19","UV588115","Tool 19",10185,0.02]
["UV5924094Tool 15","UV5924094","Tool 15",4405,0.02]
["UV5928329Tool 15","UV5928329","Tool 15",4436,0.02]
["UV5947578Tool 03","UV5947578","Tool 03",2447,0.02]
["UV5956413Tool 03","UV5956413","Tool 03",2499,0.02]
["UV5951712Tool 16","UV5951712","Tool 16",6873,0.02]
["UV6238373Tool 16","UV6238373","Tool 16",6850,0.02]
["UV6241191Tool 02","UV6241191","Tool 02",2620,0.02]
["UV6252256Tool 07","UV6252256","Tool 07",6444,0.02]
["UV631601Tool 17","UV631601","Tool 17",6837,0.02]
["UV6411805Tool 02","UV6411805","Tool 02",2642,0.02]
["UV6937295Tool 02","UV6937295","Tool 02",2674,0.02]
["UV8505006Tool 02","UV8505006","Tool 02",2607,0.02]
["UV8538779Tool 02","UV8538779","Tool 02",2632,0.02]
["VE8008533Tool 02","VE8008533","Tool 02",2683,0.02]
["VE8096041Tool 02","VE8096041","Tool 02",2642,0.02]
["VE8166035Tool 02","VE8166035","Tool 02",2663,0.02]
["VE8168353Tool 02","VE8168353","Tool 02",2625,0.02]
["VE8207633Tool 17","VE8207633","Tool 17",6868,0.02]
["Z00307730Tool 19","Z00307730","Tool 19",10208,0.02]
["ZD1446821Tool 05","ZD1446821","Tool 05",1253,0.02]
["ZD1471989Tool 05","ZD1471989","Tool 05",1265,0.02]
["ZD173254Tool 05","ZD173254","Tool 05",1226,0.02]
["ZD2443045Tool 02","ZD2443045","Tool 02",2632,0.02]
["VE8109961Tool 10","VE8109961","Tool 10",1604,0.02]
["VE5219409Tool 03","VE5219409","Tool 03",2479,0.02]
["UV5881465Tool 10","UV5881465","Tool 10",1649,0.02]
["SB0197426Tool 11","SB0197426","Tool 11",2035,0.02]
["FR0668280Tool 13","FR0668280","Tool 13",2456,0.02]
["AS5782773Tool 13","AS5782773","Tool 13",2445,0.02]
["CC5635362Tool 02","CC5635362","Tool 02",2605,0.02]
["SL4629457Tool 02","SL4629457","Tool 02",2658,0.02]
["UV2191719Tool 19","UV2191719","Tool 19",10223,0.02]
["BC4388435Tool 15","BC4388435","Tool 15",4493,0.02]
["UV016954Tool 09","UV016954","Tool 09",513,0.02]
["SS0506520Tool 01","SS0506520","Tool 01",1261,0.02]
["DP4598193Tool 01","DP4598193","Tool 01",1245,0.02]
["DP5451976Tool 02","DP5451976","Tool 02",2670,0.02]
["SB4986166Tool 18","SB4986166","Tool 18",2838,0.02]
["028609203Tool 17","028609203","Tool 17",6892,0.02]
["SL0063652Tool 18","SL0063652","Tool 18",2866,0.02]
["CT1166012Tool 08","CT1166012","Tool 08",4001,0.02]
["CM2143928Tool 18","CM2143928","Tool 18",2872,0.02]
["DP565222Tool 08","DP565222","Tool 08",3980,0.02]
["CM2101327Tool 04","CM2101327","Tool 04",2304,0.02]
["ME8214194Tool 18","ME8214194","Tool 18",2888,0.02]
["DP5629976Tool 15","DP5629976","Tool 15",4465,0.02]
[{"$f":"B515&C515","v":"DP4691702Tool 18"},"DP4691702","Tool 18",2837,0.02]
["DP4595759Tool 11","DP4595759","Tool 11",2076,0.02]
["CT5637769Tool 19","CT5637769","Tool 19",10173,0.02]
["KP9037564Tool 14","KP9037564","Tool 14",2366,0.02]
["GF5946419Tool 17","GF5946419","Tool 17",6851,0.02]
["GF533467Tool 09","GF533467","Tool 09",483,0.02]
["UV3432768Tool 19","UV3432768","Tool 19",10206,0.02]
["BC650618Tool 11","BC650618","Tool 11",2077,0.02]
["FR5822641Tool 08","FR5822641","Tool 08",3962,0.02]
["CM5482424Tool 11","CM5482424","Tool 11",2103,0.02]
["FR3787807Tool 15","FR3787807","Tool 15",4471,0.02]
["CT3206813Tool 01","CT3206813","Tool 01",1262,0.02]
["DP5634203Tool 01","DP5634203","Tool 01",1255,0.02]
["DP2364788Tool 09","DP2364788","Tool 09",502,0.02]
["CP3656765Tool 02","CP3656765","Tool 02",2631,0.02]
["DA6423154Tool 17","DA6423154","Tool 17",6856,0.02]
["UV2802570Tool 19","UV2802570","Tool 19",10248,0.02]
["CM2559364Tool 19","CM2559364","Tool 19",10258,0.02]
["CC4998399Tool 02","CC4998399","Tool 02",2662,0.02]
["UV3826095Tool 11","UV3826095","Tool 11",2039,0.02]
["CM3501010Tool 19","CM3501010","Tool 19",10192,0.02]
["CC3492021Tool 08","CC3492021","Tool 08",4002,0.02]
["CM2102732Tool 11","CM2102732","Tool 11",2123,0.02]
["CC61261Tool 19","CC61261","Tool 19",10234,0.02]
["CT5694363Tool 15","CT5694363","Tool 15",4411,0.02]
["CL1803510Tool 12","CL1803510","Tool 12",4030,0.02]
["AS578715Tool 15","AS578715","Tool 15",4472,0.02]
["UV8601951Tool 08","UV8601951","Tool 08",3987,0.02]
["CM2319937Tool 19","CM2319937","Tool 19",10222,0.02]
["ZD3373309Tool 10","ZD3373309","Tool 10",1615,0.02]
["UV5598089Tool 18","UV5598089","Tool 18",2824,0.02]
["AE0002565Tool 10","AE0002565","Tool 10",1625,0.02]
["MC5674057Tool 17","MC5674057","Tool 17",6805,0.02]
["UV5622418Tool 02","UV5622418","Tool 02",2639,0.02]
["AO5631737Tool 06","AO5631737","Tool 06",5873,0.02]
["CT344633Tool 16","CT344633","Tool 16",6864,0.02]
["UV6764444Tool 09","UV6764444","Tool 09",493,0.02]
["UV5774226Tool 17","UV5774226","Tool 17",6875,0.02]
["FR0035345Tool 10","FR0035345","Tool 10",1640,0.02]
["UV5361715Tool 15","UV5361715","Tool 15",4445,0.02]
["UV5549528Tool 09","UV5549528","Tool 09",533,0.02]
["UV4237997Tool 18","UV4237997","Tool 18",2825,0.02]
["028606503Tool 06","028606503","Tool 06",5829,0.02]
["UV2895409Tool 06","UV2895409","Tool 06",5830,0.02]
["BC5399951Tool 15","BC5399951","Tool 15",4412,0.02]
["UV2441071Tool 10","UV2441071","Tool 10",1557,0.02]
["UV0945735Tool 02","UV0945735","Tool 02",2658,0.02]
["UV038849Tool 15","UV038849","Tool 15",4460,0.02]
["UV0002243Tool 02","UV0002243","Tool 02",2601,0.02]
["ST3179872Tool 09","ST3179872","Tool 09",483,0.02]
["SS5379352Tool 05","SS5379352","Tool 05",1270,0.02]
["CC5547526Tool 10","CC5547526","Tool 10",1602,0.02]
["SB5405076Tool 18","SB5405076","Tool 18",2826,0.02]
["RC5428639Tool 18","RC5428639","Tool 18",2881,0.02]
["RC4279363Tool 18","RC4279363","Tool 18",2806,0.02]
["RC1122489Tool 11","RC1122489","Tool 11",2123,0.02]
["FR5551744Tool 04","FR5551744","Tool 04",2228,0.02]
["CC2858516Tool 09","CC2858516","Tool 09",484,0.02]
["UV291762Tool 11","UV291762","Tool 11",2119,0.02]
["MC4592186Tool 11","MC4592186","Tool 11",2120,0.02]
["MC3521226Tool 18","MC3521226","Tool 18",2886,0.02]
["IP2696227Tool 14","IP2696227","Tool 14",2337,0.02]
["GF5534806Tool 14","GF5534806","Tool 14",2325,0.02]
["GF5383871Tool 14","GF5383871","Tool 14",2377,0.02]
[{"$f":"B579&C579","v":"GF3586031Tool 14"},"GF3586031","Tool 14",2335,0.02]
["GF2638799Tool 14","GF2638799","Tool 14",2308,0.02]
["GF1185949Tool 11","GF1185949","Tool 11",2066,0.02]
["FR5747037Tool 11","FR5747037","Tool 11",2106,0.02]
["FR5604839Tool 11","FR5604839","Tool 11",2105,0.02]
["CM5649049Tool 10","CM5649049","Tool 10",1625,0.02]
["UV5642948Tool 11","UV5642948","Tool 11",2058,0.02]
["FR5345389Tool 15","FR5345389","Tool 15",4437,0.02]
["FR3332551Tool 11","FR3332551","Tool 11",2070,0.02]
["FR2743900Tool 15","FR2743900","Tool 15",4445,0.02]
["FR2453609Tool 11","FR2453609","Tool 11",2113,0.02]
["FR0665960Tool 17","FR0665960","Tool 17",6817,0.02]
["FR0315090Tool 18","FR0315090","Tool 18",2898,0.02]
["FR0168451Tool 18","FR0168451","Tool 18",2867,0.02]
["DP5576599Tool 01","DP5576599","Tool 01",1223,0.02]
["DP5461743Tool 01","DP5461743","Tool 01",1206,0.02]
["DP546919Tool 11","DP546919","Tool 11",2049,0.02]
["CM5619610Tool 09","CM5619610","Tool 09",495,0.02]
["DA5488689Tool 18","DA5488689","Tool 18",2815,0.02]
["CT5688441Tool 10","CT5688441","Tool 10",1608,0.02]
["UV5766707Tool 18","UV5766707","Tool 18",2882,0.02]
["CT5605818Tool 10","CT5605818","Tool 10",1560,0.02]
["CT5482084Tool 11","CT5482084","Tool 11",2084,0.02]
["CT4789575Tool 04","CT4789575","Tool 04",2306,0.02]
["CT4296104Tool 06","CT4296104","Tool 06",5815,0.02]
["CT5742043Tool 06","CT5742043","Tool 06",5841,0.02]
["CT3951375Tool 17","CT3951375","Tool 17",6805,0.02]
["FR5596199Tool 04","FR5596199","Tool 04",2286,0.02]
["CT3088481Tool 04","CT3088481","Tool 04",2235,0.02]
["CT2911051Tool 11","CT2911051","Tool 11",2102,0.02]
["CM5616356Tool 10","CM5616356","Tool 10",1601,0.02]
["CT1033238Tool 18","CT1033238","Tool 18",2870,0.02]
["CT0913275Tool 06","CT0913275","Tool 06",5872,0.02]
["CT0601817Tool 18","CT0601817","Tool 18",2871,0.02]
["CP5602324Tool 02","CP5602324","Tool 02",2692,0.02]
["AF5687782Tool 10","AF5687782","Tool 10",1595,0.02]
["CC5481743Tool 11","CC5481743","Tool 11",2126,0.02]
["CM5616207Tool 18","CM5616207","Tool 18",2841,0.02]
["CM3161117Tool 18","CM3161117","Tool 18",2837,0.02]
["CM258634Tool 18","CM258634","Tool 18",2870,0.02]
["CM2581094Tool 10","CM2581094","Tool 10",1630,0.02]
["CC5474686Tool 06","CC5474686","Tool 06",5855,0.02]
["CC56681Tool 06","CC56681","Tool 06",5887,0.02]
["CT2625676Tool 11","CT2625676","Tool 11",2043,0.02]
["FR5793488Tool 10","FR5793488","Tool 10",1608,0.02]
["ST5622066Tool 06","ST5622066","Tool 06",5872,0.02]
["CT4107816Tool 12","CT4107816","Tool 12",4018,0.02]
["CC5595349Tool 06","CC5595349","Tool 06",5851,0.02]
["CC5761362Tool 11","CC5761362","Tool 11",2100,0.02]
["MC5877286Tool 10","MC5877286","Tool 10",1596,0.02]
["UV5425654Tool 11","UV5425654","Tool 11",2065,0.02]
["MC587993Tool 06","MC587993","Tool 06",5857,0.02]
["CC4971312Tool 06","CC4971312","Tool 06",5834,0.02]
["CC095457Tool 09","CC095457","Tool 09",489,0.02]
["AF5365903Tool 09","AF5365903","Tool 09",532,0.02]
["UV1316541Tool 09","UV1316541","Tool 09",545,0.02]
["UV3573806Tool 11","UV3573806","Tool 11",2040,0.02]
["FR3663323Tool 05","FR3663323","Tool 05",1217,0.02]
["CC6465256Tool 04","CC6465256","Tool 04",2224,0.02]
["CM2361297Tool 11","CM2361297","Tool 11",2046,0.02]
["FR6531081Tool 05","FR6531081","Tool 05",1208,0.02]
["CC2128829Tool 15","CC2128829","Tool 15",4416,0.02]
["FR6582162Tool 04","FR6582162","Tool 04",2304,0.02]
["CC6588592Tool 11","CC6588592","Tool 11",2130,0.02]
[{"$f":"B643&C643","v":"FR5835585Tool 06"},"FR5835585","Tool 06",5804,0.02]
["UV4382866Tool 04","UV4382866","Tool 04",2226,0.02]
["MP8006346Tool 11","MP8006346","Tool 11",2099,0.02]
["FR5931178Tool 06","FR5931178","Tool 06",5815,0.02]
["FR2544649Tool 04","FR2544649","Tool 04",2293,0.02]
["MP8066875Tool 09","MP8066875","Tool 09",570,0.02]
["LD5898769Tool 14","LD5898769","Tool 14",2385,0.02]
["UV4653923Tool 17","UV4653923","Tool 17",6871,0.02]
["AP6595381Tool 11","AP6595381","Tool 11",2119,0.02]
["FR2494755Tool 14","FR2494755","Tool 14",2372,0.02]
[{"$f":"B653&C653","v":"AB1305109Tool 17"},"AB1305109","Tool 17",6879,0.02]
["AB4133650Tool 17","AB4133650","Tool 17",6871,0.02]
["AB617476Tool 13","AB617476","Tool 13",2460,0.02]
["AB6803301Tool 17","AB6803301","Tool 17",6822,0.02]
["AO0414069Tool 03","AO0414069","Tool 03",2407,0.02]
["AO4874959Tool 13","AO4874959","Tool 13",2405,0.02]
["AP3728500Tool 03","AP3728500","Tool 03",2462,0.02]
["AP3951566Tool 03","AP3951566","Tool 03",2494,0.02]
["AP4223947Tool 03","AP4223947","Tool 03",2439,0.02]
["AP4745289Tool 03","AP4745289","Tool 03",2448,0.02]
["CC3609599Tool 17","CC3609599","Tool 17",6859,0.02]
["CC4618183Tool 13","CC4618183","Tool 13",2401,0.02]
["CC4945569Tool 17","CC4945569","Tool 17",6888,0.02]
["CC5387633Tool 17","CC5387633","Tool 17",6863,0.02]
["CC5605066Tool 11","CC5605066","Tool 11",2095,0.02]
["CC5805891Tool 17","CC5805891","Tool 17",6844,0.02]
["CC6069687Tool 17","CC6069687","Tool 17",6837,0.02]
["CL4179003Tool 11","CL4179003","Tool 11",2075,0.02]
["CM2146129Tool 11","CM2146129","Tool 11",2038,0.02]
["CM2144500Tool 11","CM2144500","Tool 11",2045,0.02]
["CM2573429Tool 11","CM2573429","Tool 11",2075,0.02]
["CM267912Tool 11","CM267912","Tool 11",2130,0.02]
["CM350886Tool 11","CM350886","Tool 11",2101,0.02]
["CM3509051Tool 11","CM3509051","Tool 11",2106,0.02]
["CP3651771Tool 03","CP3651771","Tool 03",2445,0.02]
["CT0686710Tool 17","CT0686710","Tool 17",6884,0.02]
["CT2356543Tool 13","CT2356543","Tool 13",2434,0.02]
["CT2727204Tool 12","CT2727204","Tool 12",4023,0.02]
["CT2899279Tool 12","CT2899279","Tool 12",4085,0.02]
["CT2976643Tool 13","CT2976643","Tool 13",2493,0.02]
["CT3251740Tool 13","CT3251740","Tool 13",2445,0.02]
["CT3676279Tool 13","CT3676279","Tool 13",2446,0.02]
["CT3847465Tool 11","CT3847465","Tool 11",2110,0.02]
["CT4394015Tool 17","CT4394015","Tool 17",6893,0.02]
["CT4625235Tool 12","CT4625235","Tool 12",4029,0.02]
["CT5594793Tool 13","CT5594793","Tool 13",2474,0.02]
["CT5829315Tool 13","CT5829315","Tool 13",2436,0.02]
["CT588550Tool 12","CT588550","Tool 12",4000,0.02]
["CT5885641Tool 13","CT5885641","Tool 13",2480,0.02]
["CT593521Tool 13","CT593521","Tool 13",2479,0.02]
["CT5982395Tool 17","CT5982395","Tool 17",6841,0.02]
["DP4764853Tool 13","DP4764853","Tool 13",2410,0.02]
["DP638679Tool 13","DP638679","Tool 13",2495,0.02]
["FR1452826Tool 13","FR1452826","Tool 13",2444,0.02]
["FR3467978Tool 13","FR3467978","Tool 13",2403,0.02]
["FR457233Tool 13","FR457233","Tool 13",2439,0.02]
["GF67655Tool 12","GF67655","Tool 12",4067,0.02]
["MC3543546Tool 12","MC3543546","Tool 12",4044,0.02]
["MC4244977Tool 12","MC4244977","Tool 12",4088,0.02]
["MC594145Tool 11","MC594145","Tool 11",2129,0.02]
["ME8164351Tool 12","ME8164351","Tool 12",4020,0.02]
["ME8876987Tool 06","ME8876987","Tool 06",5810,0.02]
["MP8004078Tool 06","MP8004078","Tool 06",5836,0.02]
["MP8026858Tool 06","MP8026858","Tool 06",5813,0.02]
[{"$f":"B707&C707","v":"MP8061520Tool 06"},"MP8061520","Tool 06",5842,0.02]
["MP8104858Tool 06","MP8104858","Tool 06",5864,0.02]
["MP8109471Tool 06","MP8109471","Tool 06",5840,0.02]
["NU3927324Tool 12","NU3927324","Tool 12",4003,0.02]
["SL1205692Tool 03","SL1205692","Tool 03",2491,0.02]
["SL1739082Tool 03","SL1739082","Tool 03",2410,0.02]
["SL1814144Tool 03","SL1814144","Tool 03",2498,0.02]
["SL2223216Tool 03","SL2223216","Tool 03",2419,0.02]
["SL4542202Tool 03","SL4542202","Tool 03",2487,0.02]
["ST0044507Tool 03","ST0044507","Tool 03",2474,0.02]
["ST0248243Tool 03","ST0248243","Tool 03",2494,0.02]
["ST086120Tool 03","ST086120","Tool 03",2408,0.02]
["ST0904669Tool 03","ST0904669","Tool 03",2492,0.02]
["ST1444632Tool 03","ST1444632","Tool 03",2423,0.02]
["ST1661696Tool 03","ST1661696","Tool 03",2440,0.02]
["ST3078513Tool 03","ST3078513","Tool 03",2443,0.02]
["ST3795473Tool 03","ST3795473","Tool 03",2419,0.02]
["ST3859207Tool 03","ST3859207","Tool 03",2442,0.02]
["ST5444150Tool 03","ST5444150","Tool 03",2439,0.02]
["ST5622830Tool 03","ST5622830","Tool 03",2494,0.02]
["ST5775560Tool 03","ST5775560","Tool 03",2497,0.02]
["ST5866857Tool 03","ST5866857","Tool 03",2483,0.02]
["UV2452537Tool 03","UV2452537","Tool 03",2412,0.02]
["UV2535805Tool 03","UV2535805","Tool 03",2492,0.02]
["UV2985514Tool 03","UV2985514","Tool 03",2456,0.02]
["UV3281153Tool 12","UV3281153","Tool 12",4005,0.02]
["UV3595016Tool 03","UV3595016","Tool 03",2402,0.02]
["UV3633599Tool 03","UV3633599","Tool 03",2430,0.02]
["UV3942188Tool 03","UV3942188","Tool 03",2468,0.02]
["UV4094667Tool 03","UV4094667","Tool 03",2483,0.02]
["UV4105152Tool 03","UV4105152","Tool 03",2461,0.02]
["UV4787798Tool 03","UV4787798","Tool 03",2457,0.02]
["UV4926151Tool 03","UV4926151","Tool 03",2495,0.02]
["UV5379200Tool 03","UV5379200","Tool 03",2423,0.02]
["UV5416692Tool 03","UV5416692","Tool 03",2476,0.02]
["UV5473062Tool 03","UV5473062","Tool 03",2426,0.02]
["UV5494145Tool 06","UV5494145","Tool 06",5835,0.02]
["UV5677822Tool 03","UV5677822","Tool 03",2408,0.02]
["UV579433Tool 03","UV579433","Tool 03",2432,0.02]
["UV5815295Tool 03","UV5815295","Tool 03",2450,0.02]
["UV6241191Tool 03","UV6241191","Tool 03",2402,0.02]
["UV6411805Tool 03","UV6411805","Tool 03",2441,0.02]
["UV6937295Tool 03","UV6937295","Tool 03",2403,0.02]
["UV8505006Tool 03","UV8505006","Tool 03",2476,0.02]
["UV8538779Tool 03","UV8538779","Tool 03",2459,0.02]
["VE8008533Tool 03","VE8008533","Tool 03",2458,0.02]
["VE8096041Tool 03","VE8096041","Tool 03",2453,0.02]
["VE8166035Tool 03","VE8166035","Tool 03",2492,0.02]
["VE8168353Tool 03","VE8168353","Tool 03",2447,0.02]
["ZD2443045Tool 03","ZD2443045","Tool 03",2433,0.02]
["SB0197426Tool 12","SB0197426","Tool 12",4040,0.02]
["CC5635362Tool 03","CC5635362","Tool 03",2475,0.02]
["SL4629457Tool 03","SL4629457","Tool 03",2496,0.02]
["DP5451976Tool 03","DP5451976","Tool 03",2405,0.02]
["CM2101327Tool 06","CM2101327","Tool 06",5821,0.02]
["DP4595759Tool 12","DP4595759","Tool 12",4007,0.02]
["BC650618Tool 12","BC650618","Tool 12",4095,0.02]
["CM5482424Tool 12","CM5482424","Tool 12",4080,0.02]
["CP3656765Tool 03","CP3656765","Tool 03",2493,0.02]
["CC4998399Tool 03","CC4998399","Tool 03",2483,0.02]
["UV3826095Tool 12","UV3826095","Tool 12",4018,0.02]
["CC3492021Tool 11","CC3492021","Tool 11",2073,0.02]
["CM2102732Tool 12","CM2102732","Tool 12",4087,0.02]
["UV8601951Tool 11","UV8601951","Tool 11",2104,0.02]
[{"$f":"B771&C771","v":"UV5622418Tool 03"},"UV5622418","Tool 03",2497,0.02]
["UV0945735Tool 03","UV0945735","Tool 03",2462,0.02]
["UV0002243Tool 03","UV0002243","Tool 03",2461,0.02]
["RC1122489Tool 12","RC1122489","Tool 12",4008,0.02]
["FR5551744Tool 06","FR5551744","Tool 06",5834,0.02]
["UV291762Tool 12","UV291762","Tool 12",4024,0.02]
["MC4592186Tool 12","MC4592186","Tool 12",4030,0.02]
["GF1185949Tool 12","GF1185949","Tool 12",4039,0.02]
["DP546919Tool 12","DP546919","Tool 12",4019,0.02]
["CT5482084Tool 12","CT5482084","Tool 12",4082,0.02]
["CT4789575Tool 06","CT4789575","Tool 06",5886,0.02]
["FR5596199Tool 06","FR5596199","Tool 06",5846,0.02]
["CT3088481Tool 06","CT3088481","Tool 06",5843,0.02]
["CT2911051Tool 12","CT2911051","Tool 12",4064,0.02]
["CP5602324Tool 03","CP5602324","Tool 03",2497,0.02]
["CC5481743Tool 12","CC5481743","Tool 12",4004,0.02]
["CM5616207Tool 13","CM5616207","Tool 13",2435,0.02]
["CM3161117Tool 13","CM3161117","Tool 13",2414,0.02]
["CM258634Tool 13","CM258634","Tool 13",2462,0.02]
["CT2625676Tool 12","CT2625676","Tool 12",4055,0.02]
["CC5761362Tool 12","CC5761362","Tool 12",4080,0.02]
["UV5425654Tool 12","UV5425654","Tool 12",4083,0.02]
["UV3573806Tool 12","UV3573806","Tool 12",4022,0.02]
["CC6465256Tool 06","CC6465256","Tool 06",5899,0.02]
["CM2361297Tool 12","CM2361297","Tool 12",4038,0.02]
["FR6582162Tool 06","FR6582162","Tool 06",5814,0.02]
["CC6588592Tool 12","CC6588592","Tool 12",4039,0.02]
["UV4382866Tool 06","UV4382866","Tool 06",5825,0.02]
["MP8006346Tool 12","MP8006346","Tool 12",4056,0.02]
["FR2544649Tool 06","FR2544649","Tool 06",5860,0.02]
["AP6595381Tool 12","AP6595381","Tool 12",4065,0.02]
[{"$f":"B802&C802","v":""}]
[""]
[""]
[""]
[""]
[""]
[""]
[""]
[""]
[""]
[""]
[""]
[""]
[""]
[""]
[""]
[""]
[""]
[""]
[""]
[""]
[""]
[""]
[""]
[""]
[""]
[""]
[""]
[""]
[""]
[""]
[""]
[""]
[""]
[""]
[""]
[""]
[""]
[""]
[""]
[""]
[""]
[""]
[""]
[""]
[""]
[""]
[""]
[""]
[""]
[""]
[""]
[""]
[""]
[""]
[{"$f":"B857&C857","v":""}]
[""]
[""]
[""]
[""]
[""]
[""]
[""]
[""]
[""]
[""]
[""]
[""]
[""]
[""]
[""]
[""]
[""]
[""]
[""]
[""]
[""]
[""]
[""]
[""]
[""]
[""]
[""]
[""]
[""]
[""]
[""]
[""]
[""]
[""]
[""]
[""]
[""]
[""]
[""]
[""]
[""]
[""]
[""]
[""]
[""]
[""]
[""]
[""]
[""]
[""]
[""]
[""]
[""]
[""]
[""]
[""]
[""]
[""]
[""]
[""]
[""]
[""]
[""]
[{"$f":"B921&C921","v":""}]
[""]
[""]
[""]
[""]
[""]
[""]
[""]
[""]
[""]
[""]
[""]
[""]
[""]
[""]
[""]
[""]
[""]
[""]
[""]
[""]
[""]
[""]
[""]
[""]
[""]
[""]
[""]
[""]
[""]
[""]
[""]
[""]
[""]
[""]
[""]
[""]
[""]
[""]
[""]
[""]
[""]
[""]
[""]
[""]
[""]
[""]
[""]
[""]
[""]
[""]
[""]
[""]
[""]
[""]
[""]
[""]
[""]
[""]
[""]
[""]
[""]
[""]
[""]
[{"$f":"B985&C985","v":""}]
[""]
[""]
[""]
[""]
[""]
[""]
[""]
[""]
[""]
[""]
[""]
[""]
[""]
[""]
[""]
[""]
[""]
[""]
[""]
[""]
[""]
[""]
[""]
[""]
[""]
[""]
[""]
[""]
[""]
[""]
[""]
[""]
[""]
[""]
[""]
[""]
[""]
[""]
[""]
[""]
[""]
[""]
[""]
[""]
[""]
[""]
[""]
[""]
[""]
[""]
[""]
[""]
[""]
[""]
[""]
[""]
[""]
[""]
[""]
[""]
[""]
[""]
[""]
[{"$f":"B1049&C1049","v":""}]
[""]
[""]
[""]
[""]
[""]
[""]
[""]
[""]
[""]
[""]
[""]
[""]
[""]
[""]
[""]
[""]
[""]
[""]
[""]
[""]
[""]
[""]
[""]
[""]
[""]
[""]
[""]
[""]
[""]
[""]
[""]
[""]
[""]
[""]
[""]
[""]
[""]
[""]
[""]
[""]
[""]
[""]
[""]
[""]
[""]
[""]
[""]
[""]
[""]
[""]
[""]
[""]
[""]
[""]
[""]
[""]
[""]
[""]
[""]
[""]
[""]
[""]
[""]
[{"$f":"B1113&C1113","v":""}]
[""]
[""]
[""]
[""]
[""]
[""]
[""]
[""]
[""]
[""]
[""]
[""]
[""]
[""]
[""]
[""]
[""]
[""]
[""]
[""]
[""]
[""]
[""]
[""]
[""]
[""]
[""]
[""]
[""]
[""]
[""]
[""]
[""]
[""]
[""]
[""]
[""]
[""]
[""]
[""]
[""]
[""]
[""]
[""]
[""]
[""]
[""]
[""]
[""]
[""]
[""]
[""]
[""]
[""]
[""]
[""]
[""]
[""]
[""]
[""]
[""]
[""]
[""]
[{"$f":"B1177&C1177","v":""}]
[""]
[""]
[""]
[""]
[""]
[""]
[""]
[""]
[""]
[""]
[""]
[""]
[""]
[""]
[""]
[""]
[""]
[""]
[""]
[""]
[""]
[""]
[""]
[""]
[""]
[""]
[""]
[""]
[""]
[""]
[""]
[""]
[""]
[""]
[""]
[""]
[""]
[""]
[""]
[""]
[""]
[""]
[""]
[""]
[""]
[""]
[""]
[""]
[""]
[""]
[""]
[""]
[""]
[""]
[""]
[""]
[""]
[""]
[""]
[""]
[""]
[""]
[""]
[{"$f":"B1241&C1241","v":""}]
[""]
[""]
[""]
[""]
[""]
[""]
[""]
[""]
[""]
[""]
[""]
[""]
[""]
[""]
[""]
[""]
[""]
[""]
[""]
[""]
[""]
[""]
[""]
[""]
[""]
[""]
[""]
[""]
[""]
[""]
[""]
[""]
[""]
[""]
[""]
[""]
[""]
[""]
[""]
[""]
[""]
[""]
[""]
[""]
[""]
[""]
[""]
[""]
[""]
[""]
[""]
[""]
[""]
[""]
[""]
[""]
[""]
[""]
[""]
[""]
[""]
[""]
[""]
[{"$f":"B1305&C1305","v":""}]
[""]
[""]
[""]
[""]
[""]
[""]
[""]
[""]
[""]
[""]
[""]
[""]
[""]
[""]
[""]
[""]
[""]
[""]
[""]
[""]
[""]
[""]
[""]
[""]
[""]
[""]
[""]
[""]
[""]
[""]
[""]
[""]
[""]
[""]
[""]
[""]
[""]
[""]
[""]
[""]
[""]
[""]
[""]
[""]
[""]
[""]
[""]
[""]
[""]
[""]
[""]
[""]
[""]
[""]
[""]
[""]
[""]
[""]
[""]
[""]
[""]
[""]
[""]
[{"$f":"B1369&C1369","v":""}]
[""]
[""]
[""]
[""]
[""]
[""]
[""]
[""]
[""]
[""]
[""]
[""]
[""]
[""]
[""]
[""]
[""]
[""]
[""]
[""]
[""]
[""]
[""]
[""]
[""]
[""]
[""]
[""]
[""]
[""]
[""]
[""]
[""]
[""]
[""]
[""]
[""]
[""]
[""]
[""]
[""]
[""]
[""]
[""]
[""]
[""]
[""]
[""]
[""]
[""]
[""]
[""]
[""]
[""]
[""]
[""]
[""]
[""]
[""]
[""]
[""]
[""]
[""]
[{"$f":"B1433&C1433","v":""}]
[""]
[""]
[""]
[""]
[""]
[""]
[""]
[""]
[""]
[""]
[""]
[""]
[""]
[""]
[""]
[""]
[""]
[""]
[""]
[""]
[""]
[""]
[""]
[""]
[""]
[""]
[""]
[""]
[""]
[""]
[""]
[""]
[""]
[""]
[""]
[""]
[""]
[""]
[""]
[""]
[""]
[""]
[""]
[""]
[""]
[""]
[""]
[""]
[""]
[""]
[""]
[""]
[""]
[""]
[""]
[""]
[""]
[""]
[""]
[""]
[""]
[""]
[""]
[{"$f":"B1497&C1497","v":""}]
[""]
[""]
[""]
[""]
[""]
[""]
[""]
[""]
[""]
[""]
[""]
[""]
[""]
[""]
[""]
[""]
[""]
[""]
[""]
[""]
[""]
[""]
[""]
[""]
[""]
[""]
[""]
[""]
[""]
[""]
[""]
[""]
[""]
[""]
[""]
[""]
[""]
[""]
[""]
[""]
[""]
[""]
[""]
[""]
[""]
[""]
[""]
[""]
[""]
[""]
[""]
[""]
[""]
[""]
[""]
[""]
[""]
[""]
[""]
[""]
[""]
[""]
[""]
[{"$f":"B1561&C1561","v":""}]
[""]
[""]
[""]
[""]
[""]
[""]
[""]
[""]
[""]
[""]
[""]
[""]
[""]
[""]
[""]
[""]
[""]
[""]
[""]
[""]
[""]
[""]
[""]
[""]
[""]
[""]
[""]
[""]
[""]
[""]
[""]
[""]
[""]
[""]
[""]
[""]
[""]
[""]
[""]
[""]
[""]
[""]
[""]
[""]
[""]
[""]
[""]
[""]
[""]
[""]
[""]
[""]
[""]
[""]
[""]
[""]
[""]
[""]
[""]
[""]
[""]
[""]
[""]
[{"$f":"B1625&C1625","v":""}]
[""]
[""]
[""]
[""]
[""]
[""]
[""]
[""]
[""]
[""]
[""]
[""]
[""]
[""]
[""]
[""]
[""]
[""]
[""]
[""]
[""]
[""]
[""]
[""]
[""]
[""]
[""]
[""]
[""]
[""]
[""]
[""]
[""]
[""]
[""]
[""]
[""]
[""]
[""]
[""]
[""]
[""]
[""]
[""]
[""]
[""]
[""]
[""]
[""]
[""]
[""]
[""]
[""]
[""]
[""]
[""]
[""]
[""]
[""]
[""]
[""]
[""]
[""]
[{"$f":"B1689&C1689","v":""}]
[""]
[""]
[""]
[""]
[""]
[""]
[""]
[""]
[""]
[""]
[""]
[""]
[""]
[""]
[""]
[""]
[""]
[""]
[""]
[""]
[""]
[""]
[""]
[""]
[""]
[""]
[""]
[""]
[""]
[""]
[""]
[""]
[""]
[""]
[""]
[""]
[""]
[""]
[""]
[""]
[""]
[""]
[""]
[""]
[""]
[""]
[""]
[""]
[""]
[""]
[""]
[""]
[""]
[""]
[""]
[""]
[""]
[""]
[""]
[""]
[""]
[""]
[""]
[{"$f":"B1753&C1753","v":""}]
[""]
[""]
[""]
[""]
[""]
[""]
[""]
[""]
[""]
[""]
[""]
[""]
[""]
[""]
[""]
[""]
[""]
[""]
[""]
[""]
[""]
[""]
[""]
[""]
[""]
[""]
[""]
[""]
[""]
[""]
[""]
[""]
[""]
[""]
[""]
[""]
[""]
[""]
[""]
[""]
[""]
[""]
[""]
[""]
[""]
[""]
[""]
[""]
[""]
[""]
[""]
[""]
[""]
[""]
[""]
[""]
[""]
[""]
[""]
[""]
[""]
[""]
[""]
[{"$f":"B1817&C1817","v":""}]
[""]
[""]
[""]
[""]
[""]
[""]
[""]
[""]
[""]
[""]
[""]
[""]
[""]
[""]
[""]
[""]
[""]
[""]
[""]
[""]
[""]
[""]
[""]
[""]
[""]
[""]
[""]
[""]
[""]
[""]
[""]
[""]
[""]
[""]
[""]
[""]
[""]
[""]
[""]
[""]
[""]
[""]
[""]
[""]
[""]
[""]
[""]
[""]
[""]
[""]
[""]
[""]
[""]
[""]
[""]
[""]
[""]
[""]
[""]
[""]
[""]
[""]
[""]
[{"$f":"B1881&C1881","v":""}]
[""]
[""]
[""]
[""]
[""]
[""]
[""]
[""]
[""]
[""]
[""]
[""]
[""]
[""]
[""]
[""]
[""]
[""]
[""]
[""]
[""]
[""]
[""]
[""]
[""]
[""]
[""]
[""]
[""]
[""]
[""]
[""]
[""]
[""]
[""]
[""]
[""]
[""]
[""]
[""]
[""]
[""]
[""]
[""]
[""]
[""]
[""]
[""]
[""]
[""]
[""]
[""]
[""]
[""]
[""]
[""]
[""]
[""]
[""]
[""]
[""]
[""]
[""]
[{"$f":"B1945&C1945","v":""}]
[""]
[""]
[""]
[""]
[""]
[""]
[""]
[""]
[""]
[""]
[""]
[""]
[""]
[""]
[""]
[""]
[""]
[""]
[""]
[""]
[""]
[""]
[""]
[""]
[""]
[""]
[""]
[""]
[""]
[""]
[""]
[""]
[""]
[""]
[""]
[""]
[""]
[""]
[""]
[""]
[""]
[""]
[""]
[""]
[""]
[""]
[""]
[""]
[""]
[""]
[""]
[""]
[""]
[""]
[""]
[""]
[""]
[""]
[""]
[""]
[""]
[""]
[""]
[{"$f":"B2009&C2009","v":""}]
[""]
[""]
[""]
[""]
[""]
[""]
[""]
[""]
[""]
[""]
[""]
[""]
[""]
[""]
[""]
[""]
[""]
[""]
[""]
[""]
[""]
[""]
[""]
[""]
[""]
[""]
[""]
[""]
[""]
[""]
[""]
[""]
[""]
[""]
[""]
[""]
[""]
[""]
[""]
[""]
[""]
[""]
[""]
[""]
[""]
[""]
[""]
[""]
[""]
[""]
[""]
[""]
[""]
[""]
[""]
[""]
[""]
[""]
[""]
[""]
[""]
[""]
[""]
[{"$f":"B2073&C2073","v":""}]
[""]
[""]
[""]
[""]
[""]
[""]
[""]
[""]
[""]
[""]
[""]
[""]
[""]
[""]
[""]
[""]
[""]
[""]
[""]
[""]
[""]
[""]
[""]
[""]
[""]
[""]
[""]
[""]
[""]
[""]
[""]
[""]
[""]
[""]
[""]
[""]
[""]
[""]
[""]
[""]
[""]
[""]
[""]
[""]
[""]
[""]
[""]
[""]
[""]
[""]
[""]
[""]
[""]
[""]
[""]
[""]
[""]
[""]
[""]
[""]
[""]
[""]
[""]
[{"$f":"B2137&C2137","v":""}]
[""]
[""]
[""]
[""]
[""]
[""]
[""]
[""]
[""]
[""]
[""]
[""]
[""]
[""]
[""]
[""]
[""]
[""]
[""]
[""]
[""]
[""]
[""]
[""]
[""]
[""]
[""]
[""]
[""]
[""]
[""]
[""]
[""]
[""]
[""]
[""]
[""]
[""]
[""]
[""]
[""]
[""]
[""]
[""]
[""]
[""]
[""]
[""]
[""]
[""]
[""]
[""]
[""]
[""]
[""]
[""]
[""]
[""]
[""]
[""]
[""]
[""]
[""]
[{"$f":"B2201&C2201","v":""}]
[""]
[""]
[""]
[""]
[""]
[""]
[""]
[""]
[""]
[""]
[""]
[""]
[""]
[""]
[""]
[""]
[""]
[""]
[""]
[""]
[""]
[""]
[""]
[""]
[""]
[""]
[""]
[""]
[""]
[""]
[""]
[""]
[""]
[""]
[""]
[""]
[""]
[""]
[""]
[""]
[""]
[""]
[""]
[""]
[""]
[""]
[""]
[""]
[""]
[""]
[""]
[""]
[""]
[""]
[""]
[""]
[""]
[""]
[""]
[""]
[""]
[""]
[""]
[{"$f":"B2265&C2265","v":""}]
[""]
[""]
[""]
[""]
[""]
[""]
[""]
[""]
[""]
[""]
[""]
[""]
[""]
[""]
[""]
[""]
[""]
[""]
[""]
[""]
[""]
[""]
[""]
[""]
[""]
[""]
[""]
[""]
[""]
[""]
[""]
[""]
[""]
[""]
[""]
[""]
[""]
[""]
[""]
[""]
[""]
[""]
[""]
[""]
[""]
[""]
[""]
[""]
[""]
[""]
[""]
[""]
[""]
[""]
[""]
[""]
[""]
[""]
[""]
[""]
[""]
[""]
[""]
[{"$f":"B2329&C2329","v":""}]
[""]
[""]
[""]
[""]
[""]
[""]
[""]
[""]
[""]
[""]
[""]
[""]
[""]
[""]
[""]
[""]
[""]
[""]
[""]
[""]
[""]
[""]
[""]
[""]
[""]
[""]
[""]
[""]
[""]
[""]
[""]
[""]
[""]
[""]
[""]
[""]
[""]
[""]
[""]
[""]
[""]
[""]
[""]
[""]
[""]
[""]
[""]
[""]
[""]
[""]
[""]
[""]
[""]
[""]
[""]
[""]
[""]
[""]
[""]
[""]
[""]
[""]
[""]
[{"$f":"B2393&C2393","v":""}]
[""]
[""]
[""]
[""]
[""]
[""]
[""]
[""]
[""]
[""]
[""]
[""]
[""]
[""]
[""]
[""]
[""]
[""]
[""]
[""]
[""]
[""]
[""]
[""]
[""]
[""]
[""]
[""]
[""]
[""]
[""]
[""]
[""]
[""]
[""]
[""]
[""]
[""]
[""]
[""]
[""]
[""]
[""]
[""]
[""]
[""]
[""]
[""]
[""]
[""]
[""]
[""]
[""]
[""]
[""]
[""]
[""]
[""]
[""]
[""]
[""]
[""]
[""]
[{"$f":"B2457&C2457","v":""}]
[""]
[""]
[""]
[""]
[""]
[""]
[""]
[""]
[""]
[""]
[""]
[""]
[""]
[""]
[""]
[""]
[""]
[""]
[""]
[""]
[""]
[""]
[""]
[""]
[""]
[""]
[""]
[""]
[""]
[""]
[""]
[""]
[""]
[""]
[""]
[""]
[""]
[""]
[""]
[""]
[""]
[""]
[""]
[""]
[""]
[""]
[""]
[""]
[""]
[""]
[""]
[""]
[""]
[""]
[""]
[""]
[""]
[""]
[""]
[""]
[""]
[""]
[""]
[{"$f":"B2521&C2521","v":""}]
[""]
[""]
[""]
[""]
[""]
[""]
[""]
[""]
[""]
[""]
[""]
[""]
[""]
[""]
[""]
[""]
[""]
[""]
[""]
[""]
[""]
[""]
[""]
[""]
[""]
[""]
[""]
[""]
[""]
[""]
[""]
[""]
[""]
[""]
[""]
[""]
[""]
[""]
[""]
[""]
[""]
[""]
[""]
[""]
[""]
[""]
[""]
[""]
[""]
[""]
[""]
[""]
[""]
[""]
[""]
[""]
[""]
[""]
[""]
[""]
[""]
[""]
[""]
[{"$f":"B2585&C2585","v":""}]
[""]
[""]
[""]
[""]
[""]
[""]
[""]
[""]
[""]
[""]
[""]
[""]
[""]
[""]
[""]
[""]
[""]
[""]
[""]
[""]
[""]
[""]
[""]
[""]
[""]
[""]
[""]
[""]
[""]
[""]
[""]
[""]
[""]
[""]
[""]
[""]
[""]
[""]
[""]
[""]
[""]
[""]
[""]
[""]
[""]
[""]
[""]
[""]
[""]
[""]
[""]
[""]
[""]
[""]
[""]
[""]
[""]
[""]
[""]
[""]
[""]
[""]
[""]
[{"$f":"B2649&C2649","v":""}]
[""]
[""]
[""]
[""]
[""]
[""]
[""]
[""]
[""]
[""]
[""]
[""]
[""]
[""]
[""]
[""]
[""]
[""]
[""]
[""]
[""]
[""]
[""]
[""]
[""]
[""]
[""]
[""]
[""]
[""]
[""]
[""]
[""]
[""]
[""]
[""]
[""]
[""]
[""]
[""]
[""]
[""]
[""]
[""]
[""]
[""]
[""]
[""]
[""]
[""]
[""]
[""]
[""]
[""]
[""]
[""]
[""]
[""]
[""]
[""]
[""]
[""]
[""]
[{"$f":"B2713&C2713","v":""}]
[""]
[""]
[""]
[""]
[""]
[""]
[""]
[""]
[""]
[""]
[""]
[""]
[""]
[""]
[""]
[""]
[""]
[""]
[""]
[""]
[""]
[""]
[""]
[""]
[""]
[""]
[""]
[""]
[""]
[""]
[""]
[""]
[""]
[""]
[""]
[""]
[""]
[""]
[""]
[""]
[""]
[""]
[""]
[""]
[""]
[""]
[""]
[""]
[""]
[""]
[""]
[""]
[""]
[""]
[""]
[""]
[""]
[""]
[""]
[""]
[""]
[""]
[""]
[{"$f":"B2777&C2777","v":""}]
[""]
[""]
[""]
[""]
[""]
[""]
[""]
[""]
[""]
[""]
[""]
[""]
[""]
[""]
[""]
[""]
[""]
[""]
[""]
[""]
[""]
[""]
[""]
[""]
[""]
[""]
[""]
[""]
[""]
[""]
[""]
[""]
[""]
[""]
[""]
[""]
[""]
[""]
[""]
[""]
[""]
[""]
[""]
[""]
[""]
[""]
[""]
[""]
[""]
[""]
[""]
[""]
[""]
[""]
[""]
[""]
[""]
[""]
[""]
[""]
[""]
[""]
[""]
[{"$f":"B2841&C2841","v":""}]
[""]
[""]
[""]
[""]
[""]
[""]
[""]
[""]
[""]
[""]
[""]
[""]
[""]
[""]
[""]
[""]
[""]
[""]
[""]
[""]
[""]
[""]
[""]
[""]
[""]
[""]
[""]
[""]
[""]
[""]
[""]
[""]
[""]
[""]
[""]
[""]
[""]
[""]
[""]
[""]
[""]
[""]
[""]
[""]
[""]
[""]
[""]
[""]
[""]
[""]
[""]
[""]
[""]
[""]
[""]
[""]
[""]
[""]
[""]
[""]
[""]
[""]
[""]
[{"$f":"B2905&C2905","v":""}]
[""]
[""]
[""]
[""]
[""]
[""]
[""]
[""]
[""]
[""]
[""]
[""]
[""]
[""]
[""]
[""]
[""]
[""]
[""]
[""]
[""]
[""]
[""]
[""]
[""]
[""]
[""]
[""]
[""]
[""]
[""]
[""]
[""]
[""]
[""]
[""]
[""]
[""]
[""]
[""]
[""]
[""]
[""]
[""]
[""]
[""]
[""]
[""]
[""]
[""]
[""]
[""]
[""]
[""]
[""]
[""]
[""]
[""]
[""]
[""]
[""]
[""]
[""]
[{"$f":"B2969&C2969","v":""}]
[""]
[""]
[""]
[""]
[""]
[""]
[""]
[""]
[""]
[""]
[""]
[""]
[""]
[""]
[""]
[""]
[""]
[""]
[""]
[""]
[""]
[""]
[""]
[""]
[""]
[""]
[""]
[""]
[""]
[""]
[""]
[""]
[""]
[""]
[""]
[""]
[""]
[""]
[""]
[""]
[""]
[""]
[""]
[""]
[""]
[""]
[""]
[""]
[""]
[""]
[""]
[""]
[""]
[""]
[""]
[""]
[""]
[""]
[""]
[""]
[""]
[""]
[""]
[{"$f":"B3033&C3033","v":""}]
[""]
[""]
[""]
[""]
[""]
[""]
[""]
[""]
[""]
[""]
[""]
[""]
[""]
[""]
[""]
[""]
[""]
[""]
[""]
[""]
[""]
[""]
[""]
[""]
[""]
[""]
[""]
[""]
[""]
[""]
[""]
[""]
[""]
[""]
[""]
[""]
[""]
[""]
[""]
[""]
[""]
[""]
[""]
[""]
[""]
[""]
[""]
[""]
[""]
[""]
[""]
[""]
[""]
[""]
[""]
[""]
[""]
[""]
[""]
[""]
[""]
[""]
[""]
[{"$f":"B3097&C3097","v":""}]
[""]
[""]
[""]
[""]
[""]
[""]
[""]
[""]
[""]
[""]
[""]
[""]
[""]
[""]
[""]
[""]
[""]
[""]
[""]
[""]
[""]
[""]
[""]
[""]
[""]
[""]
[""]
[""]
[""]
[""]
[""]
[""]
[""]
[""]
[""]
[""]
[""]
[""]
[""]
[""]
[""]
[""]
[""]
[""]
[""]
[""]
[""]
[""]
[""]
[""]
[""]
[""]
[""]
[""]
[""]
[""]
[""]
[""]
[""]
[""]
[""]
[""]
[""]
[{"$f":"B3161&C3161","v":""}]
[""]
[""]
[""]
[""]
[""]
[""]
[""]
[""]
[""]
[""]
[""]
[""]
[""]
[""]
[""]
[""]
[""]
[""]
[""]
[""]
[""]
[""]
[""]
[""]
[""]
[""]
[""]
[""]
[""]
[""]
[""]
[""]
[""]
[""]
[""]
[""]
[""]
[""]
[""]
[""]
[""]
[""]
[""]
[""]
[""]
[""]
[""]
[""]
[""]
[""]
[""]
[""]
[""]
[""]
[""]
[""]
[""]
[""]
[""]
[""]
[""]
[""]
[""]
[{"$f":"B3225&C3225","v":""}]
[""]
[""]
[""]
[""]
[""]
[""]
[""]
[""]
[""]
[""]
[""]
[""]
[""]
[""]
[""]
[""]
[""]
[""]
[""]
[""]
[""]
[""]
[""]
[""]
[""]
[""]
[""]
[""]
[""]
[""]
[""]
[""]
[""]
[""]
[""]
[""]
[""]
[""]
[""]
[""]
[""]
[""]
[""]
[""]
[""]
[""]
[""]
[""]
[""]
[""]
[""]
[""]
[""]
[""]
[""]
[""]
[""]
[""]
[""]
[""]
[""]
[""]
[""]
[{"$f":"B3289&C3289","v":""}]
[""]
[""]
[""]
[""]
[""]
[""]
[""]
[""]
[""]
[""]
[""]
[""]
[""]
[""]
[""]
[""]
[""]
[""]
[""]
[""]
[""]
[""]
[""]
[""]
[""]
[""]
[""]
[""]
[""]
[""]
[""]
[""]
[""]
[""]
[""]
[""]
[""]
[""]
[""]
[""]
[""]
[""]
[""]
[""]
[""]
[""]
[""]
[""]
[""]
[""]
[""]
[""]
[""]
[""]
[""]
[""]
[""]
[""]
[""]
[""]
[""]
[""]
[""]
[{"$f":"B3353&C3353","v":""}]
[""]
[""]
[""]
[""]
[""]
[""]
[""]
[""]
[""]
[""]
[""]
[""]
[""]
[""]
[""]
[""]
[""]
[""]
[""]
[""]
[""]
[""]
[""]
[""]
[""]
[""]
[""]
[""]
[""]
[""]
[""]
[""]
[""]
[""]
[""]
[""]
[""]
[""]
[""]
[""]
[""]
[""]
[""]
[""]
[""]
[""]
[""]
[""]
[""]
[""]
[""]
[""]
[""]
[""]
[""]
[""]
[""]
[""]
[""]
[""]
[""]
[""]
[""]
[{"$f":"B3417&C3417","v":""}]
[""]
[""]
[""]
[""]
[""]
[""]
[""]
[""]
[""]
[""]
[""]
[""]
[""]
[""]
[""]
[""]
[""]
[""]
[""]
[""]
[""]
[""]
[""]
[""]
[""]
[""]
[""]
[""]
[""]
[""]
[""]
[""]
[""]
[""]
[""]
[""]
[""]
[""]
[""]
[""]
[""]
[""]
[""]
[""]
[""]
[""]
[""]
[""]
[""]
[""]
[""]
[""]
[""]
[""]
[""]
[""]
[""]
[""]
[""]
[""]
[""]
[""]
[""]
[{"$f":"B3481&C3481","v":""}]
[""]
[""]
[""]
[""]
[""]
[""]
[""]
[""]
[""]
[""]
[""]
[""]
[""]
[""]
[""]
[""]
[""]
[""]
[""]
[""]
[""]
[""]
[""]
[""]
[""]
[""]
[""]
[""]
[""]
[""]
[""]
[""]
[""]
[""]
[""]
[""]
[""]
[""]
[""]
[""]
[""]
[""]
[""]
[""]
[""]
[""]
[""]
[""]
[""]
[""]
[""]
[""]
[""]
[""]
[""]
[""]
[""]
[""]
[""]
[""]
[""]
[""]
[""]
[{"$f":"B3545&C3545","v":""}]
[""]
[""]
[""]
[""]
[""]
[""]
[""]
[""]
[""]
[""]
[""]
[""]
[""]
[""]
[""]
[""]
[""]
[""]
[""]
[""]
[""]
[""]
[""]
[""]
[""]
[""]
[""]
[""]
[""]
[""]
[""]
[""]
[""]
[""]
[""]
[""]
[""]
[""]
[""]
[""]
[""]
[""]
[""]
[""]
[""]
[""]
[""]
[""]
[""]
[""]
[""]
[""]
[""]
[""]
[""]
[""]
[""]
[""]
[""]
[""]
[""]
[""]
[""]
[{"$f":"B3609&C3609","v":""}]
[""]
[""]
[""]
[""]
[""]
[""]
[""]
[""]
[""]
[""]
[""]
[""]
[""]
[""]
[""]
[""]
[""]
[""]
[""]
[""]
[""]
[""]
[""]
[""]
[""]
[""]
[""]
[""]
[""]
[""]
[""]
[""]
[""]
[""]
[""]
[""]
[""]
[""]
[""]
[""]
[""]
[""]
[""]
[""]
[""]
[""]
[""]
[""]
[""]
[""]
[""]
[""]
[""]
[""]
[""]
[""]
[""]
[""]
[""]
[""]
[""]
[""]
[""]
[{"$f":"B3673&C3673","v":""}]
[""]
[""]
[""]
[""]
[""]
[""]
[""]
[""]
[""]
[""]
[""]
[""]
[""]
[""]
[""]
[""]
[""]
[""]
[""]
[""]
[""]
[""]
[""]
[""]
[""]
[""]
[""]
[""]
[""]
[""]
[""]
[""]
[""]
[""]
[""]
[""]
[""]
[""]
[""]
[""]
[""]
[""]
[""]
[""]
[""]
[""]
[""]
[""]
[""]
[""]
[""]
[""]
[""]
[""]
[""]
[""]
[""]
[""]
[""]
[""]
[""]
[""]
[""]
[{"$f":"B3737&C3737","v":""}]
[""]
[""]
[""]
[""]
[""]
[""]
[""]
[""]
[""]
[""]
[""]
[""]
[""]
[""]
[""]
[""]
[""]
[""]
[""]
[""]
[""]
[""]
[""]
[""]
[""]
[""]
[""]
[""]
[""]
[""]
[""]
[""]
[""]
[""]
[""]
[""]
[""]
[""]
[""]
[""]
[""]
[""]
[""]
[""]
[""]
[""]
[""]
[""]
[""]
[""]
[""]
[""]
[""]
[""]
[""]
[""]
[""]
[""]
[""]
[""]
[""]
[""]
[""]
[{"$f":"B3801&C3801","v":""}]
[""]
[""]
[""]
[""]
[""]
[""]
[""]
[""]
[""]
[""]
[""]
[""]
[""]
[""]
[""]
[""]
[""]
[""]
[""]
[""]
[""]
[""]
[""]
[""]
[""]
[""]
[""]
[""]
[""]
[""]
[""]
[""]
[""]
[""]
[""]
[""]
[""]
[""]
[""]
[""]
[""]
[""]
[""]
[""]
[""]
[""]
[""]
[""]
[""]
[""]
[""]
[""]
[""]
[""]
[""]
[""]
[""]
[""]
[""]
[""]
[""]
[""]
[""]
[{"$f":"B3865&C3865","v":""}]
[""]
[""]
[""]
[""]
[""]
[""]
[""]
[""]
[""]
[""]
[""]
[""]
[""]
[""]
[""]
[""]
[""]
[""]
[""]
[""]
[""]
[""]
[""]
[""]
[""]
[""]
[""]
[""]
[""]
[""]
[""]
[""]
[""]
[""]
[""]
[""]
[""]
[""]
[""]
[""]
[""]
[""]
[""]
[""]
[""]
[""]
[""]
[""]
[""]
[""]
[""]
[""]
[""]
[""]
[""]
[""]
[""]
[""]
[""]
[""]
[""]
[""]
[""]
[{"$f":"B3929&C3929","v":""}]
[""]
[""]
[""]
[""]
[""]
[""]
[""]
[""]
[""]
[""]
[""]
[""]
[""]
[""]
[""]
[""]
[""]
[""]
[""]
[""]
[""]
[""]
[""]
[""]
[""]
[""]
[""]
[""]
[""]
[""]
[""]
[""]
[""]
[""]
[""]
[""]
[""]
[""]
[""]
[""]
[""]
[""]
[""]
[""]
[""]
[""]
[""]
[""]
[""]
[""]
[""]
[""]
[""]
[""]
[""]
[""]
[""]
[""]
[""]
[""]
[""]
[""]
[""]
[{"$f":"B3993&C3993","v":""}]
[""]
[""]
[""]
[""]
[""]
[""]
[""]

{"sheet":"Orders","index":4,"n_rows":494,"n_cols":4,"rows_kept":494,"cut":false,"hidden":false,"merged":[]}
["Number of days per time bucket",7,7,7]
["Product","Week1","Week2","Week3"]
["AB0329160",11050,11700,11317.800000000001]
["AB0513704",107.9,126.10000000000001,109.2]
["AB0635046",3282.5,2854.8,2882.1]
["AB0975463",345.8,575.9,423.8]
["AB1018910",3803.8,3164.2000000000003,3278.6]
["AB1305109",53.300000000000004,44.2,45.5]
["AB2092362",11499.800000000001,14016.6,11844.300000000001]
["AB2569538",2927.6,4875,3582.8]
["AB2665756",215.8,240.5,211.9]
["AB3534415",325,509.6,383.5]
["AB3839653",3032.9,2653.3,2670.2000000000003]
["AB4133650",345.8,426.40000000000003,358.8]
["AB4302436",4755.4000000000005,5158.4000000000005,4620.2]
["AB4952945",874.9,889.2,824.2]
["AB5677022",17885.400000000001,14771.9,15366]
["AB617476",20.8,32.5,24.7]
["AB6803301",335.40000000000003,551.20000000000005,406.90000000000003]
["AB6883086",94.9,157.30000000000001,117]
["AF2334989",157300,221759.2,169903.5]
["AF2797300",226.20000000000002,210.6,205.4]
["AF4224863",3663.4,5120.7,4058.6000000000004]
["AF4955974",7259.2,9631.7000000000007,7816.9000000000005]
["AF5847200",400.40000000000003,483.6,410.8]
["AL1492544",29095.3,49634,36128.300000000003]
["AL2661736",375.7,418.6,370.5]
["AO0324556",57.2,32.5,42.9]
["AO0414069",302.90000000000003,254.8,262.60000000000002]
["AO2105290",3728.4,2380.3000000000002,2899]
["AO4874959",2822.3,3897.4,3105.7000000000003]
["AO5342652",1151.8,724.1,890.5]
["AO5834357",3669.9,3036.8,3156.4]
["AO8517171",20.8,26,22.1]
["AO855133",1337.7,1298.7,1233.7]
["AP0171319",1329.9,1513.2,1323.4]
["AP0202155",7176,7616.7,6900.4000000000005]
["AP086256",10.4,15.600000000000001,11.700000000000001]
["AP242884",6905.6,8912.8000000000011,7328.1]
["AP3078837",854.1,639.6,705.9]
["AP352983",7940.4000000000005,6823.7,6936.8]
["AP3728500",2401.1,1449.5,1831.7]
["AP3951566",1300,887.9,1036.1000000000001]
["AP4223947",1882.4,1223.3,1472.9]
["AP4745289",85.8,141.70000000000002,104]
["AP4972828",10.4,13,10.4]
["AP5614262",63.7,48.1,53.300000000000004]
["AP5647883",6741.8,7759.7,6745.7]
["AP5897782",217.1,159.9,178.1]
["AP853615",651.30000000000007,868.4,703.30000000000007]
["AS0105077",2694.9,3017.3,2659.8]
["AS0125536",77730.900000000009,72160.400000000009,70240.3]
["AS0888075",5252,3326.7000000000003,4072.9]
["AS1143091",9945,11611.6,10020.4]
["AS5378181",578.5,934.7,696.80000000000007]
["AS6815735",15063.1,19188,15874.300000000001]
["BC1086722",1082.9000000000001,1417,1158.3]
["BC1381899",1082.9000000000001,1714.7,1287]
["BC1638233",456.3,713.7,539.5]
["BC2465775",2957.5,3892.2000000000003,3170.7000000000003]
["BC2509115",8652.8000000000011,10450.700000000001,8871.2000000000007]
["BC2965316",432.90000000000003,713.7,526.5]
["BC3857293",366.6,390,352.3]
["BC5752252",52,62.400000000000006,53.300000000000004]
["BC6306450",4787.9000000000005,3270.8,3816.8]
["CC0084549",9525.1,6383,7537.4000000000005]
["CC0189122",4680,5543.2,4750.2]
["CC0921636",29710.2,21994.7,24419.200000000001]
["CC092903",10.4,16.900000000000002,13]
["CC2454697",5808.4000000000005,4400.5,4817.8]
["CC2566445",16889.600000000002,17079.400000000001,15870.4]
["CC2575",62648.3,81100.5,66586]
["CC2936183",3900,3216.2000000000003,3348.8]
["CC2965217",29295.5,34915.4,29828.5]
["CC3609599",18876,38343.5,21476]
["CC3979402",3905.2000000000003,4264,3806.4]
["CC4329116",117020.8,88676.900000000009,97065.8]
["CC4618183",127246.6,201691.1,151314.80000000002]
["CC4774419",1354.6000000000001,1427.4,1298.7]
["CC4941594",1732.9,1375.4,1465.1000000000001]
["CC4945569",49822.5,65439.4,53363.700000000004]
["CC5387633",15393.300000000001,12000.300000000001,12914.2]
["CC5505924",75.400000000000006,106.60000000000001,84.5]
["CC5603244",2340,3324.1,2615.6]
["CC5605066",54667.6,66066,50957.4]
["CC5646794",2165.8000000000002,1640.6000000000001,1796.6000000000001]
["CC5671451",2762.5,2945.8,2662.4]
["CC5798817",8622.9,5774.6,6822.4000000000005]
["CC5805891",3032.9,1900.6000000000001,2342.6]
["CC5803851",14669.2,24849.5,18138.900000000001]
["CC5835642",10.4,6.5,9.1]
["CC5844379",11077.300000000001,8044.4000000000005,9036.3000000000011]
["CC5859307",605.80000000000007,581.1,556.4]
["CC5877145",1675.7,2368.6,1868.1000000000001]
["CC5872620",95162.6,144521,110416.8]
["CC5949597",11845.6,13192.4,11658.4]
["CC5951749",128.70000000000002,141.70000000000002,126.10000000000001]
["CC6069687",172.9,286,211.9]
["CC6146771",2875.6,3030.3,2754.7000000000003]
["CC642531",1385.8,945.1,1103.7]
["CC6514546",107.9,161.20000000000002,123.5]
["CL1528731",5370.3,6384.3,5461.3]
["CL4179003",20885.8,27354.600000000002,22886.5]
["CM2146129",1661.4,2657.2000000000003,1986.4]
["CM2144500",6932.9000000000005,11057.800000000001,8274.5]
["CM2364748",1426.1000000000001,1259.7,1261]
["CM2573429",31211.7,22811.100000000002,25524.2]
["CM267912",115.7,153.4,124.80000000000001]
["CM2981742",15.600000000000001,20.8,16.900000000000002]
["CM350886",13,6.5,9.1]
["CM3509051",9591.4,11904.1,9971]
["CM5648071",1055.6000000000001,1675.7,1255.8]
["CM5946003",13094.9,11021.4,11339.9]
["CM5947011",15689.7,9657.7000000000007,12044.5]
["CP2759269",8866,9885.2000000000007,8732.1]
["CP3651771",12678.9,16747.900000000001,13621.4]
["CP3782517",6982.3,6124.3,6154.2]
["CP5891290",172.9,141.70000000000002,148.20000000000002]
["CP5915175",568.1,616.20000000000005,552.5]
["CT0314214",56875,95626.7,70014.100000000006]
["CT0686710",2490.8000000000002,3781.7000000000003,2889.9]
["CT0911438",1840.8,1953.9,1770.6000000000001]
["CT1153413",3972.8,6085.3,4631.9000000000005]
["CT1195860",1732.9,2801.5,2083.9]
["CT1344126",10832.9,8486.4,9106.5]
["CT1427436",283.40000000000003,331.5,286]
["CT1422602",6093.1,7488,6302.4000000000005]
["CT1693771",13973.7,18470.400000000001,15017.6]
["CT2356543",4115.8,4786.6000000000004,4139.2]
["CT2727204",6845.8,4988.1000000000004,5592.6]
["CT2748008",692.9,512.20000000000005,569.4]
["CT2882108",147712.5,126293.7,128766.3]
["CT2899279",2165.8000000000002,2444,2146.3000000000002]
["CT2921184",17440.8,21563.100000000002,18096]
["CT2976643",1420.9,2243.8000000000002,1686.1000000000001]
["CT3251740",7312.5,8057.4000000000005,7159.1]
["CT3327591",22250.799999999999,36829,27137.5]
["CT3389630",1054.3,1730.3,1280.5]
["CT3513686",100.10000000000001,113.10000000000001,98.8]
["CT3676279",51902.5,53511.9,49218]
["CT3847465",134392.70000000001,103559.3,112222.5]
["CT3866790",88800.400000000009,93485.6,85046]
["CT4394015",31617.3,47378.5,29074.5]
["CT4485707",75.400000000000006,81.900000000000006,72.8]
["CT4625235",1602.9,2494.7000000000003,1886.3]
["CT4696984",8333,10176.4,8591.7000000000007]
["CT4766693",15554.5,23588.5,18033.600000000002]
["CT4972454",64127.700000000004,57613.4,57112.9]
["CT4983245",16640,15904.2,15234.7]
["CT4998062",540.80000000000007,474.5,477.1]
["CT5306052",312,301.60000000000002,287.3]
["CT5312249",10.4,14.3,11.700000000000001]
["CT5387974",10.4,6.5,7.8000000000000007]
["CT5424793",3333.2000000000003,2892.5,2923.7000000000003]
["CT54540",23678.2,25030.2,22721.4]
["CT5587547",123.5,102.7,106.60000000000001]
["CT5594793",1365,2130.7000000000003,1609.4]
["CT5668919",644.80000000000007,612.30000000000007,588.9]
["CT5745169",263.90000000000003,344.5,282.10000000000002]
["CT5745914",2057.9,2178.8000000000002,1977.3]
["CT5783436",35.1,42.9,36.4]
["CT5802839",1515.8,1955.2,1608.1000000000001]
["CT5819298",261.3,322.40000000000003,271.7]
["CT5829315",432.90000000000003,336.7,362.7]
["CT5869387",9349.6,13786.5,10669.1]
["CT588550",938.6,574.6,718.9]
["CT5885641",4505.8,3630.9,3832.4]
["CT593521",75630.100000000006,94032.900000000009,78699.400000000009]
["CT5932817",172.9,184.6,166.4]
["CT5982395",357.5,386.1,347.1]
["CT6358073",32.5,35.1,31.200000000000003]
["CT6438604",10.4,15.600000000000001,11.700000000000001]
["CT6445143",5838.3,8635.9,6674.2]
["CT823663",1407.9,1040,1155.7]
["DA2128864",5200,5652.4000000000005,5057]
["DA5685201",172.9,111.8,135.20000000000002]
["DP0098702",10112.700000000001,13036.4,10723.7]
["DP087138",39018.200000000004,56084.6,43893.200000000004]
["DP1792938",33878,48295,37936.6]
["DP2403779",11536.2,10297.300000000001,10245.300000000001]
["DP2404504",757.9,1283.1000000000001,937.30000000000007]
["DP4769417",2133.3000000000002,1770.6000000000001,1836.9]
["DP4764853",24584.3,26763.100000000002,23929.100000000002]
["DP5007199",52600.6,51070.5,48504.3]
["DP5383174",6390.8,6799,6151.6]
["DP5698799",1293.5,839.80000000000007,1012.7]
["DP5908334",46003.1,49315.5,44443.1]
["DP638679",123.5,80.600000000000009,97.5]
["FR0061274",93.600000000000009,89.7,85.8]
["FR009628",32643,51675,38789.4]
["FR0362571",18089.5,22215.7,18703.100000000002]
["FR0614261",2967.9,1994.2,2351.7000000000003]
["FR0622263",692.9,1017.9000000000001,789.1]
["FR066151",1783.6000000000001,3053.7000000000003,2219.1]
["FR0667973",2165.8000000000002,2376.4,2116.4]
["FR0679719",140.4,81.900000000000006,105.3]
["FR0696557",2407.6,4109.3,2991.3]
["FR0905418",3510,4635.8,3770]
["FR0919209",4378.4000000000005,2902.9,3451.5]
["FR0935436",152.1,244.4,183.3]
["FR1379592",1068.6000000000001,910,930.80000000000007]
["FR141742",107.9,154.70000000000002,120.9]
["FR1415438",2600,3142.1,2666.3]
["FR1452826",10.4,14.3,11.700000000000001]
["FR1615194",107.9,74.100000000000009,85.8]
["FR219333",185.9,126.10000000000001,148.20000000000002]
["FR2345868",2815.8,1696.5,2146.3000000000002]
["FR2492515",2600,2219.1,2264.6]
["FR2795111",215.8,243.1,214.5]
["FR2815273",32797.700000000004,50299.6,38268.1]
["FR2948803",852.80000000000007,913.9,824.2]
["FR317601",663,815.1,686.4]
["FR3359591",10.4,14.3,11.700000000000001]
["FR3467978",3227.9,3195.4,3003]
["FR3576193",4643.6000000000004,7280,5487.3]
["FR3597468",487.5,828.1,603.20000000000005]
["FR3659141",196.3,269.10000000000002,214.5]
["FR378786",14235,12105.6,12381.2]
["FR3966167",10.4,6.5,7.8000000000000007]
["FR3998413",650,1030.9000000000001,773.5]
["FR4374057",107.9,130,110.5]
["FR4526775",107.9,84.5,91]
["FR4539511",107.9,111.8,102.7]
["FR457233",443.3,646.1,503.1]
["FR4624850",3790.8,2467.4,2967.9]
["FR4897160",36.4,42.9,37.700000000000003]
["FR4954051",20.8,18.2,18.2]
["FR4965335",1690,2403.7000000000003,1890.2]
["FR5342502",2921.1,3472.3,2970.5]
["FR5371365",292.5,234,248.3]
["FR5384444",1895.4,2797.6,2164.5]
["FR5404360",10.4,16.900000000000002,13]
["FR5454864",595.4,685.1,595.4]
["FR5608301",20.8,26,22.1]
["FR5664727",215.8,223.6,205.4]
["FR5671746",1287,1990.3,1509.3]
["FR5682241",26,32.5,27.3]
["FR5684287",560.30000000000007,538.20000000000005,513.5]
["FR5744950",1037.4000000000001,1218.1000000000001,1047.8]
["FR5796610",3591.9,4101.5,3580.2000000000003]
["FR5894727",455,751.4,553.80000000000007]
["FR5931113",1878.5,2613,2074.8000000000002]
["FR5935871",2382.9,3380,2661.1]
["FR5969812",20638.8,36424.700000000004,42446.3]
["FR5979463",2425.8000000000002,2115.1,2133.3000000000002]
["FR5992952",4336.8,4959.5,4325.1000000000004]
["FR6818423",3825.9,5163.6000000000004,4158.7]
["GF0013491",540.80000000000007,651.30000000000007,553.80000000000007]
["GF0149565",2518.1,4078.1000000000004,3032.9]
["GF1114780",22.1,32.5,26]
["GF1349895",215.8,266.5,224.9]
["GF1438930",4115.8,3422.9,3546.4]
["GF368849",61.1,37.700000000000003,48.1]
["GF3811858",42.9,37.700000000000003,39]
["GF4305823",1110.2,1112.8,1040]
["GF498873",32.5,46.800000000000004,37.700000000000003]
["GF5598636",175.5,174.20000000000002,163.80000000000001]
["GF5747120",1385.8,1506.7,1348.1000000000001]
["GF586901",650,761.80000000000007,656.5]
["GF5886834",6607.9000000000005,4416.1000000000004,5223.4000000000005]
["GF5885097",46265.700000000004,61535.5,49887.5]
["GF5892823",1453.4,2217.8000000000002,1691.3]
["GF5942175",98.8,159.9,119.60000000000001]
["GF67655",9293.7000000000007,13067.6,10328.5]
["IP453302",260,393.90000000000003,301.60000000000002]
["IR1385574",172.9,195,171.6]
["IR539559",432.90000000000003,674.7,509.6]
["IR5796915",2600,2772.9,2505.1]
["IR6327281",172.9,114.4,136.5]
["MC3428427",215.8,136.5,167.70000000000002]
["MC3543546",2714.4,1834.3,2155.4]
["MC3717873",27365,43156.1,32445.4]
["MC4244977",14699.1,21509.8,16701.100000000002]
["MC4291921",540.80000000000007,612.30000000000007,536.9]
["MC4993575",20.8,26,22.1]
["MC4997628",138210.80000000002,177635.9,146338.4]
["MC5625753",24141,24603.8,22768.2]
["MC5663542",215.8,184.6,188.5]
["MC5823622",5502.9000000000005,7827.3,6155.5]
["MC594145",1315.6000000000001,1589.9,1349.4]
["ME8004536",3880.5,5608.2,4378.4000000000005]
["ME8004064",6500,5822.7,5781.1]
["ME8009107",4462.9000000000005,5369,4566.9000000000005]
["ME8007924",148.20000000000002,175.5,150.80000000000001]
["ME8082434",900.9,1293.5,1014]
["ME8115997",145.6,175.5,149.5]
["ME8144143",2155.4,2324.4,2087.8000000000002]
["ME81564",540.80000000000007,678.6,565.5]
["ME8164351",5543.2,4615,4777.5]
["ME8183059",16216.2,21574.799999999999,17488.900000000001]
["ME8182883",3485.3,2974.4,3035.5]
["ME8186457",1760.2,1206.4000000000001,1404]
["ME8183894",24380.2,31591.3,25925.9]
["ME8203838",13765.7,11664.9,11954.800000000001]
["ME8216708",4680,7256.6,5495.1]
["ME8212034",1472.9,1561.3,1415.7]
["ME8219605",5370.3,8456.5,6362.2]
["ME8227923",145.6,222.3,169]
["ME8254069",650,793,669.5]
["ME8294469",7393.1,11878.1,8860.8000000000011]
["ME8314847",499.20000000000005,743.6,573.30000000000007]
["ME8808939",2583.1,3421.6,2779.4]
["ME8804901",55610.1,94378.7,68840.2]
["ME8809588",825.5,839.80000000000007,777.4]
["ME8846873",11160.5,10293.4,10056.800000000001]
["ME8876987",468,343.2,383.5]
["MP8004078",19831.5,13236.6,15671.5]
["MP8026858",42030.3,41453.1,39039]
["MP8061520",29539.9,44226,33998.9]
["MP8104858",41795,99866,28600]
["MP8109471",2470,3516.5,2763.8]
["MP8189416",38155,27492.400000000001,31031]
["MR0869382",270.40000000000003,184.6,215.8]
["MT0524796",2290.6,3532.1,2681.9]
["MT458935",3601,4880.2,3923.4]
["MT4603768",85.8,54.6,66.3]
["NU0449734",29877.9,39215.800000000003,31989.100000000002]
["NU0799419",85.8,97.5,85.8]
["NU0913559",3978,5743.4000000000005,4486.3]
["NU1662490",107.9,114.4,104]
["NU1816428",14565.2,16186.300000000001,14319.5]
["NU2694528",215.8,319.8,247]
["NU2703355",4798.3,8174.4000000000005,5952.7]
["NU2754771",4875,7463.3,5682.3]
["NU290431",4165.2,7061.6,5153.2]
["NU3608271",1267.5,1047.8,1089.4000000000001]
["NU3708683",2715.7000000000003,4455.1000000000004,3295.5]
["NU3827246",1229.8,1588.6000000000001,1306.5]
["NU3927324",3428.1,5505.5,4108]
["NU4893598",107.9,124.80000000000001,109.2]
["NU5305035",126.10000000000001,161.20000000000002,133.9]
["NU5785654",205.4,150.80000000000001,169]
["OX5859021",18.2,31.200000000000003,23.400000000000002]
["OX5851901",42.9,72.8,53.300000000000004]
["RC146190",1840.8,3077.1,2259.4]
["RC4928508",87.100000000000009,144.30000000000001,106.60000000000001]
["RM0095773",2840.5,3476.2000000000003,2931.5]
["RM1193363",10.4,14.3,11.700000000000001]
["RM12722",46.800000000000004,72.8,54.6]
["RM2364622",3352.7000000000003,3246.1,3087.5]
["RM4669200",20.8,33.800000000000004,24.7]
["RM4667709",4387.5,5616,4635.8]
["RM4695168",2193.1,3376.1,2564.9]
["RM4934415",292.5,252.20000000000002,256.10000000000002]
["RM5456028",215.8,137.80000000000001,167.70000000000002]
["RM56355",157977.30000000002,97887.400000000009,121548.7]
["RM5696783",48.1,70.2,54.6]
["RM5699820",7671.3,5908.5,6405.1]
["RM5986206",1574.3,1400.1000000000001,1396.2]
["RM6463347",1719.9,2405,1905.8]
["RT2524952",9968.4,7482.8,8238.1]
["RT2601597",800.80000000000007,1184.3,915.2]
["RT2887016",32669,47912.800000000003,37165.700000000004]
["RT3164824",100167.6,143856.70000000001,112630.7]
["SB0191101",98.8,59.800000000000004,75.400000000000006]
["SB0898923",1014,785.2,848.9]
["SB1429502",2148.9,3173.3,2454.4]
["SB2162364",70.2,113.10000000000001,84.5]
["SB3338674",16.900000000000002,18.2,16.900000000000002]
["SB4985987",166.4,167.70000000000002,156]
["SB585933",80.600000000000009,132.6,98.8]
["SB6619702",11035.7,10975.9,10290.800000000001]
["SB6782689",2865.2000000000003,3380,2901.6]
["SB6851891",3330.6,5158.4000000000005,3909.1]
["SB6883672",4803.5,2769,3606.2000000000003]
["SB699340",2414.1,3263,2626]
["SL035245",975,627.9,760.5]
["SL04371",1852.5,2538.9,2030.6000000000001]
["SL0454342",20.8,31.200000000000003,24.7]
["SL0979997",11692.2,15769,12702.300000000001]
["SL0973907",930.80000000000007,1439.1000000000001,1092]
["SL1205692",1150.5,1537.9,1244.1000000000001]
["SL1739082",390,523.9,422.5]
["SL1814144",1570.4,2094.3000000000002,1695.2]
["SL2223216",10.4,7.8000000000000007,9.1]
["SL4542202",6932.9000000000005,11079.9,8283.6]
["SL6923987",11547.9,11895,10946]
["SL6949404",520,488.8,471.90000000000003]
["SS0108",1310.4000000000001,1466.4,1292.2]
["ST0044507",9720.1,10315.5,9344.4]
["ST0248243",400.40000000000003,409.5,378.3]
["ST0249290",107.9,157.30000000000001,122.2]
["ST086120",3208.4,4750.2,3669.9]
["ST0904669",2600,2259.4,2282.8000000000002]
["ST1025440",5855.2,8214.7000000000007,6498.7]
["ST1444632",6662.5,10657.4,7965.1]
["ST1661696",692.9,815.1,700.7]
["ST269903",3936.4,5911.1,4538.3]
["ST3078513",842.4,1107.6000000000001,902.2]
["ST3795473",1716,1764.1000000000001,1625]
["ST3859207",952.9,1211.6000000000001,1003.6]
["ST5444150",2197,1560,1777.1000000000001]
["ST5622830",297.7,315.90000000000003,286]
["ST5775560",144.30000000000001,140.4,132.6]
["ST5866857",244.4,360.1,278.2]
["ST5905549",10116.6,10771.800000000001,9742.2000000000007]
["UV0008455",1515.8,2546.7000000000003,1865.5]
["UV0002089",184.6,211.9,184.6]
["UV0122500",37.700000000000003,54.6,42.9]
["UV0167578",2437.5,3480.1,2731.3]
["UV0185671",2275,1986.4,2000.7]
["UV0432519",172.9,284.7,210.6]
["UV0436753",760.5,678.6,674.7]
["UV046672",5892.9000000000005,8248.5,6532.5]
["UV0685993",390,323.7,335.40000000000003]
["UV0787788",3768.7000000000003,4431.7,3811.6]
["UV0787562",1826.5,2427.1,1968.2]
["UV0831317",2220.4,1727.7,1861.6000000000001]
["UV091154",2421.9,1729,1963]
["UV0924680",9532.9,14082.9,10890.1]
["UV1106642",276.90000000000003,436.8,328.90000000000003]
["UV1121941",29584.100000000002,45275.1,34477.300000000003]
["UV1187156",664.30000000000007,652.6,616.20000000000005]
["UV120727",1027,1290.9000000000001,1075.1000000000001]
["UV133670",22185.8,19113.900000000001,19403.8]
["UV1394884",1125.8,1168.7,1071.2]
["UV1585237",725.4,470.6,566.80000000000007]
["UV1723988",36.4,20.8,27.3]
["UV2189115",24005.8,31349.5,25633.4]
["UV2195087",8320,14071.2,10277.800000000001]
["UV2198207",1840.8,2606.5,2054]
["UV2213161",4160,3134.3,3442.4]
["UV2285856",432.90000000000003,306.8,349.7]
["UV2374219",8427.9,6714.5,7133.1]
["UV2452537",4234.1000000000004,3681.6,3718]
["UV250174",2198.3000000000002,2380.3000000000002,2134.6]
["UV251396",1982.5,2814.5,2215.2000000000003]
["UV252791",6305,8512.4,6853.6]
["UV2535805",9532.9,12372.1,10146.5]
["UV2636450",106.60000000000001,183.3,133.9]
["UV2781330",911.30000000000007,1131,947.7]
["UV2805946",345.8,546,410.8]
["UV2985514",692.9,546,585]
["UV3281153",25260.3,26124.799999999999,23988.9]
["UV3287428",1385.8,2200.9,1649.7]
["UV3439245",1820,2581.8000000000002,2031.9]
["UV3533088",273,200.20000000000002,223.6]
["UV3595016",2512.9,4001.4,2996.5]
["UV3633599",8664.5,8725.6,8126.3]
["UV3728968",825.5,1093.3,887.9]
["UV385351",1119.3,1600.3,1255.8]
["UV3942188",4262.7,3081,3471]
["UV4094667",20372.3,13258.7,15951]
["UV4105152",85.8,97.5,85.8]
["UV4173990",2194.4,1726.4,1847.3]
["UV4289343",314.60000000000002,343.2,306.8]
["UV4665563",3915.6,6683.3,4864.6000000000004]
["UV4787798",325,471.90000000000003,367.90000000000003]
["UV4917026",7727.2,10955.1,8626.8000000000011]
["UV4926151",1040,611,785.2]
["UV495822",605.80000000000007,773.5,639.6]
["UV5313868",12747.800000000001,17108,13812.5]
["UV5311573",172.9,273,205.4]
["UV5362907",1592.5,941.2,1205.1000000000001]
["UV5366748",920.4,755.30000000000007,789.1]
["UV5379200",4322.5,3217.5,3560.7000000000003]
["UV5416692",422.5,655.20000000000005,496.6]
["UV5473062",757.9,873.6,759.2]
["UV5494145",552.5,390,445.90000000000003]
["UV5555407",1775.8,2926.3,2160.6]
["UV562824",2770.3,3961.1,3108.3]
["UV5677822",520,374.40000000000003,422.5]
["UV5685234",93.600000000000009,83.2,83.2]
["UV5689814",10.4,7.8000000000000007,9.1]
["UV5762734",677.30000000000007,899.6,729.30000000000007]
["UV579433",535.6,551.20000000000005,507]
["UV5815295",331.5,234,267.8]
["UV5813627",516.1,863.2,633.1]
["UV588115",10.4,5.2,7.8000000000000007]
["UV5924094",3191.5,3113.5,2949.7000000000003]
["UV5928329",400.40000000000003,620.1,470.6]
["UV5947578",1999.4,2588.3000000000002,2125.5]
["UV5956413",2061.8000000000002,2964,2319.2000000000003]
["UV5951712",865.80000000000007,1263.6000000000001,982.80000000000007]
["UV6238373",70.2,96.2,76.7]
["UV6241191",7280,11741.6,8745.1]
["UV6252256",42.9,37.700000000000003,37.700000000000003]
["UV631601",1385.8,1920.1000000000001,1527.5]
["UV6411805",21720.400000000001,22291.100000000002,20551.7]
["UV6937295",72.8,111.8,85.8]
["UV8505006",6526,9012.9,7181.2]
["UV8538779",2107.3000000000002,2548,2161.9]
["VE8008533",20.8,24.7,22.1]
["VE8096041",1082.9000000000001,699.4,845]
["VE8166035",6065.8,7248.8,6185.4000000000005]
["VE8168353",8232.9,10402.6,8639.8000000000011]
["VE8207633",1082.9000000000001,950.30000000000007,954.2]
["Z00307730",585,638.30000000000007,569.4]
["ZD1446821",1015.3000000000001,872.30000000000007,887.9]
["ZD1471989",1755,2772.9,2082.6]
["ZD173254",9100,14453.4,10834.2]
["ZD2443045",22100,32737.9,25283.7]
["VE8109961",5827.9000000000005,6423.3,5707]
["VE5219409",479.7,544.70000000000005,477.1]

{"sheet":"Tools avail","index":5,"n_rows":22,"n_cols":4,"rows_kept":22,"cut":false,"hidden":false,"merged":[]}
["Available time (in hours) per time bucket",{"$f":"6*24","v":144},{"$f":"6*24","v":144},{"$f":"6*24","v":144}]
[{"$f":"Tools!A1","v":"Tools"},{"$f":"Orders!B2","v":"Week1"},{"$f":"Orders!C2","v":"Week2"},{"$f":"Orders!D2","v":"Week3"}]
[{"$f":"Tools!A2","v":"Tool 01"},{"$f":"$B$1*Tools!B2","v":113.03833359465742},{"$f":"$C$1*Tools!B2","v":113.03833359465742},{"$f":"$D$1*Tools!B2","v":113.03833359465742}]
[{"$f":"Tools!A3","v":"Tool 02"},{"$f":"$B$1*Tools!B3","v":201.6},{"$f":"$C$1*Tools!B3","v":201.6},{"$f":"$D$1*Tools!B3","v":201.6}]
[{"$f":"Tools!A4","v":"Tool 03"},{"$f":"$B$1*Tools!B4","v":93.035556157718133},{"$f":"$C$1*Tools!B4","v":93.035556157718133},{"$f":"$D$1*Tools!B4","v":93.035556157718133}]
[{"$f":"Tools!A5","v":"Tool 04"},{"$f":"$B$1*Tools!B5","v":98.907223195232163},{"$f":"$C$1*Tools!B5","v":98.907223195232163},{"$f":"$D$1*Tools!B5","v":98.907223195232163}]
[{"$f":"Tools!A6","v":"Tool 05"},{"$f":"$B$1*Tools!B6","v":113.03833359465742},{"$f":"$C$1*Tools!B6","v":113.03833359465742},{"$f":"$D$1*Tools!B6","v":113.03833359465742}]
[{"$f":"Tools!A7","v":"Tool 06"},{"$f":"$B$1*Tools!B7","v":96.175555578102873},{"$f":"$C$1*Tools!B7","v":96.175555578102873},{"$f":"$D$1*Tools!B7","v":96.175555578102873}]
[{"$f":"Tools!A8","v":"Tool 07"},{"$f":"$B$1*Tools!B8","v":89.369444911279587},{"$f":"$C$1*Tools!B8","v":89.369444911279587},{"$f":"$D$1*Tools!B8","v":89.369444911279587}]
[{"$f":"Tools!A9","v":"Tool 08"},{"$f":"$B$1*Tools!B9","v":172.79999999999998},{"$f":"$C$1*Tools!B9","v":172.79999999999998},{"$f":"$D$1*Tools!B9","v":172.79999999999998}]
[{"$f":"Tools!A10","v":"Tool 09"},{"$f":"$B$1*Tools!B10","v":114.11944470758037},{"$f":"$C$1*Tools!B10","v":114.11944470758037},{"$f":"$D$1*Tools!B10","v":114.11944470758037}]
[{"$f":"Tools!A11","v":"Tool 10"},{"$f":"$B$1*Tools!B11","v":116.93611140378215},{"$f":"$C$1*Tools!B11","v":116.93611140378215},{"$f":"$D$1*Tools!B11","v":116.93611140378215}]
[{"$f":"Tools!A12","v":"Tool 11"},{"$f":"$B$1*Tools!B12","v":89.722778185121172},{"$f":"$C$1*Tools!B12","v":89.722778185121172},{"$f":"$D$1*Tools!B12","v":89.722778185121172}]
[{"$f":"Tools!A13","v":"Tool 12"},{"$f":"$B$1*Tools!B13","v":92.911111279938282},{"$f":"$C$1*Tools!B13","v":92.911111279938282},{"$f":"$D$1*Tools!B13","v":92.911111279938282}]
[{"$f":"Tools!A14","v":"Tool 13"},{"$f":"$B$1*Tools!B14","v":73.972777856166431},{"$f":"$C$1*Tools!B14","v":73.972777856166431},{"$f":"$D$1*Tools!B14","v":73.972777856166431}]
[{"$f":"Tools!A15","v":"Tool 14"},{"$f":"$B$1*Tools!B15","v":96.32281679380651},{"$f":"$C$1*Tools!B15","v":96.32281679380651},{"$f":"$D$1*Tools!B15","v":96.32281679380651}]
[{"$f":"Tools!A16","v":"Tool 15"},{"$f":"$B$1*Tools!B16","v":86.927777808743585},{"$f":"$C$1*Tools!B16","v":86.927777808743585},{"$f":"$D$1*Tools!B16","v":86.927777808743585}]
[{"$f":"Tools!A17","v":"Tool 16"},{"$f":"$B$1*Tools!B17","v":97.623333331616507},{"$f":"$C$1*Tools!B17","v":97.623333331616507},{"$f":"$D$1*Tools!B17","v":97.623333331616507}]
[{"$f":"Tools!A18","v":"Tool 17"},{"$f":"$B$1*Tools!B18","v":101.92342917086003},{"$f":"$C$1*Tools!B18","v":101.92342917086003},{"$f":"$D$1*Tools!B18","v":101.92342917086003}]
[{"$f":"Tools!A19","v":"Tool 18"},{"$f":"$B$1*Tools!B19","v":118.67765369647718},{"$f":"$C$1*Tools!B19","v":118.67765369647718},{"$f":"$D$1*Tools!B19","v":118.67765369647718}]
[{"$f":"Tools!A20","v":"Tool 19"},{"$f":"$B$1*Tools!B20","v":116.59222244773457},{"$f":"$C$1*Tools!B20","v":116.59222244773457},{"$f":"$D$1*Tools!B20","v":116.59222244773457}]
[{"$f":"Tools!A21","v":"Tool 20"},{"$f":"$B$1*Tools!B21","v":116.59222244773457},{"$f":"$C$1*Tools!B21","v":116.59222244773457},{"$f":"$D$1*Tools!B21","v":116.59222244773457}]

{"sheet":"Tool time needed per product","index":6,"n_rows":1500,"n_cols":6,"rows_kept":1500,"cut":false,"hidden":false,"merged":[]}
[{"$f":"Orders!A2","v":"Product"},"Tool","UPH",{"$f":"Orders!B2","v":"Week1"},{"$f":"Orders!C2","v":"Week2"},{"$f":"Orders!D2","v":"Week3"}]
[{"$f":"Orders!A3","v":"AB0329160"},{"$f":"VLOOKUP(A2,'Product-tool'!A:E,2,0)","v":"Tool 10"},{"$f":"VLOOKUP(A2&B2,'Standard output'!A:D,4,0)","v":1553},{"$f":"Orders!B3/$C2","v":7.1152607855763037},{"$f":"Orders!C3/$C2","v":7.5338055376690276},{"$f":"Orders!D3/$C2","v":7.287701223438507}]
[{"$f":"Orders!A4","v":"AB0513704"},{"$f":"VLOOKUP(A3,'Product-tool'!A:E,2,0)","v":"Tool 10"},{"$f":"VLOOKUP(A3&B3,'Standard output'!A:D,4,0)","v":1646},{"$f":"Orders!B4/$C3","v":6.5552855407047389E-2},{"$f":"Orders!C4/$C3","v":7.6609963547995139E-2},{"$f":"Orders!D4/$C3","v":6.6342648845686511E-2}]
[{"$f":"Orders!A5","v":"AB0635046"},{"$f":"VLOOKUP(A4,'Product-tool'!A:E,2,0)","v":"Tool 10"},{"$f":"VLOOKUP(A4&B4,'Standard output'!A:D,4,0)","v":1628},{"$f":"Orders!B5/$C4","v":2.0162776412776413},{"$f":"Orders!C5/$C4","v":1.7535626535626536},{"$f":"Orders!D5/$C4","v":1.7703316953316952}]
[{"$f":"Orders!A6","v":"AB0975463"},{"$f":"VLOOKUP(A5,'Product-tool'!A:E,2,0)","v":"Tool 09"},{"$f":"VLOOKUP(A5&B5,'Standard output'!A:D,4,0)","v":491},{"$f":"Orders!B6/$C5","v":0.70427698574338082},{"$f":"Orders!C6/$C5","v":1.1729124236252546},{"$f":"Orders!D6/$C5","v":0.86313645621181267}]
[{"$f":"Orders!A7","v":"AB1018910"},{"$f":"VLOOKUP(A6,'Product-tool'!A:E,2,0)","v":"Tool 10"},{"$f":"VLOOKUP(A6&B6,'Standard output'!A:D,4,0)","v":1608},{"$f":"Orders!B7/$C6","v":2.365547263681592},{"$f":"Orders!C7/$C6","v":1.9677860696517415},{"$f":"Orders!D7/$C6","v":2.0389303482587064}]
[{"$f":"Orders!A8","v":"AB1305109"},{"$f":"VLOOKUP(A7,'Product-tool'!A:E,2,0)","v":"Tool 04"},{"$f":"VLOOKUP(A7&B7,'Standard output'!A:D,4,0)","v":2272},{"$f":"Orders!B8/$C7","v":2.3459507042253525E-2},{"$f":"Orders!C8/$C7","v":1.9454225352112678E-2},{"$f":"Orders!D8/$C7","v":2.0026408450704226E-2}]
[{"$f":"Orders!A9","v":"AB2092362"},{"$f":"VLOOKUP(A8,'Product-tool'!A:E,2,0)","v":"Tool 10"},{"$f":"VLOOKUP(A8&B8,'Standard output'!A:D,4,0)","v":1631},{"$f":"Orders!B9/$C8","v":7.0507664009809936},{"$f":"Orders!C9/$C8","v":8.5938687921520547},{"$f":"Orders!D9/$C8","v":7.2619865113427355}]
[{"$f":"Orders!A10","v":"AB2569538"},{"$f":"VLOOKUP(A9,'Product-tool'!A:E,2,0)","v":"Tool 10"},{"$f":"VLOOKUP(A9&B9,'Standard output'!A:D,4,0)","v":1616},{"$f":"Orders!B10/$C9","v":1.8116336633663366},{"$f":"Orders!C10/$C9","v":3.0167079207920793},{"$f":"Orders!D10/$C9","v":2.2170792079207922}]
[{"$f":"Orders!A11","v":"AB2665756"},{"$f":"VLOOKUP(A10,'Product-tool'!A:E,2,0)","v":"Tool 06"},{"$f":"VLOOKUP(A10&B10,'Standard output'!A:D,4,0)","v":5847},{"$f":"Orders!B11/$C10","v":3.6907815974003763E-2},{"$f":"Orders!C11/$C10","v":4.1132204549341543E-2},{"$f":"Orders!D11/$C10","v":3.6240807251582012E-2}]
[{"$f":"Orders!A12","v":"AB3534415"},{"$f":"VLOOKUP(A11,'Product-tool'!A:E,2,0)","v":"Tool 05"},{"$f":"VLOOKUP(A11&B11,'Standard output'!A:D,4,0)","v":1214},{"$f":"Orders!B12/$C11","v":0.26771004942339371},{"$f":"Orders!C12/$C11","v":0.4197693574958814},{"$f":"Orders!D12/$C11","v":0.3158978583196046}]
[{"$f":"Orders!A13","v":"AB3839653"},{"$f":"VLOOKUP(A12,'Product-tool'!A:E,2,0)","v":"Tool 10"},{"$f":"VLOOKUP(A12&B12,'Standard output'!A:D,4,0)","v":1581},{"$f":"Orders!B13/$C12","v":1.9183428209993676},{"$f":"Orders!C13/$C12","v":1.6782416192283367},{"$f":"Orders!D13/$C12","v":1.6889310562934854}]
[{"$f":"Orders!A14","v":"AB4133650"},{"$f":"VLOOKUP(A13,'Product-tool'!A:E,2,0)","v":"Tool 04"},{"$f":"VLOOKUP(A13&B13,'Standard output'!A:D,4,0)","v":2242},{"$f":"Orders!B14/$C13","v":0.15423728813559323},{"$f":"Orders!C14/$C13","v":0.19018733273862623},{"$f":"Orders!D14/$C13","v":0.16003568242640501}]
[{"$f":"Orders!A15","v":"AB4302436"},{"$f":"VLOOKUP(A14,'Product-tool'!A:E,2,0)","v":"Tool 10"},{"$f":"VLOOKUP(A14&B14,'Standard output'!A:D,4,0)","v":1560},{"$f":"Orders!B15/$C14","v":3.0483333333333338},{"$f":"Orders!C15/$C14","v":3.3066666666666671},{"$f":"Orders!D15/$C14","v":2.9616666666666664}]
[{"$f":"Orders!A16","v":"AB4952945"},{"$f":"VLOOKUP(A15,'Product-tool'!A:E,2,0)","v":"Tool 16"},{"$f":"VLOOKUP(A15&B15,'Standard output'!A:D,4,0)","v":6802},{"$f":"Orders!B16/$C15","v":0.12862393413701853},{"$f":"Orders!C16/$C15","v":0.13072625698324022},{"$f":"Orders!D16/$C15","v":0.12117024404586887}]
[{"$f":"Orders!A17","v":"AB5677022"},{"$f":"VLOOKUP(A16,'Product-tool'!A:E,2,0)","v":"Tool 07"},{"$f":"VLOOKUP(A16&B16,'Standard output'!A:D,4,0)","v":6488},{"$f":"Orders!B17/$C16","v":2.7566892725030829},{"$f":"Orders!C17/$C16","v":2.2768033292231813},{"$f":"Orders!D17/$C16","v":2.3683723797780516}]
[{"$f":"Orders!A18","v":"AB617476"},{"$f":"VLOOKUP(A17,'Product-tool'!A:E,2,0)","v":"Tool 18"},{"$f":"VLOOKUP(A17&B17,'Standard output'!A:D,4,0)","v":2875},{"$f":"Orders!B18/$C17","v":7.2347826086956524E-3},{"$f":"Orders!C18/$C17","v":1.1304347826086957E-2},{"$f":"Orders!D18/$C17","v":8.5913043478260866E-3}]
[{"$f":"Orders!A19","v":"AB6803301"},{"$f":"VLOOKUP(A18,'Product-tool'!A:E,2,0)","v":"Tool 04"},{"$f":"VLOOKUP(A18&B18,'Standard output'!A:D,4,0)","v":2277},{"$f":"Orders!B19/$C18","v":0.14729907773386036},{"$f":"Orders!C19/$C18","v":0.24207290294246819},{"$f":"Orders!D19/$C18","v":0.17870004391743524}]
[{"$f":"Orders!A20","v":"AB6883086"},{"$f":"VLOOKUP(A19,'Product-tool'!A:E,2,0)","v":"Tool 09"},{"$f":"VLOOKUP(A19&B19,'Standard output'!A:D,4,0)","v":554},{"$f":"Orders!B20/$C19","v":0.17129963898916969},{"$f":"Orders!C20/$C19","v":0.28393501805054155},{"$f":"Orders!D20/$C19","v":0.21119133574007221}]
[{"$f":"Orders!A21","v":"AF2334989"},{"$f":"VLOOKUP(A20,'Product-tool'!A:E,2,0)","v":"Tool 17"},{"$f":"VLOOKUP(A20&B20,'Standard output'!A:D,4,0)","v":6837},{"$f":"Orders!B21/$C20","v":23.007166886061139},{"$f":"Orders!C21/$C20","v":32.435161620593831},{"$f":"Orders!D21/$C20","v":24.850592365072401}]
[{"$f":"Orders!A22","v":"AF2797300"},{"$f":"VLOOKUP(A21,'Product-tool'!A:E,2,0)","v":"Tool 09"},{"$f":"VLOOKUP(A21&B21,'Standard output'!A:D,4,0)","v":538},{"$f":"Orders!B22/$C21","v":0.42044609665427513},{"$f":"Orders!C22/$C21","v":0.39144981412639407},{"$f":"Orders!D22/$C21","v":0.3817843866171004}]
[{"$f":"Orders!A23","v":"AF4224863"},{"$f":"VLOOKUP(A22,'Product-tool'!A:E,2,0)","v":"Tool 09"},{"$f":"VLOOKUP(A22&B22,'Standard output'!A:D,4,0)","v":579},{"$f":"Orders!B23/$C22","v":6.3271157167530223},{"$f":"Orders!C23/$C22","v":8.8440414507772012},{"$f":"Orders!D23/$C22","v":7.0096718480138174}]
[{"$f":"Orders!A24","v":"AF4955974"},{"$f":"VLOOKUP(A23,'Product-tool'!A:E,2,0)","v":"Tool 09"},{"$f":"VLOOKUP(A23&B23,'Standard output'!A:D,4,0)","v":505},{"$f":"Orders!B24/$C23","v":14.374653465346535},{"$f":"Orders!C24/$C23","v":19.072673267326735},{"$f":"Orders!D24/$C23","v":15.4790099009901}]
[{"$f":"Orders!A25","v":"AF5847200"},{"$f":"VLOOKUP(A24,'Product-tool'!A:E,2,0)","v":"Tool 15"},{"$f":"VLOOKUP(A24&B24,'Standard output'!A:D,4,0)","v":4457},{"$f":"Orders!B25/$C24","v":8.9836212699124979E-2},{"$f":"Orders!C25/$C24","v":0.10850347767556653},{"$f":"Orders!D25/$C24","v":9.2169620821180173E-2}]
[{"$f":"Orders!A26","v":"AL1492544"},{"$f":"VLOOKUP(A25,'Product-tool'!A:E,2,0)","v":"Tool 06"},{"$f":"VLOOKUP(A25&B25,'Standard output'!A:D,4,0)","v":5884},{"$f":"Orders!B26/$C25","v":4.9448164513936099},{"$f":"Orders!C26/$C25","v":8.4354180829367778},{"$f":"Orders!D26/$C25","v":6.1400917743031957}]
[{"$f":"Orders!A27","v":"AL2661736"},{"$f":"VLOOKUP(A26,'Product-tool'!A:E,2,0)","v":"Tool 15"},{"$f":"VLOOKUP(A26&B26,'Standard output'!A:D,4,0)","v":4446},{"$f":"Orders!B27/$C26","v":8.4502923976608191E-2},{"$f":"Orders!C27/$C26","v":9.4152046783625737E-2},{"$f":"Orders!D27/$C26","v":8.3333333333333329E-2}]
[{"$f":"Orders!A28","v":"AO0324556"},{"$f":"VLOOKUP(A27,'Product-tool'!A:E,2,0)","v":"Tool 16"},{"$f":"VLOOKUP(A27&B27,'Standard output'!A:D,4,0)","v":6866},{"$f":"Orders!B28/$C27","v":8.3309059131954563E-3},{"$f":"Orders!C28/$C27","v":4.7334692688610546E-3},{"$f":"Orders!D28/$C27","v":6.2481794348965914E-3}]
[{"$f":"Orders!A29","v":"AO0414069"},{"$f":"VLOOKUP(A28,'Product-tool'!A:E,2,0)","v":"Tool 02"},{"$f":"VLOOKUP(A28&B28,'Standard output'!A:D,4,0)","v":2673},{"$f":"Orders!B29/$C28","v":0.11331836887392444},{"$f":"Orders!C29/$C28","v":9.5323606434717545E-2},{"$f":"Orders!D29/$C28","v":9.82416760194538E-2}]
[{"$f":"Orders!A30","v":"AO2105290"},{"$f":"VLOOKUP(A29,'Product-tool'!A:E,2,0)","v":"Tool 15"},{"$f":"VLOOKUP(A29&B29,'Standard output'!A:D,4,0)","v":4418},{"$f":"Orders!B30/$C29","v":0.84391127206880945},{"$f":"Orders!C30/$C29","v":0.5387732005432323},{"$f":"Orders!D30/$C29","v":0.65617926663648707}]
[{"$f":"Orders!A31","v":"AO4874959"},{"$f":"VLOOKUP(A30,'Product-tool'!A:E,2,0)","v":"Tool 18"},{"$f":"VLOOKUP(A30&B30,'Standard output'!A:D,4,0)","v":2881},{"$f":"Orders!B31/$C30","v":0.9796251301631379},{"$f":"Orders!C31/$C30","v":1.3527941686914267},{"$f":"Orders!D31/$C30","v":1.0779937521693856}]
[{"$f":"Orders!A32","v":"AO5342652"},{"$f":"VLOOKUP(A31,'Product-tool'!A:E,2,0)","v":"Tool 07"},{"$f":"VLOOKUP(A31&B31,'Standard output'!A:D,4,0)","v":6408},{"$f":"Orders!B32/$C31","v":0.17974406991260924},{"$f":"Orders!C32/$C31","v":0.11299937578027466},{"$f":"Orders!D32/$C31","v":0.1389669163545568}]
[{"$f":"Orders!A33","v":"AO5834357"},{"$f":"VLOOKUP(A32,'Product-tool'!A:E,2,0)","v":"Tool 15"},{"$f":"VLOOKUP(A32&B32,'Standard output'!A:D,4,0)","v":4429},{"$f":"Orders!B33/$C32","v":0.82860690900880563},{"$f":"Orders!C33/$C32","v":0.68566267780537371},{"$f":"Orders!D33/$C32","v":0.71266651614359899}]
[{"$f":"Orders!A34","v":"AO8517171"},{"$f":"VLOOKUP(A33,'Product-tool'!A:E,2,0)","v":"Tool 14"},{"$f":"VLOOKUP(A33&B33,'Standard output'!A:D,4,0)","v":2377},{"$f":"Orders!B34/$C33","v":8.7505258729490953E-3},{"$f":"Orders!C34/$C33","v":1.093815734118637E-2},{"$f":"Orders!D34/$C33","v":9.2974337400084147E-3}]
[{"$f":"Orders!A35","v":"AO855133"},{"$f":"VLOOKUP(A34,'Product-tool'!A:E,2,0)","v":"Tool 07"},{"$f":"VLOOKUP(A34&B34,'Standard output'!A:D,4,0)","v":6471},{"$f":"Orders!B35/$C34","v":0.20672229949003246},{"$f":"Orders!C35/$C34","v":0.20069541029207233},{"$f":"Orders!D35/$C34","v":0.19065059496213879}]
[{"$f":"Orders!A36","v":"AP0171319"},{"$f":"VLOOKUP(A35,'Product-tool'!A:E,2,0)","v":"Tool 07"},{"$f":"VLOOKUP(A35&B35,'Standard output'!A:D,4,0)","v":6492},{"$f":"Orders!B36/$C35","v":0.20485212569316083},{"$f":"Orders!C36/$C35","v":0.23308687615526802},{"$f":"Orders!D36/$C35","v":0.2038508934072705}]
[{"$f":"Orders!A37","v":"AP0202155"},{"$f":"VLOOKUP(A36,'Product-tool'!A:E,2,0)","v":"Tool 15"},{"$f":"VLOOKUP(A36&B36,'Standard output'!A:D,4,0)","v":4426},{"$f":"Orders!B37/$C36","v":1.6213285133303208},{"$f":"Orders!C37/$C36","v":1.7208992318120198},{"$f":"Orders!D37/$C36","v":1.5590600994125623}]
[{"$f":"Orders!A38","v":"AP086256"},{"$f":"VLOOKUP(A37,'Product-tool'!A:E,2,0)","v":"Tool 07"},{"$f":"VLOOKUP(A37&B37,'Standard output'!A:D,4,0)","v":6448},{"$f":"Orders!B38/$C37","v":1.6129032258064516E-3},{"$f":"Orders!C38/$C37","v":2.4193548387096775E-3},{"$f":"Orders!D38/$C37","v":1.8145161290322581E-3}]
[{"$f":"Orders!A39","v":"AP242884"},{"$f":"VLOOKUP(A38,'Product-tool'!A:E,2,0)","v":"Tool 16"},{"$f":"VLOOKUP(A38&B38,'Standard output'!A:D,4,0)","v":6871},{"$f":"Orders!B39/$C38","v":1.0050356571095911},{"$f":"Orders!C39/$C38","v":1.2971619851549994},{"$f":"Orders!D39/$C38","v":1.0665259787512735}]
[{"$f":"Orders!A40","v":"AP3078837"},{"$f":"VLOOKUP(A39,'Product-tool'!A:E,2,0)","v":"Tool 07"},{"$f":"VLOOKUP(A39&B39,'Standard output'!A:D,4,0)","v":6438},{"$f":"Orders!B40/$C39","v":0.13266542404473439},{"$f":"Orders!C40/$C39","v":9.9347623485554523E-2},{"$f":"Orders!D40/$C39","v":0.10964585274930103}]
[{"$f":"Orders!A41","v":"AP352983"},{"$f":"VLOOKUP(A40,'Product-tool'!A:E,2,0)","v":"Tool 17"},{"$f":"VLOOKUP(A40&B40,'Standard output'!A:D,4,0)","v":6884},{"$f":"Orders!B41/$C40","v":1.1534572922719351},{"$f":"Orders!C41/$C40","v":0.99124055781522369},{"$f":"Orders!D41/$C40","v":1.0076699593259733}]
[{"$f":"Orders!A42","v":"AP3728500"},{"$f":"VLOOKUP(A41,'Product-tool'!A:E,2,0)","v":"Tool 02"},{"$f":"VLOOKUP(A41&B41,'Standard output'!A:D,4,0)","v":2647},{"$f":"Orders!B42/$C41","v":0.90710238005289001},{"$f":"Orders!C42/$C41","v":0.54760105780128443},{"$f":"Orders!D42/$C41","v":0.69199093313184734}]
[{"$f":"Orders!A43","v":"AP3951566"},{"$f":"VLOOKUP(A42,'Product-tool'!A:E,2,0)","v":"Tool 02"},{"$f":"VLOOKUP(A42&B42,'Standard output'!A:D,4,0)","v":2668},{"$f":"Orders!B43/$C42","v":0.48725637181409298},{"$f":"Orders!C43/$C42","v":0.33279610194902548},{"$f":"Orders!D43/$C42","v":0.38834332833583213}]
[{"$f":"Orders!A44","v":"AP4223947"},{"$f":"VLOOKUP(A43,'Product-tool'!A:E,2,0)","v":"Tool 02"},{"$f":"VLOOKUP(A43&B43,'Standard output'!A:D,4,0)","v":2623},{"$f":"Orders!B44/$C43","v":0.71765154403354936},{"$f":"Orders!C44/$C43","v":0.466374380480366},{"$f":"Orders!D44/$C43","v":0.56153259626382013}]
[{"$f":"Orders!A45","v":"AP4745289"},{"$f":"VLOOKUP(A44,'Product-tool'!A:E,2,0)","v":"Tool 02"},{"$f":"VLOOKUP(A44&B44,'Standard output'!A:D,4,0)","v":2609},{"$f":"Orders!B45/$C44","v":3.2886163280950557E-2},{"$f":"Orders!C45/$C44","v":5.4311996933691077E-2},{"$f":"Orders!D45/$C44","v":3.9862016098121886E-2}]
[{"$f":"Orders!A46","v":"AP4972828"},{"$f":"VLOOKUP(A45,'Product-tool'!A:E,2,0)","v":"Tool 07"},{"$f":"VLOOKUP(A45&B45,'Standard output'!A:D,4,0)","v":6498},{"$f":"Orders!B46/$C45","v":1.600492459218221E-3},{"$f":"Orders!C46/$C45","v":2.0006155740227762E-3},{"$f":"Orders!D46/$C45","v":1.600492459218221E-3}]
[{"$f":"Orders!A47","v":"AP5614262"},{"$f":"VLOOKUP(A46,'Product-tool'!A:E,2,0)","v":"Tool 07"},{"$f":"VLOOKUP(A46&B46,'Standard output'!A:D,4,0)","v":6484},{"$f":"Orders!B47/$C46","v":9.824182603331278E-3},{"$f":"Orders!C47/$C46","v":7.4182603331276993E-3},{"$f":"Orders!D47/$C46","v":8.2202344231955583E-3}]
[{"$f":"Orders!A48","v":"AP5647883"},{"$f":"VLOOKUP(A47,'Product-tool'!A:E,2,0)","v":"Tool 15"},{"$f":"VLOOKUP(A47&B47,'Standard output'!A:D,4,0)","v":4419},{"$f":"Orders!B48/$C47","v":1.5256392849060874},{"$f":"Orders!C48/$C47","v":1.7559855170853134},{"$f":"Orders!D48/$C47","v":1.5265218375198009}]
[{"$f":"Orders!A49","v":"AP5897782"},{"$f":"VLOOKUP(A48,'Product-tool'!A:E,2,0)","v":"Tool 07"},{"$f":"VLOOKUP(A48&B48,'Standard output'!A:D,4,0)","v":6452},{"$f":"Orders!B49/$C48","v":3.3648481091134531E-2},{"$f":"Orders!C49/$C48","v":2.4783013019218848E-2},{"$f":"Orders!D49/$C48","v":2.7603843769373838E-2}]
[{"$f":"Orders!A50","v":"AP853615"},{"$f":"VLOOKUP(A49,'Product-tool'!A:E,2,0)","v":"Tool 13"},{"$f":"VLOOKUP(A49&B49,'Standard output'!A:D,4,0)","v":2423},{"$f":"Orders!B50/$C49","v":0.26879900949236485},{"$f":"Orders!C50/$C49","v":0.35839867932315311},{"$f":"Orders!D50/$C49","v":0.29026000825423032}]
[{"$f":"Orders!A51","v":"AS0105077"},{"$f":"VLOOKUP(A50,'Product-tool'!A:E,2,0)","v":"Tool 12"},{"$f":"VLOOKUP(A50&B50,'Standard output'!A:D,4,0)","v":4006},{"$f":"Orders!B51/$C50","v":0.67271592611083375},{"$f":"Orders!C51/$C50","v":0.75319520718921618},{"$f":"Orders!D51/$C50","v":0.66395406889665509}]
[{"$f":"Orders!A52","v":"AS0125536"},{"$f":"VLOOKUP(A51,'Product-tool'!A:E,2,0)","v":"Tool 05"},{"$f":"VLOOKUP(A51&B51,'Standard output'!A:D,4,0)","v":1237},{"$f":"Orders!B52/$C51","v":62.838237671786587},{"$f":"Orders!C52/$C51","v":58.335004042037191},{"$f":"Orders!D52/$C51","v":56.782780921584482}]
[{"$f":"Orders!A53","v":"AS0888075"},{"$f":"VLOOKUP(A52,'Product-tool'!A:E,2,0)","v":"Tool 13"},{"$f":"VLOOKUP(A52&B52,'Standard output'!A:D,4,0)","v":2458},{"$f":"Orders!B53/$C52","v":2.1366965012205044},{"$f":"Orders!C53/$C52","v":1.3534174125305127},{"$f":"Orders!D53/$C52","v":1.6569975589910497}]
[{"$f":"Orders!A54","v":"AS1143091"},{"$f":"VLOOKUP(A53,'Product-tool'!A:E,2,0)","v":"Tool 05"},{"$f":"VLOOKUP(A53&B53,'Standard output'!A:D,4,0)","v":1269},{"$f":"Orders!B54/$C53","v":7.8368794326241131},{"$f":"Orders!C54/$C53","v":9.150197005516155},{"$f":"Orders!D54/$C53","v":7.8962962962962964}]
[{"$f":"Orders!A55","v":"AS5378181"},{"$f":"VLOOKUP(A54,'Product-tool'!A:E,2,0)","v":"Tool 13"},{"$f":"VLOOKUP(A54&B54,'Standard output'!A:D,4,0)","v":2493},{"$f":"Orders!B55/$C54","v":0.23204973926995587},{"$f":"Orders!C55/$C54","v":0.37492980344965904},{"$f":"Orders!D55/$C54","v":0.27950260730044124}]
[{"$f":"Orders!A56","v":"AS6815735"},{"$f":"VLOOKUP(A55,'Product-tool'!A:E,2,0)","v":"Tool 06"},{"$f":"VLOOKUP(A55&B55,'Standard output'!A:D,4,0)","v":5827},{"$f":"Orders!B56/$C55","v":2.5850523425433329},{"$f":"Orders!C56/$C55","v":3.2929466277672903},{"$f":"Orders!D56/$C55","v":2.7242663463188608}]
[{"$f":"Orders!A57","v":"BC1086722"},{"$f":"VLOOKUP(A56,'Product-tool'!A:E,2,0)","v":"Tool 06"},{"$f":"VLOOKUP(A56&B56,'Standard output'!A:D,4,0)","v":5805},{"$f":"Orders!B57/$C56","v":0.18654608096468564},{"$f":"Orders!C57/$C56","v":0.24409991386735572},{"$f":"Orders!D57/$C56","v":0.19953488372093023}]
[{"$f":"Orders!A58","v":"BC1381899"},{"$f":"VLOOKUP(A57,'Product-tool'!A:E,2,0)","v":"Tool 06"},{"$f":"VLOOKUP(A57&B57,'Standard output'!A:D,4,0)","v":5808},{"$f":"Orders!B58/$C57","v":0.18644972451790634},{"$f":"Orders!C58/$C57","v":0.29523071625344355},{"$f":"Orders!D58/$C57","v":0.22159090909090909}]
[{"$f":"Orders!A59","v":"BC1638233"},{"$f":"VLOOKUP(A58,'Product-tool'!A:E,2,0)","v":"Tool 06"},{"$f":"VLOOKUP(A58&B58,'Standard output'!A:D,4,0)","v":5837},{"$f":"Orders!B59/$C58","v":7.817371937639199E-2},{"$f":"Orders!C59/$C58","v":0.12227171492204901},{"$f":"Orders!D59/$C58","v":9.2427616926503336E-2}]
[{"$f":"Orders!A60","v":"BC2465775"},{"$f":"VLOOKUP(A59,'Product-tool'!A:E,2,0)","v":"Tool 06"},{"$f":"VLOOKUP(A59&B59,'Standard output'!A:D,4,0)","v":5873},{"$f":"Orders!B60/$C59","v":0.5035756853396901},{"$f":"Orders!C60/$C59","v":0.66272773710199218},{"$f":"Orders!D60/$C59","v":0.53987740507406778}]
[{"$f":"Orders!A61","v":"BC2509115"},{"$f":"VLOOKUP(A60,'Product-tool'!A:E,2,0)","v":"Tool 06"},{"$f":"VLOOKUP(A60&B60,'Standard output'!A:D,4,0)","v":5828},{"$f":"Orders!B61/$C60","v":1.4846945778997942},{"$f":"Orders!C61/$C60","v":1.7931880576527113},{"$f":"Orders!D61/$C60","v":1.5221688400823612}]
[{"$f":"Orders!A62","v":"BC2965316"},{"$f":"VLOOKUP(A61,'Product-tool'!A:E,2,0)","v":"Tool 06"},{"$f":"VLOOKUP(A61&B61,'Standard output'!A:D,4,0)","v":5864},{"$f":"Orders!B62/$C61","v":7.3823328785811743E-2},{"$f":"Orders!C62/$C61","v":0.12170873124147341},{"$f":"Orders!D62/$C61","v":8.9785129604365618E-2}]
[{"$f":"Orders!A63","v":"BC3857293"},{"$f":"VLOOKUP(A62,'Product-tool'!A:E,2,0)","v":"Tool 15"},{"$f":"VLOOKUP(A62&B62,'Standard output'!A:D,4,0)","v":4476},{"$f":"Orders!B63/$C62","v":8.1903485254691696E-2},{"$f":"Orders!C63/$C62","v":8.7131367292225204E-2},{"$f":"Orders!D63/$C62","v":7.8708668453976768E-2}]
[{"$f":"Orders!A64","v":"BC5752252"},{"$f":"VLOOKUP(A63,'Product-tool'!A:E,2,0)","v":"Tool 06"},{"$f":"VLOOKUP(A63&B63,'Standard output'!A:D,4,0)","v":5843},{"$f":"Orders!B64/$C63","v":8.8995379086085919E-3},{"$f":"Orders!C64/$C63","v":1.067944549033031E-2},{"$f":"Orders!D64/$C63","v":9.1220263563238074E-3}]
[{"$f":"Orders!A65","v":"BC6306450"},{"$f":"VLOOKUP(A64,'Product-tool'!A:E,2,0)","v":"Tool 05"},{"$f":"VLOOKUP(A64&B64,'Standard output'!A:D,4,0)","v":1249},{"$f":"Orders!B65/$C64","v":3.8333867093674945},{"$f":"Orders!C65/$C64","v":2.6187349879903925},{"$f":"Orders!D65/$C64","v":3.055884707766213}]
[{"$f":"Orders!A66","v":"CC0084549"},{"$f":"VLOOKUP(A65,'Product-tool'!A:E,2,0)","v":"Tool 12"},{"$f":"VLOOKUP(A65&B65,'Standard output'!A:D,4,0)","v":4031},{"$f":"Orders!B66/$C65","v":2.3629620441577774},{"$f":"Orders!C66/$C65","v":1.5834780451500867},{"$f":"Orders!D66/$C65","v":1.8698585958819154}]
[{"$f":"Orders!A67","v":"CC0189122"},{"$f":"VLOOKUP(A66,'Product-tool'!A:E,2,0)","v":"Tool 20"},{"$f":"VLOOKUP(A66&B66,'Standard output'!A:D,4,0)","v":7862.6422349005379},{"$f":"Orders!B67/$C66","v":0.5952197569446197},{"$f":"Orders!C67/$C66","v":0.70500473433662736},{"$f":"Orders!D67/$C66","v":0.60414805329878907}]
[{"$f":"Orders!A68","v":"CC0921636"},{"$f":"VLOOKUP(A67,'Product-tool'!A:E,2,0)","v":"Tool 20"},{"$f":"VLOOKUP(A67&B67,'Standard output'!A:D,4,0)","v":7933.6422349005379},{"$f":"Orders!B68/$C67","v":3.7448373798988768},{"$f":"Orders!C68/$C67","v":2.7723332296538503},{"$f":"Orders!D68/$C67","v":3.0779305742548573}]
[{"$f":"Orders!A69","v":"CC092903"},{"$f":"VLOOKUP(A68,'Product-tool'!A:E,2,0)","v":"Tool 20"},{"$f":"VLOOKUP(A68&B68,'Standard output'!A:D,4,0)","v":7930.6422349005379},{"$f":"Orders!B69/$C68","v":1.3113692046569079E-3},{"$f":"Orders!C69/$C68","v":2.1309749575674753E-3},{"$f":"Orders!D69/$C68","v":1.6392115058211348E-3}]
[{"$f":"Orders!A70","v":"CC2454697"},{"$f":"VLOOKUP(A69,'Product-tool'!A:E,2,0)","v":"Tool 20"},{"$f":"VLOOKUP(A69&B69,'Standard output'!A:D,4,0)","v":7849.6422349005379},{"$f":"Orders!B70/$C69","v":0.73995729055970128},{"$f":"Orders!C70/$C69","v":0.56059879779422306},{"$f":"Orders!D70/$C69","v":0.61376045631473874}]
[{"$f":"Orders!A71","v":"CC2566445"},{"$f":"VLOOKUP(A70,'Product-tool'!A:E,2,0)","v":"Tool 15"},{"$f":"VLOOKUP(A70&B70,'Standard output'!A:D,4,0)","v":4481},{"$f":"Orders!B71/$C70","v":3.7691586699397459},{"$f":"Orders!C71/$C70","v":3.8115152867663471},{"$f":"Orders!D71/$C70","v":3.5417094398571747}]
[{"$f":"Orders!A72","v":"CC2575"},{"$f":"VLOOKUP(A71,'Product-tool'!A:E,2,0)","v":"Tool 19"},{"$f":"VLOOKUP(A71&B71,'Standard output'!A:D,4,0)","v":10239},{"$f":"Orders!B72/$C71","v":6.1185955659732398},{"$f":"Orders!C72/$C71","v":7.92074421330208},{"$f":"Orders!D72/$C71","v":6.5031741380994239}]
[{"$f":"Orders!A73","v":"CC2936183"},{"$f":"VLOOKUP(A72,'Product-tool'!A:E,2,0)","v":"Tool 20"},{"$f":"VLOOKUP(A72&B72,'Standard output'!A:D,4,0)","v":7918.6422349005379},{"$f":"Orders!B73/$C72","v":0.49250867564279927},{"$f":"Orders!C73/$C72","v":0.40615548784676181},{"$f":"Orders!D73/$C72","v":0.42290078281861698}]
[{"$f":"Orders!A74","v":"CC2965217"},{"$f":"VLOOKUP(A73,'Product-tool'!A:E,2,0)","v":"Tool 20"},{"$f":"VLOOKUP(A73&B73,'Standard output'!A:D,4,0)","v":7927.6422349005379},{"$f":"Orders!B74/$C73","v":3.6953610079715649},{"$f":"Orders!C74/$C73","v":4.4042603040648007},{"$f":"Orders!D74/$C73","v":3.7625941126207034}]
[{"$f":"Orders!A75","v":"CC3609599"},{"$f":"VLOOKUP(A74,'Product-tool'!A:E,2,0)","v":"Tool 04"},{"$f":"VLOOKUP(A74&B74,'Standard output'!A:D,4,0)","v":2235},{"$f":"Orders!B75/$C74","v":8.4456375838926174},{"$f":"Orders!C75/$C74","v":17.155928411633109},{"$f":"Orders!D75/$C74","v":9.6089485458612973}]
[{"$f":"Orders!A76","v":"CC3979402"},{"$f":"VLOOKUP(A75,'Product-tool'!A:E,2,0)","v":"Tool 13"},{"$f":"VLOOKUP(A75&B75,'Standard output'!A:D,4,0)","v":2458},{"$f":"Orders!B76/$C75","v":1.5887713588283159},{"$f":"Orders!C76/$C75","v":1.7347436940602114},{"$f":"Orders!D76/$C75","v":1.5485760781122864}]
[{"$f":"Orders!A77","v":"CC4329116"},{"$f":"VLOOKUP(A76,'Product-tool'!A:E,2,0)","v":"Tool 19"},{"$f":"VLOOKUP(A76&B76,'Standard output'!A:D,4,0)","v":10217},{"$f":"Orders!B77/$C76","v":11.453538220612705},{"$f":"Orders!C77/$C76","v":8.6793481452481167},{"$f":"Orders!D77/$C76","v":9.5004208671821484}]
[{"$f":"Orders!A78","v":"CC4618183"},{"$f":"VLOOKUP(A77,'Product-tool'!A:E,2,0)","v":"Tool 18"},{"$f":"VLOOKUP(A77&B77,'Standard output'!A:D,4,0)","v":2806},{"$f":"Orders!B78/$C77","v":45.348039914468998},{"$f":"Orders!C78/$C77","v":71.878510334996434},{"$f":"Orders!D78/$C77","v":53.925445473984325}]
[{"$f":"Orders!A79","v":"CC4774419"},{"$f":"VLOOKUP(A78,'Product-tool'!A:E,2,0)","v":"Tool 12"},{"$f":"VLOOKUP(A78&B78,'Standard output'!A:D,4,0)","v":4021},{"$f":"Orders!B79/$C78","v":0.33688137279283764},{"$f":"Orders!C79/$C78","v":0.35498632181049494},{"$f":"Orders!D79/$C78","v":0.32297935836856506}]
[{"$f":"Orders!A80","v":"CC4941594"},{"$f":"VLOOKUP(A79,'Product-tool'!A:E,2,0)","v":"Tool 13"},{"$f":"VLOOKUP(A79&B79,'Standard output'!A:D,4,0)","v":2438},{"$f":"Orders!B80/$C79","v":0.71078753076292045},{"$f":"Orders!C80/$C79","v":0.5641509433962264},{"$f":"Orders!D80/$C79","v":0.60094339622641513}]
[{"$f":"Orders!A81","v":"CC4945569"},{"$f":"VLOOKUP(A80,'Product-tool'!A:E,2,0)","v":"Tool 04"},{"$f":"VLOOKUP(A80&B80,'Standard output'!A:D,4,0)","v":2261},{"$f":"Orders!B81/$C80","v":22.035603715170279},{"$f":"Orders!C81/$C80","v":28.942680229986731},{"$f":"Orders!D81/$C80","v":23.601813356921717}]
[{"$f":"Orders!A82","v":"CC5387633"},{"$f":"VLOOKUP(A81,'Product-tool'!A:E,2,0)","v":"Tool 04"},{"$f":"VLOOKUP(A81&B81,'Standard output'!A:D,4,0)","v":2248},{"$f":"Orders!B82/$C81","v":6.8475533807829185},{"$f":"Orders!C82/$C81","v":5.3382117437722423},{"$f":"Orders!D82/$C81","v":5.7447508896797155}]
[{"$f":"Orders!A83","v":"CC5505924"},{"$f":"VLOOKUP(A82,'Product-tool'!A:E,2,0)","v":"Tool 19"},{"$f":"VLOOKUP(A82&B82,'Standard output'!A:D,4,0)","v":10196},{"$f":"Orders!B83/$C82","v":7.3950568850529629E-3},{"$f":"Orders!C83/$C82","v":1.0455080423695568E-2},{"$f":"Orders!D83/$C82","v":8.2875637504903881E-3}]
[{"$f":"Orders!A84","v":"CC5603244"},{"$f":"VLOOKUP(A83,'Product-tool'!A:E,2,0)","v":"Tool 12"},{"$f":"VLOOKUP(A83&B83,'Standard output'!A:D,4,0)","v":4024},{"$f":"Orders!B84/$C83","v":0.58151093439363821},{"$f":"Orders!C84/$C83","v":0.82606858846918485},{"$f":"Orders!D84/$C83","v":0.65}]
[{"$f":"Orders!A85","v":"CC5605066"},{"$f":"VLOOKUP(A84,'Product-tool'!A:E,2,0)","v":"Tool 08"},{"$f":"VLOOKUP(A84&B84,'Standard output'!A:D,4,0)","v":3943},{"$f":"Orders!B85/$C84","v":13.864468678671063},{"$f":"Orders!C85/$C84","v":16.755262490489475},{"$f":"Orders!D85/$C84","v":12.92351001775298}]
[{"$f":"Orders!A86","v":"CC5646794"},{"$f":"VLOOKUP(A85,'Product-tool'!A:E,2,0)","v":"Tool 20"},{"$f":"VLOOKUP(A85&B85,'Standard output'!A:D,4,0)","v":7897.6422349005379},{"$f":"Orders!B86/$C85","v":0.27423374414570151},{"$f":"Orders!C86/$C85","v":0.20773288422081349},{"$f":"Orders!D86/$C85","v":0.22748561489157229}]
[{"$f":"Orders!A87","v":"CC5671451"},{"$f":"VLOOKUP(A86,'Product-tool'!A:E,2,0)","v":"Tool 19"},{"$f":"VLOOKUP(A86&B86,'Standard output'!A:D,4,0)","v":10198},{"$f":"Orders!B87/$C86","v":0.27088644832320063},{"$f":"Orders!C87/$C86","v":0.28886056089429302},{"$f":"Orders!D87/$C86","v":0.26107079819572465}]
[{"$f":"Orders!A88","v":"CC5798817"},{"$f":"VLOOKUP(A87,'Product-tool'!A:E,2,0)","v":"Tool 20"},{"$f":"VLOOKUP(A87&B87,'Standard output'!A:D,4,0)","v":7915.6422349005379},{"$f":"Orders!B88/$C87","v":1.0893493849407594},{"$f":"Orders!C88/$C87","v":0.7295175588582623},{"$f":"Orders!D88/$C87","v":0.86188837210449365}]
[{"$f":"Orders!A89","v":"CC5805891"},{"$f":"VLOOKUP(A88,'Product-tool'!A:E,2,0)","v":"Tool 04"},{"$f":"VLOOKUP(A88&B88,'Standard output'!A:D,4,0)","v":2308},{"$f":"Orders!B89/$C88","v":1.3140814558058926},{"$f":"Orders!C89/$C88","v":0.82348353552859621},{"$f":"Orders!D89/$C88","v":1.0149913344887347}]
[{"$f":"Orders!A90","v":"CC5803851"},{"$f":"VLOOKUP(A89,'Product-tool'!A:E,2,0)","v":"Tool 20"},{"$f":"VLOOKUP(A89&B89,'Standard output'!A:D,4,0)","v":7859.6422349005379},{"$f":"Orders!B90/$C89","v":1.8663953856400484},{"$f":"Orders!C90/$C89","v":3.1616579046888975},{"$f":"Orders!D90/$C89","v":2.3078531385887624}]
[{"$f":"Orders!A91","v":"CC5835642"},{"$f":"VLOOKUP(A90,'Product-tool'!A:E,2,0)","v":"Tool 12"},{"$f":"VLOOKUP(A90&B90,'Standard output'!A:D,4,0)","v":4039},{"$f":"Orders!B91/$C90","v":2.5748947759346372E-3},{"$f":"Orders!C91/$C90","v":1.6093092349591482E-3},{"$f":"Orders!D91/$C90","v":2.2530329289428075E-3}]
[{"$f":"Orders!A92","v":"CC5844379"},{"$f":"VLOOKUP(A91,'Product-tool'!A:E,2,0)","v":"Tool 13"},{"$f":"VLOOKUP(A91&B91,'Standard output'!A:D,4,0)","v":2483},{"$f":"Orders!B92/$C91","v":4.4612565445026187},{"$f":"Orders!C92/$C91","v":3.2397905759162304},{"$f":"Orders!D92/$C91","v":3.6392670157068068}]
[{"$f":"Orders!A93","v":"CC5859307"},{"$f":"VLOOKUP(A92,'Product-tool'!A:E,2,0)","v":"Tool 15"},{"$f":"VLOOKUP(A92&B92,'Standard output'!A:D,4,0)","v":4481},{"$f":"Orders!B93/$C92","v":0.13519303726846688},{"$f":"Orders!C93/$C92","v":0.12968087480473109},{"$f":"Orders!D93/$C92","v":0.1241687123409953}]
[{"$f":"Orders!A94","v":"CC5877145"},{"$f":"VLOOKUP(A93,'Product-tool'!A:E,2,0)","v":"Tool 12"},{"$f":"VLOOKUP(A93&B93,'Standard output'!A:D,4,0)","v":4037},{"$f":"Orders!B94/$C93","v":0.41508545949962844},{"$f":"Orders!C94/$C93","v":0.58672281397077031},{"$f":"Orders!D94/$C93","v":0.46274461233589304}]
[{"$f":"Orders!A95","v":"CC5872620"},{"$f":"VLOOKUP(A94,'Product-tool'!A:E,2,0)","v":"Tool 19"},{"$f":"VLOOKUP(A94&B94,'Standard output'!A:D,4,0)","v":10241},{"$f":"Orders!B95/$C94","v":9.2923152035934002},{"$f":"Orders!C95/$C94","v":14.112000781173714},{"$f":"Orders!D95/$C94","v":10.781837711161019}]
[{"$f":"Orders!A96","v":"CC5949597"},{"$f":"VLOOKUP(A95,'Product-tool'!A:E,2,0)","v":"Tool 15"},{"$f":"VLOOKUP(A95&B95,'Standard output'!A:D,4,0)","v":4434},{"$f":"Orders!B96/$C95","v":2.6715381145692376},{"$f":"Orders!C96/$C95","v":2.9752819124943617},{"$f":"Orders!D96/$C95","v":2.6293188994136218}]
[{"$f":"Orders!A97","v":"CC5951749"},{"$f":"VLOOKUP(A96,'Product-tool'!A:E,2,0)","v":"Tool 19"},{"$f":"VLOOKUP(A96&B96,'Standard output'!A:D,4,0)","v":10212},{"$f":"Orders!B97/$C96","v":1.2602820211515865E-2},{"$f":"Orders!C97/$C96","v":1.3875832354093225E-2},{"$f":"Orders!D97/$C96","v":1.2348217783000392E-2}]
[{"$f":"Orders!A98","v":"CC6069687"},{"$f":"VLOOKUP(A97,'Product-tool'!A:E,2,0)","v":"Tool 04"},{"$f":"VLOOKUP(A97&B97,'Standard output'!A:D,4,0)","v":2315},{"$f":"Orders!B98/$C97","v":7.4686825053995681E-2},{"$f":"Orders!C98/$C97","v":0.12354211663066955},{"$f":"Orders!D98/$C97","v":9.1533477321814258E-2}]
[{"$f":"Orders!A99","v":"CC6146771"},{"$f":"VLOOKUP(A98,'Product-tool'!A:E,2,0)","v":"Tool 19"},{"$f":"VLOOKUP(A98&B98,'Standard output'!A:D,4,0)","v":10189},{"$f":"Orders!B99/$C98","v":0.2822259299244283},{"$f":"Orders!C99/$C98","v":0.29740897045833742},{"$f":"Orders!D99/$C98","v":0.27036019236431447}]
[{"$f":"Orders!A100","v":"CC642531"},{"$f":"VLOOKUP(A99,'Product-tool'!A:E,2,0)","v":"Tool 19"},{"$f":"VLOOKUP(A99&B99,'Standard output'!A:D,4,0)","v":10186},{"$f":"Orders!B100/$C99","v":0.13604947967798939},{"$f":"Orders!C100/$C99","v":9.2784213626546236E-2},{"$f":"Orders!D100/$C99","v":0.10835460435892402}]
[{"$f":"Orders!A101","v":"CC6514546"},{"$f":"VLOOKUP(A100,'Product-tool'!A:E,2,0)","v":"Tool 15"},{"$f":"VLOOKUP(A100&B100,'Standard output'!A:D,4,0)","v":4404},{"$f":"Orders!B101/$C100","v":2.4500454132606722E-2},{"$f":"Orders!C101/$C100","v":3.660308810172571E-2},{"$f":"Orders!D101/$C100","v":2.804268846503179E-2}]
[{"$f":"Orders!A102","v":"CL1528731"},{"$f":"VLOOKUP(A101,'Product-tool'!A:E,2,0)","v":"Tool 15"},{"$f":"VLOOKUP(A101&B101,'Standard output'!A:D,4,0)","v":4477},{"$f":"Orders!B102/$C101","v":1.1995309358945723},{"$f":"Orders!C102/$C101","v":1.4260218896582533},{"$f":"Orders!D102/$C101","v":1.2198570471297745}]
[{"$f":"Orders!A103","v":"CL4179003"},{"$f":"VLOOKUP(A102,'Product-tool'!A:E,2,0)","v":"Tool 08"},{"$f":"VLOOKUP(A102&B102,'Standard output'!A:D,4,0)","v":4001},{"$f":"Orders!B103/$C102","v":5.2201449637590605},{"$f":"Orders!C103/$C102","v":6.8369407648087988},{"$f":"Orders!D103/$C102","v":5.7201949512621848}]
[{"$f":"Orders!A104","v":"CM2146129"},{"$f":"VLOOKUP(A103,'Product-tool'!A:E,2,0)","v":"Tool 08"},{"$f":"VLOOKUP(A103&B103,'Standard output'!A:D,4,0)","v":3935},{"$f":"Orders!B104/$C103","v":0.42221092757306228},{"$f":"Orders!C104/$C103","v":0.67527318932655667},{"$f":"Orders!D104/$C103","v":0.50480304955527322}]
[{"$f":"Orders!A105","v":"CM2144500"},{"$f":"VLOOKUP(A104,'Product-tool'!A:E,2,0)","v":"Tool 08"},{"$f":"VLOOKUP(A104&B104,'Standard output'!A:D,4,0)","v":3949},{"$f":"Orders!B105/$C104","v":1.7556090149404915},{"$f":"Orders!C105/$C104","v":2.8001519371992911},{"$f":"Orders!D105/$C104","v":2.0953405925550772}]
[{"$f":"Orders!A106","v":"CM2364748"},{"$f":"VLOOKUP(A105,'Product-tool'!A:E,2,0)","v":"Tool 04"},{"$f":"VLOOKUP(A105&B105,'Standard output'!A:D,4,0)","v":2234},{"$f":"Orders!B106/$C105","v":0.63836168307967778},{"$f":"Orders!C106/$C105","v":0.56387645478961501},{"$f":"Orders!D106/$C105","v":0.5644583706356312}]
[{"$f":"Orders!A107","v":"CM2573429"},{"$f":"VLOOKUP(A106,'Product-tool'!A:E,2,0)","v":"Tool 08"},{"$f":"VLOOKUP(A106&B106,'Standard output'!A:D,4,0)","v":3930},{"$f":"Orders!B107/$C106","v":7.9419083969465651},{"$f":"Orders!C107/$C106","v":5.8043511450381686},{"$f":"Orders!D107/$C106","v":6.4947073791348604}]
[{"$f":"Orders!A108","v":"CM267912"},{"$f":"VLOOKUP(A107,'Product-tool'!A:E,2,0)","v":"Tool 08"},{"$f":"VLOOKUP(A107&B107,'Standard output'!A:D,4,0)","v":3932},{"$f":"Orders!B108/$C107","v":2.9425228891149544E-2},{"$f":"Orders!C108/$C107","v":3.9013224821973551E-2},{"$f":"Orders!D108/$C107","v":3.1739572736520859E-2}]
[{"$f":"Orders!A109","v":"CM2981742"},{"$f":"VLOOKUP(A108,'Product-tool'!A:E,2,0)","v":"Tool 10"},{"$f":"VLOOKUP(A108&B108,'Standard output'!A:D,4,0)","v":1619},{"$f":"Orders!B109/$C108","v":9.6355775169857938E-3},{"$f":"Orders!C109/$C108","v":1.2847436689314392E-2},{"$f":"Orders!D109/$C108","v":1.0438542310067944E-2}]
[{"$f":"Orders!A110","v":"CM350886"},{"$f":"VLOOKUP(A109,'Product-tool'!A:E,2,0)","v":"Tool 08"},{"$f":"VLOOKUP(A109&B109,'Standard output'!A:D,4,0)","v":3937},{"$f":"Orders!B110/$C109","v":3.3020066040132081E-3},{"$f":"Orders!C110/$C109","v":1.651003302006604E-3},{"$f":"Orders!D110/$C109","v":2.3114046228092456E-3}]
[{"$f":"Orders!A111","v":"CM3509051"},{"$f":"VLOOKUP(A110,'Product-tool'!A:E,2,0)","v":"Tool 08"},{"$f":"VLOOKUP(A110&B110,'Standard output'!A:D,4,0)","v":3942},{"$f":"Orders!B111/$C110","v":2.4331303906646373},{"$f":"Orders!C111/$C110","v":3.019812278031456},{"$f":"Orders!D111/$C110","v":2.5294266869609334}]
[{"$f":"Orders!A112","v":"CM5648071"},{"$f":"VLOOKUP(A111,'Product-tool'!A:E,2,0)","v":"Tool 19"},{"$f":"VLOOKUP(A111&B111,'Standard output'!A:D,4,0)","v":10173},{"$f":"Orders!B112/$C111","v":0.10376486778728007},{"$f":"Orders!C112/$C111","v":0.16472033815000492},{"$f":"Orders!D112/$C111","v":0.1234444116779711}]
[{"$f":"Orders!A113","v":"CM5946003"},{"$f":"VLOOKUP(A112,'Product-tool'!A:E,2,0)","v":"Tool 19"},{"$f":"VLOOKUP(A112&B112,'Standard output'!A:D,4,0)","v":10242},{"$f":"Orders!B113/$C112","v":1.2785491115016598},{"$f":"Orders!C113/$C112","v":1.07609841827768},{"$f":"Orders!D113/$C112","v":1.1071958601835579}]
[{"$f":"Orders!A114","v":"CM5947011"},{"$f":"VLOOKUP(A113,'Product-tool'!A:E,2,0)","v":"Tool 04"},{"$f":"VLOOKUP(A113&B113,'Standard output'!A:D,4,0)","v":2298},{"$f":"Orders!B114/$C113","v":6.8275456919060051},{"$f":"Orders!C114/$C113","v":4.2026544821583993},{"$f":"Orders!D114/$C113","v":5.241296779808529}]
[{"$f":"Orders!A115","v":"CP2759269"},{"$f":"VLOOKUP(A114,'Product-tool'!A:E,2,0)","v":"Tool 09"},{"$f":"VLOOKUP(A114&B114,'Standard output'!A:D,4,0)","v":484},{"$f":"Orders!B115/$C114","v":18.318181818181817},{"$f":"Orders!C115/$C114","v":20.423966942148763},{"$f":"Orders!D115/$C114","v":18.041528925619836}]
[{"$f":"Orders!A116","v":"CP3651771"},{"$f":"VLOOKUP(A115,'Product-tool'!A:E,2,0)","v":"Tool 02"},{"$f":"VLOOKUP(A115&B115,'Standard output'!A:D,4,0)","v":2681},{"$f":"Orders!B116/$C115","v":4.7291682208131292},{"$f":"Orders!C116/$C115","v":6.2468854904886246},{"$f":"Orders!D116/$C115","v":5.0807161506900407}]
[{"$f":"Orders!A117","v":"CP3782517"},{"$f":"VLOOKUP(A116,'Product-tool'!A:E,2,0)","v":"Tool 16"},{"$f":"VLOOKUP(A116&B116,'Standard output'!A:D,4,0)","v":6861},{"$f":"Orders!B117/$C116","v":1.0176796385366564},{"$f":"Orders!C117/$C116","v":0.89262498178108152},{"$f":"Orders!D117/$C116","v":0.89698294709226056}]
[{"$f":"Orders!A118","v":"CP5891290"},{"$f":"VLOOKUP(A117,'Product-tool'!A:E,2,0)","v":"Tool 12"},{"$f":"VLOOKUP(A117&B117,'Standard output'!A:D,4,0)","v":4089},{"$f":"Orders!B118/$C117","v":4.2284177060405971E-2},{"$f":"Orders!C118/$C117","v":3.4653949620934217E-2},{"$f":"Orders!D118/$C117","v":3.6243580337490831E-2}]
[{"$f":"Orders!A119","v":"CP5915175"},{"$f":"VLOOKUP(A118,'Product-tool'!A:E,2,0)","v":"Tool 17"},{"$f":"VLOOKUP(A118&B118,'Standard output'!A:D,4,0)","v":6839},{"$f":"Orders!B119/$C118","v":8.3067699956133945E-2},{"$f":"Orders!C119/$C118","v":9.0100891943266564E-2},{"$f":"Orders!D119/$C118","v":8.0786664717063902E-2}]
[{"$f":"Orders!A120","v":"CT0314214"},{"$f":"VLOOKUP(A119,'Product-tool'!A:E,2,0)","v":"Tool 20"},{"$f":"VLOOKUP(A119&B119,'Standard output'!A:D,4,0)","v":7870.6422349005379},{"$f":"Orders!B120/$C119","v":7.2262209744207402},{"$f":"Orders!C120/$C119","v":12.149796312169491},{"$f":"Orders!D120/$C119","v":8.8956018975857791}]
[{"$f":"Orders!A121","v":"CT0686710"},{"$f":"VLOOKUP(A120,'Product-tool'!A:E,2,0)","v":"Tool 04"},{"$f":"VLOOKUP(A120&B120,'Standard output'!A:D,4,0)","v":2295},{"$f":"Orders!B121/$C120","v":1.0853159041394336},{"$f":"Orders!C121/$C120","v":1.6477995642701526},{"$f":"Orders!D121/$C120","v":1.2592156862745099}]
[{"$f":"Orders!A122","v":"CT0911438"},{"$f":"VLOOKUP(A121,'Product-tool'!A:E,2,0)","v":"Tool 13"},{"$f":"VLOOKUP(A121&B121,'Standard output'!A:D,4,0)","v":2444},{"$f":"Orders!B122/$C121","v":0.7531914893617021},{"$f":"Orders!C122/$C121","v":0.79946808510638301},{"$f":"Orders!D122/$C121","v":0.72446808510638305}]
[{"$f":"Orders!A123","v":"CT1153413"},{"$f":"VLOOKUP(A122,'Product-tool'!A:E,2,0)","v":"Tool 20"},{"$f":"VLOOKUP(A122&B122,'Standard output'!A:D,4,0)","v":7871.6422349005379},{"$f":"Orders!B123/$C122","v":0.50469773415079489},{"$f":"Orders!C123/$C122","v":0.77306613009158065},{"$f":"Orders!D123/$C122","v":0.58842867368432006}]
[{"$f":"Orders!A124","v":"CT1195860"},{"$f":"VLOOKUP(A123,'Product-tool'!A:E,2,0)","v":"Tool 19"},{"$f":"VLOOKUP(A123&B123,'Standard output'!A:D,4,0)","v":10244},{"$f":"Orders!B124/$C123","v":0.16916243654822335},{"$f":"Orders!C124/$C123","v":0.27347715736040606},{"$f":"Orders!D124/$C123","v":0.20342639593908629}]
[{"$f":"Orders!A125","v":"CT1344126"},{"$f":"VLOOKUP(A124,'Product-tool'!A:E,2,0)","v":"Tool 16"},{"$f":"VLOOKUP(A124&B124,'Standard output'!A:D,4,0)","v":6833},{"$f":"Orders!B125/$C124","v":1.5853797746231524},{"$f":"Orders!C125/$C124","v":1.2419727791599591},{"$f":"Orders!D125/$C124","v":1.3327235474901216}]
[{"$f":"Orders!A126","v":"CT1427436"},{"$f":"VLOOKUP(A125,'Product-tool'!A:E,2,0)","v":"Tool 16"},{"$f":"VLOOKUP(A125&B125,'Standard output'!A:D,4,0)","v":6841},{"$f":"Orders!B126/$C125","v":4.1426692004092977E-2},{"$f":"Orders!C126/$C125","v":4.8457827802952783E-2},{"$f":"Orders!D126/$C125","v":4.1806753398625933E-2}]
[{"$f":"Orders!A127","v":"CT1422602"},{"$f":"VLOOKUP(A126,'Product-tool'!A:E,2,0)","v":"Tool 13"},{"$f":"VLOOKUP(A126&B126,'Standard output'!A:D,4,0)","v":2401},{"$f":"Orders!B127/$C126","v":2.5377342773844234},{"$f":"Orders!C127/$C126","v":3.1187005414410662},{"$f":"Orders!D127/$C126","v":2.6249062890462311}]
[{"$f":"Orders!A128","v":"CT1693771"},{"$f":"VLOOKUP(A127,'Product-tool'!A:E,2,0)","v":"Tool 19"},{"$f":"VLOOKUP(A127&B127,'Standard output'!A:D,4,0)","v":10241},{"$f":"Orders!B128/$C127","v":1.3644858900497998},{"$f":"Orders!C128/$C127","v":1.8035738697392834},{"$f":"Orders!D128/$C127","v":1.4664192949907235}]
[{"$f":"Orders!A129","v":"CT2356543"},{"$f":"VLOOKUP(A128,'Product-tool'!A:E,2,0)","v":"Tool 18"},{"$f":"VLOOKUP(A128&B128,'Standard output'!A:D,4,0)","v":2829},{"$f":"Orders!B129/$C128","v":1.4548603746907034},{"$f":"Orders!C129/$C128","v":1.6919759632378935},{"$f":"Orders!D129/$C128","v":1.4631318487097913}]
[{"$f":"Orders!A130","v":"CT2727204"},{"$f":"VLOOKUP(A129,'Product-tool'!A:E,2,0)","v":"Tool 11"},{"$f":"VLOOKUP(A129&B129,'Standard output'!A:D,4,0)","v":2035},{"$f":"Orders!B130/$C129","v":3.364029484029484},{"$f":"Orders!C130/$C129","v":2.4511547911547913},{"$f":"Orders!D130/$C129","v":2.7482063882063885}]
[{"$f":"Orders!A131","v":"CT2748008"},{"$f":"VLOOKUP(A130,'Product-tool'!A:E,2,0)","v":"Tool 20"},{"$f":"VLOOKUP(A130&B130,'Standard output'!A:D,4,0)","v":7862.6422349005379},{"$f":"Orders!B131/$C130","v":8.812559179207842E-2},{"$f":"Orders!C131/$C130","v":6.5143495621161174E-2},{"$f":"Orders!D131/$C130","v":7.2418403761595404E-2}]
[{"$f":"Orders!A132","v":"CT2882108"},{"$f":"VLOOKUP(A131,'Product-tool'!A:E,2,0)","v":"Tool 19"},{"$f":"VLOOKUP(A131&B131,'Standard output'!A:D,4,0)","v":10248},{"$f":"Orders!B132/$C131","v":14.413788056206089},{"$f":"Orders!C132/$C131","v":12.323741217798595},{"$f":"Orders!D132/$C131","v":12.56501756440281}]
[{"$f":"Orders!A133","v":"CT2899279"},{"$f":"VLOOKUP(A132,'Product-tool'!A:E,2,0)","v":"Tool 11"},{"$f":"VLOOKUP(A132&B132,'Standard output'!A:D,4,0)","v":2121},{"$f":"Orders!B133/$C132","v":1.0211221122112213},{"$f":"Orders!C133/$C132","v":1.1522866572371522},{"$f":"Orders!D133/$C132","v":1.0119283356907121}]
[{"$f":"Orders!A134","v":"CT2921184"},{"$f":"VLOOKUP(A133,'Product-tool'!A:E,2,0)","v":"Tool 15"},{"$f":"VLOOKUP(A133&B133,'Standard output'!A:D,4,0)","v":4472},{"$f":"Orders!B134/$C133","v":3.9},{"$f":"Orders!C134/$C133","v":4.8218023255813955},{"$f":"Orders!D134/$C133","v":4.0465116279069768}]
[{"$f":"Orders!A135","v":"CT2976643"},{"$f":"VLOOKUP(A134,'Product-tool'!A:E,2,0)","v":"Tool 18"},{"$f":"VLOOKUP(A134&B134,'Standard output'!A:D,4,0)","v":2834},{"$f":"Orders!B135/$C134","v":0.5013761467889909},{"$f":"Orders!C135/$C134","v":0.79174311926605512},{"$f":"Orders!D135/$C134","v":0.59495412844036699}]
[{"$f":"Orders!A136","v":"CT3251740"},{"$f":"VLOOKUP(A135,'Product-tool'!A:E,2,0)","v":"Tool 18"},{"$f":"VLOOKUP(A135&B135,'Standard output'!A:D,4,0)","v":2887},{"$f":"Orders!B136/$C135","v":2.5329061309317629},{"$f":"Orders!C136/$C135","v":2.7909248354693457},{"$f":"Orders!D136/$C135","v":2.4797713889851059}]
[{"$f":"Orders!A137","v":"CT3327591"},{"$f":"VLOOKUP(A136,'Product-tool'!A:E,2,0)","v":"Tool 20"},{"$f":"VLOOKUP(A136&B136,'Standard output'!A:D,4,0)","v":7931.6422349005379},{"$f":"Orders!B137/$C136","v":2.805320681522018},{"$f":"Orders!C137/$C136","v":4.6433007073801571},{"$f":"Orders!D137/$C136","v":3.421422600302181}]
[{"$f":"Orders!A138","v":"CT3389630"},{"$f":"VLOOKUP(A137,'Product-tool'!A:E,2,0)","v":"Tool 03"},{"$f":"VLOOKUP(A137&B137,'Standard output'!A:D,4,0)","v":2447},{"$f":"Orders!B138/$C137","v":0.43085410706988148},{"$f":"Orders!C138/$C137","v":0.70711074785451566},{"$f":"Orders!D138/$C137","v":0.52329382917858602}]
[{"$f":"Orders!A139","v":"CT3513686"},{"$f":"VLOOKUP(A138,'Product-tool'!A:E,2,0)","v":"Tool 15"},{"$f":"VLOOKUP(A138&B138,'Standard output'!A:D,4,0)","v":4406},{"$f":"Orders!B139/$C138","v":2.2719019518837952E-2},{"$f":"Orders!C139/$C138","v":2.5669541534271451E-2},{"$f":"Orders!D139/$C138","v":2.2423967317294596E-2}]
[{"$f":"Orders!A140","v":"CT3676279"},{"$f":"VLOOKUP(A139,'Product-tool'!A:E,2,0)","v":"Tool 18"},{"$f":"VLOOKUP(A139&B139,'Standard output'!A:D,4,0)","v":2803},{"$f":"Orders!B140/$C139","v":18.516767748840529},{"$f":"Orders!C140/$C139","v":19.090938280413845},{"$f":"Orders!D140/$C139","v":17.559043881555475}]
[{"$f":"Orders!A141","v":"CT3847465"},{"$f":"VLOOKUP(A140,'Product-tool'!A:E,2,0)","v":"Tool 08"},{"$f":"VLOOKUP(A140&B140,'Standard output'!A:D,4,0)","v":3955},{"$f":"Orders!B141/$C140","v":33.980455120101141},{"$f":"Orders!C141/$C140","v":26.184399494310998},{"$f":"Orders!D141/$C140","v":28.374841972187106}]
[{"$f":"Orders!A142","v":"CT3866790"},{"$f":"VLOOKUP(A141,'Product-tool'!A:E,2,0)","v":"Tool 20"},{"$f":"VLOOKUP(A141&B141,'Standard output'!A:D,4,0)","v":7941.6422349005379},{"$f":"Orders!B142/$C141","v":11.181616770616481},{"$f":"Orders!C142/$C141","v":11.771570316925871},{"$f":"Orders!D142/$C141","v":10.70886820187577}]
[{"$f":"Orders!A143","v":"CT4394015"},{"$f":"VLOOKUP(A142,'Product-tool'!A:E,2,0)","v":"Tool 04"},{"$f":"VLOOKUP(A142&B142,'Standard output'!A:D,4,0)","v":2230},{"$f":"Orders!B143/$C142","v":14.178161434977579},{"$f":"Orders!C143/$C142","v":21.245964125560537},{"$f":"Orders!D143/$C142","v":13.037892376681615}]
[{"$f":"Orders!A144","v":"CT4485707"},{"$f":"VLOOKUP(A143,'Product-tool'!A:E,2,0)","v":"Tool 19"},{"$f":"VLOOKUP(A143&B143,'Standard output'!A:D,4,0)","v":10169},{"$f":"Orders!B144/$C143","v":7.4146917100993224E-3},{"$f":"Orders!C144/$C143","v":8.0538892713147812E-3},{"$f":"Orders!D144/$C143","v":7.1590126856131376E-3}]
[{"$f":"Orders!A145","v":"CT4625235"},{"$f":"VLOOKUP(A144,'Product-tool'!A:E,2,0)","v":"Tool 11"},{"$f":"VLOOKUP(A144&B144,'Standard output'!A:D,4,0)","v":2067},{"$f":"Orders!B145/$C144","v":0.7754716981132076},{"$f":"Orders!C145/$C144","v":1.2069182389937108},{"$f":"Orders!D145/$C144","v":0.91257861635220128}]
[{"$f":"Orders!A146","v":"CT4696984"},{"$f":"VLOOKUP(A145,'Product-tool'!A:E,2,0)","v":"Tool 12"},{"$f":"VLOOKUP(A145&B145,'Standard output'!A:D,4,0)","v":4054},{"$f":"Orders!B146/$C145","v":2.0555007400098666},{"$f":"Orders!C146/$C145","v":2.5102121361618153},{"$f":"Orders!D146/$C145","v":2.1193142575234338}]
[{"$f":"Orders!A147","v":"CT4766693"},{"$f":"VLOOKUP(A146,'Product-tool'!A:E,2,0)","v":"Tool 19"},{"$f":"VLOOKUP(A146&B146,'Standard output'!A:D,4,0)","v":10225},{"$f":"Orders!B147/$C146","v":1.5212224938875305},{"$f":"Orders!C147/$C146","v":2.3069437652811735},{"$f":"Orders!D147/$C146","v":1.7636772616136922}]
[{"$f":"Orders!A148","v":"CT4972454"},{"$f":"VLOOKUP(A147,'Product-tool'!A:E,2,0)","v":"Tool 20"},{"$f":"VLOOKUP(A147&B147,'Standard output'!A:D,4,0)","v":7868.6422349005379},{"$f":"Orders!B148/$C147","v":8.1497796043602424},{"$f":"Orders!C148/$C147","v":7.3218985283714897},{"$f":"Orders!D148/$C147","v":7.2582916207171957}]
[{"$f":"Orders!A149","v":"CT4983245"},{"$f":"VLOOKUP(A148,'Product-tool'!A:E,2,0)","v":"Tool 19"},{"$f":"VLOOKUP(A148&B148,'Standard output'!A:D,4,0)","v":10224},{"$f":"Orders!B149/$C148","v":1.6275430359937402},{"$f":"Orders!C149/$C148","v":1.555575117370892},{"$f":"Orders!D149/$C148","v":1.4900919405320814}]
[{"$f":"Orders!A150","v":"CT4998062"},{"$f":"VLOOKUP(A149,'Product-tool'!A:E,2,0)","v":"Tool 19"},{"$f":"VLOOKUP(A149&B149,'Standard output'!A:D,4,0)","v":10186},{"$f":"Orders!B150/$C149","v":5.309247987433733E-2},{"$f":"Orders!C150/$C149","v":4.658354604358924E-2},{"$f":"Orders!D150/$C149","v":4.6838798350677405E-2}]
[{"$f":"Orders!A151","v":"CT5306052"},{"$f":"VLOOKUP(A150,'Product-tool'!A:E,2,0)","v":"Tool 20"},{"$f":"VLOOKUP(A150&B150,'Standard output'!A:D,4,0)","v":7869.6422349005379},{"$f":"Orders!B151/$C150","v":3.9646020833873814E-2},{"$f":"Orders!C151/$C150","v":3.8324486806078022E-2},{"$f":"Orders!D151/$C150","v":3.6507377517858805E-2}]
[{"$f":"Orders!A152","v":"CT5312249"},{"$f":"VLOOKUP(A151,'Product-tool'!A:E,2,0)","v":"Tool 19"},{"$f":"VLOOKUP(A151&B151,'Standard output'!A:D,4,0)","v":10265},{"$f":"Orders!B152/$C151","v":1.0131514856307842E-3},{"$f":"Orders!C152/$C151","v":1.3930832927423285E-3},{"$f":"Orders!D152/$C151","v":1.1397954213346324E-3}]
[{"$f":"Orders!A153","v":"CT5387974"},{"$f":"VLOOKUP(A152,'Product-tool'!A:E,2,0)","v":"Tool 10"},{"$f":"VLOOKUP(A152&B152,'Standard output'!A:D,4,0)","v":1586},{"$f":"Orders!B153/$C152","v":6.5573770491803279E-3},{"$f":"Orders!C153/$C152","v":4.0983606557377051E-3},{"$f":"Orders!D153/$C152","v":4.9180327868852463E-3}]
[{"$f":"Orders!A154","v":"CT5424793"},{"$f":"VLOOKUP(A153,'Product-tool'!A:E,2,0)","v":"Tool 12"},{"$f":"VLOOKUP(A153&B153,'Standard output'!A:D,4,0)","v":4056},{"$f":"Orders!B154/$C153","v":0.82179487179487187},{"$f":"Orders!C154/$C153","v":0.71314102564102566},{"$f":"Orders!D154/$C153","v":0.72083333333333344}]
[{"$f":"Orders!A155","v":"CT54540"},{"$f":"VLOOKUP(A154,'Product-tool'!A:E,2,0)","v":"Tool 15"},{"$f":"VLOOKUP(A154&B154,'Standard output'!A:D,4,0)","v":4467},{"$f":"Orders!B155/$C154","v":5.3006939780613385},{"$f":"Orders!C155/$C154","v":5.6033579583613164},{"$f":"Orders!D155/$C154","v":5.0865010073875085}]
[{"$f":"Orders!A156","v":"CT5587547"},{"$f":"VLOOKUP(A155,'Product-tool'!A:E,2,0)","v":"Tool 19"},{"$f":"VLOOKUP(A155&B155,'Standard output'!A:D,4,0)","v":10202},{"$f":"Orders!B156/$C155","v":1.2105469515781219E-2},{"$f":"Orders!C156/$C155","v":1.0066653597333856E-2},{"$f":"Orders!D156/$C155","v":1.0448931582042737E-2}]
[{"$f":"Orders!A157","v":"CT5594793"},{"$f":"VLOOKUP(A156,'Product-tool'!A:E,2,0)","v":"Tool 18"},{"$f":"VLOOKUP(A156&B156,'Standard output'!A:D,4,0)","v":2864},{"$f":"Orders!B157/$C156","v":0.47660614525139666},{"$f":"Orders!C157/$C156","v":0.74395949720670396},{"$f":"Orders!D157/$C156","v":0.56194134078212299}]
[{"$f":"Orders!A158","v":"CT5668919"},{"$f":"VLOOKUP(A157,'Product-tool'!A:E,2,0)","v":"Tool 20"},{"$f":"VLOOKUP(A157&B157,'Standard output'!A:D,4,0)","v":7912.6422349005379},{"$f":"Orders!B158/$C157","v":8.1489846357005832E-2},{"$f":"Orders!C158/$C157","v":7.738249523014061E-2},{"$f":"Orders!D158/$C157","v":7.4425202418797659E-2}]
[{"$f":"Orders!A159","v":"CT5745169"},{"$f":"VLOOKUP(A158,'Product-tool'!A:E,2,0)","v":"Tool 12"},{"$f":"VLOOKUP(A158&B158,'Standard output'!A:D,4,0)","v":4071},{"$f":"Orders!B159/$C158","v":6.4824367477278322E-2},{"$f":"Orders!C159/$C158","v":8.4622942765905179E-2},{"$f":"Orders!D159/$C158","v":6.9295013510194056E-2}]
[{"$f":"Orders!A160","v":"CT5745914"},{"$f":"VLOOKUP(A159,'Product-tool'!A:E,2,0)","v":"Tool 12"},{"$f":"VLOOKUP(A159&B159,'Standard output'!A:D,4,0)","v":4054},{"$f":"Orders!B160/$C159","v":0.50762210162802168},{"$f":"Orders!C160/$C159","v":0.53744449925999016},{"$f":"Orders!D160/$C159","v":0.48774050320670942}]
[{"$f":"Orders!A161","v":"CT5783436"},{"$f":"VLOOKUP(A160,'Product-tool'!A:E,2,0)","v":"Tool 20"},{"$f":"VLOOKUP(A160&B160,'Standard output'!A:D,4,0)","v":7869.6422349005379},{"$f":"Orders!B161/$C160","v":4.4601773438108045E-3},{"$f":"Orders!C161/$C160","v":5.451327864657649E-3},{"$f":"Orders!D161/$C160","v":4.6253690972852778E-3}]
[{"$f":"Orders!A162","v":"CT5802839"},{"$f":"VLOOKUP(A161,'Product-tool'!A:E,2,0)","v":"Tool 19"},{"$f":"VLOOKUP(A161&B161,'Standard output'!A:D,4,0)","v":10173},{"$f":"Orders!B162/$C161","v":0.14900226088666077},{"$f":"Orders!C162/$C161","v":0.19219502604934632},{"$f":"Orders!D162/$C161","v":0.1580752973557456}]
[{"$f":"Orders!A163","v":"CT5819298"},{"$f":"VLOOKUP(A162,'Product-tool'!A:E,2,0)","v":"Tool 20"},{"$f":"VLOOKUP(A162&B162,'Standard output'!A:D,4,0)","v":7858.6422349005379},{"$f":"Orders!B163/$C162","v":3.3250018538769521E-2},{"$f":"Orders!C163/$C162","v":4.1024898495596228E-2},{"$f":"Orders!D163/$C162","v":3.4573402361208101E-2}]
[{"$f":"Orders!A164","v":"CT5829315"},{"$f":"VLOOKUP(A163,'Product-tool'!A:E,2,0)","v":"Tool 18"},{"$f":"VLOOKUP(A163&B163,'Standard output'!A:D,4,0)","v":2851},{"$f":"Orders!B164/$C163","v":0.15184145913714486},{"$f":"Orders!C164/$C163","v":0.11809891266222378},{"$f":"Orders!D164/$C163","v":0.12721851981760784}]
[{"$f":"Orders!A165","v":"CT5869387"},{"$f":"VLOOKUP(A164,'Product-tool'!A:E,2,0)","v":"Tool 19"},{"$f":"VLOOKUP(A164&B164,'Standard output'!A:D,4,0)","v":10217},{"$f":"Orders!B165/$C164","v":0.91510228051287079},{"$f":"Orders!C165/$C164","v":1.3493686992267788},{"$f":"Orders!D165/$C164","v":1.0442497797788002}]
[{"$f":"Orders!A166","v":"CT588550"},{"$f":"VLOOKUP(A165,'Product-tool'!A:E,2,0)","v":"Tool 11"},{"$f":"VLOOKUP(A165&B165,'Standard output'!A:D,4,0)","v":2063},{"$f":"Orders!B166/$C165","v":0.45496849248666993},{"$f":"Orders!C166/$C165","v":0.27852641783809984},{"$f":"Orders!D166/$C165","v":0.3484730974309258}]
[{"$f":"Orders!A167","v":"CT5885641"},{"$f":"VLOOKUP(A166,'Product-tool'!A:E,2,0)","v":"Tool 18"},{"$f":"VLOOKUP(A166&B166,'Standard output'!A:D,4,0)","v":2814},{"$f":"Orders!B167/$C166","v":1.6012082444918267},{"$f":"Orders!C167/$C166","v":1.2902985074626867},{"$f":"Orders!D167/$C166","v":1.361904761904762}]
[{"$f":"Orders!A168","v":"CT593521"},{"$f":"VLOOKUP(A167,'Product-tool'!A:E,2,0)","v":"Tool 18"},{"$f":"VLOOKUP(A167&B167,'Standard output'!A:D,4,0)","v":2853},{"$f":"Orders!B168/$C167","v":26.508973010865759},{"$f":"Orders!C168/$C167","v":32.959305993690855},{"$f":"Orders!D168/$C167","v":27.584787942516652}]
[{"$f":"Orders!A169","v":"CT5932817"},{"$f":"VLOOKUP(A168,'Product-tool'!A:E,2,0)","v":"Tool 20"},{"$f":"VLOOKUP(A168&B168,'Standard output'!A:D,4,0)","v":7850.6422349005379},{"$f":"Orders!B169/$C168","v":2.2023675876014559E-2},{"$f":"Orders!C169/$C168","v":2.3513999807474189E-2},{"$f":"Orders!D169/$C168","v":2.1195718136314764E-2}]
[{"$f":"Orders!A170","v":"CT5982395"},{"$f":"VLOOKUP(A169,'Product-tool'!A:E,2,0)","v":"Tool 04"},{"$f":"VLOOKUP(A169&B169,'Standard output'!A:D,4,0)","v":2227},{"$f":"Orders!B170/$C169","v":0.16052986079928155},{"$f":"Orders!C170/$C169","v":0.17337224966322407},{"$f":"Orders!D170/$C169","v":0.15585990121239338}]
[{"$f":"Orders!A171","v":"CT6358073"},{"$f":"VLOOKUP(A170,'Product-tool'!A:E,2,0)","v":"Tool 20"},{"$f":"VLOOKUP(A170&B170,'Standard output'!A:D,4,0)","v":7883.6422349005379},{"$f":"Orders!B171/$C170","v":4.1224600294675886E-3},{"$f":"Orders!C171/$C170","v":4.452256831824996E-3},{"$f":"Orders!D171/$C170","v":3.9575616282888854E-3}]
[{"$f":"Orders!A172","v":"CT6438604"},{"$f":"VLOOKUP(A171,'Product-tool'!A:E,2,0)","v":"Tool 20"},{"$f":"VLOOKUP(A171&B171,'Standard output'!A:D,4,0)","v":7893.6422349005379},{"$f":"Orders!B172/$C171","v":1.3175160072517579E-3},{"$f":"Orders!C172/$C171","v":1.976274010877637E-3},{"$f":"Orders!D172/$C171","v":1.4822055081582278E-3}]
[{"$f":"Orders!A173","v":"CT6445143"},{"$f":"VLOOKUP(A172,'Product-tool'!A:E,2,0)","v":"Tool 20"},{"$f":"VLOOKUP(A172&B172,'Standard output'!A:D,4,0)","v":7913.6422349005379},{"$f":"Orders!B173/$C172","v":0.73775131939274208},{"$f":"Orders!C173/$C172","v":1.0912674270153608},{"$f":"Orders!D173/$C172","v":0.84337904114057838}]
[{"$f":"Orders!A174","v":"CT823663"},{"$f":"VLOOKUP(A173,'Product-tool'!A:E,2,0)","v":"Tool 07"},{"$f":"VLOOKUP(A173&B173,'Standard output'!A:D,4,0)","v":6446},{"$f":"Orders!B174/$C173","v":0.21841452063295069},{"$f":"Orders!C174/$C173","v":0.16134036611852312},{"$f":"Orders!D174/$C173","v":0.17928948184920881}]
[{"$f":"Orders!A175","v":"DA2128864"},{"$f":"VLOOKUP(A174,'Product-tool'!A:E,2,0)","v":"Tool 05"},{"$f":"VLOOKUP(A174&B174,'Standard output'!A:D,4,0)","v":1267},{"$f":"Orders!B175/$C174","v":4.1041831097079715},{"$f":"Orders!C175/$C174","v":4.4612470402525659},{"$f":"Orders!D175/$C174","v":3.9913180741910024}]
[{"$f":"Orders!A176","v":"DA5685201"},{"$f":"VLOOKUP(A175,'Product-tool'!A:E,2,0)","v":"Tool 01"},{"$f":"VLOOKUP(A175&B175,'Standard output'!A:D,4,0)","v":1270},{"$f":"Orders!B176/$C175","v":0.13614173228346457},{"$f":"Orders!C176/$C175","v":8.8031496062992126E-2},{"$f":"Orders!D176/$C175","v":0.10645669291338584}]
[{"$f":"Orders!A177","v":"DP0098702"},{"$f":"VLOOKUP(A176,'Product-tool'!A:E,2,0)","v":"Tool 17"},{"$f":"VLOOKUP(A176&B176,'Standard output'!A:D,4,0)","v":6800},{"$f":"Orders!B177/$C176","v":1.4871617647058823},{"$f":"Orders!C177/$C176","v":1.9171176470588234},{"$f":"Orders!D177/$C176","v":1.5770147058823532}]
[{"$f":"Orders!A178","v":"DP087138"},{"$f":"VLOOKUP(A177,'Product-tool'!A:E,2,0)","v":"Tool 14"},{"$f":"VLOOKUP(A177&B177,'Standard output'!A:D,4,0)","v":2350},{"$f":"Orders!B178/$C177","v":16.603489361702131},{"$f":"Orders!C178/$C177","v":23.865787234042553},{"$f":"Orders!D178/$C177","v":18.677957446808513}]
[{"$f":"Orders!A179","v":"DP1792938"},{"$f":"VLOOKUP(A178,'Product-tool'!A:E,2,0)","v":"Tool 15"},{"$f":"VLOOKUP(A178&B178,'Standard output'!A:D,4,0)","v":4404},{"$f":"Orders!B179/$C178","v":7.6925522252497727},{"$f":"Orders!C179/$C178","v":10.966167120799273},{"$f":"Orders!D179/$C178","v":8.6141235240690275}]
[{"$f":"Orders!A180","v":"DP2403779"},{"$f":"VLOOKUP(A179,'Product-tool'!A:E,2,0)","v":"Tool 15"},{"$f":"VLOOKUP(A179&B179,'Standard output'!A:D,4,0)","v":4406},{"$f":"Orders!B180/$C179","v":2.6182932364956879},{"$f":"Orders!C180/$C179","v":2.3371084884248754},{"$f":"Orders!D180/$C179","v":2.3253064003631416}]
[{"$f":"Orders!A181","v":"DP2404504"},{"$f":"VLOOKUP(A180,'Product-tool'!A:E,2,0)","v":"Tool 03"},{"$f":"VLOOKUP(A180&B180,'Standard output'!A:D,4,0)","v":2460},{"$f":"Orders!B181/$C180","v":0.30808943089430896},{"$f":"Orders!C181/$C180","v":0.52158536585365856},{"$f":"Orders!D181/$C180","v":0.38101626016260165}]
[{"$f":"Orders!A182","v":"DP4769417"},{"$f":"VLOOKUP(A181,'Product-tool'!A:E,2,0)","v":"Tool 17"},{"$f":"VLOOKUP(A181&B181,'Standard output'!A:D,4,0)","v":6853},{"$f":"Orders!B182/$C181","v":0.31129432365387422},{"$f":"Orders!C182/$C181","v":0.25836859769444043},{"$f":"Orders!D182/$C181","v":0.26804319276229388}]
[{"$f":"Orders!A183","v":"DP4764853"},{"$f":"VLOOKUP(A182,'Product-tool'!A:E,2,0)","v":"Tool 18"},{"$f":"VLOOKUP(A182&B182,'Standard output'!A:D,4,0)","v":2863},{"$f":"Orders!B183/$C182","v":8.5869018512050292},{"$f":"Orders!C183/$C182","v":9.3479217603911984},{"$f":"Orders!D183/$C182","v":8.3580509954593083}]
[{"$f":"Orders!A184","v":"DP5007199"},{"$f":"VLOOKUP(A183,'Product-tool'!A:E,2,0)","v":"Tool 01"},{"$f":"VLOOKUP(A183&B183,'Standard output'!A:D,4,0)","v":1279},{"$f":"Orders!B184/$C183","v":41.12634870992963},{"$f":"Orders!C184/$C183","v":39.930023455824866},{"$f":"Orders!D184/$C183","v":37.92361219702893}]
[{"$f":"Orders!A185","v":"DP5383174"},{"$f":"VLOOKUP(A184,'Product-tool'!A:E,2,0)","v":"Tool 01"},{"$f":"VLOOKUP(A184&B184,'Standard output'!A:D,4,0)","v":1278},{"$f":"Orders!B185/$C184","v":5.0006259780907669},{"$f":"Orders!C185/$C184","v":5.3200312989045386},{"$f":"Orders!D185/$C184","v":4.8134585289514868}]
[{"$f":"Orders!A186","v":"DP5698799"},{"$f":"VLOOKUP(A185,'Product-tool'!A:E,2,0)","v":"Tool 01"},{"$f":"VLOOKUP(A185&B185,'Standard output'!A:D,4,0)","v":1281},{"$f":"Orders!B186/$C185","v":1.0097580015612801},{"$f":"Orders!C186/$C185","v":0.65558157689305241},{"$f":"Orders!D186/$C185","v":0.79055425448868077}]
[{"$f":"Orders!A187","v":"DP5908334"},{"$f":"VLOOKUP(A186,'Product-tool'!A:E,2,0)","v":"Tool 01"},{"$f":"VLOOKUP(A186&B186,'Standard output'!A:D,4,0)","v":1276},{"$f":"Orders!B187/$C186","v":36.052586206896549},{"$f":"Orders!C187/$C186","v":38.648510971786834},{"$f":"Orders!D187/$C186","v":34.830015673981187}]
[{"$f":"Orders!A188","v":"DP638679"},{"$f":"VLOOKUP(A187,'Product-tool'!A:E,2,0)","v":"Tool 18"},{"$f":"VLOOKUP(A187&B187,'Standard output'!A:D,4,0)","v":2889},{"$f":"Orders!B188/$C187","v":4.2748355832467985E-2},{"$f":"Orders!C188/$C187","v":2.7898926964347526E-2},{"$f":"Orders!D188/$C187","v":3.374870197300104E-2}]
[{"$f":"Orders!A189","v":"FR0061274"},{"$f":"VLOOKUP(A188,'Product-tool'!A:E,2,0)","v":"Tool 11"},{"$f":"VLOOKUP(A188&B188,'Standard output'!A:D,4,0)","v":2069},{"$f":"Orders!B189/$C188","v":4.5239246012566459E-2},{"$f":"Orders!C189/$C188","v":4.3354277428709523E-2},{"$f":"Orders!D189/$C188","v":4.1469308844852587E-2}]
[{"$f":"Orders!A190","v":"FR009628"},{"$f":"VLOOKUP(A189,'Product-tool'!A:E,2,0)","v":"Tool 11"},{"$f":"VLOOKUP(A189&B189,'Standard output'!A:D,4,0)","v":2089},{"$f":"Orders!B190/$C189","v":15.626136907611297},{"$f":"Orders!C190/$C189","v":24.73671613212063},{"$f":"Orders!D190/$C189","v":18.568405935854475}]
[{"$f":"Orders!A191","v":"FR0362571"},{"$f":"VLOOKUP(A190,'Product-tool'!A:E,2,0)","v":"Tool 11"},{"$f":"VLOOKUP(A190&B190,'Standard output'!A:D,4,0)","v":2087},{"$f":"Orders!B191/$C190","v":8.6677048394825107},{"$f":"Orders!C191/$C190","v":10.644801149976043},{"$f":"Orders!D191/$C190","v":8.9617153809295651}]
[{"$f":"Orders!A192","v":"FR0614261"},{"$f":"VLOOKUP(A191,'Product-tool'!A:E,2,0)","v":"Tool 11"},{"$f":"VLOOKUP(A191&B191,'Standard output'!A:D,4,0)","v":2107},{"$f":"Orders!B192/$C191","v":1.4085904129093498},{"$f":"Orders!C192/$C191","v":0.94646416706217373},{"$f":"Orders!D192/$C191","v":1.1161366872330329}]
[{"$f":"Orders!A193","v":"FR0622263"},{"$f":"VLOOKUP(A192,'Product-tool'!A:E,2,0)","v":"Tool 11"},{"$f":"VLOOKUP(A192&B192,'Standard output'!A:D,4,0)","v":2035},{"$f":"Orders!B193/$C192","v":0.34049140049140048},{"$f":"Orders!C193/$C192","v":0.50019656019656022},{"$f":"Orders!D193/$C192","v":0.38776412776412778}]
[{"$f":"Orders!A194","v":"FR066151"},{"$f":"VLOOKUP(A193,'Product-tool'!A:E,2,0)","v":"Tool 04"},{"$f":"VLOOKUP(A193&B193,'Standard output'!A:D,4,0)","v":2257},{"$f":"Orders!B194/$C193","v":0.79025254762959685},{"$f":"Orders!C194/$C193","v":1.3529906956136466},{"$f":"Orders!D194/$C193","v":0.98320779796189628}]
[{"$f":"Orders!A195","v":"FR0667973"},{"$f":"VLOOKUP(A194,'Product-tool'!A:E,2,0)","v":"Tool 11"},{"$f":"VLOOKUP(A194&B194,'Standard output'!A:D,4,0)","v":2050},{"$f":"Orders!B195/$C194","v":1.0564878048780488},{"$f":"Orders!C195/$C194","v":1.1592195121951221},{"$f":"Orders!D195/$C194","v":1.0323902439024391}]
[{"$f":"Orders!A196","v":"FR0679719"},{"$f":"VLOOKUP(A195,'Product-tool'!A:E,2,0)","v":"Tool 10"},{"$f":"VLOOKUP(A195&B195,'Standard output'!A:D,4,0)","v":1605},{"$f":"Orders!B196/$C195","v":8.74766355140187E-2},{"$f":"Orders!C196/$C195","v":5.1028037383177571E-2},{"$f":"Orders!D196/$C195","v":6.5607476635514014E-2}]
[{"$f":"Orders!A197","v":"FR0696557"},{"$f":"VLOOKUP(A196,'Product-tool'!A:E,2,0)","v":"Tool 15"},{"$f":"VLOOKUP(A196&B196,'Standard output'!A:D,4,0)","v":4478},{"$f":"Orders!B197/$C196","v":0.53765073693613219},{"$f":"Orders!C197/$C196","v":0.91766413577489958},{"$f":"Orders!D197/$C196","v":0.66799910674408225}]
[{"$f":"Orders!A198","v":"FR0905418"},{"$f":"VLOOKUP(A197,'Product-tool'!A:E,2,0)","v":"Tool 15"},{"$f":"VLOOKUP(A197&B197,'Standard output'!A:D,4,0)","v":4421},{"$f":"Orders!B198/$C197","v":0.79393802307170325},{"$f":"Orders!C198/$C197","v":1.0485862926939606},{"$f":"Orders!D198/$C197","v":0.8527482470029405}]
[{"$f":"Orders!A199","v":"FR0919209"},{"$f":"VLOOKUP(A198,'Product-tool'!A:E,2,0)","v":"Tool 11"},{"$f":"VLOOKUP(A198&B198,'Standard output'!A:D,4,0)","v":2083},{"$f":"Orders!B199/$C198","v":2.1019683149303892},{"$f":"Orders!C199/$C198","v":1.3936149783965435},{"$f":"Orders!D199/$C198","v":1.6569851176188191}]
[{"$f":"Orders!A200","v":"FR0935436"},{"$f":"VLOOKUP(A199,'Product-tool'!A:E,2,0)","v":"Tool 11"},{"$f":"VLOOKUP(A199&B199,'Standard output'!A:D,4,0)","v":2087},{"$f":"Orders!B200/$C199","v":7.2879731672256823E-2},{"$f":"Orders!C200/$C199","v":0.1171058936272161},{"$f":"Orders!D200/$C199","v":8.7829420220412083E-2}]
[{"$f":"Orders!A201","v":"FR1379592"},{"$f":"VLOOKUP(A200,'Product-tool'!A:E,2,0)","v":"Tool 15"},{"$f":"VLOOKUP(A200&B200,'Standard output'!A:D,4,0)","v":4494},{"$f":"Orders!B201/$C200","v":0.23778371161548734},{"$f":"Orders!C201/$C200","v":0.20249221183800623},{"$f":"Orders!D201/$C200","v":0.20712060525144638}]
[{"$f":"Orders!A202","v":"FR141742"},{"$f":"VLOOKUP(A201,'Product-tool'!A:E,2,0)","v":"Tool 15"},{"$f":"VLOOKUP(A201&B201,'Standard output'!A:D,4,0)","v":4422},{"$f":"Orders!B202/$C201","v":2.4400723654455E-2},{"$f":"Orders!C202/$C201","v":3.4984170058796928E-2},{"$f":"Orders!D202/$C201","v":2.7340569877883313E-2}]
[{"$f":"Orders!A203","v":"FR1415438"},{"$f":"VLOOKUP(A202,'Product-tool'!A:E,2,0)","v":"Tool 11"},{"$f":"VLOOKUP(A202&B202,'Standard output'!A:D,4,0)","v":2094},{"$f":"Orders!B203/$C202","v":1.241642788920726},{"$f":"Orders!C203/$C202","v":1.5005253104106973},{"$f":"Orders!D203/$C202","v":1.2733046800382044}]
[{"$f":"Orders!A204","v":"FR1452826"},{"$f":"VLOOKUP(A203,'Product-tool'!A:E,2,0)","v":"Tool 18"},{"$f":"VLOOKUP(A203&B203,'Standard output'!A:D,4,0)","v":2801},{"$f":"Orders!B204/$C203","v":3.7129596572652627E-3},{"$f":"Orders!C204/$C203","v":5.1053195287397357E-3},{"$f":"Orders!D204/$C203","v":4.1770796144234203E-3}]
[{"$f":"Orders!A205","v":"FR1615194"},{"$f":"VLOOKUP(A204,'Product-tool'!A:E,2,0)","v":"Tool 15"},{"$f":"VLOOKUP(A204&B204,'Standard output'!A:D,4,0)","v":4405},{"$f":"Orders!B205/$C204","v":2.4494892167990921E-2},{"$f":"Orders!C205/$C204","v":1.682179341657208E-2},{"$f":"Orders!D205/$C204","v":1.9477866061293984E-2}]
[{"$f":"Orders!A206","v":"FR219333"},{"$f":"VLOOKUP(A205,'Product-tool'!A:E,2,0)","v":"Tool 19"},{"$f":"VLOOKUP(A205&B205,'Standard output'!A:D,4,0)","v":10264},{"$f":"Orders!B206/$C205","v":1.8111847233047547E-2},{"$f":"Orders!C206/$C205","v":1.2285658612626657E-2},{"$f":"Orders!D206/$C205","v":1.4438815276695247E-2}]
[{"$f":"Orders!A207","v":"FR2345868"},{"$f":"VLOOKUP(A206,'Product-tool'!A:E,2,0)","v":"Tool 15"},{"$f":"VLOOKUP(A206&B206,'Standard output'!A:D,4,0)","v":4438},{"$f":"Orders!B207/$C206","v":0.63447498873366381},{"$f":"Orders!C207/$C206","v":0.38226678684091936},{"$f":"Orders!D207/$C206","v":0.48361874718341602}]
[{"$f":"Orders!A208","v":"FR2492515"},{"$f":"VLOOKUP(A207,'Product-tool'!A:E,2,0)","v":"Tool 19"},{"$f":"VLOOKUP(A207&B207,'Standard output'!A:D,4,0)","v":10257},{"$f":"Orders!B208/$C207","v":0.25348542458808621},{"$f":"Orders!C208/$C207","v":0.21634980988593155},{"$f":"Orders!D208/$C207","v":0.22078580481622306}]
[{"$f":"Orders!A209","v":"FR2795111"},{"$f":"VLOOKUP(A208,'Product-tool'!A:E,2,0)","v":"Tool 11"},{"$f":"VLOOKUP(A208&B208,'Standard output'!A:D,4,0)","v":2061},{"$f":"Orders!B209/$C208","v":0.1047064531780689},{"$f":"Orders!C209/$C208","v":0.11795245026686074},{"$f":"Orders!D209/$C208","v":0.10407569141193596}]
[{"$f":"Orders!A210","v":"FR2815273"},{"$f":"VLOOKUP(A209,'Product-tool'!A:E,2,0)","v":"Tool 11"},{"$f":"VLOOKUP(A209&B209,'Standard output'!A:D,4,0)","v":2103},{"$f":"Orders!B210/$C209","v":15.595672848311937},{"$f":"Orders!C210/$C209","v":23.918021873514029},{"$f":"Orders!D210/$C209","v":18.196909177365669}]
[{"$f":"Orders!A211","v":"FR2948803"},{"$f":"VLOOKUP(A210,'Product-tool'!A:E,2,0)","v":"Tool 11"},{"$f":"VLOOKUP(A210&B210,'Standard output'!A:D,4,0)","v":2056},{"$f":"Orders!B211/$C210","v":0.41478599221789886},{"$f":"Orders!C211/$C210","v":0.44450389105058363},{"$f":"Orders!D211/$C210","v":0.40087548638132298}]
[{"$f":"Orders!A212","v":"FR317601"},{"$f":"VLOOKUP(A211,'Product-tool'!A:E,2,0)","v":"Tool 11"},{"$f":"VLOOKUP(A211&B211,'Standard output'!A:D,4,0)","v":2064},{"$f":"Orders!B212/$C211","v":0.32122093023255816},{"$f":"Orders!C212/$C211","v":0.39491279069767443},{"$f":"Orders!D212/$C211","v":0.33255813953488372}]
[{"$f":"Orders!A213","v":"FR3359591"},{"$f":"VLOOKUP(A212,'Product-tool'!A:E,2,0)","v":"Tool 19"},{"$f":"VLOOKUP(A212&B212,'Standard output'!A:D,4,0)","v":10248},{"$f":"Orders!B213/$C212","v":1.014832162373146E-3},{"$f":"Orders!C213/$C212","v":1.3953942232630759E-3},{"$f":"Orders!D213/$C212","v":1.1416861826697893E-3}]
[{"$f":"Orders!A214","v":"FR3467978"},{"$f":"VLOOKUP(A213,'Product-tool'!A:E,2,0)","v":"Tool 18"},{"$f":"VLOOKUP(A213&B213,'Standard output'!A:D,4,0)","v":2843},{"$f":"Orders!B214/$C213","v":1.1353851565247979},{"$f":"Orders!C214/$C213","v":1.1239535701723531},{"$f":"Orders!D214/$C213","v":1.0562785789658811}]
[{"$f":"Orders!A215","v":"FR3576193"},{"$f":"VLOOKUP(A214,'Product-tool'!A:E,2,0)","v":"Tool 11"},{"$f":"VLOOKUP(A214&B214,'Standard output'!A:D,4,0)","v":2098},{"$f":"Orders!B215/$C214","v":2.2133460438512871},{"$f":"Orders!C215/$C214","v":3.4699714013346044},{"$f":"Orders!D215/$C214","v":2.6154909437559581}]
[{"$f":"Orders!A216","v":"FR3597468"},{"$f":"VLOOKUP(A215,'Product-tool'!A:E,2,0)","v":"Tool 19"},{"$f":"VLOOKUP(A215&B215,'Standard output'!A:D,4,0)","v":10237},{"$f":"Orders!B216/$C215","v":4.7621373449252713E-2},{"$f":"Orders!C216/$C215","v":8.0892839699130609E-2},{"$f":"Orders!D216/$C215","v":5.8923512747875356E-2}]
[{"$f":"Orders!A217","v":"FR3659141"},{"$f":"VLOOKUP(A216,'Product-tool'!A:E,2,0)","v":"Tool 11"},{"$f":"VLOOKUP(A216&B216,'Standard output'!A:D,4,0)","v":2092},{"$f":"Orders!B217/$C216","v":9.3833652007648191E-2},{"$f":"Orders!C217/$C216","v":0.12863288718929256},{"$f":"Orders!D217/$C216","v":0.10253346080305928}]
[{"$f":"Orders!A218","v":"FR378786"},{"$f":"VLOOKUP(A217,'Product-tool'!A:E,2,0)","v":"Tool 11"},{"$f":"VLOOKUP(A217&B217,'Standard output'!A:D,4,0)","v":2034},{"$f":"Orders!B218/$C217","v":6.9985250737463129},{"$f":"Orders!C218/$C217","v":5.9516224188790563},{"$f":"Orders!D218/$C217","v":6.0871189773844643}]
[{"$f":"Orders!A219","v":"FR3966167"},{"$f":"VLOOKUP(A218,'Product-tool'!A:E,2,0)","v":"Tool 03"},{"$f":"VLOOKUP(A218&B218,'Standard output'!A:D,4,0)","v":2402},{"$f":"Orders!B219/$C218","v":4.3297252289758534E-3},{"$f":"Orders!C219/$C218","v":2.7060782681099086E-3},{"$f":"Orders!D219/$C218","v":3.2472939217318905E-3}]
[{"$f":"Orders!A220","v":"FR3998413"},{"$f":"VLOOKUP(A219,'Product-tool'!A:E,2,0)","v":"Tool 15"},{"$f":"VLOOKUP(A219&B219,'Standard output'!A:D,4,0)","v":4454},{"$f":"Orders!B220/$C219","v":0.14593623709025594},{"$f":"Orders!C220/$C219","v":0.23145487202514595},{"$f":"Orders!D220/$C219","v":0.17366412213740459}]
[{"$f":"Orders!A221","v":"FR4374057"},{"$f":"VLOOKUP(A220,'Product-tool'!A:E,2,0)","v":"Tool 19"},{"$f":"VLOOKUP(A220&B220,'Standard output'!A:D,4,0)","v":10207},{"$f":"Orders!B221/$C220","v":1.0571176643479965E-2},{"$f":"Orders!C221/$C220","v":1.273635740178309E-2},{"$f":"Orders!D221/$C220","v":1.0825903791515627E-2}]
[{"$f":"Orders!A222","v":"FR4526775"},{"$f":"VLOOKUP(A221,'Product-tool'!A:E,2,0)","v":"Tool 11"},{"$f":"VLOOKUP(A221&B221,'Standard output'!A:D,4,0)","v":2121},{"$f":"Orders!B222/$C221","v":5.0872230080150876E-2},{"$f":"Orders!C222/$C221","v":3.9839698255539839E-2},{"$f":"Orders!D222/$C221","v":4.2904290429042903E-2}]
[{"$f":"Orders!A223","v":"FR4539511"},{"$f":"VLOOKUP(A222,'Product-tool'!A:E,2,0)","v":"Tool 11"},{"$f":"VLOOKUP(A222&B222,'Standard output'!A:D,4,0)","v":2100},{"$f":"Orders!B223/$C222","v":5.1380952380952381E-2},{"$f":"Orders!C223/$C222","v":5.3238095238095237E-2},{"$f":"Orders!D223/$C222","v":4.8904761904761909E-2}]
[{"$f":"Orders!A224","v":"FR457233"},{"$f":"VLOOKUP(A223,'Product-tool'!A:E,2,0)","v":"Tool 18"},{"$f":"VLOOKUP(A223&B223,'Standard output'!A:D,4,0)","v":2894},{"$f":"Orders!B224/$C223","v":0.15317899101589497},{"$f":"Orders!C224/$C223","v":0.22325501036627507},{"$f":"Orders!D224/$C223","v":0.17384243261921217}]
[{"$f":"Orders!A225","v":"FR4624850"},{"$f":"VLOOKUP(A224,'Product-tool'!A:E,2,0)","v":"Tool 11"},{"$f":"VLOOKUP(A224&B224,'Standard output'!A:D,4,0)","v":2080},{"$f":"Orders!B225/$C224","v":1.8225},{"$f":"Orders!C225/$C224","v":1.18625},{"$f":"Orders!D225/$C224","v":1.4268750000000001}]
[{"$f":"Orders!A226","v":"FR4897160"},{"$f":"VLOOKUP(A225,'Product-tool'!A:E,2,0)","v":"Tool 15"},{"$f":"VLOOKUP(A225&B225,'Standard output'!A:D,4,0)","v":4457},{"$f":"Orders!B226/$C225","v":8.1669284271931788E-3},{"$f":"Orders!C226/$C225","v":9.6253085034776753E-3},{"$f":"Orders!D226/$C225","v":8.4586044424500798E-3}]
[{"$f":"Orders!A227","v":"FR4954051"},{"$f":"VLOOKUP(A226,'Product-tool'!A:E,2,0)","v":"Tool 19"},{"$f":"VLOOKUP(A226&B226,'Standard output'!A:D,4,0)","v":10264},{"$f":"Orders!B227/$C226","v":2.0265003897116133E-3},{"$f":"Orders!C227/$C226","v":1.7731878409976616E-3},{"$f":"Orders!D227/$C226","v":1.7731878409976616E-3}]
[{"$f":"Orders!A228","v":"FR4965335"},{"$f":"VLOOKUP(A227,'Product-tool'!A:E,2,0)","v":"Tool 11"},{"$f":"VLOOKUP(A227&B227,'Standard output'!A:D,4,0)","v":2093},{"$f":"Orders!B228/$C227","v":0.80745341614906829},{"$f":"Orders!C228/$C227","v":1.1484472049689443},{"$f":"Orders!D228/$C227","v":0.90310559006211177}]
[{"$f":"Orders!A229","v":"FR5342502"},{"$f":"VLOOKUP(A228,'Product-tool'!A:E,2,0)","v":"Tool 11"},{"$f":"VLOOKUP(A228&B228,'Standard output'!A:D,4,0)","v":2033},{"$f":"Orders!B229/$C228","v":1.4368421052631579},{"$f":"Orders!C229/$C228","v":1.7079685194294147},{"$f":"Orders!D229/$C228","v":1.4611411706837187}]
[{"$f":"Orders!A230","v":"FR5371365"},{"$f":"VLOOKUP(A229,'Product-tool'!A:E,2,0)","v":"Tool 15"},{"$f":"VLOOKUP(A229&B229,'Standard output'!A:D,4,0)","v":4421},{"$f":"Orders!B230/$C229","v":6.6161501922641933E-2},{"$f":"Orders!C230/$C229","v":5.2929201538113549E-2},{"$f":"Orders!D230/$C229","v":5.6163763854331604E-2}]
[{"$f":"Orders!A231","v":"FR5384444"},{"$f":"VLOOKUP(A230,'Product-tool'!A:E,2,0)","v":"Tool 11"},{"$f":"VLOOKUP(A230&B230,'Standard output'!A:D,4,0)","v":2046},{"$f":"Orders!B231/$C230","v":0.92639296187683284},{"$f":"Orders!C231/$C230","v":1.3673509286412511},{"$f":"Orders!D231/$C230","v":1.0579178885630498}]
[{"$f":"Orders!A232","v":"FR5404360"},{"$f":"VLOOKUP(A231,'Product-tool'!A:E,2,0)","v":"Tool 19"},{"$f":"VLOOKUP(A231&B231,'Standard output'!A:D,4,0)","v":10248},{"$f":"Orders!B232/$C231","v":1.014832162373146E-3},{"$f":"Orders!C232/$C231","v":1.6491022638563625E-3},{"$f":"Orders!D232/$C231","v":1.2685402029664326E-3}]
[{"$f":"Orders!A233","v":"FR5454864"},{"$f":"VLOOKUP(A232,'Product-tool'!A:E,2,0)","v":"Tool 11"},{"$f":"VLOOKUP(A232&B232,'Standard output'!A:D,4,0)","v":2091},{"$f":"Orders!B233/$C232","v":0.28474414155906264},{"$f":"Orders!C233/$C232","v":0.32764227642276422},{"$f":"Orders!D233/$C232","v":0.28474414155906264}]
[{"$f":"Orders!A234","v":"FR5608301"},{"$f":"VLOOKUP(A233,'Product-tool'!A:E,2,0)","v":"Tool 11"},{"$f":"VLOOKUP(A233&B233,'Standard output'!A:D,4,0)","v":2068},{"$f":"Orders!B234/$C233","v":1.0058027079303675E-2},{"$f":"Orders!C234/$C233","v":1.2572533849129593E-2},{"$f":"Orders!D234/$C233","v":1.0686653771760155E-2}]
[{"$f":"Orders!A235","v":"FR5664727"},{"$f":"VLOOKUP(A234,'Product-tool'!A:E,2,0)","v":"Tool 11"},{"$f":"VLOOKUP(A234&B234,'Standard output'!A:D,4,0)","v":2095},{"$f":"Orders!B235/$C234","v":0.10300715990453461},{"$f":"Orders!C235/$C234","v":0.10673031026252983},{"$f":"Orders!D235/$C234","v":9.8042959427207643E-2}]
[{"$f":"Orders!A236","v":"FR5671746"},{"$f":"VLOOKUP(A235,'Product-tool'!A:E,2,0)","v":"Tool 15"},{"$f":"VLOOKUP(A235&B235,'Standard output'!A:D,4,0)","v":4463},{"$f":"Orders!B236/$C235","v":0.28837105086264847},{"$f":"Orders!C236/$C235","v":0.44595563522294418},{"$f":"Orders!D236/$C235","v":0.33818059601165135}]
[{"$f":"Orders!A237","v":"FR5682241"},{"$f":"VLOOKUP(A236,'Product-tool'!A:E,2,0)","v":"Tool 11"},{"$f":"VLOOKUP(A236&B236,'Standard output'!A:D,4,0)","v":2106},{"$f":"Orders!B237/$C236","v":1.2345679012345678E-2},{"$f":"Orders!C237/$C236","v":1.5432098765432098E-2},{"$f":"Orders!D237/$C236","v":1.2962962962962963E-2}]
[{"$f":"Orders!A238","v":"FR5684287"},{"$f":"VLOOKUP(A237,'Product-tool'!A:E,2,0)","v":"Tool 11"},{"$f":"VLOOKUP(A237&B237,'Standard output'!A:D,4,0)","v":2068},{"$f":"Orders!B238/$C237","v":0.27093810444874278},{"$f":"Orders!C238/$C237","v":0.26025145067698263},{"$f":"Orders!D238/$C237","v":0.24830754352030948}]
[{"$f":"Orders!A239","v":"FR5744950"},{"$f":"VLOOKUP(A238,'Product-tool'!A:E,2,0)","v":"Tool 11"},{"$f":"VLOOKUP(A238&B238,'Standard output'!A:D,4,0)","v":2033},{"$f":"Orders!B239/$C238","v":0.51028037383177571},{"$f":"Orders!C239/$C238","v":0.59916379734382696},{"$f":"Orders!D239/$C238","v":0.51539596655189368}]
[{"$f":"Orders!A240","v":"FR5796610"},{"$f":"VLOOKUP(A239,'Product-tool'!A:E,2,0)","v":"Tool 11"},{"$f":"VLOOKUP(A239&B239,'Standard output'!A:D,4,0)","v":2120},{"$f":"Orders!B240/$C239","v":1.6942924528301888},{"$f":"Orders!C240/$C239","v":1.9346698113207548},{"$f":"Orders!D240/$C239","v":1.6887735849056604}]
[{"$f":"Orders!A241","v":"FR5894727"},{"$f":"VLOOKUP(A240,'Product-tool'!A:E,2,0)","v":"Tool 11"},{"$f":"VLOOKUP(A240&B240,'Standard output'!A:D,4,0)","v":2055},{"$f":"Orders!B241/$C240","v":0.22141119221411193},{"$f":"Orders!C241/$C240","v":0.3656447688564477},{"$f":"Orders!D241/$C240","v":0.26948905109489052}]
[{"$f":"Orders!A242","v":"FR5931113"},{"$f":"VLOOKUP(A241,'Product-tool'!A:E,2,0)","v":"Tool 17"},{"$f":"VLOOKUP(A241&B241,'Standard output'!A:D,4,0)","v":6869},{"$f":"Orders!B242/$C241","v":0.27347503275585966},{"$f":"Orders!C242/$C241","v":0.38040471684379096},{"$f":"Orders!D242/$C241","v":0.30205270053865196}]
[{"$f":"Orders!A243","v":"FR5935871"},{"$f":"VLOOKUP(A242,'Product-tool'!A:E,2,0)","v":"Tool 11"},{"$f":"VLOOKUP(A242&B242,'Standard output'!A:D,4,0)","v":2061},{"$f":"Orders!B243/$C242","v":1.1561863173216886},{"$f":"Orders!C243/$C242","v":1.6399805919456574},{"$f":"Orders!D243/$C242","v":1.2911693352741387}]
[{"$f":"Orders!A244","v":"FR5969812"},{"$f":"VLOOKUP(A243,'Product-tool'!A:E,2,0)","v":"Tool 11"},{"$f":"VLOOKUP(A243&B243,'Standard output'!A:D,4,0)","v":2063},{"$f":"Orders!B244/$C243","v":10.004265632573921},{"$f":"Orders!C244/$C243","v":17.656180319922445},{"$f":"Orders!D244/$C243","v":20.575036354823073}]
[{"$f":"Orders!A245","v":"FR5979463"},{"$f":"VLOOKUP(A244,'Product-tool'!A:E,2,0)","v":"Tool 11"},{"$f":"VLOOKUP(A244&B244,'Standard output'!A:D,4,0)","v":2039},{"$f":"Orders!B245/$C244","v":1.1897008337420305},{"$f":"Orders!C245/$C244","v":1.0373222167729279},{"$f":"Orders!D245/$C244","v":1.0462481608631684}]
[{"$f":"Orders!A246","v":"FR5992952"},{"$f":"VLOOKUP(A245,'Product-tool'!A:E,2,0)","v":"Tool 11"},{"$f":"VLOOKUP(A245&B245,'Standard output'!A:D,4,0)","v":2083},{"$f":"Orders!B246/$C245","v":2.0819971195391265},{"$f":"Orders!C246/$C245","v":2.3809409505520884},{"$f":"Orders!D246/$C245","v":2.0763802208353339}]
[{"$f":"Orders!A247","v":"FR6818423"},{"$f":"VLOOKUP(A246,'Product-tool'!A:E,2,0)","v":"Tool 14"},{"$f":"VLOOKUP(A246&B246,'Standard output'!A:D,4,0)","v":2343},{"$f":"Orders!B247/$C246","v":1.6329065300896288},{"$f":"Orders!C247/$C246","v":2.2038412291933422},{"$f":"Orders!D247/$C246","v":1.7749466495945367}]
[{"$f":"Orders!A248","v":"GF0013491"},{"$f":"VLOOKUP(A247,'Product-tool'!A:E,2,0)","v":"Tool 14"},{"$f":"VLOOKUP(A247&B247,'Standard output'!A:D,4,0)","v":2371},{"$f":"Orders!B248/$C247","v":0.22808941374947284},{"$f":"Orders!C248/$C247","v":0.27469422184732184},{"$f":"Orders!D248/$C247","v":0.23357233234921976}]
[{"$f":"Orders!A249","v":"GF0149565"},{"$f":"VLOOKUP(A248,'Product-tool'!A:E,2,0)","v":"Tool 14"},{"$f":"VLOOKUP(A248&B248,'Standard output'!A:D,4,0)","v":2327},{"$f":"Orders!B249/$C248","v":1.0821229050279328},{"$f":"Orders!C249/$C248","v":1.752513966480447},{"$f":"Orders!D249/$C248","v":1.3033519553072626}]
[{"$f":"Orders!A250","v":"GF1114780"},{"$f":"VLOOKUP(A249,'Product-tool'!A:E,2,0)","v":"Tool 17"},{"$f":"VLOOKUP(A249&B249,'Standard output'!A:D,4,0)","v":6883},{"$f":"Orders!B250/$C249","v":3.2108092401569085E-3},{"$f":"Orders!C250/$C249","v":4.7217782943483949E-3},{"$f":"Orders!D250/$C249","v":3.7774226354787156E-3}]
[{"$f":"Orders!A251","v":"GF1349895"},{"$f":"VLOOKUP(A250,'Product-tool'!A:E,2,0)","v":"Tool 14"},{"$f":"VLOOKUP(A250&B250,'Standard output'!A:D,4,0)","v":2328},{"$f":"Orders!B251/$C250","v":9.2697594501718217E-2},{"$f":"Orders!C251/$C250","v":0.11447594501718213},{"$f":"Orders!D251/$C250","v":9.6606529209621997E-2}]
[{"$f":"Orders!A252","v":"GF1438930"},{"$f":"VLOOKUP(A251,'Product-tool'!A:E,2,0)","v":"Tool 14"},{"$f":"VLOOKUP(A251&B251,'Standard output'!A:D,4,0)","v":2376},{"$f":"Orders!B252/$C251","v":1.7322390572390574},{"$f":"Orders!C252/$C251","v":1.4406144781144781},{"$f":"Orders!D252/$C251","v":1.4925925925925927}]
[{"$f":"Orders!A253","v":"GF368849"},{"$f":"VLOOKUP(A252,'Product-tool'!A:E,2,0)","v":"Tool 14"},{"$f":"VLOOKUP(A252&B252,'Standard output'!A:D,4,0)","v":2301},{"$f":"Orders!B253/$C252","v":2.6553672316384183E-2},{"$f":"Orders!C253/$C252","v":1.6384180790960452E-2},{"$f":"Orders!D253/$C252","v":2.0903954802259886E-2}]
[{"$f":"Orders!A254","v":"GF3811858"},{"$f":"VLOOKUP(A253,'Product-tool'!A:E,2,0)","v":"Tool 14"},{"$f":"VLOOKUP(A253&B253,'Standard output'!A:D,4,0)","v":2309},{"$f":"Orders!B254/$C253","v":1.8579471632741446E-2},{"$f":"Orders!C254/$C253","v":1.6327414465136424E-2},{"$f":"Orders!D254/$C253","v":1.6890428757037678E-2}]
[{"$f":"Orders!A255","v":"GF4305823"},{"$f":"VLOOKUP(A254,'Product-tool'!A:E,2,0)","v":"Tool 14"},{"$f":"VLOOKUP(A254&B254,'Standard output'!A:D,4,0)","v":2302},{"$f":"Orders!B255/$C254","v":0.48227628149435275},{"$f":"Orders!C255/$C254","v":0.48340573414422239},{"$f":"Orders!D255/$C254","v":0.45178105994787143}]
[{"$f":"Orders!A256","v":"GF498873"},{"$f":"VLOOKUP(A255,'Product-tool'!A:E,2,0)","v":"Tool 14"},{"$f":"VLOOKUP(A255&B255,'Standard output'!A:D,4,0)","v":2322},{"$f":"Orders!B256/$C255","v":1.3996554694229113E-2},{"$f":"Orders!C256/$C255","v":2.0155038759689926E-2},{"$f":"Orders!D256/$C255","v":1.6236003445305774E-2}]
[{"$f":"Orders!A257","v":"GF5598636"},{"$f":"VLOOKUP(A256,'Product-tool'!A:E,2,0)","v":"Tool 14"},{"$f":"VLOOKUP(A256&B256,'Standard output'!A:D,4,0)","v":2305},{"$f":"Orders!B257/$C256","v":7.6138828633405639E-2},{"$f":"Orders!C257/$C256","v":7.5574837310195236E-2},{"$f":"Orders!D257/$C256","v":7.1062906724511932E-2}]
[{"$f":"Orders!A258","v":"GF5747120"},{"$f":"VLOOKUP(A257,'Product-tool'!A:E,2,0)","v":"Tool 14"},{"$f":"VLOOKUP(A257&B257,'Standard output'!A:D,4,0)","v":2337},{"$f":"Orders!B258/$C257","v":0.59298245614035083},{"$f":"Orders!C258/$C257","v":0.6447154471544716},{"$f":"Orders!D258/$C257","v":0.57685066324347456}]
[{"$f":"Orders!A259","v":"GF586901"},{"$f":"VLOOKUP(A258,'Product-tool'!A:E,2,0)","v":"Tool 14"},{"$f":"VLOOKUP(A258&B258,'Standard output'!A:D,4,0)","v":2332},{"$f":"Orders!B259/$C258","v":0.27873070325900512},{"$f":"Orders!C259/$C258","v":0.32667238421955408},{"$f":"Orders!D259/$C258","v":0.28151801029159518}]
[{"$f":"Orders!A260","v":"GF5886834"},{"$f":"VLOOKUP(A259,'Product-tool'!A:E,2,0)","v":"Tool 14"},{"$f":"VLOOKUP(A259&B259,'Standard output'!A:D,4,0)","v":2308},{"$f":"Orders!B260/$C259","v":2.863041594454073},{"$f":"Orders!C260/$C259","v":1.9133882149046795},{"$f":"Orders!D260/$C259","v":2.2631715771230505}]
[{"$f":"Orders!A261","v":"GF5885097"},{"$f":"VLOOKUP(A260,'Product-tool'!A:E,2,0)","v":"Tool 14"},{"$f":"VLOOKUP(A260&B260,'Standard output'!A:D,4,0)","v":2312},{"$f":"Orders!B261/$C260","v":20.011115916955021},{"$f":"Orders!C261/$C260","v":26.615700692041521},{"$f":"Orders!D261/$C260","v":21.577638408304498}]
[{"$f":"Orders!A262","v":"GF5892823"},{"$f":"VLOOKUP(A261,'Product-tool'!A:E,2,0)","v":"Tool 14"},{"$f":"VLOOKUP(A261&B261,'Standard output'!A:D,4,0)","v":2391},{"$f":"Orders!B262/$C261","v":0.60786281890422422},{"$f":"Orders!C262/$C261","v":0.9275616896695944},{"$f":"Orders!D262/$C261","v":0.70736093684650769}]
[{"$f":"Orders!A263","v":"GF5942175"},{"$f":"VLOOKUP(A262,'Product-tool'!A:E,2,0)","v":"Tool 14"},{"$f":"VLOOKUP(A262&B262,'Standard output'!A:D,4,0)","v":2335},{"$f":"Orders!B263/$C262","v":4.2312633832976447E-2},{"$f":"Orders!C263/$C262","v":6.8479657387580301E-2},{"$f":"Orders!D263/$C262","v":5.1220556745182014E-2}]
[{"$f":"Orders!A264","v":"GF67655"},{"$f":"VLOOKUP(A263,'Product-tool'!A:E,2,0)","v":"Tool 11"},{"$f":"VLOOKUP(A263&B263,'Standard output'!A:D,4,0)","v":2129},{"$f":"Orders!B264/$C263","v":4.3652888680131516},{"$f":"Orders!C264/$C263","v":6.1379051197745422},{"$f":"Orders!D264/$C263","v":4.8513386566463126}]
[{"$f":"Orders!A265","v":"IP453302"},{"$f":"VLOOKUP(A264,'Product-tool'!A:E,2,0)","v":"Tool 05"},{"$f":"VLOOKUP(A264&B264,'Standard output'!A:D,4,0)","v":1287},{"$f":"Orders!B265/$C264","v":0.20202020202020202},{"$f":"Orders!C265/$C264","v":0.30606060606060609},{"$f":"Orders!D265/$C264","v":0.23434343434343435}]
[{"$f":"Orders!A266","v":"IR1385574"},{"$f":"VLOOKUP(A265,'Product-tool'!A:E,2,0)","v":"Tool 19"},{"$f":"VLOOKUP(A265&B265,'Standard output'!A:D,4,0)","v":10177},{"$f":"Orders!B266/$C265","v":1.6989289574530806E-2},{"$f":"Orders!C266/$C265","v":1.9160852903606172E-2},{"$f":"Orders!D266/$C265","v":1.6861550555173431E-2}]
[{"$f":"Orders!A267","v":"IR539559"},{"$f":"VLOOKUP(A266,'Product-tool'!A:E,2,0)","v":"Tool 05"},{"$f":"VLOOKUP(A266&B266,'Standard output'!A:D,4,0)","v":1256},{"$f":"Orders!B267/$C266","v":0.34466560509554145},{"$f":"Orders!C267/$C266","v":0.53718152866242042},{"$f":"Orders!D267/$C266","v":0.40573248407643314}]
[{"$f":"Orders!A268","v":"IR5796915"},{"$f":"VLOOKUP(A267,'Product-tool'!A:E,2,0)","v":"Tool 12"},{"$f":"VLOOKUP(A267&B267,'Standard output'!A:D,4,0)","v":4068},{"$f":"Orders!B268/$C267","v":0.63913470993117005},{"$f":"Orders!C268/$C267","v":0.68163716814159292},{"$f":"Orders!D268/$C267","v":0.61580629301868239}]
[{"$f":"Orders!A269","v":"IR6327281"},{"$f":"VLOOKUP(A268,'Product-tool'!A:E,2,0)","v":"Tool 12"},{"$f":"VLOOKUP(A268&B268,'Standard output'!A:D,4,0)","v":4000},{"$f":"Orders!B269/$C268","v":4.3225E-2},{"$f":"Orders!C269/$C268","v":2.86E-2},{"$f":"Orders!D269/$C268","v":3.4125000000000003E-2}]
[{"$f":"Orders!A270","v":"MC3428427"},{"$f":"VLOOKUP(A269,'Product-tool'!A:E,2,0)","v":"Tool 13"},{"$f":"VLOOKUP(A269&B269,'Standard output'!A:D,4,0)","v":2430},{"$f":"Orders!B270/$C269","v":8.8806584362139923E-2},{"$f":"Orders!C270/$C269","v":5.6172839506172842E-2},{"$f":"Orders!D270/$C269","v":6.9012345679012349E-2}]
[{"$f":"Orders!A271","v":"MC3543546"},{"$f":"VLOOKUP(A270,'Product-tool'!A:E,2,0)","v":"Tool 11"},{"$f":"VLOOKUP(A270&B270,'Standard output'!A:D,4,0)","v":2108},{"$f":"Orders!B271/$C270","v":1.2876660341555977},{"$f":"Orders!C271/$C270","v":0.87016129032258061},{"$f":"Orders!D271/$C270","v":1.0224857685009487}]
[{"$f":"Orders!A272","v":"MC3717873"},{"$f":"VLOOKUP(A271,'Product-tool'!A:E,2,0)","v":"Tool 12"},{"$f":"VLOOKUP(A271&B271,'Standard output'!A:D,4,0)","v":4056},{"$f":"Orders!B272/$C271","v":6.7467948717948714},{"$f":"Orders!C272/$C271","v":10.640064102564102},{"$f":"Orders!D272/$C271","v":7.9993589743589748}]
[{"$f":"Orders!A273","v":"MC4244977"},{"$f":"VLOOKUP(A272,'Product-tool'!A:E,2,0)","v":"Tool 11"},{"$f":"VLOOKUP(A272&B272,'Standard output'!A:D,4,0)","v":2115},{"$f":"Orders!B273/$C272","v":6.9499290780141845},{"$f":"Orders!C273/$C272","v":10.170118203309693},{"$f":"Orders!D273/$C272","v":7.8965011820330977}]
[{"$f":"Orders!A274","v":"MC4291921"},{"$f":"VLOOKUP(A273,'Product-tool'!A:E,2,0)","v":"Tool 10"},{"$f":"VLOOKUP(A273&B273,'Standard output'!A:D,4,0)","v":1552},{"$f":"Orders!B274/$C273","v":0.34845360824742272},{"$f":"Orders!C274/$C273","v":0.3945231958762887},{"$f":"Orders!D274/$C273","v":0.34594072164948453}]
[{"$f":"Orders!A275","v":"MC4993575"},{"$f":"VLOOKUP(A274,'Product-tool'!A:E,2,0)","v":"Tool 19"},{"$f":"VLOOKUP(A274&B274,'Standard output'!A:D,4,0)","v":10264},{"$f":"Orders!B275/$C274","v":2.0265003897116133E-3},{"$f":"Orders!C275/$C274","v":2.5331254871395169E-3},{"$f":"Orders!D275/$C274","v":2.1531566640685894E-3}]
[{"$f":"Orders!A276","v":"MC4997628"},{"$f":"VLOOKUP(A275,'Product-tool'!A:E,2,0)","v":"Tool 19"},{"$f":"VLOOKUP(A275&B275,'Standard output'!A:D,4,0)","v":10252},{"$f":"Orders!B276/$C275","v":13.481349980491613},{"$f":"Orders!C276/$C275","v":17.326950838860711},{"$f":"Orders!D276/$C275","v":14.274131876706983}]
[{"$f":"Orders!A277","v":"MC5625753"},{"$f":"VLOOKUP(A276,'Product-tool'!A:E,2,0)","v":"Tool 05"},{"$f":"VLOOKUP(A276&B276,'Standard output'!A:D,4,0)","v":1217},{"$f":"Orders!B277/$C276","v":19.836483155299916},{"$f":"Orders!C277/$C276","v":20.216762530813476},{"$f":"Orders!D277/$C276","v":18.708463434675433}]
[{"$f":"Orders!A278","v":"MC5663542"},{"$f":"VLOOKUP(A277,'Product-tool'!A:E,2,0)","v":"Tool 05"},{"$f":"VLOOKUP(A277&B277,'Standard output'!A:D,4,0)","v":1239},{"$f":"Orders!B278/$C277","v":0.17417271993543182},{"$f":"Orders!C278/$C277","v":0.14899112187247779},{"$f":"Orders!D278/$C277","v":0.15213882163034706}]
[{"$f":"Orders!A279","v":"MC5823622"},{"$f":"VLOOKUP(A278,'Product-tool'!A:E,2,0)","v":"Tool 19"},{"$f":"VLOOKUP(A278&B278,'Standard output'!A:D,4,0)","v":10225},{"$f":"Orders!B279/$C278","v":0.53818092909535453},{"$f":"Orders!C279/$C278","v":0.76550611246943767},{"$f":"Orders!D279/$C278","v":0.60200488997555013}]
[{"$f":"Orders!A280","v":"MC594145"},{"$f":"VLOOKUP(A279,'Product-tool'!A:E,2,0)","v":"Tool 08"},{"$f":"VLOOKUP(A279&B279,'Standard output'!A:D,4,0)","v":3971},{"$f":"Orders!B280/$C279","v":0.33130193905817179},{"$f":"Orders!C280/$C279","v":0.40037773860488546},{"$f":"Orders!D280/$C279","v":0.33981364895492322}]
[{"$f":"Orders!A281","v":"ME8004536"},{"$f":"VLOOKUP(A280,'Product-tool'!A:E,2,0)","v":"Tool 08"},{"$f":"VLOOKUP(A280&B280,'Standard output'!A:D,4,0)","v":3972},{"$f":"Orders!B281/$C280","v":0.97696374622356497},{"$f":"Orders!C281/$C280","v":1.4119335347432023},{"$f":"Orders!D281/$C280","v":1.1023162134944613}]
[{"$f":"Orders!A282","v":"ME8004064"},{"$f":"VLOOKUP(A281,'Product-tool'!A:E,2,0)","v":"Tool 08"},{"$f":"VLOOKUP(A281&B281,'Standard output'!A:D,4,0)","v":3957},{"$f":"Orders!B282/$C281","v":1.6426585797321203},{"$f":"Orders!C282/$C281","v":1.4714935557240334},{"$f":"Orders!D282/$C281","v":1.460980540813748}]
[{"$f":"Orders!A283","v":"ME8009107"},{"$f":"VLOOKUP(A282,'Product-tool'!A:E,2,0)","v":"Tool 08"},{"$f":"VLOOKUP(A282&B282,'Standard output'!A:D,4,0)","v":3960},{"$f":"Orders!B283/$C282","v":1.1269949494949496},{"$f":"Orders!C283/$C282","v":1.3558080808080808},{"$f":"Orders!D283/$C282","v":1.1532575757575758}]
[{"$f":"Orders!A284","v":"ME8007924"},{"$f":"VLOOKUP(A283,'Product-tool'!A:E,2,0)","v":"Tool 08"},{"$f":"VLOOKUP(A283&B283,'Standard output'!A:D,4,0)","v":3990},{"$f":"Orders!B284/$C283","v":3.7142857142857144E-2},{"$f":"Orders!C284/$C283","v":4.3984962406015037E-2},{"$f":"Orders!D284/$C283","v":3.7794486215538853E-2}]
[{"$f":"Orders!A285","v":"ME8082434"},{"$f":"VLOOKUP(A284,'Product-tool'!A:E,2,0)","v":"Tool 08"},{"$f":"VLOOKUP(A284&B284,'Standard output'!A:D,4,0)","v":3939},{"$f":"Orders!B285/$C284","v":0.22871287128712869},{"$f":"Orders!C285/$C284","v":0.32838283828382836},{"$f":"Orders!D285/$C284","v":0.25742574257425743}]
[{"$f":"Orders!A286","v":"ME8115997"},{"$f":"VLOOKUP(A285,'Product-tool'!A:E,2,0)","v":"Tool 08"},{"$f":"VLOOKUP(A285&B285,'Standard output'!A:D,4,0)","v":3920},{"$f":"Orders!B286/$C285","v":3.7142857142857144E-2},{"$f":"Orders!C286/$C285","v":4.4770408163265309E-2},{"$f":"Orders!D286/$C285","v":3.8137755102040816E-2}]
[{"$f":"Orders!A287","v":"ME8144143"},{"$f":"VLOOKUP(A286,'Product-tool'!A:E,2,0)","v":"Tool 08"},{"$f":"VLOOKUP(A286&B286,'Standard output'!A:D,4,0)","v":3981},{"$f":"Orders!B287/$C286","v":0.54142175332830944},{"$f":"Orders!C287/$C286","v":0.58387339864355692},{"$f":"Orders!D287/$C286","v":0.52444109520221049}]
[{"$f":"Orders!A288","v":"ME81564"},{"$f":"VLOOKUP(A287,'Product-tool'!A:E,2,0)","v":"Tool 08"},{"$f":"VLOOKUP(A287&B287,'Standard output'!A:D,4,0)","v":3930},{"$f":"Orders!B288/$C287","v":0.1376081424936387},{"$f":"Orders!C288/$C287","v":0.17267175572519083},{"$f":"Orders!D288/$C287","v":0.14389312977099236}]
[{"$f":"Orders!A289","v":"ME8164351"},{"$f":"VLOOKUP(A288,'Product-tool'!A:E,2,0)","v":"Tool 11"},{"$f":"VLOOKUP(A288&B288,'Standard output'!A:D,4,0)","v":2072},{"$f":"Orders!B289/$C288","v":2.6752895752895753},{"$f":"Orders!C289/$C288","v":2.2273166023166024},{"$f":"Orders!D289/$C288","v":2.3057432432432434}]
[{"$f":"Orders!A290","v":"ME8183059"},{"$f":"VLOOKUP(A289,'Product-tool'!A:E,2,0)","v":"Tool 08"},{"$f":"VLOOKUP(A289&B289,'Standard output'!A:D,4,0)","v":3988},{"$f":"Orders!B290/$C289","v":4.066248746238716},{"$f":"Orders!C290/$C289","v":5.4099297893681042},{"$f":"Orders!D290/$C289","v":4.3853811434302914}]
[{"$f":"Orders!A291","v":"ME8182883"},{"$f":"VLOOKUP(A290,'Product-tool'!A:E,2,0)","v":"Tool 08"},{"$f":"VLOOKUP(A290&B290,'Standard output'!A:D,4,0)","v":3987},{"$f":"Orders!B291/$C290","v":0.87416603962879358},{"$f":"Orders!C291/$C290","v":0.74602457988462501},{"$f":"Orders!D291/$C290","v":0.76134938550288433}]
[{"$f":"Orders!A292","v":"ME8186457"},{"$f":"VLOOKUP(A291,'Product-tool'!A:E,2,0)","v":"Tool 08"},{"$f":"VLOOKUP(A291&B291,'Standard output'!A:D,4,0)","v":3997},{"$f":"Orders!B292/$C291","v":0.44038028521391043},{"$f":"Orders!C292/$C291","v":0.30182636977733301},{"$f":"Orders!D292/$C291","v":0.35126344758568928}]
[{"$f":"Orders!A293","v":"ME8183894"},{"$f":"VLOOKUP(A292,'Product-tool'!A:E,2,0)","v":"Tool 08"},{"$f":"VLOOKUP(A292&B292,'Standard output'!A:D,4,0)","v":3946},{"$f":"Orders!B293/$C292","v":6.1784591991890521},{"$f":"Orders!C293/$C292","v":8.0059047136340595},{"$f":"Orders!D293/$C292","v":6.570172326406488}]
[{"$f":"Orders!A294","v":"ME8203838"},{"$f":"VLOOKUP(A293,'Product-tool'!A:E,2,0)","v":"Tool 08"},{"$f":"VLOOKUP(A293&B293,'Standard output'!A:D,4,0)","v":3986},{"$f":"Orders!B294/$C293","v":3.4535122930255899},{"$f":"Orders!C294/$C293","v":2.92646763672855},{"$f":"Orders!D294/$C293","v":2.9991971901655798}]
[{"$f":"Orders!A295","v":"ME8216708"},{"$f":"VLOOKUP(A294,'Product-tool'!A:E,2,0)","v":"Tool 08"},{"$f":"VLOOKUP(A294&B294,'Standard output'!A:D,4,0)","v":3988},{"$f":"Orders!B295/$C294","v":1.1735205616850553},{"$f":"Orders!C295/$C294","v":1.8196088264794383},{"$f":"Orders!D295/$C294","v":1.3779087261785357}]
[{"$f":"Orders!A296","v":"ME8212034"},{"$f":"VLOOKUP(A295,'Product-tool'!A:E,2,0)","v":"Tool 08"},{"$f":"VLOOKUP(A295&B295,'Standard output'!A:D,4,0)","v":3990},{"$f":"Orders!B296/$C295","v":0.3691478696741855},{"$f":"Orders!C296/$C295","v":0.39130325814536338},{"$f":"Orders!D296/$C295","v":0.35481203007518797}]
[{"$f":"Orders!A297","v":"ME8219605"},{"$f":"VLOOKUP(A296,'Product-tool'!A:E,2,0)","v":"Tool 08"},{"$f":"VLOOKUP(A296&B296,'Standard output'!A:D,4,0)","v":3951},{"$f":"Orders!B297/$C296","v":1.3592255125284738},{"$f":"Orders!C297/$C296","v":2.1403442166540114},{"$f":"Orders!D297/$C296","v":1.6102758795241709}]
[{"$f":"Orders!A298","v":"ME8227923"},{"$f":"VLOOKUP(A297,'Product-tool'!A:E,2,0)","v":"Tool 08"},{"$f":"VLOOKUP(A297&B297,'Standard output'!A:D,4,0)","v":3962},{"$f":"Orders!B298/$C297","v":3.674911660777385E-2},{"$f":"Orders!C298/$C297","v":5.610802624936901E-2},{"$f":"Orders!D298/$C297","v":4.2655224634023221E-2}]
[{"$f":"Orders!A299","v":"ME8254069"},{"$f":"VLOOKUP(A298,'Product-tool'!A:E,2,0)","v":"Tool 08"},{"$f":"VLOOKUP(A298&B298,'Standard output'!A:D,4,0)","v":3943},{"$f":"Orders!B299/$C298","v":0.16484909967030181},{"$f":"Orders!C299/$C298","v":0.20111590159776821},{"$f":"Orders!D299/$C298","v":0.16979457266041084}]
[{"$f":"Orders!A300","v":"ME8294469"},{"$f":"VLOOKUP(A299,'Product-tool'!A:E,2,0)","v":"Tool 08"},{"$f":"VLOOKUP(A299&B299,'Standard output'!A:D,4,0)","v":3989},{"$f":"Orders!B300/$C299","v":1.8533717723740286},{"$f":"Orders!C300/$C299","v":2.9777137127099524},{"$f":"Orders!D300/$C299","v":2.2213085986462775}]
[{"$f":"Orders!A301","v":"ME8314847"},{"$f":"VLOOKUP(A300,'Product-tool'!A:E,2,0)","v":"Tool 08"},{"$f":"VLOOKUP(A300&B300,'Standard output'!A:D,4,0)","v":4003},{"$f":"Orders!B301/$C300","v":0.12470647014738948},{"$f":"Orders!C301/$C300","v":0.18576067949038222},{"$f":"Orders!D301/$C300","v":0.14321758680989261}]
[{"$f":"Orders!A302","v":"ME8808939"},{"$f":"VLOOKUP(A301,'Product-tool'!A:E,2,0)","v":"Tool 08"},{"$f":"VLOOKUP(A301&B301,'Standard output'!A:D,4,0)","v":3977},{"$f":"Orders!B302/$C301","v":0.64950968066381698},{"$f":"Orders!C302/$C301","v":0.86034699522252955},{"$f":"Orders!D302/$C301","v":0.69886849383957761}]
[{"$f":"Orders!A303","v":"ME8804901"},{"$f":"VLOOKUP(A302,'Product-tool'!A:E,2,0)","v":"Tool 08"},{"$f":"VLOOKUP(A302&B302,'Standard output'!A:D,4,0)","v":3933},{"$f":"Orders!B303/$C302","v":14.139359267734553},{"$f":"Orders!C303/$C302","v":23.996618357487922},{"$f":"Orders!D303/$C302","v":17.50322908721078}]
[{"$f":"Orders!A304","v":"ME8809588"},{"$f":"VLOOKUP(A303,'Product-tool'!A:E,2,0)","v":"Tool 08"},{"$f":"VLOOKUP(A303&B303,'Standard output'!A:D,4,0)","v":3934},{"$f":"Orders!B304/$C303","v":0.20983731570920183},{"$f":"Orders!C304/$C303","v":0.21347229283172345},{"$f":"Orders!D304/$C303","v":0.19761057447890187}]
[{"$f":"Orders!A305","v":"ME8846873"},{"$f":"VLOOKUP(A304,'Product-tool'!A:E,2,0)","v":"Tool 08"},{"$f":"VLOOKUP(A304&B304,'Standard output'!A:D,4,0)","v":4003},{"$f":"Orders!B305/$C304","v":2.7880339745191107},{"$f":"Orders!C305/$C304","v":2.5714214339245567},{"$f":"Orders!D305/$C304","v":2.5123157631776172}]
[{"$f":"Orders!A306","v":"ME8876987"},{"$f":"VLOOKUP(A305,'Product-tool'!A:E,2,0)","v":"Tool 04"},{"$f":"VLOOKUP(A305&B305,'Standard output'!A:D,4,0)","v":2302},{"$f":"Orders!B306/$C305","v":0.20330147697654213},{"$f":"Orders!C306/$C305","v":0.14908774978279757},{"$f":"Orders!D306/$C305","v":0.16659426585577758}]
[{"$f":"Orders!A307","v":"MP8004078"},{"$f":"VLOOKUP(A306,'Product-tool'!A:E,2,0)","v":"Tool 04"},{"$f":"VLOOKUP(A306&B306,'Standard output'!A:D,4,0)","v":2293},{"$f":"Orders!B307/$C306","v":8.6487134757959012},{"$f":"Orders!C307/$C306","v":5.7726122982991717},{"$f":"Orders!D307/$C306","v":6.8344962930658522}]
[{"$f":"Orders!A308","v":"MP8026858"},{"$f":"VLOOKUP(A307,'Product-tool'!A:E,2,0)","v":"Tool 04"},{"$f":"VLOOKUP(A307&B307,'Standard output'!A:D,4,0)","v":2253},{"$f":"Orders!B308/$C307","v":18.655259653794943},{"$f":"Orders!C308/$C307","v":18.399067909454061},{"$f":"Orders!D308/$C307","v":17.327563249001333}]
[{"$f":"Orders!A309","v":"MP8061520"},{"$f":"VLOOKUP(A308,'Product-tool'!A:E,2,0)","v":"Tool 04"},{"$f":"VLOOKUP(A308&B308,'Standard output'!A:D,4,0)","v":2265},{"$f":"Orders!B309/$C308","v":13.041898454746137},{"$f":"Orders!C309/$C308","v":19.525827814569535},{"$f":"Orders!D309/$C308","v":15.010551876379692}]
[{"$f":"Orders!A310","v":"MP8104858"},{"$f":"VLOOKUP(A309,'Product-tool'!A:E,2,0)","v":"Tool 04"},{"$f":"VLOOKUP(A309&B309,'Standard output'!A:D,4,0)","v":2302},{"$f":"Orders!B310/$C309","v":18.155951346655083},{"$f":"Orders!C310/$C309","v":43.382276281494356},{"$f":"Orders!D310/$C309","v":12.423979148566463}]
[{"$f":"Orders!A311","v":"MP8109471"},{"$f":"VLOOKUP(A310,'Product-tool'!A:E,2,0)","v":"Tool 04"},{"$f":"VLOOKUP(A310&B310,'Standard output'!A:D,4,0)","v":2313},{"$f":"Orders!B311/$C310","v":1.0678772157371379},{"$f":"Orders!C311/$C310","v":1.5203199308257673},{"$f":"Orders!D311/$C310","v":1.1948984003458711}]
[{"$f":"Orders!A312","v":"MP8189416"},{"$f":"VLOOKUP(A311,'Product-tool'!A:E,2,0)","v":"Tool 07"},{"$f":"VLOOKUP(A311&B311,'Standard output'!A:D,4,0)","v":6436},{"$f":"Orders!B312/$C311","v":5.9283716594157863},{"$f":"Orders!C312/$C311","v":4.2716594157862025},{"$f":"Orders!D312/$C311","v":4.8214729645742693}]
[{"$f":"Orders!A313","v":"MR0869382"},{"$f":"VLOOKUP(A312,'Product-tool'!A:E,2,0)","v":"Tool 10"},{"$f":"VLOOKUP(A312&B312,'Standard output'!A:D,4,0)","v":1636},{"$f":"Orders!B313/$C312","v":0.16528117359413205},{"$f":"Orders!C313/$C312","v":0.1128361858190709},{"$f":"Orders!D313/$C312","v":0.13190709046454768}]
[{"$f":"Orders!A314","v":"MT0524796"},{"$f":"VLOOKUP(A313,'Product-tool'!A:E,2,0)","v":"Tool 09"},{"$f":"VLOOKUP(A313&B313,'Standard output'!A:D,4,0)","v":488},{"$f":"Orders!B314/$C313","v":4.6938524590163935},{"$f":"Orders!C314/$C313","v":7.2379098360655734},{"$f":"Orders!D314/$C313","v":5.495696721311476}]
[{"$f":"Orders!A315","v":"MT458935"},{"$f":"VLOOKUP(A314,'Product-tool'!A:E,2,0)","v":"Tool 09"},{"$f":"VLOOKUP(A314&B314,'Standard output'!A:D,4,0)","v":504},{"$f":"Orders!B315/$C314","v":7.1448412698412698},{"$f":"Orders!C315/$C314","v":9.6829365079365068},{"$f":"Orders!D315/$C314","v":7.7845238095238098}]
[{"$f":"Orders!A316","v":"MT4603768"},{"$f":"VLOOKUP(A315,'Product-tool'!A:E,2,0)","v":"Tool 15"},{"$f":"VLOOKUP(A315&B315,'Standard output'!A:D,4,0)","v":4489},{"$f":"Orders!B316/$C315","v":1.9113388282468256E-2},{"$f":"Orders!C316/$C315","v":1.2163065270661617E-2},{"$f":"Orders!D316/$C315","v":1.4769436400089106E-2}]
[{"$f":"Orders!A317","v":"NU0449734"},{"$f":"VLOOKUP(A316,'Product-tool'!A:E,2,0)","v":"Tool 15"},{"$f":"VLOOKUP(A316&B316,'Standard output'!A:D,4,0)","v":4417},{"$f":"Orders!B317/$C316","v":6.7642970341860993},{"$f":"Orders!C317/$C316","v":8.8783789902648866},{"$f":"Orders!D317/$C316","v":7.2422685080371298}]
[{"$f":"Orders!A318","v":"NU0799419"},{"$f":"VLOOKUP(A317,'Product-tool'!A:E,2,0)","v":"Tool 15"},{"$f":"VLOOKUP(A317&B317,'Standard output'!A:D,4,0)","v":4456},{"$f":"Orders!B318/$C317","v":1.9254937163375223E-2},{"$f":"Orders!C318/$C317","v":2.1880610412926393E-2},{"$f":"Orders!D318/$C317","v":1.9254937163375223E-2}]
[{"$f":"Orders!A319","v":"NU0913559"},{"$f":"VLOOKUP(A318,'Product-tool'!A:E,2,0)","v":"Tool 15"},{"$f":"VLOOKUP(A318&B318,'Standard output'!A:D,4,0)","v":4414},{"$f":"Orders!B319/$C318","v":0.90122338015405523},{"$f":"Orders!C319/$C318","v":1.3011780697779793},{"$f":"Orders!D319/$C318","v":1.0163797009515179}]
[{"$f":"Orders!A320","v":"NU1662490"},{"$f":"VLOOKUP(A319,'Product-tool'!A:E,2,0)","v":"Tool 15"},{"$f":"VLOOKUP(A319&B319,'Standard output'!A:D,4,0)","v":4457},{"$f":"Orders!B320/$C319","v":2.4209109266322641E-2},{"$f":"Orders!C320/$C319","v":2.5667489342607135E-2},{"$f":"Orders!D320/$C319","v":2.3334081220551941E-2}]
[{"$f":"Orders!A321","v":"NU1816428"},{"$f":"VLOOKUP(A320,'Product-tool'!A:E,2,0)","v":"Tool 10"},{"$f":"VLOOKUP(A320&B320,'Standard output'!A:D,4,0)","v":1636},{"$f":"Orders!B321/$C320","v":8.9029339853300744},{"$f":"Orders!C321/$C320","v":9.893826405867971},{"$f":"Orders!D321/$C320","v":8.7527506112469435}]
[{"$f":"Orders!A322","v":"NU2694528"},{"$f":"VLOOKUP(A321,'Product-tool'!A:E,2,0)","v":"Tool 15"},{"$f":"VLOOKUP(A321&B321,'Standard output'!A:D,4,0)","v":4499},{"$f":"Orders!B322/$C321","v":4.7966214714380978E-2},{"$f":"Orders!C322/$C321","v":7.1082462769504334E-2},{"$f":"Orders!D322/$C321","v":5.4901089130917985E-2}]
[{"$f":"Orders!A323","v":"NU2703355"},{"$f":"VLOOKUP(A322,'Product-tool'!A:E,2,0)","v":"Tool 02"},{"$f":"VLOOKUP(A322&B322,'Standard output'!A:D,4,0)","v":2647},{"$f":"Orders!B323/$C322","v":1.8127313940309786},{"$f":"Orders!C323/$C322","v":3.0881752927842845},{"$f":"Orders!D323/$C322","v":2.2488477521722703}]
[{"$f":"Orders!A324","v":"NU2754771"},{"$f":"VLOOKUP(A323,'Product-tool'!A:E,2,0)","v":"Tool 05"},{"$f":"VLOOKUP(A323&B323,'Standard output'!A:D,4,0)","v":1289},{"$f":"Orders!B324/$C323","v":3.7820015515903802},{"$f":"Orders!C324/$C323","v":5.7899922420480996},{"$f":"Orders!D324/$C323","v":4.4083010085337468}]
[{"$f":"Orders!A325","v":"NU290431"},{"$f":"VLOOKUP(A324,'Product-tool'!A:E,2,0)","v":"Tool 15"},{"$f":"VLOOKUP(A324&B324,'Standard output'!A:D,4,0)","v":4482},{"$f":"Orders!B325/$C324","v":0.92931726907630519},{"$f":"Orders!C325/$C324","v":1.5755466309683177},{"$f":"Orders!D325/$C324","v":1.1497545738509594}]
[{"$f":"Orders!A326","v":"NU3608271"},{"$f":"VLOOKUP(A325,'Product-tool'!A:E,2,0)","v":"Tool 10"},{"$f":"VLOOKUP(A325&B325,'Standard output'!A:D,4,0)","v":1630},{"$f":"Orders!B326/$C325","v":0.77760736196319014},{"$f":"Orders!C326/$C325","v":0.64282208588957057},{"$f":"Orders!D326/$C325","v":0.66834355828220859}]
[{"$f":"Orders!A327","v":"NU3708683"},{"$f":"VLOOKUP(A326,'Product-tool'!A:E,2,0)","v":"Tool 02"},{"$f":"VLOOKUP(A326&B326,'Standard output'!A:D,4,0)","v":2619},{"$f":"Orders!B327/$C326","v":1.0369224894998093},{"$f":"Orders!C327/$C326","v":1.7010691103474611},{"$f":"Orders!D327/$C326","v":1.2583046964490263}]
[{"$f":"Orders!A328","v":"NU3827246"},{"$f":"VLOOKUP(A327,'Product-tool'!A:E,2,0)","v":"Tool 02"},{"$f":"VLOOKUP(A327&B327,'Standard output'!A:D,4,0)","v":2693},{"$f":"Orders!B328/$C327","v":0.45666542888971406},{"$f":"Orders!C328/$C327","v":0.58989974006683998},{"$f":"Orders!D328/$C327","v":0.48514667656888227}]
[{"$f":"Orders!A329","v":"NU3927324"},{"$f":"VLOOKUP(A328,'Product-tool'!A:E,2,0)","v":"Tool 11"},{"$f":"VLOOKUP(A328&B328,'Standard output'!A:D,4,0)","v":2084},{"$f":"Orders!B329/$C328","v":1.6449616122840691},{"$f":"Orders!C329/$C328","v":2.6417946257197698},{"$f":"Orders!D329/$C328","v":1.9712092130518235}]
[{"$f":"Orders!A330","v":"NU4893598"},{"$f":"VLOOKUP(A329,'Product-tool'!A:E,2,0)","v":"Tool 02"},{"$f":"VLOOKUP(A329&B329,'Standard output'!A:D,4,0)","v":2619},{"$f":"Orders!B330/$C329","v":4.1198930889652541E-2},{"$f":"Orders!C330/$C329","v":4.7651775486827037E-2},{"$f":"Orders!D330/$C329","v":4.1695303550973659E-2}]
[{"$f":"Orders!A331","v":"NU5305035"},{"$f":"VLOOKUP(A330,'Product-tool'!A:E,2,0)","v":"Tool 17"},{"$f":"VLOOKUP(A330&B330,'Standard output'!A:D,4,0)","v":6846},{"$f":"Orders!B331/$C330","v":1.8419515045281918E-2},{"$f":"Orders!C331/$C330","v":2.3546596552731523E-2},{"$f":"Orders!D331/$C330","v":1.9558866491381829E-2}]
[{"$f":"Orders!A332","v":"NU5785654"},{"$f":"VLOOKUP(A331,'Product-tool'!A:E,2,0)","v":"Tool 10"},{"$f":"VLOOKUP(A331&B331,'Standard output'!A:D,4,0)","v":1606},{"$f":"Orders!B332/$C331","v":0.12789539227895394},{"$f":"Orders!C332/$C331","v":9.3897882938978841E-2},{"$f":"Orders!D332/$C331","v":0.10523038605230386}]
[{"$f":"Orders!A333","v":"OX5859021"},{"$f":"VLOOKUP(A332,'Product-tool'!A:E,2,0)","v":"Tool 10"},{"$f":"VLOOKUP(A332&B332,'Standard output'!A:D,4,0)","v":1609},{"$f":"Orders!B333/$C332","v":1.1311373523927906E-2},{"$f":"Orders!C333/$C332","v":1.9390926041019267E-2},{"$f":"Orders!D333/$C332","v":1.4543194530764452E-2}]
[{"$f":"Orders!A334","v":"OX5851901"},{"$f":"VLOOKUP(A333,'Product-tool'!A:E,2,0)","v":"Tool 16"},{"$f":"VLOOKUP(A333&B333,'Standard output'!A:D,4,0)","v":6845},{"$f":"Orders!B334/$C333","v":6.2673484295105919E-3},{"$f":"Orders!C334/$C333","v":1.0635500365230095E-2},{"$f":"Orders!D334/$C333","v":7.7867056245434626E-3}]
[{"$f":"Orders!A335","v":"RC146190"},{"$f":"VLOOKUP(A334,'Product-tool'!A:E,2,0)","v":"Tool 18"},{"$f":"VLOOKUP(A334&B334,'Standard output'!A:D,4,0)","v":2872},{"$f":"Orders!B335/$C334","v":0.64094707520891359},{"$f":"Orders!C335/$C334","v":1.0714136490250696},{"$f":"Orders!D335/$C334","v":0.78669916434540388}]
[{"$f":"Orders!A336","v":"RC4928508"},{"$f":"VLOOKUP(A335,'Product-tool'!A:E,2,0)","v":"Tool 18"},{"$f":"VLOOKUP(A335&B335,'Standard output'!A:D,4,0)","v":2878},{"$f":"Orders!B336/$C335","v":3.0264072272411398E-2},{"$f":"Orders!C336/$C335","v":5.0138985406532319E-2},{"$f":"Orders!D336/$C335","v":3.7039610840861714E-2}]
[{"$f":"Orders!A337","v":"RM0095773"},{"$f":"VLOOKUP(A336,'Product-tool'!A:E,2,0)","v":"Tool 18"},{"$f":"VLOOKUP(A336&B336,'Standard output'!A:D,4,0)","v":2882},{"$f":"Orders!B337/$C336","v":0.98560027758501045},{"$f":"Orders!C337/$C336","v":1.20617626648161},{"$f":"Orders!D337/$C336","v":1.0171755725190839}]
[{"$f":"Orders!A338","v":"RM1193363"},{"$f":"VLOOKUP(A337,'Product-tool'!A:E,2,0)","v":"Tool 18"},{"$f":"VLOOKUP(A337&B337,'Standard output'!A:D,4,0)","v":2843},{"$f":"Orders!B338/$C337","v":3.6581076327822722E-3},{"$f":"Orders!C338/$C337","v":5.0298979950756245E-3},{"$f":"Orders!D338/$C337","v":4.1153710868800566E-3}]
[{"$f":"Orders!A339","v":"RM12722"},{"$f":"VLOOKUP(A338,'Product-tool'!A:E,2,0)","v":"Tool 18"},{"$f":"VLOOKUP(A338&B338,'Standard output'!A:D,4,0)","v":2880},{"$f":"Orders!B339/$C338","v":1.6250000000000001E-2},{"$f":"Orders!C339/$C338","v":2.5277777777777777E-2},{"$f":"Orders!D339/$C338","v":1.8958333333333334E-2}]
[{"$f":"Orders!A340","v":"RM2364622"},{"$f":"VLOOKUP(A339,'Product-tool'!A:E,2,0)","v":"Tool 18"},{"$f":"VLOOKUP(A339&B339,'Standard output'!A:D,4,0)","v":2839},{"$f":"Orders!B340/$C339","v":1.1809439943642128},{"$f":"Orders!C340/$C339","v":1.1433955618175413},{"$f":"Orders!D340/$C339","v":1.0875308207115182}]
[{"$f":"Orders!A341","v":"RM4669200"},{"$f":"VLOOKUP(A340,'Product-tool'!A:E,2,0)","v":"Tool 18"},{"$f":"VLOOKUP(A340&B340,'Standard output'!A:D,4,0)","v":2899},{"$f":"Orders!B341/$C340","v":7.1748878923766817E-3},{"$f":"Orders!C341/$C340","v":1.1659192825112109E-2},{"$f":"Orders!D341/$C340","v":8.5201793721973087E-3}]
[{"$f":"Orders!A342","v":"RM4667709"},{"$f":"VLOOKUP(A341,'Product-tool'!A:E,2,0)","v":"Tool 18"},{"$f":"VLOOKUP(A341&B341,'Standard output'!A:D,4,0)","v":2856},{"$f":"Orders!B342/$C341","v":1.5362394957983194},{"$f":"Orders!C342/$C341","v":1.9663865546218486},{"$f":"Orders!D342/$C341","v":1.6231792717086835}]
[{"$f":"Orders!A343","v":"RM4695168"},{"$f":"VLOOKUP(A342,'Product-tool'!A:E,2,0)","v":"Tool 18"},{"$f":"VLOOKUP(A342&B342,'Standard output'!A:D,4,0)","v":2806},{"$f":"Orders!B343/$C342","v":0.78157519600855307},{"$f":"Orders!C343/$C342","v":1.2031717747683535},{"$f":"Orders!D343/$C342","v":0.91407697790449038}]
[{"$f":"Orders!A344","v":"RM4934415"},{"$f":"VLOOKUP(A343,'Product-tool'!A:E,2,0)","v":"Tool 18"},{"$f":"VLOOKUP(A343&B343,'Standard output'!A:D,4,0)","v":2834},{"$f":"Orders!B344/$C343","v":0.10321100917431193},{"$f":"Orders!C344/$C343","v":8.8990825688073399E-2},{"$f":"Orders!D344/$C343","v":9.0366972477064225E-2}]
[{"$f":"Orders!A345","v":"RM5456028"},{"$f":"VLOOKUP(A344,'Product-tool'!A:E,2,0)","v":"Tool 18"},{"$f":"VLOOKUP(A344&B344,'Standard output'!A:D,4,0)","v":2880},{"$f":"Orders!B345/$C344","v":7.4930555555555556E-2},{"$f":"Orders!C345/$C344","v":4.7847222222222228E-2},{"$f":"Orders!D345/$C344","v":5.8229166666666672E-2}]
[{"$f":"Orders!A346","v":"RM56355"},{"$f":"VLOOKUP(A345,'Product-tool'!A:E,2,0)","v":"Tool 18"},{"$f":"VLOOKUP(A345&B345,'Standard output'!A:D,4,0)","v":2888},{"$f":"Orders!B346/$C345","v":54.701281163434906},{"$f":"Orders!C346/$C345","v":33.894529085872577},{"$f":"Orders!D346/$C345","v":42.087499999999999}]
[{"$f":"Orders!A347","v":"RM5696783"},{"$f":"VLOOKUP(A346,'Product-tool'!A:E,2,0)","v":"Tool 18"},{"$f":"VLOOKUP(A346&B346,'Standard output'!A:D,4,0)","v":2819},{"$f":"Orders!B347/$C346","v":1.7062788222774034E-2},{"$f":"Orders!C347/$C346","v":2.4902447676481022E-2},{"$f":"Orders!D347/$C346","v":1.9368570415040795E-2}]
[{"$f":"Orders!A348","v":"RM5699820"},{"$f":"VLOOKUP(A347,'Product-tool'!A:E,2,0)","v":"Tool 18"},{"$f":"VLOOKUP(A347&B347,'Standard output'!A:D,4,0)","v":2880},{"$f":"Orders!B348/$C347","v":2.6636458333333333},{"$f":"Orders!C348/$C347","v":2.0515625000000002},{"$f":"Orders!D348/$C347","v":2.2239930555555558}]
[{"$f":"Orders!A349","v":"RM5986206"},{"$f":"VLOOKUP(A348,'Product-tool'!A:E,2,0)","v":"Tool 18"},{"$f":"VLOOKUP(A348&B348,'Standard output'!A:D,4,0)","v":2811},{"$f":"Orders!B349/$C348","v":0.56004980434009244},{"$f":"Orders!C349/$C348","v":0.49807897545357527},{"$f":"Orders!D349/$C348","v":0.49669156883671295}]
[{"$f":"Orders!A350","v":"RM6463347"},{"$f":"VLOOKUP(A349,'Product-tool'!A:E,2,0)","v":"Tool 18"},{"$f":"VLOOKUP(A349&B349,'Standard output'!A:D,4,0)","v":2840},{"$f":"Orders!B350/$C349","v":0.60559859154929585},{"$f":"Orders!C350/$C349","v":0.846830985915493},{"$f":"Orders!D350/$C349","v":0.671056338028169}]
[{"$f":"Orders!A351","v":"RT2524952"},{"$f":"VLOOKUP(A350,'Product-tool'!A:E,2,0)","v":"Tool 18"},{"$f":"VLOOKUP(A350&B350,'Standard output'!A:D,4,0)","v":2855},{"$f":"Orders!B351/$C350","v":3.4915586690017513},{"$f":"Orders!C351/$C350","v":2.6209457092819615},{"$f":"Orders!D351/$C350","v":2.8854991243432577}]
[{"$f":"Orders!A352","v":"RT2601597"},{"$f":"VLOOKUP(A351,'Product-tool'!A:E,2,0)","v":"Tool 18"},{"$f":"VLOOKUP(A351&B351,'Standard output'!A:D,4,0)","v":2850},{"$f":"Orders!B352/$C351","v":0.28098245614035089},{"$f":"Orders!C352/$C351","v":0.41554385964912277},{"$f":"Orders!D352/$C351","v":0.32112280701754387}]
[{"$f":"Orders!A353","v":"RT2887016"},{"$f":"VLOOKUP(A352,'Product-tool'!A:E,2,0)","v":"Tool 18"},{"$f":"VLOOKUP(A352&B352,'Standard output'!A:D,4,0)","v":2873},{"$f":"Orders!B353/$C352","v":11.371040723981901},{"$f":"Orders!C353/$C352","v":16.676923076923078},{"$f":"Orders!D353/$C352","v":12.936199095022626}]
[{"$f":"Orders!A354","v":"RT3164824"},{"$f":"VLOOKUP(A353,'Product-tool'!A:E,2,0)","v":"Tool 10"},{"$f":"VLOOKUP(A353&B353,'Standard output'!A:D,4,0)","v":1643},{"$f":"Orders!B354/$C353","v":60.966281192939746},{"$f":"Orders!C354/$C353","v":87.557334144856981},{"$f":"Orders!D354/$C353","v":68.551856360316492}]
[{"$f":"Orders!A355","v":"SB0191101"},{"$f":"VLOOKUP(A354,'Product-tool'!A:E,2,0)","v":"Tool 15"},{"$f":"VLOOKUP(A354&B354,'Standard output'!A:D,4,0)","v":4456},{"$f":"Orders!B355/$C354","v":2.2172351885098744E-2},{"$f":"Orders!C355/$C354","v":1.3420107719928187E-2},{"$f":"Orders!D355/$C354","v":1.6921005385996411E-2}]
[{"$f":"Orders!A356","v":"SB0898923"},{"$f":"VLOOKUP(A355,'Product-tool'!A:E,2,0)","v":"Tool 07"},{"$f":"VLOOKUP(A355&B355,'Standard output'!A:D,4,0)","v":6488},{"$f":"Orders!B356/$C355","v":0.156288532675709},{"$f":"Orders!C356/$C355","v":0.12102342786683108},{"$f":"Orders!D356/$C355","v":0.13084155363748459}]
[{"$f":"Orders!A357","v":"SB1429502"},{"$f":"VLOOKUP(A356,'Product-tool'!A:E,2,0)","v":"Tool 10"},{"$f":"VLOOKUP(A356&B356,'Standard output'!A:D,4,0)","v":1553},{"$f":"Orders!B357/$C356","v":1.3837089504185449},{"$f":"Orders!C357/$C356","v":2.0433354797166774},{"$f":"Orders!D357/$C356","v":1.5804249839021249}]
[{"$f":"Orders!A358","v":"SB2162364"},{"$f":"VLOOKUP(A357,'Product-tool'!A:E,2,0)","v":"Tool 15"},{"$f":"VLOOKUP(A357&B357,'Standard output'!A:D,4,0)","v":4420},{"$f":"Orders!B358/$C357","v":1.5882352941176472E-2},{"$f":"Orders!C358/$C357","v":2.5588235294117648E-2},{"$f":"Orders!D358/$C357","v":1.9117647058823531E-2}]
[{"$f":"Orders!A359","v":"SB3338674"},{"$f":"VLOOKUP(A358,'Product-tool'!A:E,2,0)","v":"Tool 02"},{"$f":"VLOOKUP(A358&B358,'Standard output'!A:D,4,0)","v":2664},{"$f":"Orders!B359/$C358","v":6.3438438438438447E-3},{"$f":"Orders!C359/$C358","v":6.8318318318318317E-3},{"$f":"Orders!D359/$C358","v":6.3438438438438447E-3}]
[{"$f":"Orders!A360","v":"SB4985987"},{"$f":"VLOOKUP(A359,'Product-tool'!A:E,2,0)","v":"Tool 02"},{"$f":"VLOOKUP(A359&B359,'Standard output'!A:D,4,0)","v":2648},{"$f":"Orders!B360/$C359","v":6.2839879154078557E-2},{"$f":"Orders!C360/$C359","v":6.333081570996979E-2},{"$f":"Orders!D360/$C359","v":5.8912386706948643E-2}]
[{"$f":"Orders!A361","v":"SB585933"},{"$f":"VLOOKUP(A360,'Product-tool'!A:E,2,0)","v":"Tool 16"},{"$f":"VLOOKUP(A360&B360,'Standard output'!A:D,4,0)","v":6889},{"$f":"Orders!B361/$C360","v":1.1699811293366237E-2},{"$f":"Orders!C361/$C360","v":1.9248076643925097E-2},{"$f":"Orders!D361/$C360","v":1.4341704166061838E-2}]
[{"$f":"Orders!A362","v":"SB6619702"},{"$f":"VLOOKUP(A361,'Product-tool'!A:E,2,0)","v":"Tool 02"},{"$f":"VLOOKUP(A361&B361,'Standard output'!A:D,4,0)","v":2684},{"$f":"Orders!B362/$C361","v":4.1116616989567811},{"$f":"Orders!C362/$C361","v":4.0893815201192245},{"$f":"Orders!D362/$C361","v":3.8341281669150526}]
[{"$f":"Orders!A363","v":"SB6782689"},{"$f":"VLOOKUP(A362,'Product-tool'!A:E,2,0)","v":"Tool 15"},{"$f":"VLOOKUP(A362&B362,'Standard output'!A:D,4,0)","v":4435},{"$f":"Orders!B363/$C362","v":0.64604284103720411},{"$f":"Orders!C363/$C362","v":0.76211950394588501},{"$f":"Orders!D363/$C362","v":0.65425028184892897}]
[{"$f":"Orders!A364","v":"SB6851891"},{"$f":"VLOOKUP(A363,'Product-tool'!A:E,2,0)","v":"Tool 15"},{"$f":"VLOOKUP(A363&B363,'Standard output'!A:D,4,0)","v":4487},{"$f":"Orders!B364/$C363","v":0.7422776911076443},{"$f":"Orders!C364/$C363","v":1.1496322710051261},{"$f":"Orders!D364/$C363","v":0.871205705371072}]
[{"$f":"Orders!A365","v":"SB6883672"},{"$f":"VLOOKUP(A364,'Product-tool'!A:E,2,0)","v":"Tool 10"},{"$f":"VLOOKUP(A364&B364,'Standard output'!A:D,4,0)","v":1554},{"$f":"Orders!B365/$C364","v":3.0910553410553412},{"$f":"Orders!C365/$C364","v":1.781853281853282},{"$f":"Orders!D365/$C364","v":2.320592020592021}]
[{"$f":"Orders!A366","v":"SB699340"},{"$f":"VLOOKUP(A365,'Product-tool'!A:E,2,0)","v":"Tool 10"},{"$f":"VLOOKUP(A365&B365,'Standard output'!A:D,4,0)","v":1561},{"$f":"Orders!B366/$C365","v":1.5465086483023702},{"$f":"Orders!C366/$C365","v":2.0903267136450991},{"$f":"Orders!D366/$C365","v":1.6822549647661755}]
[{"$f":"Orders!A367","v":"SL035245"},{"$f":"VLOOKUP(A366,'Product-tool'!A:E,2,0)","v":"Tool 15"},{"$f":"VLOOKUP(A366&B366,'Standard output'!A:D,4,0)","v":4403},{"$f":"Orders!B367/$C366","v":0.22143992732228027},{"$f":"Orders!C367/$C366","v":0.14260731319554848},{"$f":"Orders!D367/$C366","v":0.17272314331137861}]
[{"$f":"Orders!A368","v":"SL04371"},{"$f":"VLOOKUP(A367,'Product-tool'!A:E,2,0)","v":"Tool 17"},{"$f":"VLOOKUP(A367&B367,'Standard output'!A:D,4,0)","v":6844},{"$f":"Orders!B368/$C367","v":0.27067504383401519},{"$f":"Orders!C368/$C367","v":0.37096727060198714},{"$f":"Orders!D368/$C367","v":0.29669783752191703}]
[{"$f":"Orders!A369","v":"SL0454342"},{"$f":"VLOOKUP(A368,'Product-tool'!A:E,2,0)","v":"Tool 09"},{"$f":"VLOOKUP(A368&B368,'Standard output'!A:D,4,0)","v":509},{"$f":"Orders!B369/$C368","v":4.0864440078585466E-2},{"$f":"Orders!C369/$C368","v":6.1296660117878196E-2},{"$f":"Orders!D369/$C368","v":4.8526522593320236E-2}]
[{"$f":"Orders!A370","v":"SL0979997"},{"$f":"VLOOKUP(A369,'Product-tool'!A:E,2,0)","v":"Tool 09"},{"$f":"VLOOKUP(A369&B369,'Standard output'!A:D,4,0)","v":547},{"$f":"Orders!B370/$C369","v":21.375137111517368},{"$f":"Orders!C370/$C369","v":28.828153564899452},{"$f":"Orders!D370/$C369","v":23.221755027422304}]
[{"$f":"Orders!A371","v":"SL0973907"},{"$f":"VLOOKUP(A370,'Product-tool'!A:E,2,0)","v":"Tool 16"},{"$f":"VLOOKUP(A370&B370,'Standard output'!A:D,4,0)","v":6891},{"$f":"Orders!B371/$C370","v":0.13507473516180526},{"$f":"Orders!C371/$C370","v":0.20883761427949502},{"$f":"Orders!D371/$C370","v":0.1584675663909447}]
[{"$f":"Orders!A372","v":"SL1205692"},{"$f":"VLOOKUP(A371,'Product-tool'!A:E,2,0)","v":"Tool 02"},{"$f":"VLOOKUP(A371&B371,'Standard output'!A:D,4,0)","v":2648},{"$f":"Orders!B372/$C371","v":0.43447885196374625},{"$f":"Orders!C372/$C371","v":0.58077794561933538},{"$f":"Orders!D372/$C371","v":0.46982628398791548}]
[{"$f":"Orders!A373","v":"SL1739082"},{"$f":"VLOOKUP(A372,'Product-tool'!A:E,2,0)","v":"Tool 02"},{"$f":"VLOOKUP(A372&B372,'Standard output'!A:D,4,0)","v":2618},{"$f":"Orders!B373/$C372","v":0.14896867838044309},{"$f":"Orders!C373/$C372","v":0.20011459129106188},{"$f":"Orders!D373/$C372","v":0.16138273491214666}]
[{"$f":"Orders!A374","v":"SL1814144"},{"$f":"VLOOKUP(A373,'Product-tool'!A:E,2,0)","v":"Tool 02"},{"$f":"VLOOKUP(A373&B373,'Standard output'!A:D,4,0)","v":2656},{"$f":"Orders!B374/$C373","v":0.59126506024096392},{"$f":"Orders!C374/$C373","v":0.78851656626506028},{"$f":"Orders!D374/$C373","v":0.63825301204819274}]
[{"$f":"Orders!A375","v":"SL2223216"},{"$f":"VLOOKUP(A374,'Product-tool'!A:E,2,0)","v":"Tool 02"},{"$f":"VLOOKUP(A374&B374,'Standard output'!A:D,4,0)","v":2679},{"$f":"Orders!B375/$C374","v":3.8820455393803661E-3},{"$f":"Orders!C375/$C374","v":2.9115341545352747E-3},{"$f":"Orders!D375/$C374","v":3.3967898469578197E-3}]
[{"$f":"Orders!A376","v":"SL4542202"},{"$f":"VLOOKUP(A375,'Product-tool'!A:E,2,0)","v":"Tool 02"},{"$f":"VLOOKUP(A375&B375,'Standard output'!A:D,4,0)","v":2624},{"$f":"Orders!B376/$C375","v":2.6421112804878053},{"$f":"Orders!C376/$C375","v":4.2225228658536587},{"$f":"Orders!D376/$C375","v":3.1568597560975613}]
[{"$f":"Orders!A377","v":"SL6923987"},{"$f":"VLOOKUP(A376,'Product-tool'!A:E,2,0)","v":"Tool 16"},{"$f":"VLOOKUP(A376&B376,'Standard output'!A:D,4,0)","v":6819},{"$f":"Orders!B377/$C376","v":1.6934887813462385},{"$f":"Orders!C377/$C376","v":1.7443906731192258},{"$f":"Orders!D377/$C376","v":1.6052207068485116}]
[{"$f":"Orders!A378","v":"SL6949404"},{"$f":"VLOOKUP(A377,'Product-tool'!A:E,2,0)","v":"Tool 09"},{"$f":"VLOOKUP(A377&B377,'Standard output'!A:D,4,0)","v":549},{"$f":"Orders!B378/$C377","v":0.94717668488160289},{"$f":"Orders!C378/$C377","v":0.89034608378870672},{"$f":"Orders!D378/$C377","v":0.85956284153005469}]
[{"$f":"Orders!A379","v":"SS0108"},{"$f":"VLOOKUP(A378,'Product-tool'!A:E,2,0)","v":"Tool 09"},{"$f":"VLOOKUP(A378&B378,'Standard output'!A:D,4,0)","v":520},{"$f":"Orders!B379/$C378","v":2.52},{"$f":"Orders!C379/$C378","v":2.8200000000000003},{"$f":"Orders!D379/$C378","v":2.4849999999999999}]
[{"$f":"Orders!A380","v":"ST0044507"},{"$f":"VLOOKUP(A379,'Product-tool'!A:E,2,0)","v":"Tool 02"},{"$f":"VLOOKUP(A379&B379,'Standard output'!A:D,4,0)","v":2679},{"$f":"Orders!B380/$C379","v":3.6282568122433747},{"$f":"Orders!C380/$C379","v":3.8505039193729003},{"$f":"Orders!D380/$C379","v":3.4880179171332584}]
[{"$f":"Orders!A381","v":"ST0248243"},{"$f":"VLOOKUP(A380,'Product-tool'!A:E,2,0)","v":"Tool 02"},{"$f":"VLOOKUP(A380&B380,'Standard output'!A:D,4,0)","v":2636},{"$f":"Orders!B381/$C380","v":0.15189681335356603},{"$f":"Orders!C381/$C380","v":0.15534901365705614},{"$f":"Orders!D381/$C380","v":0.14351289833080424}]
[{"$f":"Orders!A382","v":"ST0249290"},{"$f":"VLOOKUP(A381,'Product-tool'!A:E,2,0)","v":"Tool 09"},{"$f":"VLOOKUP(A381&B381,'Standard output'!A:D,4,0)","v":576},{"$f":"Orders!B382/$C381","v":0.18732638888888889},{"$f":"Orders!C382/$C381","v":0.27309027777777778},{"$f":"Orders!D382/$C381","v":0.21215277777777777}]
[{"$f":"Orders!A383","v":"ST086120"},{"$f":"VLOOKUP(A382,'Product-tool'!A:E,2,0)","v":"Tool 02"},{"$f":"VLOOKUP(A382&B382,'Standard output'!A:D,4,0)","v":2651},{"$f":"Orders!B383/$C382","v":1.2102602791399473},{"$f":"Orders!C383/$C382","v":1.7918521312712183},{"$f":"Orders!D383/$C382","v":1.3843455299886835}]
[{"$f":"Orders!A384","v":"ST0904669"},{"$f":"VLOOKUP(A383,'Product-tool'!A:E,2,0)","v":"Tool 02"},{"$f":"VLOOKUP(A383&B383,'Standard output'!A:D,4,0)","v":2683},{"$f":"Orders!B384/$C383","v":0.96906448005963475},{"$f":"Orders!C384/$C383","v":0.84211703317182263},{"$f":"Orders!D384/$C383","v":0.85083861349235934}]
[{"$f":"Orders!A385","v":"ST1025440"},{"$f":"VLOOKUP(A384,'Product-tool'!A:E,2,0)","v":"Tool 09"},{"$f":"VLOOKUP(A384&B384,'Standard output'!A:D,4,0)","v":516},{"$f":"Orders!B385/$C384","v":11.347286821705426},{"$f":"Orders!C385/$C384","v":15.919961240310078},{"$f":"Orders!D385/$C384","v":12.594379844961241}]
[{"$f":"Orders!A386","v":"ST1444632"},{"$f":"VLOOKUP(A385,'Product-tool'!A:E,2,0)","v":"Tool 02"},{"$f":"VLOOKUP(A385&B385,'Standard output'!A:D,4,0)","v":2691},{"$f":"Orders!B386/$C385","v":2.4758454106280192},{"$f":"Orders!C386/$C385","v":3.9603864734299514},{"$f":"Orders!D386/$C385","v":2.9599033816425124}]
[{"$f":"Orders!A387","v":"ST1661696"},{"$f":"VLOOKUP(A386,'Product-tool'!A:E,2,0)","v":"Tool 02"},{"$f":"VLOOKUP(A386&B386,'Standard output'!A:D,4,0)","v":2679},{"$f":"Orders!B387/$C386","v":0.25864128406121684},{"$f":"Orders!C387/$C386","v":0.30425531914893617},{"$f":"Orders!D387/$C386","v":0.26155281821575216}]
[{"$f":"Orders!A388","v":"ST269903"},{"$f":"VLOOKUP(A387,'Product-tool'!A:E,2,0)","v":"Tool 15"},{"$f":"VLOOKUP(A387&B387,'Standard output'!A:D,4,0)","v":4405},{"$f":"Orders!B388/$C387","v":0.89362088535754824},{"$f":"Orders!C388/$C387","v":1.3419069239500567},{"$f":"Orders!D388/$C387","v":1.030261066969353}]
[{"$f":"Orders!A389","v":"ST3078513"},{"$f":"VLOOKUP(A388,'Product-tool'!A:E,2,0)","v":"Tool 02"},{"$f":"VLOOKUP(A388&B388,'Standard output'!A:D,4,0)","v":2627},{"$f":"Orders!B389/$C388","v":0.32066996574038825},{"$f":"Orders!C389/$C388","v":0.4216216216216217},{"$f":"Orders!D389/$C388","v":0.34343357441948991}]
[{"$f":"Orders!A390","v":"ST3795473"},{"$f":"VLOOKUP(A389,'Product-tool'!A:E,2,0)","v":"Tool 02"},{"$f":"VLOOKUP(A389&B389,'Standard output'!A:D,4,0)","v":2678},{"$f":"Orders!B390/$C389","v":0.64077669902912626},{"$f":"Orders!C390/$C389","v":0.65873786407766999},{"$f":"Orders!D390/$C389","v":0.60679611650485432}]
[{"$f":"Orders!A391","v":"ST3859207"},{"$f":"VLOOKUP(A390,'Product-tool'!A:E,2,0)","v":"Tool 02"},{"$f":"VLOOKUP(A390&B390,'Standard output'!A:D,4,0)","v":2605},{"$f":"Orders!B391/$C390","v":0.3657965451055662},{"$f":"Orders!C391/$C390","v":0.46510556621881005},{"$f":"Orders!D391/$C390","v":0.38525911708253358}]
[{"$f":"Orders!A392","v":"ST5444150"},{"$f":"VLOOKUP(A391,'Product-tool'!A:E,2,0)","v":"Tool 02"},{"$f":"VLOOKUP(A391&B391,'Standard output'!A:D,4,0)","v":2680},{"$f":"Orders!B392/$C391","v":0.81977611940298512},{"$f":"Orders!C392/$C391","v":0.58208955223880599},{"$f":"Orders!D392/$C391","v":0.66309701492537321}]
[{"$f":"Orders!A393","v":"ST5622830"},{"$f":"VLOOKUP(A392,'Product-tool'!A:E,2,0)","v":"Tool 02"},{"$f":"VLOOKUP(A392&B392,'Standard output'!A:D,4,0)","v":2642},{"$f":"Orders!B393/$C392","v":0.11267978803936411},{"$f":"Orders!C393/$C392","v":0.11956850870552613},{"$f":"Orders!D393/$C392","v":0.10825132475397427}]
[{"$f":"Orders!A394","v":"ST5775560"},{"$f":"VLOOKUP(A393,'Product-tool'!A:E,2,0)","v":"Tool 02"},{"$f":"VLOOKUP(A393&B393,'Standard output'!A:D,4,0)","v":2690},{"$f":"Orders!B394/$C393","v":5.3643122676579932E-2},{"$f":"Orders!C394/$C393","v":5.2193308550185877E-2},{"$f":"Orders!D394/$C393","v":4.9293680297397766E-2}]
[{"$f":"Orders!A395","v":"ST5866857"},{"$f":"VLOOKUP(A394,'Product-tool'!A:E,2,0)","v":"Tool 02"},{"$f":"VLOOKUP(A394&B394,'Standard output'!A:D,4,0)","v":2627},{"$f":"Orders!B395/$C394","v":9.3033878949371915E-2},{"$f":"Orders!C395/$C394","v":0.13707651313285116},{"$f":"Orders!D395/$C394","v":0.10590026646364674}]
[{"$f":"Orders!A396","v":"ST5905549"},{"$f":"VLOOKUP(A395,'Product-tool'!A:E,2,0)","v":"Tool 15"},{"$f":"VLOOKUP(A395&B395,'Standard output'!A:D,4,0)","v":4410},{"$f":"Orders!B396/$C395","v":2.2940136054421769},{"$f":"Orders!C396/$C395","v":2.4425850340136055},{"$f":"Orders!D396/$C395","v":2.2091156462585038}]
[{"$f":"Orders!A397","v":"UV0008455"},{"$f":"VLOOKUP(A396,'Product-tool'!A:E,2,0)","v":"Tool 02"},{"$f":"VLOOKUP(A396&B396,'Standard output'!A:D,4,0)","v":2672},{"$f":"Orders!B397/$C396","v":0.56729041916167666},{"$f":"Orders!C397/$C396","v":0.9531062874251498},{"$f":"Orders!D397/$C396","v":0.69816616766467066}]
[{"$f":"Orders!A398","v":"UV0002089"},{"$f":"VLOOKUP(A397,'Product-tool'!A:E,2,0)","v":"Tool 15"},{"$f":"VLOOKUP(A397&B397,'Standard output'!A:D,4,0)","v":4428},{"$f":"Orders!B398/$C397","v":4.168925022583559E-2},{"$f":"Orders!C398/$C397","v":4.7854561878952123E-2},{"$f":"Orders!D398/$C397","v":4.168925022583559E-2}]
[{"$f":"Orders!A399","v":"UV0122500"},{"$f":"VLOOKUP(A398,'Product-tool'!A:E,2,0)","v":"Tool 17"},{"$f":"VLOOKUP(A398&B398,'Standard output'!A:D,4,0)","v":6820},{"$f":"Orders!B399/$C398","v":5.5278592375366574E-3},{"$f":"Orders!C399/$C398","v":8.0058651026392955E-3},{"$f":"Orders!D399/$C398","v":6.2903225806451614E-3}]
[{"$f":"Orders!A400","v":"UV0167578"},{"$f":"VLOOKUP(A399,'Product-tool'!A:E,2,0)","v":"Tool 16"},{"$f":"VLOOKUP(A399&B399,'Standard output'!A:D,4,0)","v":6818},{"$f":"Orders!B400/$C399","v":0.35750953358756232},{"$f":"Orders!C400/$C399","v":0.51042827808741564},{"$f":"Orders!D400/$C399","v":0.40060134936931652}]
[{"$f":"Orders!A401","v":"UV0185671"},{"$f":"VLOOKUP(A400,'Product-tool'!A:E,2,0)","v":"Tool 09"},{"$f":"VLOOKUP(A400&B400,'Standard output'!A:D,4,0)","v":489},{"$f":"Orders!B401/$C400","v":4.6523517382413084},{"$f":"Orders!C401/$C400","v":4.0621676891615541},{"$f":"Orders!D401/$C400","v":4.0914110429447854}]
[{"$f":"Orders!A402","v":"UV0432519"},{"$f":"VLOOKUP(A401,'Product-tool'!A:E,2,0)","v":"Tool 16"},{"$f":"VLOOKUP(A401&B401,'Standard output'!A:D,4,0)","v":6853},{"$f":"Orders!B402/$C401","v":2.5229826353421862E-2},{"$f":"Orders!C402/$C401","v":4.1543849409017945E-2},{"$f":"Orders!D402/$C401","v":3.0731066686122865E-2}]
[{"$f":"Orders!A403","v":"UV0436753"},{"$f":"VLOOKUP(A402,'Product-tool'!A:E,2,0)","v":"Tool 17"},{"$f":"VLOOKUP(A402&B402,'Standard output'!A:D,4,0)","v":6817},{"$f":"Orders!B403/$C402","v":0.11155933695173831},{"$f":"Orders!C403/$C402","v":9.9545254510781875E-2},{"$f":"Orders!D403/$C402","v":9.8973155346926814E-2}]
[{"$f":"Orders!A404","v":"UV046672"},{"$f":"VLOOKUP(A403,'Product-tool'!A:E,2,0)","v":"Tool 02"},{"$f":"VLOOKUP(A403&B403,'Standard output'!A:D,4,0)","v":2637},{"$f":"Orders!B404/$C403","v":2.2346985210466439},{"$f":"Orders!C404/$C403","v":3.1279863481228669},{"$f":"Orders!D404/$C403","v":2.4772468714448235}]
[{"$f":"Orders!A405","v":"UV0685993"},{"$f":"VLOOKUP(A404,'Product-tool'!A:E,2,0)","v":"Tool 17"},{"$f":"VLOOKUP(A404&B404,'Standard output'!A:D,4,0)","v":6882},{"$f":"Orders!B405/$C404","v":5.6669572798605058E-2},{"$f":"Orders!C405/$C404","v":4.7035745422842196E-2},{"$f":"Orders!D405/$C404","v":4.8735832606800353E-2}]
[{"$f":"Orders!A406","v":"UV0787788"},{"$f":"VLOOKUP(A405,'Product-tool'!A:E,2,0)","v":"Tool 02"},{"$f":"VLOOKUP(A405&B405,'Standard output'!A:D,4,0)","v":2658},{"$f":"Orders!B406/$C405","v":1.4178705793829949},{"$f":"Orders!C406/$C405","v":1.6673062452972158},{"$f":"Orders!D406/$C405","v":1.4340105342362679}]
[{"$f":"Orders!A407","v":"UV0787562"},{"$f":"VLOOKUP(A406,'Product-tool'!A:E,2,0)","v":"Tool 02"},{"$f":"VLOOKUP(A406&B406,'Standard output'!A:D,4,0)","v":2632},{"$f":"Orders!B407/$C406","v":0.6939589665653495},{"$f":"Orders!C407/$C406","v":0.92215045592705158},{"$f":"Orders!D407/$C406","v":0.74779635258358668}]
[{"$f":"Orders!A408","v":"UV0831317"},{"$f":"VLOOKUP(A407,'Product-tool'!A:E,2,0)","v":"Tool 16"},{"$f":"VLOOKUP(A407&B407,'Standard output'!A:D,4,0)","v":6800},{"$f":"Orders!B408/$C407","v":0.3265294117647059},{"$f":"Orders!C408/$C407","v":0.2540735294117647},{"$f":"Orders!D408/$C407","v":0.27376470588235297}]
[{"$f":"Orders!A409","v":"UV091154"},{"$f":"VLOOKUP(A408,'Product-tool'!A:E,2,0)","v":"Tool 15"},{"$f":"VLOOKUP(A408&B408,'Standard output'!A:D,4,0)","v":4401},{"$f":"Orders!B409/$C408","v":0.55030674846625771},{"$f":"Orders!C409/$C408","v":0.39286525789593274},{"$f":"Orders!D409/$C408","v":0.44603499204726199}]
[{"$f":"Orders!A410","v":"UV0924680"},{"$f":"VLOOKUP(A409,'Product-tool'!A:E,2,0)","v":"Tool 16"},{"$f":"VLOOKUP(A409&B409,'Standard output'!A:D,4,0)","v":6800},{"$f":"Orders!B410/$C409","v":1.4018970588235293},{"$f":"Orders!C410/$C409","v":2.0710147058823529},{"$f":"Orders!D410/$C409","v":1.6014852941176472}]
[{"$f":"Orders!A411","v":"UV1106642"},{"$f":"VLOOKUP(A410,'Product-tool'!A:E,2,0)","v":"Tool 02"},{"$f":"VLOOKUP(A410&B410,'Standard output'!A:D,4,0)","v":2682},{"$f":"Orders!B411/$C410","v":0.10324384787472037},{"$f":"Orders!C411/$C410","v":0.16286353467561521},{"$f":"Orders!D411/$C410","v":0.12263236390753171}]
[{"$f":"Orders!A412","v":"UV1121941"},{"$f":"VLOOKUP(A411,'Product-tool'!A:E,2,0)","v":"Tool 16"},{"$f":"VLOOKUP(A411&B411,'Standard output'!A:D,4,0)","v":6848},{"$f":"Orders!B412/$C411","v":4.3201080607476641},{"$f":"Orders!C412/$C411","v":6.6114339953271024},{"$f":"Orders!D412/$C411","v":5.0346524532710282}]
[{"$f":"Orders!A413","v":"UV1187156"},{"$f":"VLOOKUP(A412,'Product-tool'!A:E,2,0)","v":"Tool 15"},{"$f":"VLOOKUP(A412&B412,'Standard output'!A:D,4,0)","v":4476},{"$f":"Orders!B413/$C412","v":0.14841376228775693},{"$f":"Orders!C413/$C412","v":0.14579982126899019},{"$f":"Orders!D413/$C412","v":0.13766756032171582}]
[{"$f":"Orders!A414","v":"UV120727"},{"$f":"VLOOKUP(A413,'Product-tool'!A:E,2,0)","v":"Tool 19"},{"$f":"VLOOKUP(A413&B413,'Standard output'!A:D,4,0)","v":10190},{"$f":"Orders!B414/$C413","v":0.10078508341511286},{"$f":"Orders!C414/$C413","v":0.12668302257114819},{"$f":"Orders!D414/$C413","v":0.10550539744847891}]
[{"$f":"Orders!A415","v":"UV133670"},{"$f":"VLOOKUP(A414,'Product-tool'!A:E,2,0)","v":"Tool 16"},{"$f":"VLOOKUP(A414&B414,'Standard output'!A:D,4,0)","v":6844},{"$f":"Orders!B415/$C414","v":3.2416423144360023},{"$f":"Orders!C415/$C414","v":2.7927966101694919},{"$f":"Orders!D415/$C414","v":2.8351548801870252}]
[{"$f":"Orders!A416","v":"UV1394884"},{"$f":"VLOOKUP(A415,'Product-tool'!A:E,2,0)","v":"Tool 15"},{"$f":"VLOOKUP(A415&B415,'Standard output'!A:D,4,0)","v":4487},{"$f":"Orders!B416/$C415","v":0.25090260753287275},{"$f":"Orders!C416/$C415","v":0.26046356139959886},{"$f":"Orders!D416/$C415","v":0.23873412079340317}]
[{"$f":"Orders!A417","v":"UV1585237"},{"$f":"VLOOKUP(A416,'Product-tool'!A:E,2,0)","v":"Tool 09"},{"$f":"VLOOKUP(A416&B416,'Standard output'!A:D,4,0)","v":523},{"$f":"Orders!B417/$C416","v":1.3869980879541108},{"$f":"Orders!C417/$C416","v":0.89980879541108993},{"$f":"Orders!D417/$C416","v":1.0837476099426389}]
[{"$f":"Orders!A418","v":"UV1723988"},{"$f":"VLOOKUP(A417,'Product-tool'!A:E,2,0)","v":"Tool 18"},{"$f":"VLOOKUP(A417&B417,'Standard output'!A:D,4,0)","v":2807},{"$f":"Orders!B418/$C417","v":1.2967581047381545E-2},{"$f":"Orders!C418/$C417","v":7.4100463127894549E-3},{"$f":"Orders!D418/$C417","v":9.72568578553616E-3}]
[{"$f":"Orders!A419","v":"UV2189115"},{"$f":"VLOOKUP(A418,'Product-tool'!A:E,2,0)","v":"Tool 02"},{"$f":"VLOOKUP(A418&B418,'Standard output'!A:D,4,0)","v":2624},{"$f":"Orders!B419/$C418","v":9.1485518292682926},{"$f":"Orders!C419/$C418","v":11.947217987804878},{"$f":"Orders!D419/$C418","v":9.7688262195121958}]
[{"$f":"Orders!A420","v":"UV2195087"},{"$f":"VLOOKUP(A419,'Product-tool'!A:E,2,0)","v":"Tool 07"},{"$f":"VLOOKUP(A419&B419,'Standard output'!A:D,4,0)","v":6422},{"$f":"Orders!B420/$C419","v":1.2955465587044535},{"$f":"Orders!C420/$C419","v":2.191093117408907},{"$f":"Orders!D420/$C419","v":1.6004048582995953}]
[{"$f":"Orders!A421","v":"UV2198207"},{"$f":"VLOOKUP(A420,'Product-tool'!A:E,2,0)","v":"Tool 09"},{"$f":"VLOOKUP(A420&B420,'Standard output'!A:D,4,0)","v":579},{"$f":"Orders!B421/$C420","v":3.1792746113989638},{"$f":"Orders!C421/$C420","v":4.5017271157167533},{"$f":"Orders!D421/$C420","v":3.547495682210708}]
[{"$f":"Orders!A422","v":"UV2213161"},{"$f":"VLOOKUP(A421,'Product-tool'!A:E,2,0)","v":"Tool 02"},{"$f":"VLOOKUP(A421&B421,'Standard output'!A:D,4,0)","v":2610},{"$f":"Orders!B422/$C421","v":1.5938697318007662},{"$f":"Orders!C422/$C421","v":1.2008812260536399},{"$f":"Orders!D422/$C421","v":1.3189272030651342}]
[{"$f":"Orders!A423","v":"UV2285856"},{"$f":"VLOOKUP(A422,'Product-tool'!A:E,2,0)","v":"Tool 09"},{"$f":"VLOOKUP(A422&B422,'Standard output'!A:D,4,0)","v":573},{"$f":"Orders!B423/$C422","v":0.7554973821989529},{"$f":"Orders!C423/$C422","v":0.53542757417102971},{"$f":"Orders!D423/$C422","v":0.61029668411867366}]
[{"$f":"Orders!A424","v":"UV2374219"},{"$f":"VLOOKUP(A423,'Product-tool'!A:E,2,0)","v":"Tool 18"},{"$f":"VLOOKUP(A423&B423,'Standard output'!A:D,4,0)","v":2867},{"$f":"Orders!B424/$C423","v":2.9396232996163234},{"$f":"Orders!C424/$C423","v":2.3419951168468782},{"$f":"Orders!D424/$C423","v":2.4880013951866062}]
[{"$f":"Orders!A425","v":"UV2452537"},{"$f":"VLOOKUP(A424,'Product-tool'!A:E,2,0)","v":"Tool 02"},{"$f":"VLOOKUP(A424&B424,'Standard output'!A:D,4,0)","v":2699},{"$f":"Orders!B425/$C424","v":1.5687662097072992},{"$f":"Orders!C425/$C424","v":1.3640607632456465},{"$f":"Orders!D425/$C424","v":1.3775472397184143}]
[{"$f":"Orders!A426","v":"UV250174"},{"$f":"VLOOKUP(A425,'Product-tool'!A:E,2,0)","v":"Tool 15"},{"$f":"VLOOKUP(A425&B425,'Standard output'!A:D,4,0)","v":4477},{"$f":"Orders!B426/$C425","v":0.49102077283895468},{"$f":"Orders!C426/$C425","v":0.53167299530935896},{"$f":"Orders!D426/$C425","v":0.47679249497431314}]
[{"$f":"Orders!A427","v":"UV251396"},{"$f":"VLOOKUP(A426,'Product-tool'!A:E,2,0)","v":"Tool 09"},{"$f":"VLOOKUP(A426&B426,'Standard output'!A:D,4,0)","v":522},{"$f":"Orders!B427/$C426","v":3.7978927203065136},{"$f":"Orders!C427/$C426","v":5.3917624521072796},{"$f":"Orders!D427/$C426","v":4.2436781609195409}]
[{"$f":"Orders!A428","v":"UV252791"},{"$f":"VLOOKUP(A427,'Product-tool'!A:E,2,0)","v":"Tool 15"},{"$f":"VLOOKUP(A427&B427,'Standard output'!A:D,4,0)","v":4401},{"$f":"Orders!B428/$C427","v":1.4326289479663712},{"$f":"Orders!C428/$C427","v":1.9341967734605772},{"$f":"Orders!D428/$C427","v":1.5572824358100432}]
[{"$f":"Orders!A429","v":"UV2535805"},{"$f":"VLOOKUP(A428,'Product-tool'!A:E,2,0)","v":"Tool 02"},{"$f":"VLOOKUP(A428&B428,'Standard output'!A:D,4,0)","v":2652},{"$f":"Orders!B429/$C428","v":3.5946078431372546},{"$f":"Orders!C429/$C428","v":4.6651960784313724},{"$f":"Orders!D429/$C428","v":3.8259803921568629}]
[{"$f":"Orders!A430","v":"UV2636450"},{"$f":"VLOOKUP(A429,'Product-tool'!A:E,2,0)","v":"Tool 15"},{"$f":"VLOOKUP(A429&B429,'Standard output'!A:D,4,0)","v":4466},{"$f":"Orders!B430/$C429","v":2.3869234214061803E-2},{"$f":"Orders!C430/$C429","v":4.1043439319301392E-2},{"$f":"Orders!D430/$C429","v":2.9982086878638604E-2}]
[{"$f":"Orders!A431","v":"UV2781330"},{"$f":"VLOOKUP(A430,'Product-tool'!A:E,2,0)","v":"Tool 17"},{"$f":"VLOOKUP(A430&B430,'Standard output'!A:D,4,0)","v":6852},{"$f":"Orders!B431/$C430","v":0.1329976649153532},{"$f":"Orders!C431/$C430","v":0.16506129597197899},{"$f":"Orders!D431/$C430","v":0.13830998248686516}]
[{"$f":"Orders!A432","v":"UV2805946"},{"$f":"VLOOKUP(A431,'Product-tool'!A:E,2,0)","v":"Tool 03"},{"$f":"VLOOKUP(A431&B431,'Standard output'!A:D,4,0)","v":2415},{"$f":"Orders!B432/$C431","v":0.14318840579710146},{"$f":"Orders!C432/$C431","v":0.22608695652173913},{"$f":"Orders!D432/$C431","v":0.17010351966873707}]
[{"$f":"Orders!A433","v":"UV2985514"},{"$f":"VLOOKUP(A432,'Product-tool'!A:E,2,0)","v":"Tool 02"},{"$f":"VLOOKUP(A432&B432,'Standard output'!A:D,4,0)","v":2661},{"$f":"Orders!B433/$C432","v":0.26039083051484402},{"$f":"Orders!C433/$C432","v":0.20518602029312288},{"$f":"Orders!D433/$C432","v":0.21984216459977451}]
[{"$f":"Orders!A434","v":"UV3281153"},{"$f":"VLOOKUP(A433,'Product-tool'!A:E,2,0)","v":"Tool 11"},{"$f":"VLOOKUP(A433&B433,'Standard output'!A:D,4,0)","v":2114},{"$f":"Orders!B434/$C433","v":11.949053926206243},{"$f":"Orders!C434/$C433","v":12.357994323557238},{"$f":"Orders!D434/$C433","v":11.347634815515612}]
[{"$f":"Orders!A435","v":"UV3287428"},{"$f":"VLOOKUP(A434,'Product-tool'!A:E,2,0)","v":"Tool 09"},{"$f":"VLOOKUP(A434&B434,'Standard output'!A:D,4,0)","v":501},{"$f":"Orders!B435/$C434","v":2.7660678642714571},{"$f":"Orders!C435/$C434","v":4.3930139720558881},{"$f":"Orders!D435/$C434","v":3.2928143712574851}]
[{"$f":"Orders!A436","v":"UV3439245"},{"$f":"VLOOKUP(A435,'Product-tool'!A:E,2,0)","v":"Tool 18"},{"$f":"VLOOKUP(A435&B435,'Standard output'!A:D,4,0)","v":2858},{"$f":"Orders!B436/$C435","v":0.63680895731280618},{"$f":"Orders!C436/$C435","v":0.90335899230230932},{"$f":"Orders!D436/$C435","v":0.71095171448565431}]
[{"$f":"Orders!A437","v":"UV3533088"},{"$f":"VLOOKUP(A436,'Product-tool'!A:E,2,0)","v":"Tool 16"},{"$f":"VLOOKUP(A436&B436,'Standard output'!A:D,4,0)","v":6805},{"$f":"Orders!B437/$C436","v":4.0117560617193238E-2},{"$f":"Orders!C437/$C436","v":2.941954445260838E-2},{"$f":"Orders!D437/$C436","v":3.2858192505510656E-2}]
[{"$f":"Orders!A438","v":"UV3595016"},{"$f":"VLOOKUP(A437,'Product-tool'!A:E,2,0)","v":"Tool 02"},{"$f":"VLOOKUP(A437&B437,'Standard output'!A:D,4,0)","v":2694},{"$f":"Orders!B438/$C437","v":0.93277654046028213},{"$f":"Orders!C438/$C437","v":1.4853006681514478},{"$f":"Orders!D438/$C437","v":1.1122865627319971}]
[{"$f":"Orders!A439","v":"UV3633599"},{"$f":"VLOOKUP(A438,'Product-tool'!A:E,2,0)","v":"Tool 02"},{"$f":"VLOOKUP(A438&B438,'Standard output'!A:D,4,0)","v":2617},{"$f":"Orders!B439/$C438","v":3.3108521207489492},{"$f":"Orders!C439/$C438","v":3.3341994650363014},{"$f":"Orders!D439/$C438","v":3.1051967902178066}]
[{"$f":"Orders!A440","v":"UV3728968"},{"$f":"VLOOKUP(A439,'Product-tool'!A:E,2,0)","v":"Tool 15"},{"$f":"VLOOKUP(A439&B439,'Standard output'!A:D,4,0)","v":4468},{"$f":"Orders!B440/$C439","v":0.18475828111011638},{"$f":"Orders!C440/$C439","v":0.24469561324977618},{"$f":"Orders!D440/$C439","v":0.19872426141450314}]
[{"$f":"Orders!A441","v":"UV385351"},{"$f":"VLOOKUP(A440,'Product-tool'!A:E,2,0)","v":"Tool 18"},{"$f":"VLOOKUP(A440&B440,'Standard output'!A:D,4,0)","v":2843},{"$f":"Orders!B441/$C440","v":0.39370383397819203},{"$f":"Orders!C441/$C440","v":0.56289131199437215},{"$f":"Orders!D441/$C440","v":0.44171649665845936}]
[{"$f":"Orders!A442","v":"UV3942188"},{"$f":"VLOOKUP(A441,'Product-tool'!A:E,2,0)","v":"Tool 02"},{"$f":"VLOOKUP(A441&B441,'Standard output'!A:D,4,0)","v":2690},{"$f":"Orders!B442/$C441","v":1.5846468401486988},{"$f":"Orders!C442/$C441","v":1.1453531598513012},{"$f":"Orders!D442/$C441","v":1.2903345724907063}]
[{"$f":"Orders!A443","v":"UV4094667"},{"$f":"VLOOKUP(A442,'Product-tool'!A:E,2,0)","v":"Tool 02"},{"$f":"VLOOKUP(A442&B442,'Standard output'!A:D,4,0)","v":2638},{"$f":"Orders!B443/$C442","v":7.7226307808946171},{"$f":"Orders!C443/$C442","v":5.026042456406369},{"$f":"Orders!D443/$C442","v":6.046626231993935}]
[{"$f":"Orders!A444","v":"UV4105152"},{"$f":"VLOOKUP(A443,'Product-tool'!A:E,2,0)","v":"Tool 02"},{"$f":"VLOOKUP(A443&B443,'Standard output'!A:D,4,0)","v":2601},{"$f":"Orders!B444/$C443","v":3.298731257208766E-2},{"$f":"Orders!C444/$C443","v":3.7485582468281431E-2},{"$f":"Orders!D444/$C443","v":3.298731257208766E-2}]
[{"$f":"Orders!A445","v":"UV4173990"},{"$f":"VLOOKUP(A444,'Product-tool'!A:E,2,0)","v":"Tool 18"},{"$f":"VLOOKUP(A444&B444,'Standard output'!A:D,4,0)","v":2881},{"$f":"Orders!B445/$C444","v":0.76167997223186401},{"$f":"Orders!C445/$C444","v":0.59923637625824366},{"$f":"Orders!D445/$C444","v":0.64120097188476222}]
[{"$f":"Orders!A446","v":"UV4289343"},{"$f":"VLOOKUP(A445,'Product-tool'!A:E,2,0)","v":"Tool 16"},{"$f":"VLOOKUP(A445&B445,'Standard output'!A:D,4,0)","v":6847},{"$f":"Orders!B446/$C445","v":4.5947130129983936E-2},{"$f":"Orders!C446/$C445","v":5.0124141959982473E-2},{"$f":"Orders!D446/$C445","v":4.480794508543888E-2}]
[{"$f":"Orders!A447","v":"UV4665563"},{"$f":"VLOOKUP(A446,'Product-tool'!A:E,2,0)","v":"Tool 07"},{"$f":"VLOOKUP(A446&B446,'Standard output'!A:D,4,0)","v":6415},{"$f":"Orders!B447/$C446","v":0.6103819173811379},{"$f":"Orders!C447/$C446","v":1.0418238503507404},{"$f":"Orders!D447/$C446","v":0.75831644583008584}]
[{"$f":"Orders!A448","v":"UV4787798"},{"$f":"VLOOKUP(A447,'Product-tool'!A:E,2,0)","v":"Tool 02"},{"$f":"VLOOKUP(A447&B447,'Standard output'!A:D,4,0)","v":2681},{"$f":"Orders!B448/$C447","v":0.12122342409548675},{"$f":"Orders!C448/$C447","v":0.17601641178664679},{"$f":"Orders!D448/$C447","v":0.13722491607609102}]
[{"$f":"Orders!A449","v":"UV4917026"},{"$f":"VLOOKUP(A448,'Product-tool'!A:E,2,0)","v":"Tool 17"},{"$f":"VLOOKUP(A448&B448,'Standard output'!A:D,4,0)","v":6800},{"$f":"Orders!B449/$C448","v":1.1363529411764706},{"$f":"Orders!C449/$C448","v":1.6110441176470589},{"$f":"Orders!D449/$C448","v":1.2686470588235297}]
[{"$f":"Orders!A450","v":"UV4926151"},{"$f":"VLOOKUP(A449,'Product-tool'!A:E,2,0)","v":"Tool 02"},{"$f":"VLOOKUP(A449&B449,'Standard output'!A:D,4,0)","v":2601},{"$f":"Orders!B450/$C449","v":0.39984621299500195},{"$f":"Orders!C450/$C449","v":0.23490965013456364},{"$f":"Orders!D450/$C449","v":0.30188389081122646}]
[{"$f":"Orders!A451","v":"UV495822"},{"$f":"VLOOKUP(A450,'Product-tool'!A:E,2,0)","v":"Tool 17"},{"$f":"VLOOKUP(A450&B450,'Standard output'!A:D,4,0)","v":6842},{"$f":"Orders!B451/$C450","v":8.8541362174802699E-2},{"$f":"Orders!C451/$C450","v":0.11305173925752704},{"$f":"Orders!D451/$C450","v":9.3481438175971945E-2}]
[{"$f":"Orders!A452","v":"UV5313868"},{"$f":"VLOOKUP(A451,'Product-tool'!A:E,2,0)","v":"Tool 15"},{"$f":"VLOOKUP(A451&B451,'Standard output'!A:D,4,0)","v":4452},{"$f":"Orders!B452/$C451","v":2.8633872416891286},{"$f":"Orders!C452/$C451","v":3.8427672955974841},{"$f":"Orders!D452/$C451","v":3.1025381850853551}]
[{"$f":"Orders!A453","v":"UV5311573"},{"$f":"VLOOKUP(A452,'Product-tool'!A:E,2,0)","v":"Tool 09"},{"$f":"VLOOKUP(A452&B452,'Standard output'!A:D,4,0)","v":488},{"$f":"Orders!B453/$C452","v":0.35430327868852463},{"$f":"Orders!C453/$C452","v":0.55942622950819676},{"$f":"Orders!D453/$C452","v":0.42090163934426228}]
[{"$f":"Orders!A454","v":"UV5362907"},{"$f":"VLOOKUP(A453,'Product-tool'!A:E,2,0)","v":"Tool 03"},{"$f":"VLOOKUP(A453&B453,'Standard output'!A:D,4,0)","v":2437},{"$f":"Orders!B454/$C453","v":0.65346737792367671},{"$f":"Orders!C454/$C453","v":0.38621255642183011},{"$f":"Orders!D454/$C453","v":0.49450143619203946}]
[{"$f":"Orders!A455","v":"UV5366748"},{"$f":"VLOOKUP(A454,'Product-tool'!A:E,2,0)","v":"Tool 17"},{"$f":"VLOOKUP(A454&B454,'Standard output'!A:D,4,0)","v":6887},{"$f":"Orders!B455/$C454","v":0.13364309568752722},{"$f":"Orders!C455/$C454","v":0.10967039349499057},{"$f":"Orders!D455/$C454","v":0.11457819079425004}]
[{"$f":"Orders!A456","v":"UV5379200"},{"$f":"VLOOKUP(A455,'Product-tool'!A:E,2,0)","v":"Tool 02"},{"$f":"VLOOKUP(A455&B455,'Standard output'!A:D,4,0)","v":2637},{"$f":"Orders!B456/$C455","v":1.6391733029958286},{"$f":"Orders!C456/$C455","v":1.2201365187713311},{"$f":"Orders!D456/$C455","v":1.3502844141069399}]
[{"$f":"Orders!A457","v":"UV5416692"},{"$f":"VLOOKUP(A456,'Product-tool'!A:E,2,0)","v":"Tool 02"},{"$f":"VLOOKUP(A456&B456,'Standard output'!A:D,4,0)","v":2686},{"$f":"Orders!B457/$C456","v":0.15729709605361131},{"$f":"Orders!C457/$C456","v":0.24393149664929265},{"$f":"Orders!D457/$C456","v":0.18488458674609085}]
[{"$f":"Orders!A458","v":"UV5473062"},{"$f":"VLOOKUP(A457,'Product-tool'!A:E,2,0)","v":"Tool 02"},{"$f":"VLOOKUP(A457&B457,'Standard output'!A:D,4,0)","v":2666},{"$f":"Orders!B458/$C457","v":0.28428357089272316},{"$f":"Orders!C458/$C457","v":0.32768192048012001},{"$f":"Orders!D458/$C457","v":0.28477119279819957}]
[{"$f":"Orders!A459","v":"UV5494145"},{"$f":"VLOOKUP(A458,'Product-tool'!A:E,2,0)","v":"Tool 04"},{"$f":"VLOOKUP(A458&B458,'Standard output'!A:D,4,0)","v":2259},{"$f":"Orders!B459/$C458","v":0.24457724656927843},{"$f":"Orders!C459/$C458","v":0.17264276228419656},{"$f":"Orders!D459/$C458","v":0.19738822487826474}]
[{"$f":"Orders!A460","v":"UV5555407"},{"$f":"VLOOKUP(A459,'Product-tool'!A:E,2,0)","v":"Tool 07"},{"$f":"VLOOKUP(A459&B459,'Standard output'!A:D,4,0)","v":6445},{"$f":"Orders!B460/$C459","v":0.27553141970519784},{"$f":"Orders!C460/$C459","v":0.45404189294026381},{"$f":"Orders!D460/$C459","v":0.33523661753297129}]
[{"$f":"Orders!A461","v":"UV562824"},{"$f":"VLOOKUP(A460,'Product-tool'!A:E,2,0)","v":"Tool 03"},{"$f":"VLOOKUP(A460&B460,'Standard output'!A:D,4,0)","v":2416},{"$f":"Orders!B461/$C460","v":1.1466473509933777},{"$f":"Orders!C461/$C460","v":1.6395281456953641},{"$f":"Orders!D461/$C460","v":1.2865480132450331}]
[{"$f":"Orders!A462","v":"UV5677822"},{"$f":"VLOOKUP(A461,'Product-tool'!A:E,2,0)","v":"Tool 02"},{"$f":"VLOOKUP(A461&B461,'Standard output'!A:D,4,0)","v":2682},{"$f":"Orders!B462/$C461","v":0.19388516032811334},{"$f":"Orders!C462/$C461","v":0.13959731543624163},{"$f":"Orders!D462/$C461","v":0.1575316927665921}]
[{"$f":"Orders!A463","v":"UV5685234"},{"$f":"VLOOKUP(A462,'Product-tool'!A:E,2,0)","v":"Tool 09"},{"$f":"VLOOKUP(A462&B462,'Standard output'!A:D,4,0)","v":511},{"$f":"Orders!B463/$C462","v":0.18317025440313114},{"$f":"Orders!C463/$C462","v":0.16281800391389434},{"$f":"Orders!D463/$C462","v":0.16281800391389434}]
[{"$f":"Orders!A464","v":"UV5689814"},{"$f":"VLOOKUP(A463,'Product-tool'!A:E,2,0)","v":"Tool 03"},{"$f":"VLOOKUP(A463&B463,'Standard output'!A:D,4,0)","v":2499},{"$f":"Orders!B464/$C463","v":4.1616646658663463E-3},{"$f":"Orders!C464/$C463","v":3.1212484993997603E-3},{"$f":"Orders!D464/$C463","v":3.6414565826330533E-3}]
[{"$f":"Orders!A465","v":"UV5762734"},{"$f":"VLOOKUP(A464,'Product-tool'!A:E,2,0)","v":"Tool 09"},{"$f":"VLOOKUP(A464&B464,'Standard output'!A:D,4,0)","v":539},{"$f":"Orders!B465/$C464","v":1.2565862708719853},{"$f":"Orders!C465/$C464","v":1.6690166975881262},{"$f":"Orders!D465/$C464","v":1.3530612244897962}]
[{"$f":"Orders!A466","v":"UV579433"},{"$f":"VLOOKUP(A465,'Product-tool'!A:E,2,0)","v":"Tool 02"},{"$f":"VLOOKUP(A465&B465,'Standard output'!A:D,4,0)","v":2623},{"$f":"Orders!B466/$C465","v":0.20419367136866184},{"$f":"Orders!C466/$C465","v":0.21014105985512774},{"$f":"Orders!D466/$C465","v":0.19329012581014107}]
[{"$f":"Orders!A467","v":"UV5815295"},{"$f":"VLOOKUP(A466,'Product-tool'!A:E,2,0)","v":"Tool 02"},{"$f":"VLOOKUP(A466&B466,'Standard output'!A:D,4,0)","v":2666},{"$f":"Orders!B467/$C466","v":0.12434358589647412},{"$f":"Orders!C467/$C466","v":8.7771942985746434E-2},{"$f":"Orders!D467/$C466","v":0.10045011252813203}]
[{"$f":"Orders!A468","v":"UV5813627"},{"$f":"VLOOKUP(A467,'Product-tool'!A:E,2,0)","v":"Tool 03"},{"$f":"VLOOKUP(A467&B467,'Standard output'!A:D,4,0)","v":2412},{"$f":"Orders!B468/$C467","v":0.21397180762852405},{"$f":"Orders!C468/$C467","v":0.35787728026533999},{"$f":"Orders!D468/$C467","v":0.26247927031509122}]
[{"$f":"Orders!A469","v":"UV588115"},{"$f":"VLOOKUP(A468,'Product-tool'!A:E,2,0)","v":"Tool 19"},{"$f":"VLOOKUP(A468&B468,'Standard output'!A:D,4,0)","v":10185},{"$f":"Orders!B469/$C468","v":1.0211094747177222E-3},{"$f":"Orders!C469/$C468","v":5.1055473735886112E-4},{"$f":"Orders!D469/$C468","v":7.6583210603829168E-4}]
[{"$f":"Orders!A470","v":"UV5924094"},{"$f":"VLOOKUP(A469,'Product-tool'!A:E,2,0)","v":"Tool 15"},{"$f":"VLOOKUP(A469&B469,'Standard output'!A:D,4,0)","v":4405},{"$f":"Orders!B470/$C469","v":0.72451759364358681},{"$f":"Orders!C470/$C469","v":0.70681044267877413},{"$f":"Orders!D470/$C469","v":0.66962542565266747}]
[{"$f":"Orders!A471","v":"UV5928329"},{"$f":"VLOOKUP(A470,'Product-tool'!A:E,2,0)","v":"Tool 15"},{"$f":"VLOOKUP(A470&B470,'Standard output'!A:D,4,0)","v":4436},{"$f":"Orders!B471/$C470","v":9.0261496844003614E-2},{"$f":"Orders!C471/$C470","v":0.13978809738503156},{"$f":"Orders!D471/$C470","v":0.10608656447249776}]
[{"$f":"Orders!A472","v":"UV5947578"},{"$f":"VLOOKUP(A471,'Product-tool'!A:E,2,0)","v":"Tool 03"},{"$f":"VLOOKUP(A471&B471,'Standard output'!A:D,4,0)","v":2447},{"$f":"Orders!B472/$C471","v":0.8170821413976298},{"$f":"Orders!C472/$C471","v":1.0577441765427054},{"$f":"Orders!D472/$C471","v":0.86861463015937879}]
[{"$f":"Orders!A473","v":"UV5956413"},{"$f":"VLOOKUP(A472,'Product-tool'!A:E,2,0)","v":"Tool 03"},{"$f":"VLOOKUP(A472&B472,'Standard output'!A:D,4,0)","v":2499},{"$f":"Orders!B473/$C472","v":0.82505002000800332},{"$f":"Orders!C473/$C472","v":1.1860744297719088},{"$f":"Orders!D473/$C472","v":0.92805122048819544}]
[{"$f":"Orders!A474","v":"UV5951712"},{"$f":"VLOOKUP(A473,'Product-tool'!A:E,2,0)","v":"Tool 16"},{"$f":"VLOOKUP(A473&B473,'Standard output'!A:D,4,0)","v":6873},{"$f":"Orders!B474/$C473","v":0.1259711916193802},{"$f":"Orders!C474/$C473","v":0.18384984722828462},{"$f":"Orders!D474/$C473","v":0.14299432562199912}]
[{"$f":"Orders!A475","v":"UV6238373"},{"$f":"VLOOKUP(A474,'Product-tool'!A:E,2,0)","v":"Tool 16"},{"$f":"VLOOKUP(A474&B474,'Standard output'!A:D,4,0)","v":6850},{"$f":"Orders!B475/$C474","v":1.0248175182481752E-2},{"$f":"Orders!C475/$C474","v":1.4043795620437956E-2},{"$f":"Orders!D475/$C474","v":1.1197080291970803E-2}]
[{"$f":"Orders!A476","v":"UV6241191"},{"$f":"VLOOKUP(A475,'Product-tool'!A:E,2,0)","v":"Tool 02"},{"$f":"VLOOKUP(A475&B475,'Standard output'!A:D,4,0)","v":2620},{"$f":"Orders!B476/$C475","v":2.7786259541984735},{"$f":"Orders!C476/$C475","v":4.4815267175572524},{"$f":"Orders!D476/$C475","v":3.3378244274809163}]
[{"$f":"Orders!A477","v":"UV6252256"},{"$f":"VLOOKUP(A476,'Product-tool'!A:E,2,0)","v":"Tool 07"},{"$f":"VLOOKUP(A476&B476,'Standard output'!A:D,4,0)","v":6444},{"$f":"Orders!B477/$C476","v":6.6573556797020483E-3},{"$f":"Orders!C477/$C476","v":5.8504034761018009E-3},{"$f":"Orders!D477/$C476","v":5.8504034761018009E-3}]
[{"$f":"Orders!A478","v":"UV631601"},{"$f":"VLOOKUP(A477,'Product-tool'!A:E,2,0)","v":"Tool 17"},{"$f":"VLOOKUP(A477&B477,'Standard output'!A:D,4,0)","v":6837},{"$f":"Orders!B478/$C477","v":0.20269123884744769},{"$f":"Orders!C478/$C477","v":0.28083954951001905},{"$f":"Orders!D478/$C477","v":0.22341670323241189}]
[{"$f":"Orders!A479","v":"UV6411805"},{"$f":"VLOOKUP(A478,'Product-tool'!A:E,2,0)","v":"Tool 02"},{"$f":"VLOOKUP(A478&B478,'Standard output'!A:D,4,0)","v":2642},{"$f":"Orders!B479/$C478","v":8.2211960635881915},{"$f":"Orders!C479/$C478","v":8.4372066616199852},{"$f":"Orders!D479/$C478","v":7.7788417865253603}]
[{"$f":"Orders!A480","v":"UV6937295"},{"$f":"VLOOKUP(A479,'Product-tool'!A:E,2,0)","v":"Tool 02"},{"$f":"VLOOKUP(A479&B479,'Standard output'!A:D,4,0)","v":2674},{"$f":"Orders!B480/$C479","v":2.7225130890052355E-2},{"$f":"Orders!C480/$C479","v":4.1810022438294688E-2},{"$f":"Orders!D480/$C479","v":3.2086761406133132E-2}]
[{"$f":"Orders!A481","v":"UV8505006"},{"$f":"VLOOKUP(A480,'Product-tool'!A:E,2,0)","v":"Tool 02"},{"$f":"VLOOKUP(A480&B480,'Standard output'!A:D,4,0)","v":2607},{"$f":"Orders!B481/$C480","v":2.5032604526275413},{"$f":"Orders!C481/$C480","v":3.4571921749136938},{"$f":"Orders!D481/$C480","v":2.7545838128116609}]
[{"$f":"Orders!A482","v":"UV8538779"},{"$f":"VLOOKUP(A481,'Product-tool'!A:E,2,0)","v":"Tool 02"},{"$f":"VLOOKUP(A481&B481,'Standard output'!A:D,4,0)","v":2632},{"$f":"Orders!B482/$C481","v":0.80064589665653507},{"$f":"Orders!C482/$C481","v":0.96808510638297873},{"$f":"Orders!D482/$C481","v":0.82139057750759881}]
[{"$f":"Orders!A483","v":"VE8008533"},{"$f":"VLOOKUP(A482,'Product-tool'!A:E,2,0)","v":"Tool 02"},{"$f":"VLOOKUP(A482&B482,'Standard output'!A:D,4,0)","v":2683},{"$f":"Orders!B483/$C482","v":7.7525158404770783E-3},{"$f":"Orders!C483/$C482","v":9.2061125605665296E-3},{"$f":"Orders!D483/$C482","v":8.2370480805068966E-3}]
[{"$f":"Orders!A484","v":"VE8096041"},{"$f":"VLOOKUP(A483,'Product-tool'!A:E,2,0)","v":"Tool 02"},{"$f":"VLOOKUP(A483&B483,'Standard output'!A:D,4,0)","v":2642},{"$f":"Orders!B484/$C483","v":0.40987887963663894},{"$f":"Orders!C484/$C483","v":0.26472369417108249},{"$f":"Orders!D484/$C483","v":0.3198334595003785}]
[{"$f":"Orders!A485","v":"VE8166035"},{"$f":"VLOOKUP(A484,'Product-tool'!A:E,2,0)","v":"Tool 02"},{"$f":"VLOOKUP(A484&B484,'Standard output'!A:D,4,0)","v":2663},{"$f":"Orders!B485/$C484","v":2.2778069846038305},{"$f":"Orders!C485/$C484","v":2.7220428088621857},{"$f":"Orders!D485/$C484","v":2.3227187382651149}]
[{"$f":"Orders!A486","v":"VE8168353"},{"$f":"VLOOKUP(A485,'Product-tool'!A:E,2,0)","v":"Tool 02"},{"$f":"VLOOKUP(A485&B485,'Standard output'!A:D,4,0)","v":2625},{"$f":"Orders!B486/$C485","v":3.1363428571428571},{"$f":"Orders!C486/$C485","v":3.9628952380952382},{"$f":"Orders!D486/$C485","v":3.2913523809523815}]
[{"$f":"Orders!A487","v":"VE8207633"},{"$f":"VLOOKUP(A486,'Product-tool'!A:E,2,0)","v":"Tool 17"},{"$f":"VLOOKUP(A486&B486,'Standard output'!A:D,4,0)","v":6868},{"$f":"Orders!B487/$C486","v":0.15767326732673267},{"$f":"Orders!C487/$C486","v":0.13836633663366338},{"$f":"Orders!D487/$C486","v":0.13893418753640072}]
[{"$f":"Orders!A488","v":"Z00307730"},{"$f":"VLOOKUP(A487,'Product-tool'!A:E,2,0)","v":"Tool 19"},{"$f":"VLOOKUP(A487&B487,'Standard output'!A:D,4,0)","v":10208},{"$f":"Orders!B488/$C487","v":5.7307993730407521E-2},{"$f":"Orders!C488/$C487","v":6.2529388714733555E-2},{"$f":"Orders!D488/$C487","v":5.5779780564263318E-2}]
[{"$f":"Orders!A489","v":"ZD1446821"},{"$f":"VLOOKUP(A488,'Product-tool'!A:E,2,0)","v":"Tool 05"},{"$f":"VLOOKUP(A488&B488,'Standard output'!A:D,4,0)","v":1253},{"$f":"Orders!B489/$C488","v":0.81029529130087796},{"$f":"Orders!C489/$C488","v":0.69616919393455712},{"$f":"Orders!D489/$C488","v":0.70861931364724662}]
[{"$f":"Orders!A490","v":"ZD1471989"},{"$f":"VLOOKUP(A489,'Product-tool'!A:E,2,0)","v":"Tool 05"},{"$f":"VLOOKUP(A489&B489,'Standard output'!A:D,4,0)","v":1265},{"$f":"Orders!B490/$C489","v":1.3873517786561265},{"$f":"Orders!C490/$C489","v":2.19201581027668},{"$f":"Orders!D490/$C489","v":1.6463241106719366}]
[{"$f":"Orders!A491","v":"ZD173254"},{"$f":"VLOOKUP(A490,'Product-tool'!A:E,2,0)","v":"Tool 05"},{"$f":"VLOOKUP(A490&B490,'Standard output'!A:D,4,0)","v":1226},{"$f":"Orders!B491/$C490","v":7.4225122349102772},{"$f":"Orders!C491/$C490","v":11.789070146818924},{"$f":"Orders!D491/$C490","v":8.8370309951060371}]
[{"$f":"Orders!A492","v":"ZD2443045"},{"$f":"VLOOKUP(A491,'Product-tool'!A:E,2,0)","v":"Tool 02"},{"$f":"VLOOKUP(A491&B491,'Standard output'!A:D,4,0)","v":2632},{"$f":"Orders!B492/$C491","v":8.396656534954408},{"$f":"Orders!C492/$C491","v":12.438411854103345},{"$f":"Orders!D492/$C491","v":9.6062689969604858}]
[{"$f":"Orders!A493","v":"VE8109961"},{"$f":"VLOOKUP(A492,'Product-tool'!A:E,2,0)","v":"Tool 10"},{"$f":"VLOOKUP(A492&B492,'Standard output'!A:D,4,0)","v":1604},{"$f":"Orders!B493/$C492","v":3.6333541147132173},{"$f":"Orders!C493/$C492","v":4.0045511221945143},{"$f":"Orders!D493/$C492","v":3.5579800498753116}]
[{"$f":"Orders!A494","v":"VE5219409"},{"$f":"VLOOKUP(A493,'Product-tool'!A:E,2,0)","v":"Tool 03"},{"$f":"VLOOKUP(A493&B493,'Standard output'!A:D,4,0)","v":2479},{"$f":"Orders!B494/$C493","v":0.19350544574425171},{"$f":"Orders!C494/$C493","v":0.21972569584509885},{"$f":"Orders!D494/$C493","v":0.19245663574021785}]
[{"$f":"Orders!A495","v":0},{"$f":"VLOOKUP(A494,'Product-tool'!A:E,2,0)","v":{"$error":"#N/A"}},{"$f":"VLOOKUP(A494&B494,'Standard output'!A:D,4,0)","v":{"$error":"#N/A"}},{"$f":"Orders!B495/$C494","v":{"$error":"#N/A"}},{"$f":"Orders!C495/$C494","v":{"$error":"#N/A"}},{"$f":"Orders!D495/$C494","v":{"$error":"#N/A"}}]
[{"$f":"Orders!A496","v":0},{"$f":"VLOOKUP(A495,'Product-tool'!A:E,2,0)","v":{"$error":"#N/A"}},{"$f":"VLOOKUP(A495&B495,'Standard output'!A:D,4,0)","v":{"$error":"#N/A"}},{"$f":"Orders!B496/$C495","v":{"$error":"#N/A"}},{"$f":"Orders!C496/$C495","v":{"$error":"#N/A"}},{"$f":"Orders!D496/$C495","v":{"$error":"#N/A"}}]
[{"$f":"Orders!A497","v":0},{"$f":"VLOOKUP(A496,'Product-tool'!A:E,2,0)","v":{"$error":"#N/A"}},{"$f":"VLOOKUP(A496&B496,'Standard output'!A:D,4,0)","v":{"$error":"#N/A"}},{"$f":"Orders!B497/$C496","v":{"$error":"#N/A"}},{"$f":"Orders!C497/$C496","v":{"$error":"#N/A"}},{"$f":"Orders!D497/$C496","v":{"$error":"#N/A"}}]
[{"$f":"Orders!A498","v":0},{"$f":"VLOOKUP(A497,'Product-tool'!A:E,2,0)","v":{"$error":"#N/A"}},{"$f":"VLOOKUP(A497&B497,'Standard output'!A:D,4,0)","v":{"$error":"#N/A"}},{"$f":"Orders!B498/$C497","v":{"$error":"#N/A"}},{"$f":"Orders!C498/$C497","v":{"$error":"#N/A"}},{"$f":"Orders!D498/$C497","v":{"$error":"#N/A"}}]
[{"$f":"Orders!A499","v":0},{"$f":"VLOOKUP(A498,'Product-tool'!A:E,2,0)","v":{"$error":"#N/A"}},{"$f":"VLOOKUP(A498&B498,'Standard output'!A:D,4,0)","v":{"$error":"#N/A"}},{"$f":"Orders!B499/$C498","v":{"$error":"#N/A"}},{"$f":"Orders!C499/$C498","v":{"$error":"#N/A"}},{"$f":"Orders!D499/$C498","v":{"$error":"#N/A"}}]
[{"$f":"Orders!A500","v":0},{"$f":"VLOOKUP(A499,'Product-tool'!A:E,2,0)","v":{"$error":"#N/A"}},{"$f":"VLOOKUP(A499&B499,'Standard output'!A:D,4,0)","v":{"$error":"#N/A"}},{"$f":"Orders!B500/$C499","v":{"$error":"#N/A"}},{"$f":"Orders!C500/$C499","v":{"$error":"#N/A"}},{"$f":"Orders!D500/$C499","v":{"$error":"#N/A"}}]
[{"$f":"Orders!A501","v":0},{"$f":"VLOOKUP(A500,'Product-tool'!A:E,2,0)","v":{"$error":"#N/A"}},{"$f":"VLOOKUP(A500&B500,'Standard output'!A:D,4,0)","v":{"$error":"#N/A"}},{"$f":"Orders!B501/$C500","v":{"$error":"#N/A"}},{"$f":"Orders!C501/$C500","v":{"$error":"#N/A"}},{"$f":"Orders!D501/$C500","v":{"$error":"#N/A"}}]
[{"$f":"Orders!A502","v":0},{"$f":"VLOOKUP(A501,'Product-tool'!A:E,2,0)","v":{"$error":"#N/A"}},{"$f":"VLOOKUP(A501&B501,'Standard output'!A:D,4,0)","v":{"$error":"#N/A"}},{"$f":"Orders!B502/$C501","v":{"$error":"#N/A"}},{"$f":"Orders!C502/$C501","v":{"$error":"#N/A"}},{"$f":"Orders!D502/$C501","v":{"$error":"#N/A"}}]
[{"$f":"Orders!A503","v":0},{"$f":"VLOOKUP(A502,'Product-tool'!A:E,2,0)","v":{"$error":"#N/A"}},{"$f":"VLOOKUP(A502&B502,'Standard output'!A:D,4,0)","v":{"$error":"#N/A"}},{"$f":"Orders!B503/$C502","v":{"$error":"#N/A"}},{"$f":"Orders!C503/$C502","v":{"$error":"#N/A"}},{"$f":"Orders!D503/$C502","v":{"$error":"#N/A"}}]
[{"$f":"Orders!A504","v":0},{"$f":"VLOOKUP(A503,'Product-tool'!A:E,2,0)","v":{"$error":"#N/A"}},{"$f":"VLOOKUP(A503&B503,'Standard output'!A:D,4,0)","v":{"$error":"#N/A"}},{"$f":"Orders!B504/$C503","v":{"$error":"#N/A"}},{"$f":"Orders!C504/$C503","v":{"$error":"#N/A"}},{"$f":"Orders!D504/$C503","v":{"$error":"#N/A"}}]
[{"$f":"Orders!A505","v":0},{"$f":"VLOOKUP(A504,'Product-tool'!A:E,2,0)","v":{"$error":"#N/A"}},{"$f":"VLOOKUP(A504&B504,'Standard output'!A:D,4,0)","v":{"$error":"#N/A"}},{"$f":"Orders!B505/$C504","v":{"$error":"#N/A"}},{"$f":"Orders!C505/$C504","v":{"$error":"#N/A"}},{"$f":"Orders!D505/$C504","v":{"$error":"#N/A"}}]
[{"$f":"Orders!A506","v":0},{"$f":"VLOOKUP(A505,'Product-tool'!A:E,2,0)","v":{"$error":"#N/A"}},{"$f":"VLOOKUP(A505&B505,'Standard output'!A:D,4,0)","v":{"$error":"#N/A"}},{"$f":"Orders!B506/$C505","v":{"$error":"#N/A"}},{"$f":"Orders!C506/$C505","v":{"$error":"#N/A"}},{"$f":"Orders!D506/$C505","v":{"$error":"#N/A"}}]
[{"$f":"Orders!A507","v":0},{"$f":"VLOOKUP(A506,'Product-tool'!A:E,2,0)","v":{"$error":"#N/A"}},{"$f":"VLOOKUP(A506&B506,'Standard output'!A:D,4,0)","v":{"$error":"#N/A"}},{"$f":"Orders!B507/$C506","v":{"$error":"#N/A"}},{"$f":"Orders!C507/$C506","v":{"$error":"#N/A"}},{"$f":"Orders!D507/$C506","v":{"$error":"#N/A"}}]
[{"$f":"Orders!A508","v":0},{"$f":"VLOOKUP(A507,'Product-tool'!A:E,2,0)","v":{"$error":"#N/A"}},{"$f":"VLOOKUP(A507&B507,'Standard output'!A:D,4,0)","v":{"$error":"#N/A"}},{"$f":"Orders!B508/$C507","v":{"$error":"#N/A"}},{"$f":"Orders!C508/$C507","v":{"$error":"#N/A"}},{"$f":"Orders!D508/$C507","v":{"$error":"#N/A"}}]
[{"$f":"Orders!A509","v":0},{"$f":"VLOOKUP(A508,'Product-tool'!A:E,2,0)","v":{"$error":"#N/A"}},{"$f":"VLOOKUP(A508&B508,'Standard output'!A:D,4,0)","v":{"$error":"#N/A"}},{"$f":"Orders!B509/$C508","v":{"$error":"#N/A"}},{"$f":"Orders!C509/$C508","v":{"$error":"#N/A"}},{"$f":"Orders!D509/$C508","v":{"$error":"#N/A"}}]
[{"$f":"Orders!A510","v":0},{"$f":"VLOOKUP(A509,'Product-tool'!A:E,2,0)","v":{"$error":"#N/A"}},{"$f":"VLOOKUP(A509&B509,'Standard output'!A:D,4,0)","v":{"$error":"#N/A"}},{"$f":"Orders!B510/$C509","v":{"$error":"#N/A"}},{"$f":"Orders!C510/$C509","v":{"$error":"#N/A"}},{"$f":"Orders!D510/$C509","v":{"$error":"#N/A"}}]
[{"$f":"Orders!A511","v":0},{"$f":"VLOOKUP(A510,'Product-tool'!A:E,2,0)","v":{"$error":"#N/A"}},{"$f":"VLOOKUP(A510&B510,'Standard output'!A:D,4,0)","v":{"$error":"#N/A"}},{"$f":"Orders!B511/$C510","v":{"$error":"#N/A"}},{"$f":"Orders!C511/$C510","v":{"$error":"#N/A"}},{"$f":"Orders!D511/$C510","v":{"$error":"#N/A"}}]
[{"$f":"Orders!A512","v":0},{"$f":"VLOOKUP(A511,'Product-tool'!A:E,2,0)","v":{"$error":"#N/A"}},{"$f":"VLOOKUP(A511&B511,'Standard output'!A:D,4,0)","v":{"$error":"#N/A"}},{"$f":"Orders!B512/$C511","v":{"$error":"#N/A"}},{"$f":"Orders!C512/$C511","v":{"$error":"#N/A"}},{"$f":"Orders!D512/$C511","v":{"$error":"#N/A"}}]
[{"$f":"Orders!A513","v":0},{"$f":"VLOOKUP(A512,'Product-tool'!A:E,2,0)","v":{"$error":"#N/A"}},{"$f":"VLOOKUP(A512&B512,'Standard output'!A:D,4,0)","v":{"$error":"#N/A"}},{"$f":"Orders!B513/$C512","v":{"$error":"#N/A"}},{"$f":"Orders!C513/$C512","v":{"$error":"#N/A"}},{"$f":"Orders!D513/$C512","v":{"$error":"#N/A"}}]
[{"$f":"Orders!A514","v":0},{"$f":"VLOOKUP(A513,'Product-tool'!A:E,2,0)","v":{"$error":"#N/A"}},{"$f":"VLOOKUP(A513&B513,'Standard output'!A:D,4,0)","v":{"$error":"#N/A"}},{"$f":"Orders!B514/$C513","v":{"$error":"#N/A"}},{"$f":"Orders!C514/$C513","v":{"$error":"#N/A"}},{"$f":"Orders!D514/$C513","v":{"$error":"#N/A"}}]
[{"$f":"Orders!A515","v":0},{"$f":"VLOOKUP(A514,'Product-tool'!A:E,2,0)","v":{"$error":"#N/A"}},{"$f":"VLOOKUP(A514&B514,'Standard output'!A:D,4,0)","v":{"$error":"#N/A"}},{"$f":"Orders!B515/$C514","v":{"$error":"#N/A"}},{"$f":"Orders!C515/$C514","v":{"$error":"#N/A"}},{"$f":"Orders!D515/$C514","v":{"$error":"#N/A"}}]
[{"$f":"Orders!A516","v":0},{"$f":"VLOOKUP(A515,'Product-tool'!A:E,2,0)","v":{"$error":"#N/A"}},{"$f":"VLOOKUP(A515&B515,'Standard output'!A:D,4,0)","v":{"$error":"#N/A"}},{"$f":"Orders!B516/$C515","v":{"$error":"#N/A"}},{"$f":"Orders!C516/$C515","v":{"$error":"#N/A"}},{"$f":"Orders!D516/$C515","v":{"$error":"#N/A"}}]
[{"$f":"Orders!A517","v":0},{"$f":"VLOOKUP(A516,'Product-tool'!A:E,2,0)","v":{"$error":"#N/A"}},{"$f":"VLOOKUP(A516&B516,'Standard output'!A:D,4,0)","v":{"$error":"#N/A"}},{"$f":"Orders!B517/$C516","v":{"$error":"#N/A"}},{"$f":"Orders!C517/$C516","v":{"$error":"#N/A"}},{"$f":"Orders!D517/$C516","v":{"$error":"#N/A"}}]
[{"$f":"Orders!A518","v":0},{"$f":"VLOOKUP(A517,'Product-tool'!A:E,2,0)","v":{"$error":"#N/A"}},{"$f":"VLOOKUP(A517&B517,'Standard output'!A:D,4,0)","v":{"$error":"#N/A"}},{"$f":"Orders!B518/$C517","v":{"$error":"#N/A"}},{"$f":"Orders!C518/$C517","v":{"$error":"#N/A"}},{"$f":"Orders!D518/$C517","v":{"$error":"#N/A"}}]
[{"$f":"Orders!A519","v":0},{"$f":"VLOOKUP(A518,'Product-tool'!A:E,2,0)","v":{"$error":"#N/A"}},{"$f":"VLOOKUP(A518&B518,'Standard output'!A:D,4,0)","v":{"$error":"#N/A"}},{"$f":"Orders!B519/$C518","v":{"$error":"#N/A"}},{"$f":"Orders!C519/$C518","v":{"$error":"#N/A"}},{"$f":"Orders!D519/$C518","v":{"$error":"#N/A"}}]
[{"$f":"Orders!A520","v":0},{"$f":"VLOOKUP(A519,'Product-tool'!A:E,2,0)","v":{"$error":"#N/A"}},{"$f":"VLOOKUP(A519&B519,'Standard output'!A:D,4,0)","v":{"$error":"#N/A"}},{"$f":"Orders!B520/$C519","v":{"$error":"#N/A"}},{"$f":"Orders!C520/$C519","v":{"$error":"#N/A"}},{"$f":"Orders!D520/$C519","v":{"$error":"#N/A"}}]
[{"$f":"Orders!A521","v":0},{"$f":"VLOOKUP(A520,'Product-tool'!A:E,2,0)","v":{"$error":"#N/A"}},{"$f":"VLOOKUP(A520&B520,'Standard output'!A:D,4,0)","v":{"$error":"#N/A"}},{"$f":"Orders!B521/$C520","v":{"$error":"#N/A"}},{"$f":"Orders!C521/$C520","v":{"$error":"#N/A"}},{"$f":"Orders!D521/$C520","v":{"$error":"#N/A"}}]
[{"$f":"Orders!A522","v":0},{"$f":"VLOOKUP(A521,'Product-tool'!A:E,2,0)","v":{"$error":"#N/A"}},{"$f":"VLOOKUP(A521&B521,'Standard output'!A:D,4,0)","v":{"$error":"#N/A"}},{"$f":"Orders!B522/$C521","v":{"$error":"#N/A"}},{"$f":"Orders!C522/$C521","v":{"$error":"#N/A"}},{"$f":"Orders!D522/$C521","v":{"$error":"#N/A"}}]
[{"$f":"Orders!A523","v":0},{"$f":"VLOOKUP(A522,'Product-tool'!A:E,2,0)","v":{"$error":"#N/A"}},{"$f":"VLOOKUP(A522&B522,'Standard output'!A:D,4,0)","v":{"$error":"#N/A"}},{"$f":"Orders!B523/$C522","v":{"$error":"#N/A"}},{"$f":"Orders!C523/$C522","v":{"$error":"#N/A"}},{"$f":"Orders!D523/$C522","v":{"$error":"#N/A"}}]
[{"$f":"Orders!A524","v":0},{"$f":"VLOOKUP(A523,'Product-tool'!A:E,2,0)","v":{"$error":"#N/A"}},{"$f":"VLOOKUP(A523&B523,'Standard output'!A:D,4,0)","v":{"$error":"#N/A"}},{"$f":"Orders!B524/$C523","v":{"$error":"#N/A"}},{"$f":"Orders!C524/$C523","v":{"$error":"#N/A"}},{"$f":"Orders!D524/$C523","v":{"$error":"#N/A"}}]
[{"$f":"Orders!A525","v":0},{"$f":"VLOOKUP(A524,'Product-tool'!A:E,2,0)","v":{"$error":"#N/A"}},{"$f":"VLOOKUP(A524&B524,'Standard output'!A:D,4,0)","v":{"$error":"#N/A"}},{"$f":"Orders!B525/$C524","v":{"$error":"#N/A"}},{"$f":"Orders!C525/$C524","v":{"$error":"#N/A"}},{"$f":"Orders!D525/$C524","v":{"$error":"#N/A"}}]
[{"$f":"Orders!A526","v":0},{"$f":"VLOOKUP(A525,'Product-tool'!A:E,2,0)","v":{"$error":"#N/A"}},{"$f":"VLOOKUP(A525&B525,'Standard output'!A:D,4,0)","v":{"$error":"#N/A"}},{"$f":"Orders!B526/$C525","v":{"$error":"#N/A"}},{"$f":"Orders!C526/$C525","v":{"$error":"#N/A"}},{"$f":"Orders!D526/$C525","v":{"$error":"#N/A"}}]
[{"$f":"Orders!A527","v":0},{"$f":"VLOOKUP(A526,'Product-tool'!A:E,2,0)","v":{"$error":"#N/A"}},{"$f":"VLOOKUP(A526&B526,'Standard output'!A:D,4,0)","v":{"$error":"#N/A"}},{"$f":"Orders!B527/$C526","v":{"$error":"#N/A"}},{"$f":"Orders!C527/$C526","v":{"$error":"#N/A"}},{"$f":"Orders!D527/$C526","v":{"$error":"#N/A"}}]
[{"$f":"Orders!A528","v":0},{"$f":"VLOOKUP(A527,'Product-tool'!A:E,2,0)","v":{"$error":"#N/A"}},{"$f":"VLOOKUP(A527&B527,'Standard output'!A:D,4,0)","v":{"$error":"#N/A"}},{"$f":"Orders!B528/$C527","v":{"$error":"#N/A"}},{"$f":"Orders!C528/$C527","v":{"$error":"#N/A"}},{"$f":"Orders!D528/$C527","v":{"$error":"#N/A"}}]
[{"$f":"Orders!A529","v":0},{"$f":"VLOOKUP(A528,'Product-tool'!A:E,2,0)","v":{"$error":"#N/A"}},{"$f":"VLOOKUP(A528&B528,'Standard output'!A:D,4,0)","v":{"$error":"#N/A"}},{"$f":"Orders!B529/$C528","v":{"$error":"#N/A"}},{"$f":"Orders!C529/$C528","v":{"$error":"#N/A"}},{"$f":"Orders!D529/$C528","v":{"$error":"#N/A"}}]
[{"$f":"Orders!A530","v":0},{"$f":"VLOOKUP(A529,'Product-tool'!A:E,2,0)","v":{"$error":"#N/A"}},{"$f":"VLOOKUP(A529&B529,'Standard output'!A:D,4,0)","v":{"$error":"#N/A"}},{"$f":"Orders!B530/$C529","v":{"$error":"#N/A"}},{"$f":"Orders!C530/$C529","v":{"$error":"#N/A"}},{"$f":"Orders!D530/$C529","v":{"$error":"#N/A"}}]
[{"$f":"Orders!A531","v":0},{"$f":"VLOOKUP(A530,'Product-tool'!A:E,2,0)","v":{"$error":"#N/A"}},{"$f":"VLOOKUP(A530&B530,'Standard output'!A:D,4,0)","v":{"$error":"#N/A"}},{"$f":"Orders!B531/$C530","v":{"$error":"#N/A"}},{"$f":"Orders!C531/$C530","v":{"$error":"#N/A"}},{"$f":"Orders!D531/$C530","v":{"$error":"#N/A"}}]
[{"$f":"Orders!A532","v":0},{"$f":"VLOOKUP(A531,'Product-tool'!A:E,2,0)","v":{"$error":"#N/A"}},{"$f":"VLOOKUP(A531&B531,'Standard output'!A:D,4,0)","v":{"$error":"#N/A"}},{"$f":"Orders!B532/$C531","v":{"$error":"#N/A"}},{"$f":"Orders!C532/$C531","v":{"$error":"#N/A"}},{"$f":"Orders!D532/$C531","v":{"$error":"#N/A"}}]
[{"$f":"Orders!A533","v":0},{"$f":"VLOOKUP(A532,'Product-tool'!A:E,2,0)","v":{"$error":"#N/A"}},{"$f":"VLOOKUP(A532&B532,'Standard output'!A:D,4,0)","v":{"$error":"#N/A"}},{"$f":"Orders!B533/$C532","v":{"$error":"#N/A"}},{"$f":"Orders!C533/$C532","v":{"$error":"#N/A"}},{"$f":"Orders!D533/$C532","v":{"$error":"#N/A"}}]
[{"$f":"Orders!A534","v":0},{"$f":"VLOOKUP(A533,'Product-tool'!A:E,2,0)","v":{"$error":"#N/A"}},{"$f":"VLOOKUP(A533&B533,'Standard output'!A:D,4,0)","v":{"$error":"#N/A"}},{"$f":"Orders!B534/$C533","v":{"$error":"#N/A"}},{"$f":"Orders!C534/$C533","v":{"$error":"#N/A"}},{"$f":"Orders!D534/$C533","v":{"$error":"#N/A"}}]
[{"$f":"Orders!A535","v":0},{"$f":"VLOOKUP(A534,'Product-tool'!A:E,2,0)","v":{"$error":"#N/A"}},{"$f":"VLOOKUP(A534&B534,'Standard output'!A:D,4,0)","v":{"$error":"#N/A"}},{"$f":"Orders!B535/$C534","v":{"$error":"#N/A"}},{"$f":"Orders!C535/$C534","v":{"$error":"#N/A"}},{"$f":"Orders!D535/$C534","v":{"$error":"#N/A"}}]
[{"$f":"Orders!A536","v":0},{"$f":"VLOOKUP(A535,'Product-tool'!A:E,2,0)","v":{"$error":"#N/A"}},{"$f":"VLOOKUP(A535&B535,'Standard output'!A:D,4,0)","v":{"$error":"#N/A"}},{"$f":"Orders!B536/$C535","v":{"$error":"#N/A"}},{"$f":"Orders!C536/$C535","v":{"$error":"#N/A"}},{"$f":"Orders!D536/$C535","v":{"$error":"#N/A"}}]
[{"$f":"Orders!A537","v":0},{"$f":"VLOOKUP(A536,'Product-tool'!A:E,2,0)","v":{"$error":"#N/A"}},{"$f":"VLOOKUP(A536&B536,'Standard output'!A:D,4,0)","v":{"$error":"#N/A"}},{"$f":"Orders!B537/$C536","v":{"$error":"#N/A"}},{"$f":"Orders!C537/$C536","v":{"$error":"#N/A"}},{"$f":"Orders!D537/$C536","v":{"$error":"#N/A"}}]
[{"$f":"Orders!A538","v":0},{"$f":"VLOOKUP(A537,'Product-tool'!A:E,2,0)","v":{"$error":"#N/A"}},{"$f":"VLOOKUP(A537&B537,'Standard output'!A:D,4,0)","v":{"$error":"#N/A"}},{"$f":"Orders!B538/$C537","v":{"$error":"#N/A"}},{"$f":"Orders!C538/$C537","v":{"$error":"#N/A"}},{"$f":"Orders!D538/$C537","v":{"$error":"#N/A"}}]
[{"$f":"Orders!A539","v":0},{"$f":"VLOOKUP(A538,'Product-tool'!A:E,2,0)","v":{"$error":"#N/A"}},{"$f":"VLOOKUP(A538&B538,'Standard output'!A:D,4,0)","v":{"$error":"#N/A"}},{"$f":"Orders!B539/$C538","v":{"$error":"#N/A"}},{"$f":"Orders!C539/$C538","v":{"$error":"#N/A"}},{"$f":"Orders!D539/$C538","v":{"$error":"#N/A"}}]
[{"$f":"Orders!A540","v":0},{"$f":"VLOOKUP(A539,'Product-tool'!A:E,2,0)","v":{"$error":"#N/A"}},{"$f":"VLOOKUP(A539&B539,'Standard output'!A:D,4,0)","v":{"$error":"#N/A"}},{"$f":"Orders!B540/$C539","v":{"$error":"#N/A"}},{"$f":"Orders!C540/$C539","v":{"$error":"#N/A"}},{"$f":"Orders!D540/$C539","v":{"$error":"#N/A"}}]
[{"$f":"Orders!A541","v":0},{"$f":"VLOOKUP(A540,'Product-tool'!A:E,2,0)","v":{"$error":"#N/A"}},{"$f":"VLOOKUP(A540&B540,'Standard output'!A:D,4,0)","v":{"$error":"#N/A"}},{"$f":"Orders!B541/$C540","v":{"$error":"#N/A"}},{"$f":"Orders!C541/$C540","v":{"$error":"#N/A"}},{"$f":"Orders!D541/$C540","v":{"$error":"#N/A"}}]
[{"$f":"Orders!A542","v":0},{"$f":"VLOOKUP(A541,'Product-tool'!A:E,2,0)","v":{"$error":"#N/A"}},{"$f":"VLOOKUP(A541&B541,'Standard output'!A:D,4,0)","v":{"$error":"#N/A"}},{"$f":"Orders!B542/$C541","v":{"$error":"#N/A"}},{"$f":"Orders!C542/$C541","v":{"$error":"#N/A"}},{"$f":"Orders!D542/$C541","v":{"$error":"#N/A"}}]
[{"$f":"Orders!A543","v":0},{"$f":"VLOOKUP(A542,'Product-tool'!A:E,2,0)","v":{"$error":"#N/A"}},{"$f":"VLOOKUP(A542&B542,'Standard output'!A:D,4,0)","v":{"$error":"#N/A"}},{"$f":"Orders!B543/$C542","v":{"$error":"#N/A"}},{"$f":"Orders!C543/$C542","v":{"$error":"#N/A"}},{"$f":"Orders!D543/$C542","v":{"$error":"#N/A"}}]
[{"$f":"Orders!A544","v":0},{"$f":"VLOOKUP(A543,'Product-tool'!A:E,2,0)","v":{"$error":"#N/A"}},{"$f":"VLOOKUP(A543&B543,'Standard output'!A:D,4,0)","v":{"$error":"#N/A"}},{"$f":"Orders!B544/$C543","v":{"$error":"#N/A"}},{"$f":"Orders!C544/$C543","v":{"$error":"#N/A"}},{"$f":"Orders!D544/$C543","v":{"$error":"#N/A"}}]
[{"$f":"Orders!A545","v":0},{"$f":"VLOOKUP(A544,'Product-tool'!A:E,2,0)","v":{"$error":"#N/A"}},{"$f":"VLOOKUP(A544&B544,'Standard output'!A:D,4,0)","v":{"$error":"#N/A"}},{"$f":"Orders!B545/$C544","v":{"$error":"#N/A"}},{"$f":"Orders!C545/$C544","v":{"$error":"#N/A"}},{"$f":"Orders!D545/$C544","v":{"$error":"#N/A"}}]
[{"$f":"Orders!A546","v":0},{"$f":"VLOOKUP(A545,'Product-tool'!A:E,2,0)","v":{"$error":"#N/A"}},{"$f":"VLOOKUP(A545&B545,'Standard output'!A:D,4,0)","v":{"$error":"#N/A"}},{"$f":"Orders!B546/$C545","v":{"$error":"#N/A"}},{"$f":"Orders!C546/$C545","v":{"$error":"#N/A"}},{"$f":"Orders!D546/$C545","v":{"$error":"#N/A"}}]
[{"$f":"Orders!A547","v":0},{"$f":"VLOOKUP(A546,'Product-tool'!A:E,2,0)","v":{"$error":"#N/A"}},{"$f":"VLOOKUP(A546&B546,'Standard output'!A:D,4,0)","v":{"$error":"#N/A"}},{"$f":"Orders!B547/$C546","v":{"$error":"#N/A"}},{"$f":"Orders!C547/$C546","v":{"$error":"#N/A"}},{"$f":"Orders!D547/$C546","v":{"$error":"#N/A"}}]
[{"$f":"Orders!A548","v":0},{"$f":"VLOOKUP(A547,'Product-tool'!A:E,2,0)","v":{"$error":"#N/A"}},{"$f":"VLOOKUP(A547&B547,'Standard output'!A:D,4,0)","v":{"$error":"#N/A"}},{"$f":"Orders!B548/$C547","v":{"$error":"#N/A"}},{"$f":"Orders!C548/$C547","v":{"$error":"#N/A"}},{"$f":"Orders!D548/$C547","v":{"$error":"#N/A"}}]
[{"$f":"Orders!A549","v":0},{"$f":"VLOOKUP(A548,'Product-tool'!A:E,2,0)","v":{"$error":"#N/A"}},{"$f":"VLOOKUP(A548&B548,'Standard output'!A:D,4,0)","v":{"$error":"#N/A"}},{"$f":"Orders!B549/$C548","v":{"$error":"#N/A"}},{"$f":"Orders!C549/$C548","v":{"$error":"#N/A"}},{"$f":"Orders!D549/$C548","v":{"$error":"#N/A"}}]
[{"$f":"Orders!A550","v":0},{"$f":"VLOOKUP(A549,'Product-tool'!A:E,2,0)","v":{"$error":"#N/A"}},{"$f":"VLOOKUP(A549&B549,'Standard output'!A:D,4,0)","v":{"$error":"#N/A"}},{"$f":"Orders!B550/$C549","v":{"$error":"#N/A"}},{"$f":"Orders!C550/$C549","v":{"$error":"#N/A"}},{"$f":"Orders!D550/$C549","v":{"$error":"#N/A"}}]
[{"$f":"Orders!A551","v":0},{"$f":"VLOOKUP(A550,'Product-tool'!A:E,2,0)","v":{"$error":"#N/A"}},{"$f":"VLOOKUP(A550&B550,'Standard output'!A:D,4,0)","v":{"$error":"#N/A"}},{"$f":"Orders!B551/$C550","v":{"$error":"#N/A"}},{"$f":"Orders!C551/$C550","v":{"$error":"#N/A"}},{"$f":"Orders!D551/$C550","v":{"$error":"#N/A"}}]
[{"$f":"Orders!A552","v":0},{"$f":"VLOOKUP(A551,'Product-tool'!A:E,2,0)","v":{"$error":"#N/A"}},{"$f":"VLOOKUP(A551&B551,'Standard output'!A:D,4,0)","v":{"$error":"#N/A"}},{"$f":"Orders!B552/$C551","v":{"$error":"#N/A"}},{"$f":"Orders!C552/$C551","v":{"$error":"#N/A"}},{"$f":"Orders!D552/$C551","v":{"$error":"#N/A"}}]
[{"$f":"Orders!A553","v":0},{"$f":"VLOOKUP(A552,'Product-tool'!A:E,2,0)","v":{"$error":"#N/A"}},{"$f":"VLOOKUP(A552&B552,'Standard output'!A:D,4,0)","v":{"$error":"#N/A"}},{"$f":"Orders!B553/$C552","v":{"$error":"#N/A"}},{"$f":"Orders!C553/$C552","v":{"$error":"#N/A"}},{"$f":"Orders!D553/$C552","v":{"$error":"#N/A"}}]
[{"$f":"Orders!A554","v":0},{"$f":"VLOOKUP(A553,'Product-tool'!A:E,2,0)","v":{"$error":"#N/A"}},{"$f":"VLOOKUP(A553&B553,'Standard output'!A:D,4,0)","v":{"$error":"#N/A"}},{"$f":"Orders!B554/$C553","v":{"$error":"#N/A"}},{"$f":"Orders!C554/$C553","v":{"$error":"#N/A"}},{"$f":"Orders!D554/$C553","v":{"$error":"#N/A"}}]
[{"$f":"Orders!A555","v":0},{"$f":"VLOOKUP(A554,'Product-tool'!A:E,2,0)","v":{"$error":"#N/A"}},{"$f":"VLOOKUP(A554&B554,'Standard output'!A:D,4,0)","v":{"$error":"#N/A"}},{"$f":"Orders!B555/$C554","v":{"$error":"#N/A"}},{"$f":"Orders!C555/$C554","v":{"$error":"#N/A"}},{"$f":"Orders!D555/$C554","v":{"$error":"#N/A"}}]
[{"$f":"Orders!A556","v":0},{"$f":"VLOOKUP(A555,'Product-tool'!A:E,2,0)","v":{"$error":"#N/A"}},{"$f":"VLOOKUP(A555&B555,'Standard output'!A:D,4,0)","v":{"$error":"#N/A"}},{"$f":"Orders!B556/$C555","v":{"$error":"#N/A"}},{"$f":"Orders!C556/$C555","v":{"$error":"#N/A"}},{"$f":"Orders!D556/$C555","v":{"$error":"#N/A"}}]
[{"$f":"Orders!A557","v":0},{"$f":"VLOOKUP(A556,'Product-tool'!A:E,2,0)","v":{"$error":"#N/A"}},{"$f":"VLOOKUP(A556&B556,'Standard output'!A:D,4,0)","v":{"$error":"#N/A"}},{"$f":"Orders!B557/$C556","v":{"$error":"#N/A"}},{"$f":"Orders!C557/$C556","v":{"$error":"#N/A"}},{"$f":"Orders!D557/$C556","v":{"$error":"#N/A"}}]
[{"$f":"Orders!A558","v":0},{"$f":"VLOOKUP(A557,'Product-tool'!A:E,2,0)","v":{"$error":"#N/A"}},{"$f":"VLOOKUP(A557&B557,'Standard output'!A:D,4,0)","v":{"$error":"#N/A"}},{"$f":"Orders!B558/$C557","v":{"$error":"#N/A"}},{"$f":"Orders!C558/$C557","v":{"$error":"#N/A"}},{"$f":"Orders!D558/$C557","v":{"$error":"#N/A"}}]
[{"$f":"Orders!A559","v":0},{"$f":"VLOOKUP(A558,'Product-tool'!A:E,2,0)","v":{"$error":"#N/A"}},{"$f":"VLOOKUP(A558&B558,'Standard output'!A:D,4,0)","v":{"$error":"#N/A"}},{"$f":"Orders!B559/$C558","v":{"$error":"#N/A"}},{"$f":"Orders!C559/$C558","v":{"$error":"#N/A"}},{"$f":"Orders!D559/$C558","v":{"$error":"#N/A"}}]
[{"$f":"Orders!A560","v":0},{"$f":"VLOOKUP(A559,'Product-tool'!A:E,2,0)","v":{"$error":"#N/A"}},{"$f":"VLOOKUP(A559&B559,'Standard output'!A:D,4,0)","v":{"$error":"#N/A"}},{"$f":"Orders!B560/$C559","v":{"$error":"#N/A"}},{"$f":"Orders!C560/$C559","v":{"$error":"#N/A"}},{"$f":"Orders!D560/$C559","v":{"$error":"#N/A"}}]
[{"$f":"Orders!A561","v":0},{"$f":"VLOOKUP(A560,'Product-tool'!A:E,2,0)","v":{"$error":"#N/A"}},{"$f":"VLOOKUP(A560&B560,'Standard output'!A:D,4,0)","v":{"$error":"#N/A"}},{"$f":"Orders!B561/$C560","v":{"$error":"#N/A"}},{"$f":"Orders!C561/$C560","v":{"$error":"#N/A"}},{"$f":"Orders!D561/$C560","v":{"$error":"#N/A"}}]
[{"$f":"Orders!A562","v":0},{"$f":"VLOOKUP(A561,'Product-tool'!A:E,2,0)","v":{"$error":"#N/A"}},{"$f":"VLOOKUP(A561&B561,'Standard output'!A:D,4,0)","v":{"$error":"#N/A"}},{"$f":"Orders!B562/$C561","v":{"$error":"#N/A"}},{"$f":"Orders!C562/$C561","v":{"$error":"#N/A"}},{"$f":"Orders!D562/$C561","v":{"$error":"#N/A"}}]
[{"$f":"Orders!A563","v":0},{"$f":"VLOOKUP(A562,'Product-tool'!A:E,2,0)","v":{"$error":"#N/A"}},{"$f":"VLOOKUP(A562&B562,'Standard output'!A:D,4,0)","v":{"$error":"#N/A"}},{"$f":"Orders!B563/$C562","v":{"$error":"#N/A"}},{"$f":"Orders!C563/$C562","v":{"$error":"#N/A"}},{"$f":"Orders!D563/$C562","v":{"$error":"#N/A"}}]
[{"$f":"Orders!A564","v":0},{"$f":"VLOOKUP(A563,'Product-tool'!A:E,2,0)","v":{"$error":"#N/A"}},{"$f":"VLOOKUP(A563&B563,'Standard output'!A:D,4,0)","v":{"$error":"#N/A"}},{"$f":"Orders!B564/$C563","v":{"$error":"#N/A"}},{"$f":"Orders!C564/$C563","v":{"$error":"#N/A"}},{"$f":"Orders!D564/$C563","v":{"$error":"#N/A"}}]
[{"$f":"Orders!A565","v":0},{"$f":"VLOOKUP(A564,'Product-tool'!A:E,2,0)","v":{"$error":"#N/A"}},{"$f":"VLOOKUP(A564&B564,'Standard output'!A:D,4,0)","v":{"$error":"#N/A"}},{"$f":"Orders!B565/$C564","v":{"$error":"#N/A"}},{"$f":"Orders!C565/$C564","v":{"$error":"#N/A"}},{"$f":"Orders!D565/$C564","v":{"$error":"#N/A"}}]
[{"$f":"Orders!A566","v":0},{"$f":"VLOOKUP(A565,'Product-tool'!A:E,2,0)","v":{"$error":"#N/A"}},{"$f":"VLOOKUP(A565&B565,'Standard output'!A:D,4,0)","v":{"$error":"#N/A"}},{"$f":"Orders!B566/$C565","v":{"$error":"#N/A"}},{"$f":"Orders!C566/$C565","v":{"$error":"#N/A"}},{"$f":"Orders!D566/$C565","v":{"$error":"#N/A"}}]
[{"$f":"Orders!A567","v":0},{"$f":"VLOOKUP(A566,'Product-tool'!A:E,2,0)","v":{"$error":"#N/A"}},{"$f":"VLOOKUP(A566&B566,'Standard output'!A:D,4,0)","v":{"$error":"#N/A"}},{"$f":"Orders!B567/$C566","v":{"$error":"#N/A"}},{"$f":"Orders!C567/$C566","v":{"$error":"#N/A"}},{"$f":"Orders!D567/$C566","v":{"$error":"#N/A"}}]
[{"$f":"Orders!A568","v":0},{"$f":"VLOOKUP(A567,'Product-tool'!A:E,2,0)","v":{"$error":"#N/A"}},{"$f":"VLOOKUP(A567&B567,'Standard output'!A:D,4,0)","v":{"$error":"#N/A"}},{"$f":"Orders!B568/$C567","v":{"$error":"#N/A"}},{"$f":"Orders!C568/$C567","v":{"$error":"#N/A"}},{"$f":"Orders!D568/$C567","v":{"$error":"#N/A"}}]
[{"$f":"Orders!A569","v":0},{"$f":"VLOOKUP(A568,'Product-tool'!A:E,2,0)","v":{"$error":"#N/A"}},{"$f":"VLOOKUP(A568&B568,'Standard output'!A:D,4,0)","v":{"$error":"#N/A"}},{"$f":"Orders!B569/$C568","v":{"$error":"#N/A"}},{"$f":"Orders!C569/$C568","v":{"$error":"#N/A"}},{"$f":"Orders!D569/$C568","v":{"$error":"#N/A"}}]
[{"$f":"Orders!A570","v":0},{"$f":"VLOOKUP(A569,'Product-tool'!A:E,2,0)","v":{"$error":"#N/A"}},{"$f":"VLOOKUP(A569&B569,'Standard output'!A:D,4,0)","v":{"$error":"#N/A"}},{"$f":"Orders!B570/$C569","v":{"$error":"#N/A"}},{"$f":"Orders!C570/$C569","v":{"$error":"#N/A"}},{"$f":"Orders!D570/$C569","v":{"$error":"#N/A"}}]
[{"$f":"Orders!A571","v":0},{"$f":"VLOOKUP(A570,'Product-tool'!A:E,2,0)","v":{"$error":"#N/A"}},{"$f":"VLOOKUP(A570&B570,'Standard output'!A:D,4,0)","v":{"$error":"#N/A"}},{"$f":"Orders!B571/$C570","v":{"$error":"#N/A"}},{"$f":"Orders!C571/$C570","v":{"$error":"#N/A"}},{"$f":"Orders!D571/$C570","v":{"$error":"#N/A"}}]
[{"$f":"Orders!A572","v":0},{"$f":"VLOOKUP(A571,'Product-tool'!A:E,2,0)","v":{"$error":"#N/A"}},{"$f":"VLOOKUP(A571&B571,'Standard output'!A:D,4,0)","v":{"$error":"#N/A"}},{"$f":"Orders!B572/$C571","v":{"$error":"#N/A"}},{"$f":"Orders!C572/$C571","v":{"$error":"#N/A"}},{"$f":"Orders!D572/$C571","v":{"$error":"#N/A"}}]
[{"$f":"Orders!A573","v":0},{"$f":"VLOOKUP(A572,'Product-tool'!A:E,2,0)","v":{"$error":"#N/A"}},{"$f":"VLOOKUP(A572&B572,'Standard output'!A:D,4,0)","v":{"$error":"#N/A"}},{"$f":"Orders!B573/$C572","v":{"$error":"#N/A"}},{"$f":"Orders!C573/$C572","v":{"$error":"#N/A"}},{"$f":"Orders!D573/$C572","v":{"$error":"#N/A"}}]
[{"$f":"Orders!A574","v":0},{"$f":"VLOOKUP(A573,'Product-tool'!A:E,2,0)","v":{"$error":"#N/A"}},{"$f":"VLOOKUP(A573&B573,'Standard output'!A:D,4,0)","v":{"$error":"#N/A"}},{"$f":"Orders!B574/$C573","v":{"$error":"#N/A"}},{"$f":"Orders!C574/$C573","v":{"$error":"#N/A"}},{"$f":"Orders!D574/$C573","v":{"$error":"#N/A"}}]
[{"$f":"Orders!A575","v":0},{"$f":"VLOOKUP(A574,'Product-tool'!A:E,2,0)","v":{"$error":"#N/A"}},{"$f":"VLOOKUP(A574&B574,'Standard output'!A:D,4,0)","v":{"$error":"#N/A"}},{"$f":"Orders!B575/$C574","v":{"$error":"#N/A"}},{"$f":"Orders!C575/$C574","v":{"$error":"#N/A"}},{"$f":"Orders!D575/$C574","v":{"$error":"#N/A"}}]
[{"$f":"Orders!A576","v":0},{"$f":"VLOOKUP(A575,'Product-tool'!A:E,2,0)","v":{"$error":"#N/A"}},{"$f":"VLOOKUP(A575&B575,'Standard output'!A:D,4,0)","v":{"$error":"#N/A"}},{"$f":"Orders!B576/$C575","v":{"$error":"#N/A"}},{"$f":"Orders!C576/$C575","v":{"$error":"#N/A"}},{"$f":"Orders!D576/$C575","v":{"$error":"#N/A"}}]
[{"$f":"Orders!A577","v":0},{"$f":"VLOOKUP(A576,'Product-tool'!A:E,2,0)","v":{"$error":"#N/A"}},{"$f":"VLOOKUP(A576&B576,'Standard output'!A:D,4,0)","v":{"$error":"#N/A"}},{"$f":"Orders!B577/$C576","v":{"$error":"#N/A"}},{"$f":"Orders!C577/$C576","v":{"$error":"#N/A"}},{"$f":"Orders!D577/$C576","v":{"$error":"#N/A"}}]
[{"$f":"Orders!A578","v":0},{"$f":"VLOOKUP(A577,'Product-tool'!A:E,2,0)","v":{"$error":"#N/A"}},{"$f":"VLOOKUP(A577&B577,'Standard output'!A:D,4,0)","v":{"$error":"#N/A"}},{"$f":"Orders!B578/$C577","v":{"$error":"#N/A"}},{"$f":"Orders!C578/$C577","v":{"$error":"#N/A"}},{"$f":"Orders!D578/$C577","v":{"$error":"#N/A"}}]
[{"$f":"Orders!A579","v":0},{"$f":"VLOOKUP(A578,'Product-tool'!A:E,2,0)","v":{"$error":"#N/A"}},{"$f":"VLOOKUP(A578&B578,'Standard output'!A:D,4,0)","v":{"$error":"#N/A"}},{"$f":"Orders!B579/$C578","v":{"$error":"#N/A"}},{"$f":"Orders!C579/$C578","v":{"$error":"#N/A"}},{"$f":"Orders!D579/$C578","v":{"$error":"#N/A"}}]
[{"$f":"Orders!A580","v":0},{"$f":"VLOOKUP(A579,'Product-tool'!A:E,2,0)","v":{"$error":"#N/A"}},{"$f":"VLOOKUP(A579&B579,'Standard output'!A:D,4,0)","v":{"$error":"#N/A"}},{"$f":"Orders!B580/$C579","v":{"$error":"#N/A"}},{"$f":"Orders!C580/$C579","v":{"$error":"#N/A"}},{"$f":"Orders!D580/$C579","v":{"$error":"#N/A"}}]
[{"$f":"Orders!A581","v":0},{"$f":"VLOOKUP(A580,'Product-tool'!A:E,2,0)","v":{"$error":"#N/A"}},{"$f":"VLOOKUP(A580&B580,'Standard output'!A:D,4,0)","v":{"$error":"#N/A"}},{"$f":"Orders!B581/$C580","v":{"$error":"#N/A"}},{"$f":"Orders!C581/$C580","v":{"$error":"#N/A"}},{"$f":"Orders!D581/$C580","v":{"$error":"#N/A"}}]
[{"$f":"Orders!A582","v":0},{"$f":"VLOOKUP(A581,'Product-tool'!A:E,2,0)","v":{"$error":"#N/A"}},{"$f":"VLOOKUP(A581&B581,'Standard output'!A:D,4,0)","v":{"$error":"#N/A"}},{"$f":"Orders!B582/$C581","v":{"$error":"#N/A"}},{"$f":"Orders!C582/$C581","v":{"$error":"#N/A"}},{"$f":"Orders!D582/$C581","v":{"$error":"#N/A"}}]
[{"$f":"Orders!A583","v":0},{"$f":"VLOOKUP(A582,'Product-tool'!A:E,2,0)","v":{"$error":"#N/A"}},{"$f":"VLOOKUP(A582&B582,'Standard output'!A:D,4,0)","v":{"$error":"#N/A"}},{"$f":"Orders!B583/$C582","v":{"$error":"#N/A"}},{"$f":"Orders!C583/$C582","v":{"$error":"#N/A"}},{"$f":"Orders!D583/$C582","v":{"$error":"#N/A"}}]
[{"$f":"Orders!A584","v":0},{"$f":"VLOOKUP(A583,'Product-tool'!A:E,2,0)","v":{"$error":"#N/A"}},{"$f":"VLOOKUP(A583&B583,'Standard output'!A:D,4,0)","v":{"$error":"#N/A"}},{"$f":"Orders!B584/$C583","v":{"$error":"#N/A"}},{"$f":"Orders!C584/$C583","v":{"$error":"#N/A"}},{"$f":"Orders!D584/$C583","v":{"$error":"#N/A"}}]
[{"$f":"Orders!A585","v":0},{"$f":"VLOOKUP(A584,'Product-tool'!A:E,2,0)","v":{"$error":"#N/A"}},{"$f":"VLOOKUP(A584&B584,'Standard output'!A:D,4,0)","v":{"$error":"#N/A"}},{"$f":"Orders!B585/$C584","v":{"$error":"#N/A"}},{"$f":"Orders!C585/$C584","v":{"$error":"#N/A"}},{"$f":"Orders!D585/$C584","v":{"$error":"#N/A"}}]
[{"$f":"Orders!A586","v":0},{"$f":"VLOOKUP(A585,'Product-tool'!A:E,2,0)","v":{"$error":"#N/A"}},{"$f":"VLOOKUP(A585&B585,'Standard output'!A:D,4,0)","v":{"$error":"#N/A"}},{"$f":"Orders!B586/$C585","v":{"$error":"#N/A"}},{"$f":"Orders!C586/$C585","v":{"$error":"#N/A"}},{"$f":"Orders!D586/$C585","v":{"$error":"#N/A"}}]
[{"$f":"Orders!A587","v":0},{"$f":"VLOOKUP(A586,'Product-tool'!A:E,2,0)","v":{"$error":"#N/A"}},{"$f":"VLOOKUP(A586&B586,'Standard output'!A:D,4,0)","v":{"$error":"#N/A"}},{"$f":"Orders!B587/$C586","v":{"$error":"#N/A"}},{"$f":"Orders!C587/$C586","v":{"$error":"#N/A"}},{"$f":"Orders!D587/$C586","v":{"$error":"#N/A"}}]
[{"$f":"Orders!A588","v":0},{"$f":"VLOOKUP(A587,'Product-tool'!A:E,2,0)","v":{"$error":"#N/A"}},{"$f":"VLOOKUP(A587&B587,'Standard output'!A:D,4,0)","v":{"$error":"#N/A"}},{"$f":"Orders!B588/$C587","v":{"$error":"#N/A"}},{"$f":"Orders!C588/$C587","v":{"$error":"#N/A"}},{"$f":"Orders!D588/$C587","v":{"$error":"#N/A"}}]
[{"$f":"Orders!A589","v":0},{"$f":"VLOOKUP(A588,'Product-tool'!A:E,2,0)","v":{"$error":"#N/A"}},{"$f":"VLOOKUP(A588&B588,'Standard output'!A:D,4,0)","v":{"$error":"#N/A"}},{"$f":"Orders!B589/$C588","v":{"$error":"#N/A"}},{"$f":"Orders!C589/$C588","v":{"$error":"#N/A"}},{"$f":"Orders!D589/$C588","v":{"$error":"#N/A"}}]
[{"$f":"Orders!A590","v":0},{"$f":"VLOOKUP(A589,'Product-tool'!A:E,2,0)","v":{"$error":"#N/A"}},{"$f":"VLOOKUP(A589&B589,'Standard output'!A:D,4,0)","v":{"$error":"#N/A"}},{"$f":"Orders!B590/$C589","v":{"$error":"#N/A"}},{"$f":"Orders!C590/$C589","v":{"$error":"#N/A"}},{"$f":"Orders!D590/$C589","v":{"$error":"#N/A"}}]
[{"$f":"Orders!A591","v":0},{"$f":"VLOOKUP(A590,'Product-tool'!A:E,2,0)","v":{"$error":"#N/A"}},{"$f":"VLOOKUP(A590&B590,'Standard output'!A:D,4,0)","v":{"$error":"#N/A"}},{"$f":"Orders!B591/$C590","v":{"$error":"#N/A"}},{"$f":"Orders!C591/$C590","v":{"$error":"#N/A"}},{"$f":"Orders!D591/$C590","v":{"$error":"#N/A"}}]
[{"$f":"Orders!A592","v":0},{"$f":"VLOOKUP(A591,'Product-tool'!A:E,2,0)","v":{"$error":"#N/A"}},{"$f":"VLOOKUP(A591&B591,'Standard output'!A:D,4,0)","v":{"$error":"#N/A"}},{"$f":"Orders!B592/$C591","v":{"$error":"#N/A"}},{"$f":"Orders!C592/$C591","v":{"$error":"#N/A"}},{"$f":"Orders!D592/$C591","v":{"$error":"#N/A"}}]
[{"$f":"Orders!A593","v":0},{"$f":"VLOOKUP(A592,'Product-tool'!A:E,2,0)","v":{"$error":"#N/A"}},{"$f":"VLOOKUP(A592&B592,'Standard output'!A:D,4,0)","v":{"$error":"#N/A"}},{"$f":"Orders!B593/$C592","v":{"$error":"#N/A"}},{"$f":"Orders!C593/$C592","v":{"$error":"#N/A"}},{"$f":"Orders!D593/$C592","v":{"$error":"#N/A"}}]
[{"$f":"Orders!A594","v":0},{"$f":"VLOOKUP(A593,'Product-tool'!A:E,2,0)","v":{"$error":"#N/A"}},{"$f":"VLOOKUP(A593&B593,'Standard output'!A:D,4,0)","v":{"$error":"#N/A"}},{"$f":"Orders!B594/$C593","v":{"$error":"#N/A"}},{"$f":"Orders!C594/$C593","v":{"$error":"#N/A"}},{"$f":"Orders!D594/$C593","v":{"$error":"#N/A"}}]
[{"$f":"Orders!A595","v":0},{"$f":"VLOOKUP(A594,'Product-tool'!A:E,2,0)","v":{"$error":"#N/A"}},{"$f":"VLOOKUP(A594&B594,'Standard output'!A:D,4,0)","v":{"$error":"#N/A"}},{"$f":"Orders!B595/$C594","v":{"$error":"#N/A"}},{"$f":"Orders!C595/$C594","v":{"$error":"#N/A"}},{"$f":"Orders!D595/$C594","v":{"$error":"#N/A"}}]
[{"$f":"Orders!A596","v":0},{"$f":"VLOOKUP(A595,'Product-tool'!A:E,2,0)","v":{"$error":"#N/A"}},{"$f":"VLOOKUP(A595&B595,'Standard output'!A:D,4,0)","v":{"$error":"#N/A"}},{"$f":"Orders!B596/$C595","v":{"$error":"#N/A"}},{"$f":"Orders!C596/$C595","v":{"$error":"#N/A"}},{"$f":"Orders!D596/$C595","v":{"$error":"#N/A"}}]
[{"$f":"Orders!A597","v":0},{"$f":"VLOOKUP(A596,'Product-tool'!A:E,2,0)","v":{"$error":"#N/A"}},{"$f":"VLOOKUP(A596&B596,'Standard output'!A:D,4,0)","v":{"$error":"#N/A"}},{"$f":"Orders!B597/$C596","v":{"$error":"#N/A"}},{"$f":"Orders!C597/$C596","v":{"$error":"#N/A"}},{"$f":"Orders!D597/$C596","v":{"$error":"#N/A"}}]
[{"$f":"Orders!A598","v":0},{"$f":"VLOOKUP(A597,'Product-tool'!A:E,2,0)","v":{"$error":"#N/A"}},{"$f":"VLOOKUP(A597&B597,'Standard output'!A:D,4,0)","v":{"$error":"#N/A"}},{"$f":"Orders!B598/$C597","v":{"$error":"#N/A"}},{"$f":"Orders!C598/$C597","v":{"$error":"#N/A"}},{"$f":"Orders!D598/$C597","v":{"$error":"#N/A"}}]
[{"$f":"Orders!A599","v":0},{"$f":"VLOOKUP(A598,'Product-tool'!A:E,2,0)","v":{"$error":"#N/A"}},{"$f":"VLOOKUP(A598&B598,'Standard output'!A:D,4,0)","v":{"$error":"#N/A"}},{"$f":"Orders!B599/$C598","v":{"$error":"#N/A"}},{"$f":"Orders!C599/$C598","v":{"$error":"#N/A"}},{"$f":"Orders!D599/$C598","v":{"$error":"#N/A"}}]
[{"$f":"Orders!A600","v":0},{"$f":"VLOOKUP(A599,'Product-tool'!A:E,2,0)","v":{"$error":"#N/A"}},{"$f":"VLOOKUP(A599&B599,'Standard output'!A:D,4,0)","v":{"$error":"#N/A"}},{"$f":"Orders!B600/$C599","v":{"$error":"#N/A"}},{"$f":"Orders!C600/$C599","v":{"$error":"#N/A"}},{"$f":"Orders!D600/$C599","v":{"$error":"#N/A"}}]
[{"$f":"Orders!A601","v":0},{"$f":"VLOOKUP(A600,'Product-tool'!A:E,2,0)","v":{"$error":"#N/A"}},{"$f":"VLOOKUP(A600&B600,'Standard output'!A:D,4,0)","v":{"$error":"#N/A"}},{"$f":"Orders!B601/$C600","v":{"$error":"#N/A"}},{"$f":"Orders!C601/$C600","v":{"$error":"#N/A"}},{"$f":"Orders!D601/$C600","v":{"$error":"#N/A"}}]
[{"$f":"Orders!A602","v":0},{"$f":"VLOOKUP(A601,'Product-tool'!A:E,2,0)","v":{"$error":"#N/A"}},{"$f":"VLOOKUP(A601&B601,'Standard output'!A:D,4,0)","v":{"$error":"#N/A"}},{"$f":"Orders!B602/$C601","v":{"$error":"#N/A"}},{"$f":"Orders!C602/$C601","v":{"$error":"#N/A"}},{"$f":"Orders!D602/$C601","v":{"$error":"#N/A"}}]
[{"$f":"Orders!A603","v":0},{"$f":"VLOOKUP(A602,'Product-tool'!A:E,2,0)","v":{"$error":"#N/A"}},{"$f":"VLOOKUP(A602&B602,'Standard output'!A:D,4,0)","v":{"$error":"#N/A"}},{"$f":"Orders!B603/$C602","v":{"$error":"#N/A"}},{"$f":"Orders!C603/$C602","v":{"$error":"#N/A"}},{"$f":"Orders!D603/$C602","v":{"$error":"#N/A"}}]
[{"$f":"Orders!A604","v":0},{"$f":"VLOOKUP(A603,'Product-tool'!A:E,2,0)","v":{"$error":"#N/A"}},{"$f":"VLOOKUP(A603&B603,'Standard output'!A:D,4,0)","v":{"$error":"#N/A"}},{"$f":"Orders!B604/$C603","v":{"$error":"#N/A"}},{"$f":"Orders!C604/$C603","v":{"$error":"#N/A"}},{"$f":"Orders!D604/$C603","v":{"$error":"#N/A"}}]
[{"$f":"Orders!A605","v":0},{"$f":"VLOOKUP(A604,'Product-tool'!A:E,2,0)","v":{"$error":"#N/A"}},{"$f":"VLOOKUP(A604&B604,'Standard output'!A:D,4,0)","v":{"$error":"#N/A"}},{"$f":"Orders!B605/$C604","v":{"$error":"#N/A"}},{"$f":"Orders!C605/$C604","v":{"$error":"#N/A"}},{"$f":"Orders!D605/$C604","v":{"$error":"#N/A"}}]
[{"$f":"Orders!A606","v":0},{"$f":"VLOOKUP(A605,'Product-tool'!A:E,2,0)","v":{"$error":"#N/A"}},{"$f":"VLOOKUP(A605&B605,'Standard output'!A:D,4,0)","v":{"$error":"#N/A"}},{"$f":"Orders!B606/$C605","v":{"$error":"#N/A"}},{"$f":"Orders!C606/$C605","v":{"$error":"#N/A"}},{"$f":"Orders!D606/$C605","v":{"$error":"#N/A"}}]
[{"$f":"Orders!A607","v":0},{"$f":"VLOOKUP(A606,'Product-tool'!A:E,2,0)","v":{"$error":"#N/A"}},{"$f":"VLOOKUP(A606&B606,'Standard output'!A:D,4,0)","v":{"$error":"#N/A"}},{"$f":"Orders!B607/$C606","v":{"$error":"#N/A"}},{"$f":"Orders!C607/$C606","v":{"$error":"#N/A"}},{"$f":"Orders!D607/$C606","v":{"$error":"#N/A"}}]
[{"$f":"Orders!A608","v":0},{"$f":"VLOOKUP(A607,'Product-tool'!A:E,2,0)","v":{"$error":"#N/A"}},{"$f":"VLOOKUP(A607&B607,'Standard output'!A:D,4,0)","v":{"$error":"#N/A"}},{"$f":"Orders!B608/$C607","v":{"$error":"#N/A"}},{"$f":"Orders!C608/$C607","v":{"$error":"#N/A"}},{"$f":"Orders!D608/$C607","v":{"$error":"#N/A"}}]
[{"$f":"Orders!A609","v":0},{"$f":"VLOOKUP(A608,'Product-tool'!A:E,2,0)","v":{"$error":"#N/A"}},{"$f":"VLOOKUP(A608&B608,'Standard output'!A:D,4,0)","v":{"$error":"#N/A"}},{"$f":"Orders!B609/$C608","v":{"$error":"#N/A"}},{"$f":"Orders!C609/$C608","v":{"$error":"#N/A"}},{"$f":"Orders!D609/$C608","v":{"$error":"#N/A"}}]
[{"$f":"Orders!A610","v":0},{"$f":"VLOOKUP(A609,'Product-tool'!A:E,2,0)","v":{"$error":"#N/A"}},{"$f":"VLOOKUP(A609&B609,'Standard output'!A:D,4,0)","v":{"$error":"#N/A"}},{"$f":"Orders!B610/$C609","v":{"$error":"#N/A"}},{"$f":"Orders!C610/$C609","v":{"$error":"#N/A"}},{"$f":"Orders!D610/$C609","v":{"$error":"#N/A"}}]
[{"$f":"Orders!A611","v":0},{"$f":"VLOOKUP(A610,'Product-tool'!A:E,2,0)","v":{"$error":"#N/A"}},{"$f":"VLOOKUP(A610&B610,'Standard output'!A:D,4,0)","v":{"$error":"#N/A"}},{"$f":"Orders!B611/$C610","v":{"$error":"#N/A"}},{"$f":"Orders!C611/$C610","v":{"$error":"#N/A"}},{"$f":"Orders!D611/$C610","v":{"$error":"#N/A"}}]
[{"$f":"Orders!A612","v":0},{"$f":"VLOOKUP(A611,'Product-tool'!A:E,2,0)","v":{"$error":"#N/A"}},{"$f":"VLOOKUP(A611&B611,'Standard output'!A:D,4,0)","v":{"$error":"#N/A"}},{"$f":"Orders!B612/$C611","v":{"$error":"#N/A"}},{"$f":"Orders!C612/$C611","v":{"$error":"#N/A"}},{"$f":"Orders!D612/$C611","v":{"$error":"#N/A"}}]
[{"$f":"Orders!A613","v":0},{"$f":"VLOOKUP(A612,'Product-tool'!A:E,2,0)","v":{"$error":"#N/A"}},{"$f":"VLOOKUP(A612&B612,'Standard output'!A:D,4,0)","v":{"$error":"#N/A"}},{"$f":"Orders!B613/$C612","v":{"$error":"#N/A"}},{"$f":"Orders!C613/$C612","v":{"$error":"#N/A"}},{"$f":"Orders!D613/$C612","v":{"$error":"#N/A"}}]
[{"$f":"Orders!A614","v":0},{"$f":"VLOOKUP(A613,'Product-tool'!A:E,2,0)","v":{"$error":"#N/A"}},{"$f":"VLOOKUP(A613&B613,'Standard output'!A:D,4,0)","v":{"$error":"#N/A"}},{"$f":"Orders!B614/$C613","v":{"$error":"#N/A"}},{"$f":"Orders!C614/$C613","v":{"$error":"#N/A"}},{"$f":"Orders!D614/$C613","v":{"$error":"#N/A"}}]
[{"$f":"Orders!A615","v":0},{"$f":"VLOOKUP(A614,'Product-tool'!A:E,2,0)","v":{"$error":"#N/A"}},{"$f":"VLOOKUP(A614&B614,'Standard output'!A:D,4,0)","v":{"$error":"#N/A"}},{"$f":"Orders!B615/$C614","v":{"$error":"#N/A"}},{"$f":"Orders!C615/$C614","v":{"$error":"#N/A"}},{"$f":"Orders!D615/$C614","v":{"$error":"#N/A"}}]
[{"$f":"Orders!A616","v":0},{"$f":"VLOOKUP(A615,'Product-tool'!A:E,2,0)","v":{"$error":"#N/A"}},{"$f":"VLOOKUP(A615&B615,'Standard output'!A:D,4,0)","v":{"$error":"#N/A"}},{"$f":"Orders!B616/$C615","v":{"$error":"#N/A"}},{"$f":"Orders!C616/$C615","v":{"$error":"#N/A"}},{"$f":"Orders!D616/$C615","v":{"$error":"#N/A"}}]
[{"$f":"Orders!A617","v":0},{"$f":"VLOOKUP(A616,'Product-tool'!A:E,2,0)","v":{"$error":"#N/A"}},{"$f":"VLOOKUP(A616&B616,'Standard output'!A:D,4,0)","v":{"$error":"#N/A"}},{"$f":"Orders!B617/$C616","v":{"$error":"#N/A"}},{"$f":"Orders!C617/$C616","v":{"$error":"#N/A"}},{"$f":"Orders!D617/$C616","v":{"$error":"#N/A"}}]
[{"$f":"Orders!A618","v":0},{"$f":"VLOOKUP(A617,'Product-tool'!A:E,2,0)","v":{"$error":"#N/A"}},{"$f":"VLOOKUP(A617&B617,'Standard output'!A:D,4,0)","v":{"$error":"#N/A"}},{"$f":"Orders!B618/$C617","v":{"$error":"#N/A"}},{"$f":"Orders!C618/$C617","v":{"$error":"#N/A"}},{"$f":"Orders!D618/$C617","v":{"$error":"#N/A"}}]
[{"$f":"Orders!A619","v":0},{"$f":"VLOOKUP(A618,'Product-tool'!A:E,2,0)","v":{"$error":"#N/A"}},{"$f":"VLOOKUP(A618&B618,'Standard output'!A:D,4,0)","v":{"$error":"#N/A"}},{"$f":"Orders!B619/$C618","v":{"$error":"#N/A"}},{"$f":"Orders!C619/$C618","v":{"$error":"#N/A"}},{"$f":"Orders!D619/$C618","v":{"$error":"#N/A"}}]
[{"$f":"Orders!A620","v":0},{"$f":"VLOOKUP(A619,'Product-tool'!A:E,2,0)","v":{"$error":"#N/A"}},{"$f":"VLOOKUP(A619&B619,'Standard output'!A:D,4,0)","v":{"$error":"#N/A"}},{"$f":"Orders!B620/$C619","v":{"$error":"#N/A"}},{"$f":"Orders!C620/$C619","v":{"$error":"#N/A"}},{"$f":"Orders!D620/$C619","v":{"$error":"#N/A"}}]
[{"$f":"Orders!A621","v":0},{"$f":"VLOOKUP(A620,'Product-tool'!A:E,2,0)","v":{"$error":"#N/A"}},{"$f":"VLOOKUP(A620&B620,'Standard output'!A:D,4,0)","v":{"$error":"#N/A"}},{"$f":"Orders!B621/$C620","v":{"$error":"#N/A"}},{"$f":"Orders!C621/$C620","v":{"$error":"#N/A"}},{"$f":"Orders!D621/$C620","v":{"$error":"#N/A"}}]
[{"$f":"Orders!A622","v":0},{"$f":"VLOOKUP(A621,'Product-tool'!A:E,2,0)","v":{"$error":"#N/A"}},{"$f":"VLOOKUP(A621&B621,'Standard output'!A:D,4,0)","v":{"$error":"#N/A"}},{"$f":"Orders!B622/$C621","v":{"$error":"#N/A"}},{"$f":"Orders!C622/$C621","v":{"$error":"#N/A"}},{"$f":"Orders!D622/$C621","v":{"$error":"#N/A"}}]
[{"$f":"Orders!A623","v":0},{"$f":"VLOOKUP(A622,'Product-tool'!A:E,2,0)","v":{"$error":"#N/A"}},{"$f":"VLOOKUP(A622&B622,'Standard output'!A:D,4,0)","v":{"$error":"#N/A"}},{"$f":"Orders!B623/$C622","v":{"$error":"#N/A"}},{"$f":"Orders!C623/$C622","v":{"$error":"#N/A"}},{"$f":"Orders!D623/$C622","v":{"$error":"#N/A"}}]
[{"$f":"Orders!A624","v":0},{"$f":"VLOOKUP(A623,'Product-tool'!A:E,2,0)","v":{"$error":"#N/A"}},{"$f":"VLOOKUP(A623&B623,'Standard output'!A:D,4,0)","v":{"$error":"#N/A"}},{"$f":"Orders!B624/$C623","v":{"$error":"#N/A"}},{"$f":"Orders!C624/$C623","v":{"$error":"#N/A"}},{"$f":"Orders!D624/$C623","v":{"$error":"#N/A"}}]
[{"$f":"Orders!A625","v":0},{"$f":"VLOOKUP(A624,'Product-tool'!A:E,2,0)","v":{"$error":"#N/A"}},{"$f":"VLOOKUP(A624&B624,'Standard output'!A:D,4,0)","v":{"$error":"#N/A"}},{"$f":"Orders!B625/$C624","v":{"$error":"#N/A"}},{"$f":"Orders!C625/$C624","v":{"$error":"#N/A"}},{"$f":"Orders!D625/$C624","v":{"$error":"#N/A"}}]
[{"$f":"Orders!A626","v":0},{"$f":"VLOOKUP(A625,'Product-tool'!A:E,2,0)","v":{"$error":"#N/A"}},{"$f":"VLOOKUP(A625&B625,'Standard output'!A:D,4,0)","v":{"$error":"#N/A"}},{"$f":"Orders!B626/$C625","v":{"$error":"#N/A"}},{"$f":"Orders!C626/$C625","v":{"$error":"#N/A"}},{"$f":"Orders!D626/$C625","v":{"$error":"#N/A"}}]
[{"$f":"Orders!A627","v":0},{"$f":"VLOOKUP(A626,'Product-tool'!A:E,2,0)","v":{"$error":"#N/A"}},{"$f":"VLOOKUP(A626&B626,'Standard output'!A:D,4,0)","v":{"$error":"#N/A"}},{"$f":"Orders!B627/$C626","v":{"$error":"#N/A"}},{"$f":"Orders!C627/$C626","v":{"$error":"#N/A"}},{"$f":"Orders!D627/$C626","v":{"$error":"#N/A"}}]
[{"$f":"Orders!A628","v":0},{"$f":"VLOOKUP(A627,'Product-tool'!A:E,2,0)","v":{"$error":"#N/A"}},{"$f":"VLOOKUP(A627&B627,'Standard output'!A:D,4,0)","v":{"$error":"#N/A"}},{"$f":"Orders!B628/$C627","v":{"$error":"#N/A"}},{"$f":"Orders!C628/$C627","v":{"$error":"#N/A"}},{"$f":"Orders!D628/$C627","v":{"$error":"#N/A"}}]
[{"$f":"Orders!A629","v":0},{"$f":"VLOOKUP(A628,'Product-tool'!A:E,2,0)","v":{"$error":"#N/A"}},{"$f":"VLOOKUP(A628&B628,'Standard output'!A:D,4,0)","v":{"$error":"#N/A"}},{"$f":"Orders!B629/$C628","v":{"$error":"#N/A"}},{"$f":"Orders!C629/$C628","v":{"$error":"#N/A"}},{"$f":"Orders!D629/$C628","v":{"$error":"#N/A"}}]
[{"$f":"Orders!A630","v":0},{"$f":"VLOOKUP(A629,'Product-tool'!A:E,2,0)","v":{"$error":"#N/A"}},{"$f":"VLOOKUP(A629&B629,'Standard output'!A:D,4,0)","v":{"$error":"#N/A"}},{"$f":"Orders!B630/$C629","v":{"$error":"#N/A"}},{"$f":"Orders!C630/$C629","v":{"$error":"#N/A"}},{"$f":"Orders!D630/$C629","v":{"$error":"#N/A"}}]
[{"$f":"Orders!A631","v":0},{"$f":"VLOOKUP(A630,'Product-tool'!A:E,2,0)","v":{"$error":"#N/A"}},{"$f":"VLOOKUP(A630&B630,'Standard output'!A:D,4,0)","v":{"$error":"#N/A"}},{"$f":"Orders!B631/$C630","v":{"$error":"#N/A"}},{"$f":"Orders!C631/$C630","v":{"$error":"#N/A"}},{"$f":"Orders!D631/$C630","v":{"$error":"#N/A"}}]
[{"$f":"Orders!A632","v":0},{"$f":"VLOOKUP(A631,'Product-tool'!A:E,2,0)","v":{"$error":"#N/A"}},{"$f":"VLOOKUP(A631&B631,'Standard output'!A:D,4,0)","v":{"$error":"#N/A"}},{"$f":"Orders!B632/$C631","v":{"$error":"#N/A"}},{"$f":"Orders!C632/$C631","v":{"$error":"#N/A"}},{"$f":"Orders!D632/$C631","v":{"$error":"#N/A"}}]
[{"$f":"Orders!A633","v":0},{"$f":"VLOOKUP(A632,'Product-tool'!A:E,2,0)","v":{"$error":"#N/A"}},{"$f":"VLOOKUP(A632&B632,'Standard output'!A:D,4,0)","v":{"$error":"#N/A"}},{"$f":"Orders!B633/$C632","v":{"$error":"#N/A"}},{"$f":"Orders!C633/$C632","v":{"$error":"#N/A"}},{"$f":"Orders!D633/$C632","v":{"$error":"#N/A"}}]
[{"$f":"Orders!A634","v":0},{"$f":"VLOOKUP(A633,'Product-tool'!A:E,2,0)","v":{"$error":"#N/A"}},{"$f":"VLOOKUP(A633&B633,'Standard output'!A:D,4,0)","v":{"$error":"#N/A"}},{"$f":"Orders!B634/$C633","v":{"$error":"#N/A"}},{"$f":"Orders!C634/$C633","v":{"$error":"#N/A"}},{"$f":"Orders!D634/$C633","v":{"$error":"#N/A"}}]
[{"$f":"Orders!A635","v":0},{"$f":"VLOOKUP(A634,'Product-tool'!A:E,2,0)","v":{"$error":"#N/A"}},{"$f":"VLOOKUP(A634&B634,'Standard output'!A:D,4,0)","v":{"$error":"#N/A"}},{"$f":"Orders!B635/$C634","v":{"$error":"#N/A"}},{"$f":"Orders!C635/$C634","v":{"$error":"#N/A"}},{"$f":"Orders!D635/$C634","v":{"$error":"#N/A"}}]
[{"$f":"Orders!A636","v":0},{"$f":"VLOOKUP(A635,'Product-tool'!A:E,2,0)","v":{"$error":"#N/A"}},{"$f":"VLOOKUP(A635&B635,'Standard output'!A:D,4,0)","v":{"$error":"#N/A"}},{"$f":"Orders!B636/$C635","v":{"$error":"#N/A"}},{"$f":"Orders!C636/$C635","v":{"$error":"#N/A"}},{"$f":"Orders!D636/$C635","v":{"$error":"#N/A"}}]
[{"$f":"Orders!A637","v":0},{"$f":"VLOOKUP(A636,'Product-tool'!A:E,2,0)","v":{"$error":"#N/A"}},{"$f":"VLOOKUP(A636&B636,'Standard output'!A:D,4,0)","v":{"$error":"#N/A"}},{"$f":"Orders!B637/$C636","v":{"$error":"#N/A"}},{"$f":"Orders!C637/$C636","v":{"$error":"#N/A"}},{"$f":"Orders!D637/$C636","v":{"$error":"#N/A"}}]
[{"$f":"Orders!A638","v":0},{"$f":"VLOOKUP(A637,'Product-tool'!A:E,2,0)","v":{"$error":"#N/A"}},{"$f":"VLOOKUP(A637&B637,'Standard output'!A:D,4,0)","v":{"$error":"#N/A"}},{"$f":"Orders!B638/$C637","v":{"$error":"#N/A"}},{"$f":"Orders!C638/$C637","v":{"$error":"#N/A"}},{"$f":"Orders!D638/$C637","v":{"$error":"#N/A"}}]
[{"$f":"Orders!A639","v":0},{"$f":"VLOOKUP(A638,'Product-tool'!A:E,2,0)","v":{"$error":"#N/A"}},{"$f":"VLOOKUP(A638&B638,'Standard output'!A:D,4,0)","v":{"$error":"#N/A"}},{"$f":"Orders!B639/$C638","v":{"$error":"#N/A"}},{"$f":"Orders!C639/$C638","v":{"$error":"#N/A"}},{"$f":"Orders!D639/$C638","v":{"$error":"#N/A"}}]
[{"$f":"Orders!A640","v":0},{"$f":"VLOOKUP(A639,'Product-tool'!A:E,2,0)","v":{"$error":"#N/A"}},{"$f":"VLOOKUP(A639&B639,'Standard output'!A:D,4,0)","v":{"$error":"#N/A"}},{"$f":"Orders!B640/$C639","v":{"$error":"#N/A"}},{"$f":"Orders!C640/$C639","v":{"$error":"#N/A"}},{"$f":"Orders!D640/$C639","v":{"$error":"#N/A"}}]
[{"$f":"Orders!A641","v":0},{"$f":"VLOOKUP(A640,'Product-tool'!A:E,2,0)","v":{"$error":"#N/A"}},{"$f":"VLOOKUP(A640&B640,'Standard output'!A:D,4,0)","v":{"$error":"#N/A"}},{"$f":"Orders!B641/$C640","v":{"$error":"#N/A"}},{"$f":"Orders!C641/$C640","v":{"$error":"#N/A"}},{"$f":"Orders!D641/$C640","v":{"$error":"#N/A"}}]
[{"$f":"Orders!A642","v":0},{"$f":"VLOOKUP(A641,'Product-tool'!A:E,2,0)","v":{"$error":"#N/A"}},{"$f":"VLOOKUP(A641&B641,'Standard output'!A:D,4,0)","v":{"$error":"#N/A"}},{"$f":"Orders!B642/$C641","v":{"$error":"#N/A"}},{"$f":"Orders!C642/$C641","v":{"$error":"#N/A"}},{"$f":"Orders!D642/$C641","v":{"$error":"#N/A"}}]
[{"$f":"Orders!A643","v":0},{"$f":"VLOOKUP(A642,'Product-tool'!A:E,2,0)","v":{"$error":"#N/A"}},{"$f":"VLOOKUP(A642&B642,'Standard output'!A:D,4,0)","v":{"$error":"#N/A"}},{"$f":"Orders!B643/$C642","v":{"$error":"#N/A"}},{"$f":"Orders!C643/$C642","v":{"$error":"#N/A"}},{"$f":"Orders!D643/$C642","v":{"$error":"#N/A"}}]
[{"$f":"Orders!A644","v":0},{"$f":"VLOOKUP(A643,'Product-tool'!A:E,2,0)","v":{"$error":"#N/A"}},{"$f":"VLOOKUP(A643&B643,'Standard output'!A:D,4,0)","v":{"$error":"#N/A"}},{"$f":"Orders!B644/$C643","v":{"$error":"#N/A"}},{"$f":"Orders!C644/$C643","v":{"$error":"#N/A"}},{"$f":"Orders!D644/$C643","v":{"$error":"#N/A"}}]
[{"$f":"Orders!A645","v":0},{"$f":"VLOOKUP(A644,'Product-tool'!A:E,2,0)","v":{"$error":"#N/A"}},{"$f":"VLOOKUP(A644&B644,'Standard output'!A:D,4,0)","v":{"$error":"#N/A"}},{"$f":"Orders!B645/$C644","v":{"$error":"#N/A"}},{"$f":"Orders!C645/$C644","v":{"$error":"#N/A"}},{"$f":"Orders!D645/$C644","v":{"$error":"#N/A"}}]
[{"$f":"Orders!A646","v":0},{"$f":"VLOOKUP(A645,'Product-tool'!A:E,2,0)","v":{"$error":"#N/A"}},{"$f":"VLOOKUP(A645&B645,'Standard output'!A:D,4,0)","v":{"$error":"#N/A"}},{"$f":"Orders!B646/$C645","v":{"$error":"#N/A"}},{"$f":"Orders!C646/$C645","v":{"$error":"#N/A"}},{"$f":"Orders!D646/$C645","v":{"$error":"#N/A"}}]
[{"$f":"Orders!A647","v":0},{"$f":"VLOOKUP(A646,'Product-tool'!A:E,2,0)","v":{"$error":"#N/A"}},{"$f":"VLOOKUP(A646&B646,'Standard output'!A:D,4,0)","v":{"$error":"#N/A"}},{"$f":"Orders!B647/$C646","v":{"$error":"#N/A"}},{"$f":"Orders!C647/$C646","v":{"$error":"#N/A"}},{"$f":"Orders!D647/$C646","v":{"$error":"#N/A"}}]
[{"$f":"Orders!A648","v":0},{"$f":"VLOOKUP(A647,'Product-tool'!A:E,2,0)","v":{"$error":"#N/A"}},{"$f":"VLOOKUP(A647&B647,'Standard output'!A:D,4,0)","v":{"$error":"#N/A"}},{"$f":"Orders!B648/$C647","v":{"$error":"#N/A"}},{"$f":"Orders!C648/$C647","v":{"$error":"#N/A"}},{"$f":"Orders!D648/$C647","v":{"$error":"#N/A"}}]
[{"$f":"Orders!A649","v":0},{"$f":"VLOOKUP(A648,'Product-tool'!A:E,2,0)","v":{"$error":"#N/A"}},{"$f":"VLOOKUP(A648&B648,'Standard output'!A:D,4,0)","v":{"$error":"#N/A"}},{"$f":"Orders!B649/$C648","v":{"$error":"#N/A"}},{"$f":"Orders!C649/$C648","v":{"$error":"#N/A"}},{"$f":"Orders!D649/$C648","v":{"$error":"#N/A"}}]
[{"$f":"Orders!A650","v":0},{"$f":"VLOOKUP(A649,'Product-tool'!A:E,2,0)","v":{"$error":"#N/A"}},{"$f":"VLOOKUP(A649&B649,'Standard output'!A:D,4,0)","v":{"$error":"#N/A"}},{"$f":"Orders!B650/$C649","v":{"$error":"#N/A"}},{"$f":"Orders!C650/$C649","v":{"$error":"#N/A"}},{"$f":"Orders!D650/$C649","v":{"$error":"#N/A"}}]
[{"$f":"Orders!A651","v":0},{"$f":"VLOOKUP(A650,'Product-tool'!A:E,2,0)","v":{"$error":"#N/A"}},{"$f":"VLOOKUP(A650&B650,'Standard output'!A:D,4,0)","v":{"$error":"#N/A"}},{"$f":"Orders!B651/$C650","v":{"$error":"#N/A"}},{"$f":"Orders!C651/$C650","v":{"$error":"#N/A"}},{"$f":"Orders!D651/$C650","v":{"$error":"#N/A"}}]
[{"$f":"Orders!A652","v":0},{"$f":"VLOOKUP(A651,'Product-tool'!A:E,2,0)","v":{"$error":"#N/A"}},{"$f":"VLOOKUP(A651&B651,'Standard output'!A:D,4,0)","v":{"$error":"#N/A"}},{"$f":"Orders!B652/$C651","v":{"$error":"#N/A"}},{"$f":"Orders!C652/$C651","v":{"$error":"#N/A"}},{"$f":"Orders!D652/$C651","v":{"$error":"#N/A"}}]
[{"$f":"Orders!A653","v":0},{"$f":"VLOOKUP(A652,'Product-tool'!A:E,2,0)","v":{"$error":"#N/A"}},{"$f":"VLOOKUP(A652&B652,'Standard output'!A:D,4,0)","v":{"$error":"#N/A"}},{"$f":"Orders!B653/$C652","v":{"$error":"#N/A"}},{"$f":"Orders!C653/$C652","v":{"$error":"#N/A"}},{"$f":"Orders!D653/$C652","v":{"$error":"#N/A"}}]
[{"$f":"Orders!A654","v":0},{"$f":"VLOOKUP(A653,'Product-tool'!A:E,2,0)","v":{"$error":"#N/A"}},{"$f":"VLOOKUP(A653&B653,'Standard output'!A:D,4,0)","v":{"$error":"#N/A"}},{"$f":"Orders!B654/$C653","v":{"$error":"#N/A"}},{"$f":"Orders!C654/$C653","v":{"$error":"#N/A"}},{"$f":"Orders!D654/$C653","v":{"$error":"#N/A"}}]
[{"$f":"Orders!A655","v":0},{"$f":"VLOOKUP(A654,'Product-tool'!A:E,2,0)","v":{"$error":"#N/A"}},{"$f":"VLOOKUP(A654&B654,'Standard output'!A:D,4,0)","v":{"$error":"#N/A"}},{"$f":"Orders!B655/$C654","v":{"$error":"#N/A"}},{"$f":"Orders!C655/$C654","v":{"$error":"#N/A"}},{"$f":"Orders!D655/$C654","v":{"$error":"#N/A"}}]
[{"$f":"Orders!A656","v":0},{"$f":"VLOOKUP(A655,'Product-tool'!A:E,2,0)","v":{"$error":"#N/A"}},{"$f":"VLOOKUP(A655&B655,'Standard output'!A:D,4,0)","v":{"$error":"#N/A"}},{"$f":"Orders!B656/$C655","v":{"$error":"#N/A"}},{"$f":"Orders!C656/$C655","v":{"$error":"#N/A"}},{"$f":"Orders!D656/$C655","v":{"$error":"#N/A"}}]
[{"$f":"Orders!A657","v":0},{"$f":"VLOOKUP(A656,'Product-tool'!A:E,2,0)","v":{"$error":"#N/A"}},{"$f":"VLOOKUP(A656&B656,'Standard output'!A:D,4,0)","v":{"$error":"#N/A"}},{"$f":"Orders!B657/$C656","v":{"$error":"#N/A"}},{"$f":"Orders!C657/$C656","v":{"$error":"#N/A"}},{"$f":"Orders!D657/$C656","v":{"$error":"#N/A"}}]
[{"$f":"Orders!A658","v":0},{"$f":"VLOOKUP(A657,'Product-tool'!A:E,2,0)","v":{"$error":"#N/A"}},{"$f":"VLOOKUP(A657&B657,'Standard output'!A:D,4,0)","v":{"$error":"#N/A"}},{"$f":"Orders!B658/$C657","v":{"$error":"#N/A"}},{"$f":"Orders!C658/$C657","v":{"$error":"#N/A"}},{"$f":"Orders!D658/$C657","v":{"$error":"#N/A"}}]
[{"$f":"Orders!A659","v":0},{"$f":"VLOOKUP(A658,'Product-tool'!A:E,2,0)","v":{"$error":"#N/A"}},{"$f":"VLOOKUP(A658&B658,'Standard output'!A:D,4,0)","v":{"$error":"#N/A"}},{"$f":"Orders!B659/$C658","v":{"$error":"#N/A"}},{"$f":"Orders!C659/$C658","v":{"$error":"#N/A"}},{"$f":"Orders!D659/$C658","v":{"$error":"#N/A"}}]
[{"$f":"Orders!A660","v":0},{"$f":"VLOOKUP(A659,'Product-tool'!A:E,2,0)","v":{"$error":"#N/A"}},{"$f":"VLOOKUP(A659&B659,'Standard output'!A:D,4,0)","v":{"$error":"#N/A"}},{"$f":"Orders!B660/$C659","v":{"$error":"#N/A"}},{"$f":"Orders!C660/$C659","v":{"$error":"#N/A"}},{"$f":"Orders!D660/$C659","v":{"$error":"#N/A"}}]
[{"$f":"Orders!A661","v":0},{"$f":"VLOOKUP(A660,'Product-tool'!A:E,2,0)","v":{"$error":"#N/A"}},{"$f":"VLOOKUP(A660&B660,'Standard output'!A:D,4,0)","v":{"$error":"#N/A"}},{"$f":"Orders!B661/$C660","v":{"$error":"#N/A"}},{"$f":"Orders!C661/$C660","v":{"$error":"#N/A"}},{"$f":"Orders!D661/$C660","v":{"$error":"#N/A"}}]
[{"$f":"Orders!A662","v":0},{"$f":"VLOOKUP(A661,'Product-tool'!A:E,2,0)","v":{"$error":"#N/A"}},{"$f":"VLOOKUP(A661&B661,'Standard output'!A:D,4,0)","v":{"$error":"#N/A"}},{"$f":"Orders!B662/$C661","v":{"$error":"#N/A"}},{"$f":"Orders!C662/$C661","v":{"$error":"#N/A"}},{"$f":"Orders!D662/$C661","v":{"$error":"#N/A"}}]
[{"$f":"Orders!A663","v":0},{"$f":"VLOOKUP(A662,'Product-tool'!A:E,2,0)","v":{"$error":"#N/A"}},{"$f":"VLOOKUP(A662&B662,'Standard output'!A:D,4,0)","v":{"$error":"#N/A"}},{"$f":"Orders!B663/$C662","v":{"$error":"#N/A"}},{"$f":"Orders!C663/$C662","v":{"$error":"#N/A"}},{"$f":"Orders!D663/$C662","v":{"$error":"#N/A"}}]
[{"$f":"Orders!A664","v":0},{"$f":"VLOOKUP(A663,'Product-tool'!A:E,2,0)","v":{"$error":"#N/A"}},{"$f":"VLOOKUP(A663&B663,'Standard output'!A:D,4,0)","v":{"$error":"#N/A"}},{"$f":"Orders!B664/$C663","v":{"$error":"#N/A"}},{"$f":"Orders!C664/$C663","v":{"$error":"#N/A"}},{"$f":"Orders!D664/$C663","v":{"$error":"#N/A"}}]
[{"$f":"Orders!A665","v":0},{"$f":"VLOOKUP(A664,'Product-tool'!A:E,2,0)","v":{"$error":"#N/A"}},{"$f":"VLOOKUP(A664&B664,'Standard output'!A:D,4,0)","v":{"$error":"#N/A"}},{"$f":"Orders!B665/$C664","v":{"$error":"#N/A"}},{"$f":"Orders!C665/$C664","v":{"$error":"#N/A"}},{"$f":"Orders!D665/$C664","v":{"$error":"#N/A"}}]
[{"$f":"Orders!A666","v":0},{"$f":"VLOOKUP(A665,'Product-tool'!A:E,2,0)","v":{"$error":"#N/A"}},{"$f":"VLOOKUP(A665&B665,'Standard output'!A:D,4,0)","v":{"$error":"#N/A"}},{"$f":"Orders!B666/$C665","v":{"$error":"#N/A"}},{"$f":"Orders!C666/$C665","v":{"$error":"#N/A"}},{"$f":"Orders!D666/$C665","v":{"$error":"#N/A"}}]
[{"$f":"Orders!A667","v":0},{"$f":"VLOOKUP(A666,'Product-tool'!A:E,2,0)","v":{"$error":"#N/A"}},{"$f":"VLOOKUP(A666&B666,'Standard output'!A:D,4,0)","v":{"$error":"#N/A"}},{"$f":"Orders!B667/$C666","v":{"$error":"#N/A"}},{"$f":"Orders!C667/$C666","v":{"$error":"#N/A"}},{"$f":"Orders!D667/$C666","v":{"$error":"#N/A"}}]
[{"$f":"Orders!A668","v":0},{"$f":"VLOOKUP(A667,'Product-tool'!A:E,2,0)","v":{"$error":"#N/A"}},{"$f":"VLOOKUP(A667&B667,'Standard output'!A:D,4,0)","v":{"$error":"#N/A"}},{"$f":"Orders!B668/$C667","v":{"$error":"#N/A"}},{"$f":"Orders!C668/$C667","v":{"$error":"#N/A"}},{"$f":"Orders!D668/$C667","v":{"$error":"#N/A"}}]
[{"$f":"Orders!A669","v":0},{"$f":"VLOOKUP(A668,'Product-tool'!A:E,2,0)","v":{"$error":"#N/A"}},{"$f":"VLOOKUP(A668&B668,'Standard output'!A:D,4,0)","v":{"$error":"#N/A"}},{"$f":"Orders!B669/$C668","v":{"$error":"#N/A"}},{"$f":"Orders!C669/$C668","v":{"$error":"#N/A"}},{"$f":"Orders!D669/$C668","v":{"$error":"#N/A"}}]
[{"$f":"Orders!A670","v":0},{"$f":"VLOOKUP(A669,'Product-tool'!A:E,2,0)","v":{"$error":"#N/A"}},{"$f":"VLOOKUP(A669&B669,'Standard output'!A:D,4,0)","v":{"$error":"#N/A"}},{"$f":"Orders!B670/$C669","v":{"$error":"#N/A"}},{"$f":"Orders!C670/$C669","v":{"$error":"#N/A"}},{"$f":"Orders!D670/$C669","v":{"$error":"#N/A"}}]
[{"$f":"Orders!A671","v":0},{"$f":"VLOOKUP(A670,'Product-tool'!A:E,2,0)","v":{"$error":"#N/A"}},{"$f":"VLOOKUP(A670&B670,'Standard output'!A:D,4,0)","v":{"$error":"#N/A"}},{"$f":"Orders!B671/$C670","v":{"$error":"#N/A"}},{"$f":"Orders!C671/$C670","v":{"$error":"#N/A"}},{"$f":"Orders!D671/$C670","v":{"$error":"#N/A"}}]
[{"$f":"Orders!A672","v":0},{"$f":"VLOOKUP(A671,'Product-tool'!A:E,2,0)","v":{"$error":"#N/A"}},{"$f":"VLOOKUP(A671&B671,'Standard output'!A:D,4,0)","v":{"$error":"#N/A"}},{"$f":"Orders!B672/$C671","v":{"$error":"#N/A"}},{"$f":"Orders!C672/$C671","v":{"$error":"#N/A"}},{"$f":"Orders!D672/$C671","v":{"$error":"#N/A"}}]
[{"$f":"Orders!A673","v":0},{"$f":"VLOOKUP(A672,'Product-tool'!A:E,2,0)","v":{"$error":"#N/A"}},{"$f":"VLOOKUP(A672&B672,'Standard output'!A:D,4,0)","v":{"$error":"#N/A"}},{"$f":"Orders!B673/$C672","v":{"$error":"#N/A"}},{"$f":"Orders!C673/$C672","v":{"$error":"#N/A"}},{"$f":"Orders!D673/$C672","v":{"$error":"#N/A"}}]
[{"$f":"Orders!A674","v":0},{"$f":"VLOOKUP(A673,'Product-tool'!A:E,2,0)","v":{"$error":"#N/A"}},{"$f":"VLOOKUP(A673&B673,'Standard output'!A:D,4,0)","v":{"$error":"#N/A"}},{"$f":"Orders!B674/$C673","v":{"$error":"#N/A"}},{"$f":"Orders!C674/$C673","v":{"$error":"#N/A"}},{"$f":"Orders!D674/$C673","v":{"$error":"#N/A"}}]
[{"$f":"Orders!A675","v":0},{"$f":"VLOOKUP(A674,'Product-tool'!A:E,2,0)","v":{"$error":"#N/A"}},{"$f":"VLOOKUP(A674&B674,'Standard output'!A:D,4,0)","v":{"$error":"#N/A"}},{"$f":"Orders!B675/$C674","v":{"$error":"#N/A"}},{"$f":"Orders!C675/$C674","v":{"$error":"#N/A"}},{"$f":"Orders!D675/$C674","v":{"$error":"#N/A"}}]
[{"$f":"Orders!A676","v":0},{"$f":"VLOOKUP(A675,'Product-tool'!A:E,2,0)","v":{"$error":"#N/A"}},{"$f":"VLOOKUP(A675&B675,'Standard output'!A:D,4,0)","v":{"$error":"#N/A"}},{"$f":"Orders!B676/$C675","v":{"$error":"#N/A"}},{"$f":"Orders!C676/$C675","v":{"$error":"#N/A"}},{"$f":"Orders!D676/$C675","v":{"$error":"#N/A"}}]
[{"$f":"Orders!A677","v":0},{"$f":"VLOOKUP(A676,'Product-tool'!A:E,2,0)","v":{"$error":"#N/A"}},{"$f":"VLOOKUP(A676&B676,'Standard output'!A:D,4,0)","v":{"$error":"#N/A"}},{"$f":"Orders!B677/$C676","v":{"$error":"#N/A"}},{"$f":"Orders!C677/$C676","v":{"$error":"#N/A"}},{"$f":"Orders!D677/$C676","v":{"$error":"#N/A"}}]
[{"$f":"Orders!A678","v":0},{"$f":"VLOOKUP(A677,'Product-tool'!A:E,2,0)","v":{"$error":"#N/A"}},{"$f":"VLOOKUP(A677&B677,'Standard output'!A:D,4,0)","v":{"$error":"#N/A"}},{"$f":"Orders!B678/$C677","v":{"$error":"#N/A"}},{"$f":"Orders!C678/$C677","v":{"$error":"#N/A"}},{"$f":"Orders!D678/$C677","v":{"$error":"#N/A"}}]
[{"$f":"Orders!A679","v":0},{"$f":"VLOOKUP(A678,'Product-tool'!A:E,2,0)","v":{"$error":"#N/A"}},{"$f":"VLOOKUP(A678&B678,'Standard output'!A:D,4,0)","v":{"$error":"#N/A"}},{"$f":"Orders!B679/$C678","v":{"$error":"#N/A"}},{"$f":"Orders!C679/$C678","v":{"$error":"#N/A"}},{"$f":"Orders!D679/$C678","v":{"$error":"#N/A"}}]
[{"$f":"Orders!A680","v":0},{"$f":"VLOOKUP(A679,'Product-tool'!A:E,2,0)","v":{"$error":"#N/A"}},{"$f":"VLOOKUP(A679&B679,'Standard output'!A:D,4,0)","v":{"$error":"#N/A"}},{"$f":"Orders!B680/$C679","v":{"$error":"#N/A"}},{"$f":"Orders!C680/$C679","v":{"$error":"#N/A"}},{"$f":"Orders!D680/$C679","v":{"$error":"#N/A"}}]
[{"$f":"Orders!A681","v":0},{"$f":"VLOOKUP(A680,'Product-tool'!A:E,2,0)","v":{"$error":"#N/A"}},{"$f":"VLOOKUP(A680&B680,'Standard output'!A:D,4,0)","v":{"$error":"#N/A"}},{"$f":"Orders!B681/$C680","v":{"$error":"#N/A"}},{"$f":"Orders!C681/$C680","v":{"$error":"#N/A"}},{"$f":"Orders!D681/$C680","v":{"$error":"#N/A"}}]
[{"$f":"Orders!A682","v":0},{"$f":"VLOOKUP(A681,'Product-tool'!A:E,2,0)","v":{"$error":"#N/A"}},{"$f":"VLOOKUP(A681&B681,'Standard output'!A:D,4,0)","v":{"$error":"#N/A"}},{"$f":"Orders!B682/$C681","v":{"$error":"#N/A"}},{"$f":"Orders!C682/$C681","v":{"$error":"#N/A"}},{"$f":"Orders!D682/$C681","v":{"$error":"#N/A"}}]
[{"$f":"Orders!A683","v":0},{"$f":"VLOOKUP(A682,'Product-tool'!A:E,2,0)","v":{"$error":"#N/A"}},{"$f":"VLOOKUP(A682&B682,'Standard output'!A:D,4,0)","v":{"$error":"#N/A"}},{"$f":"Orders!B683/$C682","v":{"$error":"#N/A"}},{"$f":"Orders!C683/$C682","v":{"$error":"#N/A"}},{"$f":"Orders!D683/$C682","v":{"$error":"#N/A"}}]
[{"$f":"Orders!A684","v":0},{"$f":"VLOOKUP(A683,'Product-tool'!A:E,2,0)","v":{"$error":"#N/A"}},{"$f":"VLOOKUP(A683&B683,'Standard output'!A:D,4,0)","v":{"$error":"#N/A"}},{"$f":"Orders!B684/$C683","v":{"$error":"#N/A"}},{"$f":"Orders!C684/$C683","v":{"$error":"#N/A"}},{"$f":"Orders!D684/$C683","v":{"$error":"#N/A"}}]
[{"$f":"Orders!A685","v":0},{"$f":"VLOOKUP(A684,'Product-tool'!A:E,2,0)","v":{"$error":"#N/A"}},{"$f":"VLOOKUP(A684&B684,'Standard output'!A:D,4,0)","v":{"$error":"#N/A"}},{"$f":"Orders!B685/$C684","v":{"$error":"#N/A"}},{"$f":"Orders!C685/$C684","v":{"$error":"#N/A"}},{"$f":"Orders!D685/$C684","v":{"$error":"#N/A"}}]
[{"$f":"Orders!A686","v":0},{"$f":"VLOOKUP(A685,'Product-tool'!A:E,2,0)","v":{"$error":"#N/A"}},{"$f":"VLOOKUP(A685&B685,'Standard output'!A:D,4,0)","v":{"$error":"#N/A"}},{"$f":"Orders!B686/$C685","v":{"$error":"#N/A"}},{"$f":"Orders!C686/$C685","v":{"$error":"#N/A"}},{"$f":"Orders!D686/$C685","v":{"$error":"#N/A"}}]
[{"$f":"Orders!A687","v":0},{"$f":"VLOOKUP(A686,'Product-tool'!A:E,2,0)","v":{"$error":"#N/A"}},{"$f":"VLOOKUP(A686&B686,'Standard output'!A:D,4,0)","v":{"$error":"#N/A"}},{"$f":"Orders!B687/$C686","v":{"$error":"#N/A"}},{"$f":"Orders!C687/$C686","v":{"$error":"#N/A"}},{"$f":"Orders!D687/$C686","v":{"$error":"#N/A"}}]
[{"$f":"Orders!A688","v":0},{"$f":"VLOOKUP(A687,'Product-tool'!A:E,2,0)","v":{"$error":"#N/A"}},{"$f":"VLOOKUP(A687&B687,'Standard output'!A:D,4,0)","v":{"$error":"#N/A"}},{"$f":"Orders!B688/$C687","v":{"$error":"#N/A"}},{"$f":"Orders!C688/$C687","v":{"$error":"#N/A"}},{"$f":"Orders!D688/$C687","v":{"$error":"#N/A"}}]
[{"$f":"Orders!A689","v":0},{"$f":"VLOOKUP(A688,'Product-tool'!A:E,2,0)","v":{"$error":"#N/A"}},{"$f":"VLOOKUP(A688&B688,'Standard output'!A:D,4,0)","v":{"$error":"#N/A"}},{"$f":"Orders!B689/$C688","v":{"$error":"#N/A"}},{"$f":"Orders!C689/$C688","v":{"$error":"#N/A"}},{"$f":"Orders!D689/$C688","v":{"$error":"#N/A"}}]
[{"$f":"Orders!A690","v":0},{"$f":"VLOOKUP(A689,'Product-tool'!A:E,2,0)","v":{"$error":"#N/A"}},{"$f":"VLOOKUP(A689&B689,'Standard output'!A:D,4,0)","v":{"$error":"#N/A"}},{"$f":"Orders!B690/$C689","v":{"$error":"#N/A"}},{"$f":"Orders!C690/$C689","v":{"$error":"#N/A"}},{"$f":"Orders!D690/$C689","v":{"$error":"#N/A"}}]
[{"$f":"Orders!A691","v":0},{"$f":"VLOOKUP(A690,'Product-tool'!A:E,2,0)","v":{"$error":"#N/A"}},{"$f":"VLOOKUP(A690&B690,'Standard output'!A:D,4,0)","v":{"$error":"#N/A"}},{"$f":"Orders!B691/$C690","v":{"$error":"#N/A"}},{"$f":"Orders!C691/$C690","v":{"$error":"#N/A"}},{"$f":"Orders!D691/$C690","v":{"$error":"#N/A"}}]
[{"$f":"Orders!A692","v":0},{"$f":"VLOOKUP(A691,'Product-tool'!A:E,2,0)","v":{"$error":"#N/A"}},{"$f":"VLOOKUP(A691&B691,'Standard output'!A:D,4,0)","v":{"$error":"#N/A"}},{"$f":"Orders!B692/$C691","v":{"$error":"#N/A"}},{"$f":"Orders!C692/$C691","v":{"$error":"#N/A"}},{"$f":"Orders!D692/$C691","v":{"$error":"#N/A"}}]
[{"$f":"Orders!A693","v":0},{"$f":"VLOOKUP(A692,'Product-tool'!A:E,2,0)","v":{"$error":"#N/A"}},{"$f":"VLOOKUP(A692&B692,'Standard output'!A:D,4,0)","v":{"$error":"#N/A"}},{"$f":"Orders!B693/$C692","v":{"$error":"#N/A"}},{"$f":"Orders!C693/$C692","v":{"$error":"#N/A"}},{"$f":"Orders!D693/$C692","v":{"$error":"#N/A"}}]
[{"$f":"Orders!A694","v":0},{"$f":"VLOOKUP(A693,'Product-tool'!A:E,2,0)","v":{"$error":"#N/A"}},{"$f":"VLOOKUP(A693&B693,'Standard output'!A:D,4,0)","v":{"$error":"#N/A"}},{"$f":"Orders!B694/$C693","v":{"$error":"#N/A"}},{"$f":"Orders!C694/$C693","v":{"$error":"#N/A"}},{"$f":"Orders!D694/$C693","v":{"$error":"#N/A"}}]
[{"$f":"Orders!A695","v":0},{"$f":"VLOOKUP(A694,'Product-tool'!A:E,2,0)","v":{"$error":"#N/A"}},{"$f":"VLOOKUP(A694&B694,'Standard output'!A:D,4,0)","v":{"$error":"#N/A"}},{"$f":"Orders!B695/$C694","v":{"$error":"#N/A"}},{"$f":"Orders!C695/$C694","v":{"$error":"#N/A"}},{"$f":"Orders!D695/$C694","v":{"$error":"#N/A"}}]
[{"$f":"Orders!A696","v":0},{"$f":"VLOOKUP(A695,'Product-tool'!A:E,2,0)","v":{"$error":"#N/A"}},{"$f":"VLOOKUP(A695&B695,'Standard output'!A:D,4,0)","v":{"$error":"#N/A"}},{"$f":"Orders!B696/$C695","v":{"$error":"#N/A"}},{"$f":"Orders!C696/$C695","v":{"$error":"#N/A"}},{"$f":"Orders!D696/$C695","v":{"$error":"#N/A"}}]
[{"$f":"Orders!A697","v":0},{"$f":"VLOOKUP(A696,'Product-tool'!A:E,2,0)","v":{"$error":"#N/A"}},{"$f":"VLOOKUP(A696&B696,'Standard output'!A:D,4,0)","v":{"$error":"#N/A"}},{"$f":"Orders!B697/$C696","v":{"$error":"#N/A"}},{"$f":"Orders!C697/$C696","v":{"$error":"#N/A"}},{"$f":"Orders!D697/$C696","v":{"$error":"#N/A"}}]
[{"$f":"Orders!A698","v":0},{"$f":"VLOOKUP(A697,'Product-tool'!A:E,2,0)","v":{"$error":"#N/A"}},{"$f":"VLOOKUP(A697&B697,'Standard output'!A:D,4,0)","v":{"$error":"#N/A"}},{"$f":"Orders!B698/$C697","v":{"$error":"#N/A"}},{"$f":"Orders!C698/$C697","v":{"$error":"#N/A"}},{"$f":"Orders!D698/$C697","v":{"$error":"#N/A"}}]
[{"$f":"Orders!A699","v":0},{"$f":"VLOOKUP(A698,'Product-tool'!A:E,2,0)","v":{"$error":"#N/A"}},{"$f":"VLOOKUP(A698&B698,'Standard output'!A:D,4,0)","v":{"$error":"#N/A"}},{"$f":"Orders!B699/$C698","v":{"$error":"#N/A"}},{"$f":"Orders!C699/$C698","v":{"$error":"#N/A"}},{"$f":"Orders!D699/$C698","v":{"$error":"#N/A"}}]
[{"$f":"Orders!A700","v":0},{"$f":"VLOOKUP(A699,'Product-tool'!A:E,2,0)","v":{"$error":"#N/A"}},{"$f":"VLOOKUP(A699&B699,'Standard output'!A:D,4,0)","v":{"$error":"#N/A"}},{"$f":"Orders!B700/$C699","v":{"$error":"#N/A"}},{"$f":"Orders!C700/$C699","v":{"$error":"#N/A"}},{"$f":"Orders!D700/$C699","v":{"$error":"#N/A"}}]
[{"$f":"Orders!A701","v":0},{"$f":"VLOOKUP(A700,'Product-tool'!A:E,2,0)","v":{"$error":"#N/A"}},{"$f":"VLOOKUP(A700&B700,'Standard output'!A:D,4,0)","v":{"$error":"#N/A"}},{"$f":"Orders!B701/$C700","v":{"$error":"#N/A"}},{"$f":"Orders!C701/$C700","v":{"$error":"#N/A"}},{"$f":"Orders!D701/$C700","v":{"$error":"#N/A"}}]
[{"$f":"Orders!A702","v":0},{"$f":"VLOOKUP(A701,'Product-tool'!A:E,2,0)","v":{"$error":"#N/A"}},{"$f":"VLOOKUP(A701&B701,'Standard output'!A:D,4,0)","v":{"$error":"#N/A"}},{"$f":"Orders!B702/$C701","v":{"$error":"#N/A"}},{"$f":"Orders!C702/$C701","v":{"$error":"#N/A"}},{"$f":"Orders!D702/$C701","v":{"$error":"#N/A"}}]
[{"$f":"Orders!A703","v":0},{"$f":"VLOOKUP(A702,'Product-tool'!A:E,2,0)","v":{"$error":"#N/A"}},{"$f":"VLOOKUP(A702&B702,'Standard output'!A:D,4,0)","v":{"$error":"#N/A"}},{"$f":"Orders!B703/$C702","v":{"$error":"#N/A"}},{"$f":"Orders!C703/$C702","v":{"$error":"#N/A"}},{"$f":"Orders!D703/$C702","v":{"$error":"#N/A"}}]
[{"$f":"Orders!A704","v":0},{"$f":"VLOOKUP(A703,'Product-tool'!A:E,2,0)","v":{"$error":"#N/A"}},{"$f":"VLOOKUP(A703&B703,'Standard output'!A:D,4,0)","v":{"$error":"#N/A"}},{"$f":"Orders!B704/$C703","v":{"$error":"#N/A"}},{"$f":"Orders!C704/$C703","v":{"$error":"#N/A"}},{"$f":"Orders!D704/$C703","v":{"$error":"#N/A"}}]
[{"$f":"Orders!A705","v":0},{"$f":"VLOOKUP(A704,'Product-tool'!A:E,2,0)","v":{"$error":"#N/A"}},{"$f":"VLOOKUP(A704&B704,'Standard output'!A:D,4,0)","v":{"$error":"#N/A"}},{"$f":"Orders!B705/$C704","v":{"$error":"#N/A"}},{"$f":"Orders!C705/$C704","v":{"$error":"#N/A"}},{"$f":"Orders!D705/$C704","v":{"$error":"#N/A"}}]
[{"$f":"Orders!A706","v":0},{"$f":"VLOOKUP(A705,'Product-tool'!A:E,2,0)","v":{"$error":"#N/A"}},{"$f":"VLOOKUP(A705&B705,'Standard output'!A:D,4,0)","v":{"$error":"#N/A"}},{"$f":"Orders!B706/$C705","v":{"$error":"#N/A"}},{"$f":"Orders!C706/$C705","v":{"$error":"#N/A"}},{"$f":"Orders!D706/$C705","v":{"$error":"#N/A"}}]
[{"$f":"Orders!A707","v":0},{"$f":"VLOOKUP(A706,'Product-tool'!A:E,2,0)","v":{"$error":"#N/A"}},{"$f":"VLOOKUP(A706&B706,'Standard output'!A:D,4,0)","v":{"$error":"#N/A"}},{"$f":"Orders!B707/$C706","v":{"$error":"#N/A"}},{"$f":"Orders!C707/$C706","v":{"$error":"#N/A"}},{"$f":"Orders!D707/$C706","v":{"$error":"#N/A"}}]
[{"$f":"Orders!A708","v":0},{"$f":"VLOOKUP(A707,'Product-tool'!A:E,2,0)","v":{"$error":"#N/A"}},{"$f":"VLOOKUP(A707&B707,'Standard output'!A:D,4,0)","v":{"$error":"#N/A"}},{"$f":"Orders!B708/$C707","v":{"$error":"#N/A"}},{"$f":"Orders!C708/$C707","v":{"$error":"#N/A"}},{"$f":"Orders!D708/$C707","v":{"$error":"#N/A"}}]
[{"$f":"Orders!A709","v":0},{"$f":"VLOOKUP(A708,'Product-tool'!A:E,2,0)","v":{"$error":"#N/A"}},{"$f":"VLOOKUP(A708&B708,'Standard output'!A:D,4,0)","v":{"$error":"#N/A"}},{"$f":"Orders!B709/$C708","v":{"$error":"#N/A"}},{"$f":"Orders!C709/$C708","v":{"$error":"#N/A"}},{"$f":"Orders!D709/$C708","v":{"$error":"#N/A"}}]
[{"$f":"Orders!A710","v":0},{"$f":"VLOOKUP(A709,'Product-tool'!A:E,2,0)","v":{"$error":"#N/A"}},{"$f":"VLOOKUP(A709&B709,'Standard output'!A:D,4,0)","v":{"$error":"#N/A"}},{"$f":"Orders!B710/$C709","v":{"$error":"#N/A"}},{"$f":"Orders!C710/$C709","v":{"$error":"#N/A"}},{"$f":"Orders!D710/$C709","v":{"$error":"#N/A"}}]
[{"$f":"Orders!A711","v":0},{"$f":"VLOOKUP(A710,'Product-tool'!A:E,2,0)","v":{"$error":"#N/A"}},{"$f":"VLOOKUP(A710&B710,'Standard output'!A:D,4,0)","v":{"$error":"#N/A"}},{"$f":"Orders!B711/$C710","v":{"$error":"#N/A"}},{"$f":"Orders!C711/$C710","v":{"$error":"#N/A"}},{"$f":"Orders!D711/$C710","v":{"$error":"#N/A"}}]
[{"$f":"Orders!A712","v":0},{"$f":"VLOOKUP(A711,'Product-tool'!A:E,2,0)","v":{"$error":"#N/A"}},{"$f":"VLOOKUP(A711&B711,'Standard output'!A:D,4,0)","v":{"$error":"#N/A"}},{"$f":"Orders!B712/$C711","v":{"$error":"#N/A"}},{"$f":"Orders!C712/$C711","v":{"$error":"#N/A"}},{"$f":"Orders!D712/$C711","v":{"$error":"#N/A"}}]
[{"$f":"Orders!A713","v":0},{"$f":"VLOOKUP(A712,'Product-tool'!A:E,2,0)","v":{"$error":"#N/A"}},{"$f":"VLOOKUP(A712&B712,'Standard output'!A:D,4,0)","v":{"$error":"#N/A"}},{"$f":"Orders!B713/$C712","v":{"$error":"#N/A"}},{"$f":"Orders!C713/$C712","v":{"$error":"#N/A"}},{"$f":"Orders!D713/$C712","v":{"$error":"#N/A"}}]
[{"$f":"Orders!A714","v":0},{"$f":"VLOOKUP(A713,'Product-tool'!A:E,2,0)","v":{"$error":"#N/A"}},{"$f":"VLOOKUP(A713&B713,'Standard output'!A:D,4,0)","v":{"$error":"#N/A"}},{"$f":"Orders!B714/$C713","v":{"$error":"#N/A"}},{"$f":"Orders!C714/$C713","v":{"$error":"#N/A"}},{"$f":"Orders!D714/$C713","v":{"$error":"#N/A"}}]
[{"$f":"Orders!A715","v":0},{"$f":"VLOOKUP(A714,'Product-tool'!A:E,2,0)","v":{"$error":"#N/A"}},{"$f":"VLOOKUP(A714&B714,'Standard output'!A:D,4,0)","v":{"$error":"#N/A"}},{"$f":"Orders!B715/$C714","v":{"$error":"#N/A"}},{"$f":"Orders!C715/$C714","v":{"$error":"#N/A"}},{"$f":"Orders!D715/$C714","v":{"$error":"#N/A"}}]
[{"$f":"Orders!A716","v":0},{"$f":"VLOOKUP(A715,'Product-tool'!A:E,2,0)","v":{"$error":"#N/A"}},{"$f":"VLOOKUP(A715&B715,'Standard output'!A:D,4,0)","v":{"$error":"#N/A"}},{"$f":"Orders!B716/$C715","v":{"$error":"#N/A"}},{"$f":"Orders!C716/$C715","v":{"$error":"#N/A"}},{"$f":"Orders!D716/$C715","v":{"$error":"#N/A"}}]
[{"$f":"Orders!A717","v":0},{"$f":"VLOOKUP(A716,'Product-tool'!A:E,2,0)","v":{"$error":"#N/A"}},{"$f":"VLOOKUP(A716&B716,'Standard output'!A:D,4,0)","v":{"$error":"#N/A"}},{"$f":"Orders!B717/$C716","v":{"$error":"#N/A"}},{"$f":"Orders!C717/$C716","v":{"$error":"#N/A"}},{"$f":"Orders!D717/$C716","v":{"$error":"#N/A"}}]
[{"$f":"Orders!A718","v":0},{"$f":"VLOOKUP(A717,'Product-tool'!A:E,2,0)","v":{"$error":"#N/A"}},{"$f":"VLOOKUP(A717&B717,'Standard output'!A:D,4,0)","v":{"$error":"#N/A"}},{"$f":"Orders!B718/$C717","v":{"$error":"#N/A"}},{"$f":"Orders!C718/$C717","v":{"$error":"#N/A"}},{"$f":"Orders!D718/$C717","v":{"$error":"#N/A"}}]
[{"$f":"Orders!A719","v":0},{"$f":"VLOOKUP(A718,'Product-tool'!A:E,2,0)","v":{"$error":"#N/A"}},{"$f":"VLOOKUP(A718&B718,'Standard output'!A:D,4,0)","v":{"$error":"#N/A"}},{"$f":"Orders!B719/$C718","v":{"$error":"#N/A"}},{"$f":"Orders!C719/$C718","v":{"$error":"#N/A"}},{"$f":"Orders!D719/$C718","v":{"$error":"#N/A"}}]
[{"$f":"Orders!A720","v":0},{"$f":"VLOOKUP(A719,'Product-tool'!A:E,2,0)","v":{"$error":"#N/A"}},{"$f":"VLOOKUP(A719&B719,'Standard output'!A:D,4,0)","v":{"$error":"#N/A"}},{"$f":"Orders!B720/$C719","v":{"$error":"#N/A"}},{"$f":"Orders!C720/$C719","v":{"$error":"#N/A"}},{"$f":"Orders!D720/$C719","v":{"$error":"#N/A"}}]
[{"$f":"Orders!A721","v":0},{"$f":"VLOOKUP(A720,'Product-tool'!A:E,2,0)","v":{"$error":"#N/A"}},{"$f":"VLOOKUP(A720&B720,'Standard output'!A:D,4,0)","v":{"$error":"#N/A"}},{"$f":"Orders!B721/$C720","v":{"$error":"#N/A"}},{"$f":"Orders!C721/$C720","v":{"$error":"#N/A"}},{"$f":"Orders!D721/$C720","v":{"$error":"#N/A"}}]
[{"$f":"Orders!A722","v":0},{"$f":"VLOOKUP(A721,'Product-tool'!A:E,2,0)","v":{"$error":"#N/A"}},{"$f":"VLOOKUP(A721&B721,'Standard output'!A:D,4,0)","v":{"$error":"#N/A"}},{"$f":"Orders!B722/$C721","v":{"$error":"#N/A"}},{"$f":"Orders!C722/$C721","v":{"$error":"#N/A"}},{"$f":"Orders!D722/$C721","v":{"$error":"#N/A"}}]
[{"$f":"Orders!A723","v":0},{"$f":"VLOOKUP(A722,'Product-tool'!A:E,2,0)","v":{"$error":"#N/A"}},{"$f":"VLOOKUP(A722&B722,'Standard output'!A:D,4,0)","v":{"$error":"#N/A"}},{"$f":"Orders!B723/$C722","v":{"$error":"#N/A"}},{"$f":"Orders!C723/$C722","v":{"$error":"#N/A"}},{"$f":"Orders!D723/$C722","v":{"$error":"#N/A"}}]
[{"$f":"Orders!A724","v":0},{"$f":"VLOOKUP(A723,'Product-tool'!A:E,2,0)","v":{"$error":"#N/A"}},{"$f":"VLOOKUP(A723&B723,'Standard output'!A:D,4,0)","v":{"$error":"#N/A"}},{"$f":"Orders!B724/$C723","v":{"$error":"#N/A"}},{"$f":"Orders!C724/$C723","v":{"$error":"#N/A"}},{"$f":"Orders!D724/$C723","v":{"$error":"#N/A"}}]
[{"$f":"Orders!A725","v":0},{"$f":"VLOOKUP(A724,'Product-tool'!A:E,2,0)","v":{"$error":"#N/A"}},{"$f":"VLOOKUP(A724&B724,'Standard output'!A:D,4,0)","v":{"$error":"#N/A"}},{"$f":"Orders!B725/$C724","v":{"$error":"#N/A"}},{"$f":"Orders!C725/$C724","v":{"$error":"#N/A"}},{"$f":"Orders!D725/$C724","v":{"$error":"#N/A"}}]
[{"$f":"Orders!A726","v":0},{"$f":"VLOOKUP(A725,'Product-tool'!A:E,2,0)","v":{"$error":"#N/A"}},{"$f":"VLOOKUP(A725&B725,'Standard output'!A:D,4,0)","v":{"$error":"#N/A"}},{"$f":"Orders!B726/$C725","v":{"$error":"#N/A"}},{"$f":"Orders!C726/$C725","v":{"$error":"#N/A"}},{"$f":"Orders!D726/$C725","v":{"$error":"#N/A"}}]
[{"$f":"Orders!A727","v":0},{"$f":"VLOOKUP(A726,'Product-tool'!A:E,2,0)","v":{"$error":"#N/A"}},{"$f":"VLOOKUP(A726&B726,'Standard output'!A:D,4,0)","v":{"$error":"#N/A"}},{"$f":"Orders!B727/$C726","v":{"$error":"#N/A"}},{"$f":"Orders!C727/$C726","v":{"$error":"#N/A"}},{"$f":"Orders!D727/$C726","v":{"$error":"#N/A"}}]
[{"$f":"Orders!A728","v":0},{"$f":"VLOOKUP(A727,'Product-tool'!A:E,2,0)","v":{"$error":"#N/A"}},{"$f":"VLOOKUP(A727&B727,'Standard output'!A:D,4,0)","v":{"$error":"#N/A"}},{"$f":"Orders!B728/$C727","v":{"$error":"#N/A"}},{"$f":"Orders!C728/$C727","v":{"$error":"#N/A"}},{"$f":"Orders!D728/$C727","v":{"$error":"#N/A"}}]
[{"$f":"Orders!A729","v":0},{"$f":"VLOOKUP(A728,'Product-tool'!A:E,2,0)","v":{"$error":"#N/A"}},{"$f":"VLOOKUP(A728&B728,'Standard output'!A:D,4,0)","v":{"$error":"#N/A"}},{"$f":"Orders!B729/$C728","v":{"$error":"#N/A"}},{"$f":"Orders!C729/$C728","v":{"$error":"#N/A"}},{"$f":"Orders!D729/$C728","v":{"$error":"#N/A"}}]
[{"$f":"Orders!A730","v":0},{"$f":"VLOOKUP(A729,'Product-tool'!A:E,2,0)","v":{"$error":"#N/A"}},{"$f":"VLOOKUP(A729&B729,'Standard output'!A:D,4,0)","v":{"$error":"#N/A"}},{"$f":"Orders!B730/$C729","v":{"$error":"#N/A"}},{"$f":"Orders!C730/$C729","v":{"$error":"#N/A"}},{"$f":"Orders!D730/$C729","v":{"$error":"#N/A"}}]
[{"$f":"Orders!A731","v":0},{"$f":"VLOOKUP(A730,'Product-tool'!A:E,2,0)","v":{"$error":"#N/A"}},{"$f":"VLOOKUP(A730&B730,'Standard output'!A:D,4,0)","v":{"$error":"#N/A"}},{"$f":"Orders!B731/$C730","v":{"$error":"#N/A"}},{"$f":"Orders!C731/$C730","v":{"$error":"#N/A"}},{"$f":"Orders!D731/$C730","v":{"$error":"#N/A"}}]
[{"$f":"Orders!A732","v":0},{"$f":"VLOOKUP(A731,'Product-tool'!A:E,2,0)","v":{"$error":"#N/A"}},{"$f":"VLOOKUP(A731&B731,'Standard output'!A:D,4,0)","v":{"$error":"#N/A"}},{"$f":"Orders!B732/$C731","v":{"$error":"#N/A"}},{"$f":"Orders!C732/$C731","v":{"$error":"#N/A"}},{"$f":"Orders!D732/$C731","v":{"$error":"#N/A"}}]
[{"$f":"Orders!A733","v":0},{"$f":"VLOOKUP(A732,'Product-tool'!A:E,2,0)","v":{"$error":"#N/A"}},{"$f":"VLOOKUP(A732&B732,'Standard output'!A:D,4,0)","v":{"$error":"#N/A"}},{"$f":"Orders!B733/$C732","v":{"$error":"#N/A"}},{"$f":"Orders!C733/$C732","v":{"$error":"#N/A"}},{"$f":"Orders!D733/$C732","v":{"$error":"#N/A"}}]
[{"$f":"Orders!A734","v":0},{"$f":"VLOOKUP(A733,'Product-tool'!A:E,2,0)","v":{"$error":"#N/A"}},{"$f":"VLOOKUP(A733&B733,'Standard output'!A:D,4,0)","v":{"$error":"#N/A"}},{"$f":"Orders!B734/$C733","v":{"$error":"#N/A"}},{"$f":"Orders!C734/$C733","v":{"$error":"#N/A"}},{"$f":"Orders!D734/$C733","v":{"$error":"#N/A"}}]
[{"$f":"Orders!A735","v":0},{"$f":"VLOOKUP(A734,'Product-tool'!A:E,2,0)","v":{"$error":"#N/A"}},{"$f":"VLOOKUP(A734&B734,'Standard output'!A:D,4,0)","v":{"$error":"#N/A"}},{"$f":"Orders!B735/$C734","v":{"$error":"#N/A"}},{"$f":"Orders!C735/$C734","v":{"$error":"#N/A"}},{"$f":"Orders!D735/$C734","v":{"$error":"#N/A"}}]
[{"$f":"Orders!A736","v":0},{"$f":"VLOOKUP(A735,'Product-tool'!A:E,2,0)","v":{"$error":"#N/A"}},{"$f":"VLOOKUP(A735&B735,'Standard output'!A:D,4,0)","v":{"$error":"#N/A"}},{"$f":"Orders!B736/$C735","v":{"$error":"#N/A"}},{"$f":"Orders!C736/$C735","v":{"$error":"#N/A"}},{"$f":"Orders!D736/$C735","v":{"$error":"#N/A"}}]
[{"$f":"Orders!A737","v":0},{"$f":"VLOOKUP(A736,'Product-tool'!A:E,2,0)","v":{"$error":"#N/A"}},{"$f":"VLOOKUP(A736&B736,'Standard output'!A:D,4,0)","v":{"$error":"#N/A"}},{"$f":"Orders!B737/$C736","v":{"$error":"#N/A"}},{"$f":"Orders!C737/$C736","v":{"$error":"#N/A"}},{"$f":"Orders!D737/$C736","v":{"$error":"#N/A"}}]
[{"$f":"Orders!A738","v":0},{"$f":"VLOOKUP(A737,'Product-tool'!A:E,2,0)","v":{"$error":"#N/A"}},{"$f":"VLOOKUP(A737&B737,'Standard output'!A:D,4,0)","v":{"$error":"#N/A"}},{"$f":"Orders!B738/$C737","v":{"$error":"#N/A"}},{"$f":"Orders!C738/$C737","v":{"$error":"#N/A"}},{"$f":"Orders!D738/$C737","v":{"$error":"#N/A"}}]
[{"$f":"Orders!A739","v":0},{"$f":"VLOOKUP(A738,'Product-tool'!A:E,2,0)","v":{"$error":"#N/A"}},{"$f":"VLOOKUP(A738&B738,'Standard output'!A:D,4,0)","v":{"$error":"#N/A"}},{"$f":"Orders!B739/$C738","v":{"$error":"#N/A"}},{"$f":"Orders!C739/$C738","v":{"$error":"#N/A"}},{"$f":"Orders!D739/$C738","v":{"$error":"#N/A"}}]
[{"$f":"Orders!A740","v":0},{"$f":"VLOOKUP(A739,'Product-tool'!A:E,2,0)","v":{"$error":"#N/A"}},{"$f":"VLOOKUP(A739&B739,'Standard output'!A:D,4,0)","v":{"$error":"#N/A"}},{"$f":"Orders!B740/$C739","v":{"$error":"#N/A"}},{"$f":"Orders!C740/$C739","v":{"$error":"#N/A"}},{"$f":"Orders!D740/$C739","v":{"$error":"#N/A"}}]
[{"$f":"Orders!A741","v":0},{"$f":"VLOOKUP(A740,'Product-tool'!A:E,2,0)","v":{"$error":"#N/A"}},{"$f":"VLOOKUP(A740&B740,'Standard output'!A:D,4,0)","v":{"$error":"#N/A"}},{"$f":"Orders!B741/$C740","v":{"$error":"#N/A"}},{"$f":"Orders!C741/$C740","v":{"$error":"#N/A"}},{"$f":"Orders!D741/$C740","v":{"$error":"#N/A"}}]
[{"$f":"Orders!A742","v":0},{"$f":"VLOOKUP(A741,'Product-tool'!A:E,2,0)","v":{"$error":"#N/A"}},{"$f":"VLOOKUP(A741&B741,'Standard output'!A:D,4,0)","v":{"$error":"#N/A"}},{"$f":"Orders!B742/$C741","v":{"$error":"#N/A"}},{"$f":"Orders!C742/$C741","v":{"$error":"#N/A"}},{"$f":"Orders!D742/$C741","v":{"$error":"#N/A"}}]
[{"$f":"Orders!A743","v":0},{"$f":"VLOOKUP(A742,'Product-tool'!A:E,2,0)","v":{"$error":"#N/A"}},{"$f":"VLOOKUP(A742&B742,'Standard output'!A:D,4,0)","v":{"$error":"#N/A"}},{"$f":"Orders!B743/$C742","v":{"$error":"#N/A"}},{"$f":"Orders!C743/$C742","v":{"$error":"#N/A"}},{"$f":"Orders!D743/$C742","v":{"$error":"#N/A"}}]
[{"$f":"Orders!A744","v":0},{"$f":"VLOOKUP(A743,'Product-tool'!A:E,2,0)","v":{"$error":"#N/A"}},{"$f":"VLOOKUP(A743&B743,'Standard output'!A:D,4,0)","v":{"$error":"#N/A"}},{"$f":"Orders!B744/$C743","v":{"$error":"#N/A"}},{"$f":"Orders!C744/$C743","v":{"$error":"#N/A"}},{"$f":"Orders!D744/$C743","v":{"$error":"#N/A"}}]
[{"$f":"Orders!A745","v":0},{"$f":"VLOOKUP(A744,'Product-tool'!A:E,2,0)","v":{"$error":"#N/A"}},{"$f":"VLOOKUP(A744&B744,'Standard output'!A:D,4,0)","v":{"$error":"#N/A"}},{"$f":"Orders!B745/$C744","v":{"$error":"#N/A"}},{"$f":"Orders!C745/$C744","v":{"$error":"#N/A"}},{"$f":"Orders!D745/$C744","v":{"$error":"#N/A"}}]
[{"$f":"Orders!A746","v":0},{"$f":"VLOOKUP(A745,'Product-tool'!A:E,2,0)","v":{"$error":"#N/A"}},{"$f":"VLOOKUP(A745&B745,'Standard output'!A:D,4,0)","v":{"$error":"#N/A"}},{"$f":"Orders!B746/$C745","v":{"$error":"#N/A"}},{"$f":"Orders!C746/$C745","v":{"$error":"#N/A"}},{"$f":"Orders!D746/$C745","v":{"$error":"#N/A"}}]
[{"$f":"Orders!A747","v":0},{"$f":"VLOOKUP(A746,'Product-tool'!A:E,2,0)","v":{"$error":"#N/A"}},{"$f":"VLOOKUP(A746&B746,'Standard output'!A:D,4,0)","v":{"$error":"#N/A"}},{"$f":"Orders!B747/$C746","v":{"$error":"#N/A"}},{"$f":"Orders!C747/$C746","v":{"$error":"#N/A"}},{"$f":"Orders!D747/$C746","v":{"$error":"#N/A"}}]
[{"$f":"Orders!A748","v":0},{"$f":"VLOOKUP(A747,'Product-tool'!A:E,2,0)","v":{"$error":"#N/A"}},{"$f":"VLOOKUP(A747&B747,'Standard output'!A:D,4,0)","v":{"$error":"#N/A"}},{"$f":"Orders!B748/$C747","v":{"$error":"#N/A"}},{"$f":"Orders!C748/$C747","v":{"$error":"#N/A"}},{"$f":"Orders!D748/$C747","v":{"$error":"#N/A"}}]
[{"$f":"Orders!A749","v":0},{"$f":"VLOOKUP(A748,'Product-tool'!A:E,2,0)","v":{"$error":"#N/A"}},{"$f":"VLOOKUP(A748&B748,'Standard output'!A:D,4,0)","v":{"$error":"#N/A"}},{"$f":"Orders!B749/$C748","v":{"$error":"#N/A"}},{"$f":"Orders!C749/$C748","v":{"$error":"#N/A"}},{"$f":"Orders!D749/$C748","v":{"$error":"#N/A"}}]
[{"$f":"Orders!A750","v":0},{"$f":"VLOOKUP(A749,'Product-tool'!A:E,2,0)","v":{"$error":"#N/A"}},{"$f":"VLOOKUP(A749&B749,'Standard output'!A:D,4,0)","v":{"$error":"#N/A"}},{"$f":"Orders!B750/$C749","v":{"$error":"#N/A"}},{"$f":"Orders!C750/$C749","v":{"$error":"#N/A"}},{"$f":"Orders!D750/$C749","v":{"$error":"#N/A"}}]
[{"$f":"Orders!A751","v":0},{"$f":"VLOOKUP(A750,'Product-tool'!A:E,2,0)","v":{"$error":"#N/A"}},{"$f":"VLOOKUP(A750&B750,'Standard output'!A:D,4,0)","v":{"$error":"#N/A"}},{"$f":"Orders!B751/$C750","v":{"$error":"#N/A"}},{"$f":"Orders!C751/$C750","v":{"$error":"#N/A"}},{"$f":"Orders!D751/$C750","v":{"$error":"#N/A"}}]
[{"$f":"Orders!A752","v":0},{"$f":"VLOOKUP(A751,'Product-tool'!A:E,2,0)","v":{"$error":"#N/A"}},{"$f":"VLOOKUP(A751&B751,'Standard output'!A:D,4,0)","v":{"$error":"#N/A"}},{"$f":"Orders!B752/$C751","v":{"$error":"#N/A"}},{"$f":"Orders!C752/$C751","v":{"$error":"#N/A"}},{"$f":"Orders!D752/$C751","v":{"$error":"#N/A"}}]
[{"$f":"Orders!A753","v":0},{"$f":"VLOOKUP(A752,'Product-tool'!A:E,2,0)","v":{"$error":"#N/A"}},{"$f":"VLOOKUP(A752&B752,'Standard output'!A:D,4,0)","v":{"$error":"#N/A"}},{"$f":"Orders!B753/$C752","v":{"$error":"#N/A"}},{"$f":"Orders!C753/$C752","v":{"$error":"#N/A"}},{"$f":"Orders!D753/$C752","v":{"$error":"#N/A"}}]
[{"$f":"Orders!A754","v":0},{"$f":"VLOOKUP(A753,'Product-tool'!A:E,2,0)","v":{"$error":"#N/A"}},{"$f":"VLOOKUP(A753&B753,'Standard output'!A:D,4,0)","v":{"$error":"#N/A"}},{"$f":"Orders!B754/$C753","v":{"$error":"#N/A"}},{"$f":"Orders!C754/$C753","v":{"$error":"#N/A"}},{"$f":"Orders!D754/$C753","v":{"$error":"#N/A"}}]
[{"$f":"Orders!A755","v":0},{"$f":"VLOOKUP(A754,'Product-tool'!A:E,2,0)","v":{"$error":"#N/A"}},{"$f":"VLOOKUP(A754&B754,'Standard output'!A:D,4,0)","v":{"$error":"#N/A"}},{"$f":"Orders!B755/$C754","v":{"$error":"#N/A"}},{"$f":"Orders!C755/$C754","v":{"$error":"#N/A"}},{"$f":"Orders!D755/$C754","v":{"$error":"#N/A"}}]
[{"$f":"Orders!A756","v":0},{"$f":"VLOOKUP(A755,'Product-tool'!A:E,2,0)","v":{"$error":"#N/A"}},{"$f":"VLOOKUP(A755&B755,'Standard output'!A:D,4,0)","v":{"$error":"#N/A"}},{"$f":"Orders!B756/$C755","v":{"$error":"#N/A"}},{"$f":"Orders!C756/$C755","v":{"$error":"#N/A"}},{"$f":"Orders!D756/$C755","v":{"$error":"#N/A"}}]
[{"$f":"Orders!A757","v":0},{"$f":"VLOOKUP(A756,'Product-tool'!A:E,2,0)","v":{"$error":"#N/A"}},{"$f":"VLOOKUP(A756&B756,'Standard output'!A:D,4,0)","v":{"$error":"#N/A"}},{"$f":"Orders!B757/$C756","v":{"$error":"#N/A"}},{"$f":"Orders!C757/$C756","v":{"$error":"#N/A"}},{"$f":"Orders!D757/$C756","v":{"$error":"#N/A"}}]
[{"$f":"Orders!A758","v":0},{"$f":"VLOOKUP(A757,'Product-tool'!A:E,2,0)","v":{"$error":"#N/A"}},{"$f":"VLOOKUP(A757&B757,'Standard output'!A:D,4,0)","v":{"$error":"#N/A"}},{"$f":"Orders!B758/$C757","v":{"$error":"#N/A"}},{"$f":"Orders!C758/$C757","v":{"$error":"#N/A"}},{"$f":"Orders!D758/$C757","v":{"$error":"#N/A"}}]
[{"$f":"Orders!A759","v":0},{"$f":"VLOOKUP(A758,'Product-tool'!A:E,2,0)","v":{"$error":"#N/A"}},{"$f":"VLOOKUP(A758&B758,'Standard output'!A:D,4,0)","v":{"$error":"#N/A"}},{"$f":"Orders!B759/$C758","v":{"$error":"#N/A"}},{"$f":"Orders!C759/$C758","v":{"$error":"#N/A"}},{"$f":"Orders!D759/$C758","v":{"$error":"#N/A"}}]
[{"$f":"Orders!A760","v":0},{"$f":"VLOOKUP(A759,'Product-tool'!A:E,2,0)","v":{"$error":"#N/A"}},{"$f":"VLOOKUP(A759&B759,'Standard output'!A:D,4,0)","v":{"$error":"#N/A"}},{"$f":"Orders!B760/$C759","v":{"$error":"#N/A"}},{"$f":"Orders!C760/$C759","v":{"$error":"#N/A"}},{"$f":"Orders!D760/$C759","v":{"$error":"#N/A"}}]
[{"$f":"Orders!A761","v":0},{"$f":"VLOOKUP(A760,'Product-tool'!A:E,2,0)","v":{"$error":"#N/A"}},{"$f":"VLOOKUP(A760&B760,'Standard output'!A:D,4,0)","v":{"$error":"#N/A"}},{"$f":"Orders!B761/$C760","v":{"$error":"#N/A"}},{"$f":"Orders!C761/$C760","v":{"$error":"#N/A"}},{"$f":"Orders!D761/$C760","v":{"$error":"#N/A"}}]
[{"$f":"Orders!A762","v":0},{"$f":"VLOOKUP(A761,'Product-tool'!A:E,2,0)","v":{"$error":"#N/A"}},{"$f":"VLOOKUP(A761&B761,'Standard output'!A:D,4,0)","v":{"$error":"#N/A"}},{"$f":"Orders!B762/$C761","v":{"$error":"#N/A"}},{"$f":"Orders!C762/$C761","v":{"$error":"#N/A"}},{"$f":"Orders!D762/$C761","v":{"$error":"#N/A"}}]
[{"$f":"Orders!A763","v":0},{"$f":"VLOOKUP(A762,'Product-tool'!A:E,2,0)","v":{"$error":"#N/A"}},{"$f":"VLOOKUP(A762&B762,'Standard output'!A:D,4,0)","v":{"$error":"#N/A"}},{"$f":"Orders!B763/$C762","v":{"$error":"#N/A"}},{"$f":"Orders!C763/$C762","v":{"$error":"#N/A"}},{"$f":"Orders!D763/$C762","v":{"$error":"#N/A"}}]
[{"$f":"Orders!A764","v":0},{"$f":"VLOOKUP(A763,'Product-tool'!A:E,2,0)","v":{"$error":"#N/A"}},{"$f":"VLOOKUP(A763&B763,'Standard output'!A:D,4,0)","v":{"$error":"#N/A"}},{"$f":"Orders!B764/$C763","v":{"$error":"#N/A"}},{"$f":"Orders!C764/$C763","v":{"$error":"#N/A"}},{"$f":"Orders!D764/$C763","v":{"$error":"#N/A"}}]
[{"$f":"Orders!A765","v":0},{"$f":"VLOOKUP(A764,'Product-tool'!A:E,2,0)","v":{"$error":"#N/A"}},{"$f":"VLOOKUP(A764&B764,'Standard output'!A:D,4,0)","v":{"$error":"#N/A"}},{"$f":"Orders!B765/$C764","v":{"$error":"#N/A"}},{"$f":"Orders!C765/$C764","v":{"$error":"#N/A"}},{"$f":"Orders!D765/$C764","v":{"$error":"#N/A"}}]
[{"$f":"Orders!A766","v":0},{"$f":"VLOOKUP(A765,'Product-tool'!A:E,2,0)","v":{"$error":"#N/A"}},{"$f":"VLOOKUP(A765&B765,'Standard output'!A:D,4,0)","v":{"$error":"#N/A"}},{"$f":"Orders!B766/$C765","v":{"$error":"#N/A"}},{"$f":"Orders!C766/$C765","v":{"$error":"#N/A"}},{"$f":"Orders!D766/$C765","v":{"$error":"#N/A"}}]
[{"$f":"Orders!A767","v":0},{"$f":"VLOOKUP(A766,'Product-tool'!A:E,2,0)","v":{"$error":"#N/A"}},{"$f":"VLOOKUP(A766&B766,'Standard output'!A:D,4,0)","v":{"$error":"#N/A"}},{"$f":"Orders!B767/$C766","v":{"$error":"#N/A"}},{"$f":"Orders!C767/$C766","v":{"$error":"#N/A"}},{"$f":"Orders!D767/$C766","v":{"$error":"#N/A"}}]
[{"$f":"Orders!A768","v":0},{"$f":"VLOOKUP(A767,'Product-tool'!A:E,2,0)","v":{"$error":"#N/A"}},{"$f":"VLOOKUP(A767&B767,'Standard output'!A:D,4,0)","v":{"$error":"#N/A"}},{"$f":"Orders!B768/$C767","v":{"$error":"#N/A"}},{"$f":"Orders!C768/$C767","v":{"$error":"#N/A"}},{"$f":"Orders!D768/$C767","v":{"$error":"#N/A"}}]
[{"$f":"Orders!A769","v":0},{"$f":"VLOOKUP(A768,'Product-tool'!A:E,2,0)","v":{"$error":"#N/A"}},{"$f":"VLOOKUP(A768&B768,'Standard output'!A:D,4,0)","v":{"$error":"#N/A"}},{"$f":"Orders!B769/$C768","v":{"$error":"#N/A"}},{"$f":"Orders!C769/$C768","v":{"$error":"#N/A"}},{"$f":"Orders!D769/$C768","v":{"$error":"#N/A"}}]
[{"$f":"Orders!A770","v":0},{"$f":"VLOOKUP(A769,'Product-tool'!A:E,2,0)","v":{"$error":"#N/A"}},{"$f":"VLOOKUP(A769&B769,'Standard output'!A:D,4,0)","v":{"$error":"#N/A"}},{"$f":"Orders!B770/$C769","v":{"$error":"#N/A"}},{"$f":"Orders!C770/$C769","v":{"$error":"#N/A"}},{"$f":"Orders!D770/$C769","v":{"$error":"#N/A"}}]
[{"$f":"Orders!A771","v":0},{"$f":"VLOOKUP(A770,'Product-tool'!A:E,2,0)","v":{"$error":"#N/A"}},{"$f":"VLOOKUP(A770&B770,'Standard output'!A:D,4,0)","v":{"$error":"#N/A"}},{"$f":"Orders!B771/$C770","v":{"$error":"#N/A"}},{"$f":"Orders!C771/$C770","v":{"$error":"#N/A"}},{"$f":"Orders!D771/$C770","v":{"$error":"#N/A"}}]
[{"$f":"Orders!A772","v":0},{"$f":"VLOOKUP(A771,'Product-tool'!A:E,2,0)","v":{"$error":"#N/A"}},{"$f":"VLOOKUP(A771&B771,'Standard output'!A:D,4,0)","v":{"$error":"#N/A"}},{"$f":"Orders!B772/$C771","v":{"$error":"#N/A"}},{"$f":"Orders!C772/$C771","v":{"$error":"#N/A"}},{"$f":"Orders!D772/$C771","v":{"$error":"#N/A"}}]
[{"$f":"Orders!A773","v":0},{"$f":"VLOOKUP(A772,'Product-tool'!A:E,2,0)","v":{"$error":"#N/A"}},{"$f":"VLOOKUP(A772&B772,'Standard output'!A:D,4,0)","v":{"$error":"#N/A"}},{"$f":"Orders!B773/$C772","v":{"$error":"#N/A"}},{"$f":"Orders!C773/$C772","v":{"$error":"#N/A"}},{"$f":"Orders!D773/$C772","v":{"$error":"#N/A"}}]
[{"$f":"Orders!A774","v":0},{"$f":"VLOOKUP(A773,'Product-tool'!A:E,2,0)","v":{"$error":"#N/A"}},{"$f":"VLOOKUP(A773&B773,'Standard output'!A:D,4,0)","v":{"$error":"#N/A"}},{"$f":"Orders!B774/$C773","v":{"$error":"#N/A"}},{"$f":"Orders!C774/$C773","v":{"$error":"#N/A"}},{"$f":"Orders!D774/$C773","v":{"$error":"#N/A"}}]
[{"$f":"Orders!A775","v":0},{"$f":"VLOOKUP(A774,'Product-tool'!A:E,2,0)","v":{"$error":"#N/A"}},{"$f":"VLOOKUP(A774&B774,'Standard output'!A:D,4,0)","v":{"$error":"#N/A"}},{"$f":"Orders!B775/$C774","v":{"$error":"#N/A"}},{"$f":"Orders!C775/$C774","v":{"$error":"#N/A"}},{"$f":"Orders!D775/$C774","v":{"$error":"#N/A"}}]
[{"$f":"Orders!A776","v":0},{"$f":"VLOOKUP(A775,'Product-tool'!A:E,2,0)","v":{"$error":"#N/A"}},{"$f":"VLOOKUP(A775&B775,'Standard output'!A:D,4,0)","v":{"$error":"#N/A"}},{"$f":"Orders!B776/$C775","v":{"$error":"#N/A"}},{"$f":"Orders!C776/$C775","v":{"$error":"#N/A"}},{"$f":"Orders!D776/$C775","v":{"$error":"#N/A"}}]
[{"$f":"Orders!A777","v":0},{"$f":"VLOOKUP(A776,'Product-tool'!A:E,2,0)","v":{"$error":"#N/A"}},{"$f":"VLOOKUP(A776&B776,'Standard output'!A:D,4,0)","v":{"$error":"#N/A"}},{"$f":"Orders!B777/$C776","v":{"$error":"#N/A"}},{"$f":"Orders!C777/$C776","v":{"$error":"#N/A"}},{"$f":"Orders!D777/$C776","v":{"$error":"#N/A"}}]
[{"$f":"Orders!A778","v":0},{"$f":"VLOOKUP(A777,'Product-tool'!A:E,2,0)","v":{"$error":"#N/A"}},{"$f":"VLOOKUP(A777&B777,'Standard output'!A:D,4,0)","v":{"$error":"#N/A"}},{"$f":"Orders!B778/$C777","v":{"$error":"#N/A"}},{"$f":"Orders!C778/$C777","v":{"$error":"#N/A"}},{"$f":"Orders!D778/$C777","v":{"$error":"#N/A"}}]
[{"$f":"Orders!A779","v":0},{"$f":"VLOOKUP(A778,'Product-tool'!A:E,2,0)","v":{"$error":"#N/A"}},{"$f":"VLOOKUP(A778&B778,'Standard output'!A:D,4,0)","v":{"$error":"#N/A"}},{"$f":"Orders!B779/$C778","v":{"$error":"#N/A"}},{"$f":"Orders!C779/$C778","v":{"$error":"#N/A"}},{"$f":"Orders!D779/$C778","v":{"$error":"#N/A"}}]
[{"$f":"Orders!A780","v":0},{"$f":"VLOOKUP(A779,'Product-tool'!A:E,2,0)","v":{"$error":"#N/A"}},{"$f":"VLOOKUP(A779&B779,'Standard output'!A:D,4,0)","v":{"$error":"#N/A"}},{"$f":"Orders!B780/$C779","v":{"$error":"#N/A"}},{"$f":"Orders!C780/$C779","v":{"$error":"#N/A"}},{"$f":"Orders!D780/$C779","v":{"$error":"#N/A"}}]
[{"$f":"Orders!A781","v":0},{"$f":"VLOOKUP(A780,'Product-tool'!A:E,2,0)","v":{"$error":"#N/A"}},{"$f":"VLOOKUP(A780&B780,'Standard output'!A:D,4,0)","v":{"$error":"#N/A"}},{"$f":"Orders!B781/$C780","v":{"$error":"#N/A"}},{"$f":"Orders!C781/$C780","v":{"$error":"#N/A"}},{"$f":"Orders!D781/$C780","v":{"$error":"#N/A"}}]
[{"$f":"Orders!A782","v":0},{"$f":"VLOOKUP(A781,'Product-tool'!A:E,2,0)","v":{"$error":"#N/A"}},{"$f":"VLOOKUP(A781&B781,'Standard output'!A:D,4,0)","v":{"$error":"#N/A"}},{"$f":"Orders!B782/$C781","v":{"$error":"#N/A"}},{"$f":"Orders!C782/$C781","v":{"$error":"#N/A"}},{"$f":"Orders!D782/$C781","v":{"$error":"#N/A"}}]
[{"$f":"Orders!A783","v":0},{"$f":"VLOOKUP(A782,'Product-tool'!A:E,2,0)","v":{"$error":"#N/A"}},{"$f":"VLOOKUP(A782&B782,'Standard output'!A:D,4,0)","v":{"$error":"#N/A"}},{"$f":"Orders!B783/$C782","v":{"$error":"#N/A"}},{"$f":"Orders!C783/$C782","v":{"$error":"#N/A"}},{"$f":"Orders!D783/$C782","v":{"$error":"#N/A"}}]
[{"$f":"Orders!A784","v":0},{"$f":"VLOOKUP(A783,'Product-tool'!A:E,2,0)","v":{"$error":"#N/A"}},{"$f":"VLOOKUP(A783&B783,'Standard output'!A:D,4,0)","v":{"$error":"#N/A"}},{"$f":"Orders!B784/$C783","v":{"$error":"#N/A"}},{"$f":"Orders!C784/$C783","v":{"$error":"#N/A"}},{"$f":"Orders!D784/$C783","v":{"$error":"#N/A"}}]
[{"$f":"Orders!A785","v":0},{"$f":"VLOOKUP(A784,'Product-tool'!A:E,2,0)","v":{"$error":"#N/A"}},{"$f":"VLOOKUP(A784&B784,'Standard output'!A:D,4,0)","v":{"$error":"#N/A"}},{"$f":"Orders!B785/$C784","v":{"$error":"#N/A"}},{"$f":"Orders!C785/$C784","v":{"$error":"#N/A"}},{"$f":"Orders!D785/$C784","v":{"$error":"#N/A"}}]
[{"$f":"Orders!A786","v":0},{"$f":"VLOOKUP(A785,'Product-tool'!A:E,2,0)","v":{"$error":"#N/A"}},{"$f":"VLOOKUP(A785&B785,'Standard output'!A:D,4,0)","v":{"$error":"#N/A"}},{"$f":"Orders!B786/$C785","v":{"$error":"#N/A"}},{"$f":"Orders!C786/$C785","v":{"$error":"#N/A"}},{"$f":"Orders!D786/$C785","v":{"$error":"#N/A"}}]
[{"$f":"Orders!A787","v":0},{"$f":"VLOOKUP(A786,'Product-tool'!A:E,2,0)","v":{"$error":"#N/A"}},{"$f":"VLOOKUP(A786&B786,'Standard output'!A:D,4,0)","v":{"$error":"#N/A"}},{"$f":"Orders!B787/$C786","v":{"$error":"#N/A"}},{"$f":"Orders!C787/$C786","v":{"$error":"#N/A"}},{"$f":"Orders!D787/$C786","v":{"$error":"#N/A"}}]
[{"$f":"Orders!A788","v":0},{"$f":"VLOOKUP(A787,'Product-tool'!A:E,2,0)","v":{"$error":"#N/A"}},{"$f":"VLOOKUP(A787&B787,'Standard output'!A:D,4,0)","v":{"$error":"#N/A"}},{"$f":"Orders!B788/$C787","v":{"$error":"#N/A"}},{"$f":"Orders!C788/$C787","v":{"$error":"#N/A"}},{"$f":"Orders!D788/$C787","v":{"$error":"#N/A"}}]
[{"$f":"Orders!A789","v":0},{"$f":"VLOOKUP(A788,'Product-tool'!A:E,2,0)","v":{"$error":"#N/A"}},{"$f":"VLOOKUP(A788&B788,'Standard output'!A:D,4,0)","v":{"$error":"#N/A"}},{"$f":"Orders!B789/$C788","v":{"$error":"#N/A"}},{"$f":"Orders!C789/$C788","v":{"$error":"#N/A"}},{"$f":"Orders!D789/$C788","v":{"$error":"#N/A"}}]
[{"$f":"Orders!A790","v":0},{"$f":"VLOOKUP(A789,'Product-tool'!A:E,2,0)","v":{"$error":"#N/A"}},{"$f":"VLOOKUP(A789&B789,'Standard output'!A:D,4,0)","v":{"$error":"#N/A"}},{"$f":"Orders!B790/$C789","v":{"$error":"#N/A"}},{"$f":"Orders!C790/$C789","v":{"$error":"#N/A"}},{"$f":"Orders!D790/$C789","v":{"$error":"#N/A"}}]
[{"$f":"Orders!A791","v":0},{"$f":"VLOOKUP(A790,'Product-tool'!A:E,2,0)","v":{"$error":"#N/A"}},{"$f":"VLOOKUP(A790&B790,'Standard output'!A:D,4,0)","v":{"$error":"#N/A"}},{"$f":"Orders!B791/$C790","v":{"$error":"#N/A"}},{"$f":"Orders!C791/$C790","v":{"$error":"#N/A"}},{"$f":"Orders!D791/$C790","v":{"$error":"#N/A"}}]
[{"$f":"Orders!A792","v":0},{"$f":"VLOOKUP(A791,'Product-tool'!A:E,2,0)","v":{"$error":"#N/A"}},{"$f":"VLOOKUP(A791&B791,'Standard output'!A:D,4,0)","v":{"$error":"#N/A"}},{"$f":"Orders!B792/$C791","v":{"$error":"#N/A"}},{"$f":"Orders!C792/$C791","v":{"$error":"#N/A"}},{"$f":"Orders!D792/$C791","v":{"$error":"#N/A"}}]
[{"$f":"Orders!A793","v":0},{"$f":"VLOOKUP(A792,'Product-tool'!A:E,2,0)","v":{"$error":"#N/A"}},{"$f":"VLOOKUP(A792&B792,'Standard output'!A:D,4,0)","v":{"$error":"#N/A"}},{"$f":"Orders!B793/$C792","v":{"$error":"#N/A"}},{"$f":"Orders!C793/$C792","v":{"$error":"#N/A"}},{"$f":"Orders!D793/$C792","v":{"$error":"#N/A"}}]
[{"$f":"Orders!A794","v":0},{"$f":"VLOOKUP(A793,'Product-tool'!A:E,2,0)","v":{"$error":"#N/A"}},{"$f":"VLOOKUP(A793&B793,'Standard output'!A:D,4,0)","v":{"$error":"#N/A"}},{"$f":"Orders!B794/$C793","v":{"$error":"#N/A"}},{"$f":"Orders!C794/$C793","v":{"$error":"#N/A"}},{"$f":"Orders!D794/$C793","v":{"$error":"#N/A"}}]
[{"$f":"Orders!A795","v":0},{"$f":"VLOOKUP(A794,'Product-tool'!A:E,2,0)","v":{"$error":"#N/A"}},{"$f":"VLOOKUP(A794&B794,'Standard output'!A:D,4,0)","v":{"$error":"#N/A"}},{"$f":"Orders!B795/$C794","v":{"$error":"#N/A"}},{"$f":"Orders!C795/$C794","v":{"$error":"#N/A"}},{"$f":"Orders!D795/$C794","v":{"$error":"#N/A"}}]
[{"$f":"Orders!A796","v":0},{"$f":"VLOOKUP(A795,'Product-tool'!A:E,2,0)","v":{"$error":"#N/A"}},{"$f":"VLOOKUP(A795&B795,'Standard output'!A:D,4,0)","v":{"$error":"#N/A"}},{"$f":"Orders!B796/$C795","v":{"$error":"#N/A"}},{"$f":"Orders!C796/$C795","v":{"$error":"#N/A"}},{"$f":"Orders!D796/$C795","v":{"$error":"#N/A"}}]
[{"$f":"Orders!A797","v":0},{"$f":"VLOOKUP(A796,'Product-tool'!A:E,2,0)","v":{"$error":"#N/A"}},{"$f":"VLOOKUP(A796&B796,'Standard output'!A:D,4,0)","v":{"$error":"#N/A"}},{"$f":"Orders!B797/$C796","v":{"$error":"#N/A"}},{"$f":"Orders!C797/$C796","v":{"$error":"#N/A"}},{"$f":"Orders!D797/$C796","v":{"$error":"#N/A"}}]
[{"$f":"Orders!A798","v":0},{"$f":"VLOOKUP(A797,'Product-tool'!A:E,2,0)","v":{"$error":"#N/A"}},{"$f":"VLOOKUP(A797&B797,'Standard output'!A:D,4,0)","v":{"$error":"#N/A"}},{"$f":"Orders!B798/$C797","v":{"$error":"#N/A"}},{"$f":"Orders!C798/$C797","v":{"$error":"#N/A"}},{"$f":"Orders!D798/$C797","v":{"$error":"#N/A"}}]
[{"$f":"Orders!A799","v":0},{"$f":"VLOOKUP(A798,'Product-tool'!A:E,2,0)","v":{"$error":"#N/A"}},{"$f":"VLOOKUP(A798&B798,'Standard output'!A:D,4,0)","v":{"$error":"#N/A"}},{"$f":"Orders!B799/$C798","v":{"$error":"#N/A"}},{"$f":"Orders!C799/$C798","v":{"$error":"#N/A"}},{"$f":"Orders!D799/$C798","v":{"$error":"#N/A"}}]
[{"$f":"Orders!A800","v":0},{"$f":"VLOOKUP(A799,'Product-tool'!A:E,2,0)","v":{"$error":"#N/A"}},{"$f":"VLOOKUP(A799&B799,'Standard output'!A:D,4,0)","v":{"$error":"#N/A"}},{"$f":"Orders!B800/$C799","v":{"$error":"#N/A"}},{"$f":"Orders!C800/$C799","v":{"$error":"#N/A"}},{"$f":"Orders!D800/$C799","v":{"$error":"#N/A"}}]
[{"$f":"Orders!A801","v":0},{"$f":"VLOOKUP(A800,'Product-tool'!A:E,2,0)","v":{"$error":"#N/A"}},{"$f":"VLOOKUP(A800&B800,'Standard output'!A:D,4,0)","v":{"$error":"#N/A"}},{"$f":"Orders!B801/$C800","v":{"$error":"#N/A"}},{"$f":"Orders!C801/$C800","v":{"$error":"#N/A"}},{"$f":"Orders!D801/$C800","v":{"$error":"#N/A"}}]
[{"$f":"Orders!A802","v":0},{"$f":"VLOOKUP(A801,'Product-tool'!A:E,2,0)","v":{"$error":"#N/A"}},{"$f":"VLOOKUP(A801&B801,'Standard output'!A:D,4,0)","v":{"$error":"#N/A"}},{"$f":"Orders!B802/$C801","v":{"$error":"#N/A"}},{"$f":"Orders!C802/$C801","v":{"$error":"#N/A"}},{"$f":"Orders!D802/$C801","v":{"$error":"#N/A"}}]
[{"$f":"Orders!A803","v":0},{"$f":"VLOOKUP(A802,'Product-tool'!A:E,2,0)","v":{"$error":"#N/A"}},{"$f":"VLOOKUP(A802&B802,'Standard output'!A:D,4,0)","v":{"$error":"#N/A"}},{"$f":"Orders!B803/$C802","v":{"$error":"#N/A"}},{"$f":"Orders!C803/$C802","v":{"$error":"#N/A"}},{"$f":"Orders!D803/$C802","v":{"$error":"#N/A"}}]
[{"$f":"Orders!A804","v":0},{"$f":"VLOOKUP(A803,'Product-tool'!A:E,2,0)","v":{"$error":"#N/A"}},{"$f":"VLOOKUP(A803&B803,'Standard output'!A:D,4,0)","v":{"$error":"#N/A"}},{"$f":"Orders!B804/$C803","v":{"$error":"#N/A"}},{"$f":"Orders!C804/$C803","v":{"$error":"#N/A"}},{"$f":"Orders!D804/$C803","v":{"$error":"#N/A"}}]
[{"$f":"Orders!A805","v":0},{"$f":"VLOOKUP(A804,'Product-tool'!A:E,2,0)","v":{"$error":"#N/A"}},{"$f":"VLOOKUP(A804&B804,'Standard output'!A:D,4,0)","v":{"$error":"#N/A"}},{"$f":"Orders!B805/$C804","v":{"$error":"#N/A"}},{"$f":"Orders!C805/$C804","v":{"$error":"#N/A"}},{"$f":"Orders!D805/$C804","v":{"$error":"#N/A"}}]
[{"$f":"Orders!A806","v":0},{"$f":"VLOOKUP(A805,'Product-tool'!A:E,2,0)","v":{"$error":"#N/A"}},{"$f":"VLOOKUP(A805&B805,'Standard output'!A:D,4,0)","v":{"$error":"#N/A"}},{"$f":"Orders!B806/$C805","v":{"$error":"#N/A"}},{"$f":"Orders!C806/$C805","v":{"$error":"#N/A"}},{"$f":"Orders!D806/$C805","v":{"$error":"#N/A"}}]
[{"$f":"Orders!A807","v":0},{"$f":"VLOOKUP(A806,'Product-tool'!A:E,2,0)","v":{"$error":"#N/A"}},{"$f":"VLOOKUP(A806&B806,'Standard output'!A:D,4,0)","v":{"$error":"#N/A"}},{"$f":"Orders!B807/$C806","v":{"$error":"#N/A"}},{"$f":"Orders!C807/$C806","v":{"$error":"#N/A"}},{"$f":"Orders!D807/$C806","v":{"$error":"#N/A"}}]
[{"$f":"Orders!A808","v":0},{"$f":"VLOOKUP(A807,'Product-tool'!A:E,2,0)","v":{"$error":"#N/A"}},{"$f":"VLOOKUP(A807&B807,'Standard output'!A:D,4,0)","v":{"$error":"#N/A"}},{"$f":"Orders!B808/$C807","v":{"$error":"#N/A"}},{"$f":"Orders!C808/$C807","v":{"$error":"#N/A"}},{"$f":"Orders!D808/$C807","v":{"$error":"#N/A"}}]
[{"$f":"Orders!A809","v":0},{"$f":"VLOOKUP(A808,'Product-tool'!A:E,2,0)","v":{"$error":"#N/A"}},{"$f":"VLOOKUP(A808&B808,'Standard output'!A:D,4,0)","v":{"$error":"#N/A"}},{"$f":"Orders!B809/$C808","v":{"$error":"#N/A"}},{"$f":"Orders!C809/$C808","v":{"$error":"#N/A"}},{"$f":"Orders!D809/$C808","v":{"$error":"#N/A"}}]
[{"$f":"Orders!A810","v":0},{"$f":"VLOOKUP(A809,'Product-tool'!A:E,2,0)","v":{"$error":"#N/A"}},{"$f":"VLOOKUP(A809&B809,'Standard output'!A:D,4,0)","v":{"$error":"#N/A"}},{"$f":"Orders!B810/$C809","v":{"$error":"#N/A"}},{"$f":"Orders!C810/$C809","v":{"$error":"#N/A"}},{"$f":"Orders!D810/$C809","v":{"$error":"#N/A"}}]
[{"$f":"Orders!A811","v":0},{"$f":"VLOOKUP(A810,'Product-tool'!A:E,2,0)","v":{"$error":"#N/A"}},{"$f":"VLOOKUP(A810&B810,'Standard output'!A:D,4,0)","v":{"$error":"#N/A"}},{"$f":"Orders!B811/$C810","v":{"$error":"#N/A"}},{"$f":"Orders!C811/$C810","v":{"$error":"#N/A"}},{"$f":"Orders!D811/$C810","v":{"$error":"#N/A"}}]
[{"$f":"Orders!A812","v":0},{"$f":"VLOOKUP(A811,'Product-tool'!A:E,2,0)","v":{"$error":"#N/A"}},{"$f":"VLOOKUP(A811&B811,'Standard output'!A:D,4,0)","v":{"$error":"#N/A"}},{"$f":"Orders!B812/$C811","v":{"$error":"#N/A"}},{"$f":"Orders!C812/$C811","v":{"$error":"#N/A"}},{"$f":"Orders!D812/$C811","v":{"$error":"#N/A"}}]
[{"$f":"Orders!A813","v":0},{"$f":"VLOOKUP(A812,'Product-tool'!A:E,2,0)","v":{"$error":"#N/A"}},{"$f":"VLOOKUP(A812&B812,'Standard output'!A:D,4,0)","v":{"$error":"#N/A"}},{"$f":"Orders!B813/$C812","v":{"$error":"#N/A"}},{"$f":"Orders!C813/$C812","v":{"$error":"#N/A"}},{"$f":"Orders!D813/$C812","v":{"$error":"#N/A"}}]
[{"$f":"Orders!A814","v":0},{"$f":"VLOOKUP(A813,'Product-tool'!A:E,2,0)","v":{"$error":"#N/A"}},{"$f":"VLOOKUP(A813&B813,'Standard output'!A:D,4,0)","v":{"$error":"#N/A"}},{"$f":"Orders!B814/$C813","v":{"$error":"#N/A"}},{"$f":"Orders!C814/$C813","v":{"$error":"#N/A"}},{"$f":"Orders!D814/$C813","v":{"$error":"#N/A"}}]
[{"$f":"Orders!A815","v":0},{"$f":"VLOOKUP(A814,'Product-tool'!A:E,2,0)","v":{"$error":"#N/A"}},{"$f":"VLOOKUP(A814&B814,'Standard output'!A:D,4,0)","v":{"$error":"#N/A"}},{"$f":"Orders!B815/$C814","v":{"$error":"#N/A"}},{"$f":"Orders!C815/$C814","v":{"$error":"#N/A"}},{"$f":"Orders!D815/$C814","v":{"$error":"#N/A"}}]
[{"$f":"Orders!A816","v":0},{"$f":"VLOOKUP(A815,'Product-tool'!A:E,2,0)","v":{"$error":"#N/A"}},{"$f":"VLOOKUP(A815&B815,'Standard output'!A:D,4,0)","v":{"$error":"#N/A"}},{"$f":"Orders!B816/$C815","v":{"$error":"#N/A"}},{"$f":"Orders!C816/$C815","v":{"$error":"#N/A"}},{"$f":"Orders!D816/$C815","v":{"$error":"#N/A"}}]
[{"$f":"Orders!A817","v":0},{"$f":"VLOOKUP(A816,'Product-tool'!A:E,2,0)","v":{"$error":"#N/A"}},{"$f":"VLOOKUP(A816&B816,'Standard output'!A:D,4,0)","v":{"$error":"#N/A"}},{"$f":"Orders!B817/$C816","v":{"$error":"#N/A"}},{"$f":"Orders!C817/$C816","v":{"$error":"#N/A"}},{"$f":"Orders!D817/$C816","v":{"$error":"#N/A"}}]
[{"$f":"Orders!A818","v":0},{"$f":"VLOOKUP(A817,'Product-tool'!A:E,2,0)","v":{"$error":"#N/A"}},{"$f":"VLOOKUP(A817&B817,'Standard output'!A:D,4,0)","v":{"$error":"#N/A"}},{"$f":"Orders!B818/$C817","v":{"$error":"#N/A"}},{"$f":"Orders!C818/$C817","v":{"$error":"#N/A"}},{"$f":"Orders!D818/$C817","v":{"$error":"#N/A"}}]
[{"$f":"Orders!A819","v":0},{"$f":"VLOOKUP(A818,'Product-tool'!A:E,2,0)","v":{"$error":"#N/A"}},{"$f":"VLOOKUP(A818&B818,'Standard output'!A:D,4,0)","v":{"$error":"#N/A"}},{"$f":"Orders!B819/$C818","v":{"$error":"#N/A"}},{"$f":"Orders!C819/$C818","v":{"$error":"#N/A"}},{"$f":"Orders!D819/$C818","v":{"$error":"#N/A"}}]
[{"$f":"Orders!A820","v":0},{"$f":"VLOOKUP(A819,'Product-tool'!A:E,2,0)","v":{"$error":"#N/A"}},{"$f":"VLOOKUP(A819&B819,'Standard output'!A:D,4,0)","v":{"$error":"#N/A"}},{"$f":"Orders!B820/$C819","v":{"$error":"#N/A"}},{"$f":"Orders!C820/$C819","v":{"$error":"#N/A"}},{"$f":"Orders!D820/$C819","v":{"$error":"#N/A"}}]
[{"$f":"Orders!A821","v":0},{"$f":"VLOOKUP(A820,'Product-tool'!A:E,2,0)","v":{"$error":"#N/A"}},{"$f":"VLOOKUP(A820&B820,'Standard output'!A:D,4,0)","v":{"$error":"#N/A"}},{"$f":"Orders!B821/$C820","v":{"$error":"#N/A"}},{"$f":"Orders!C821/$C820","v":{"$error":"#N/A"}},{"$f":"Orders!D821/$C820","v":{"$error":"#N/A"}}]
[{"$f":"Orders!A822","v":0},{"$f":"VLOOKUP(A821,'Product-tool'!A:E,2,0)","v":{"$error":"#N/A"}},{"$f":"VLOOKUP(A821&B821,'Standard output'!A:D,4,0)","v":{"$error":"#N/A"}},{"$f":"Orders!B822/$C821","v":{"$error":"#N/A"}},{"$f":"Orders!C822/$C821","v":{"$error":"#N/A"}},{"$f":"Orders!D822/$C821","v":{"$error":"#N/A"}}]
[{"$f":"Orders!A823","v":0},{"$f":"VLOOKUP(A822,'Product-tool'!A:E,2,0)","v":{"$error":"#N/A"}},{"$f":"VLOOKUP(A822&B822,'Standard output'!A:D,4,0)","v":{"$error":"#N/A"}},{"$f":"Orders!B823/$C822","v":{"$error":"#N/A"}},{"$f":"Orders!C823/$C822","v":{"$error":"#N/A"}},{"$f":"Orders!D823/$C822","v":{"$error":"#N/A"}}]
[{"$f":"Orders!A824","v":0},{"$f":"VLOOKUP(A823,'Product-tool'!A:E,2,0)","v":{"$error":"#N/A"}},{"$f":"VLOOKUP(A823&B823,'Standard output'!A:D,4,0)","v":{"$error":"#N/A"}},{"$f":"Orders!B824/$C823","v":{"$error":"#N/A"}},{"$f":"Orders!C824/$C823","v":{"$error":"#N/A"}},{"$f":"Orders!D824/$C823","v":{"$error":"#N/A"}}]
[{"$f":"Orders!A825","v":0},{"$f":"VLOOKUP(A824,'Product-tool'!A:E,2,0)","v":{"$error":"#N/A"}},{"$f":"VLOOKUP(A824&B824,'Standard output'!A:D,4,0)","v":{"$error":"#N/A"}},{"$f":"Orders!B825/$C824","v":{"$error":"#N/A"}},{"$f":"Orders!C825/$C824","v":{"$error":"#N/A"}},{"$f":"Orders!D825/$C824","v":{"$error":"#N/A"}}]
[{"$f":"Orders!A826","v":0},{"$f":"VLOOKUP(A825,'Product-tool'!A:E,2,0)","v":{"$error":"#N/A"}},{"$f":"VLOOKUP(A825&B825,'Standard output'!A:D,4,0)","v":{"$error":"#N/A"}},{"$f":"Orders!B826/$C825","v":{"$error":"#N/A"}},{"$f":"Orders!C826/$C825","v":{"$error":"#N/A"}},{"$f":"Orders!D826/$C825","v":{"$error":"#N/A"}}]
[{"$f":"Orders!A827","v":0},{"$f":"VLOOKUP(A826,'Product-tool'!A:E,2,0)","v":{"$error":"#N/A"}},{"$f":"VLOOKUP(A826&B826,'Standard output'!A:D,4,0)","v":{"$error":"#N/A"}},{"$f":"Orders!B827/$C826","v":{"$error":"#N/A"}},{"$f":"Orders!C827/$C826","v":{"$error":"#N/A"}},{"$f":"Orders!D827/$C826","v":{"$error":"#N/A"}}]
[{"$f":"Orders!A828","v":0},{"$f":"VLOOKUP(A827,'Product-tool'!A:E,2,0)","v":{"$error":"#N/A"}},{"$f":"VLOOKUP(A827&B827,'Standard output'!A:D,4,0)","v":{"$error":"#N/A"}},{"$f":"Orders!B828/$C827","v":{"$error":"#N/A"}},{"$f":"Orders!C828/$C827","v":{"$error":"#N/A"}},{"$f":"Orders!D828/$C827","v":{"$error":"#N/A"}}]
[{"$f":"Orders!A829","v":0},{"$f":"VLOOKUP(A828,'Product-tool'!A:E,2,0)","v":{"$error":"#N/A"}},{"$f":"VLOOKUP(A828&B828,'Standard output'!A:D,4,0)","v":{"$error":"#N/A"}},{"$f":"Orders!B829/$C828","v":{"$error":"#N/A"}},{"$f":"Orders!C829/$C828","v":{"$error":"#N/A"}},{"$f":"Orders!D829/$C828","v":{"$error":"#N/A"}}]
[{"$f":"Orders!A830","v":0},{"$f":"VLOOKUP(A829,'Product-tool'!A:E,2,0)","v":{"$error":"#N/A"}},{"$f":"VLOOKUP(A829&B829,'Standard output'!A:D,4,0)","v":{"$error":"#N/A"}},{"$f":"Orders!B830/$C829","v":{"$error":"#N/A"}},{"$f":"Orders!C830/$C829","v":{"$error":"#N/A"}},{"$f":"Orders!D830/$C829","v":{"$error":"#N/A"}}]
[{"$f":"Orders!A831","v":0},{"$f":"VLOOKUP(A830,'Product-tool'!A:E,2,0)","v":{"$error":"#N/A"}},{"$f":"VLOOKUP(A830&B830,'Standard output'!A:D,4,0)","v":{"$error":"#N/A"}},{"$f":"Orders!B831/$C830","v":{"$error":"#N/A"}},{"$f":"Orders!C831/$C830","v":{"$error":"#N/A"}},{"$f":"Orders!D831/$C830","v":{"$error":"#N/A"}}]
[{"$f":"Orders!A832","v":0},{"$f":"VLOOKUP(A831,'Product-tool'!A:E,2,0)","v":{"$error":"#N/A"}},{"$f":"VLOOKUP(A831&B831,'Standard output'!A:D,4,0)","v":{"$error":"#N/A"}},{"$f":"Orders!B832/$C831","v":{"$error":"#N/A"}},{"$f":"Orders!C832/$C831","v":{"$error":"#N/A"}},{"$f":"Orders!D832/$C831","v":{"$error":"#N/A"}}]
[{"$f":"Orders!A833","v":0},{"$f":"VLOOKUP(A832,'Product-tool'!A:E,2,0)","v":{"$error":"#N/A"}},{"$f":"VLOOKUP(A832&B832,'Standard output'!A:D,4,0)","v":{"$error":"#N/A"}},{"$f":"Orders!B833/$C832","v":{"$error":"#N/A"}},{"$f":"Orders!C833/$C832","v":{"$error":"#N/A"}},{"$f":"Orders!D833/$C832","v":{"$error":"#N/A"}}]
[{"$f":"Orders!A834","v":0},{"$f":"VLOOKUP(A833,'Product-tool'!A:E,2,0)","v":{"$error":"#N/A"}},{"$f":"VLOOKUP(A833&B833,'Standard output'!A:D,4,0)","v":{"$error":"#N/A"}},{"$f":"Orders!B834/$C833","v":{"$error":"#N/A"}},{"$f":"Orders!C834/$C833","v":{"$error":"#N/A"}},{"$f":"Orders!D834/$C833","v":{"$error":"#N/A"}}]
[{"$f":"Orders!A835","v":0},{"$f":"VLOOKUP(A834,'Product-tool'!A:E,2,0)","v":{"$error":"#N/A"}},{"$f":"VLOOKUP(A834&B834,'Standard output'!A:D,4,0)","v":{"$error":"#N/A"}},{"$f":"Orders!B835/$C834","v":{"$error":"#N/A"}},{"$f":"Orders!C835/$C834","v":{"$error":"#N/A"}},{"$f":"Orders!D835/$C834","v":{"$error":"#N/A"}}]
[{"$f":"Orders!A836","v":0},{"$f":"VLOOKUP(A835,'Product-tool'!A:E,2,0)","v":{"$error":"#N/A"}},{"$f":"VLOOKUP(A835&B835,'Standard output'!A:D,4,0)","v":{"$error":"#N/A"}},{"$f":"Orders!B836/$C835","v":{"$error":"#N/A"}},{"$f":"Orders!C836/$C835","v":{"$error":"#N/A"}},{"$f":"Orders!D836/$C835","v":{"$error":"#N/A"}}]
[{"$f":"Orders!A837","v":0},{"$f":"VLOOKUP(A836,'Product-tool'!A:E,2,0)","v":{"$error":"#N/A"}},{"$f":"VLOOKUP(A836&B836,'Standard output'!A:D,4,0)","v":{"$error":"#N/A"}},{"$f":"Orders!B837/$C836","v":{"$error":"#N/A"}},{"$f":"Orders!C837/$C836","v":{"$error":"#N/A"}},{"$f":"Orders!D837/$C836","v":{"$error":"#N/A"}}]
[{"$f":"Orders!A838","v":0},{"$f":"VLOOKUP(A837,'Product-tool'!A:E,2,0)","v":{"$error":"#N/A"}},{"$f":"VLOOKUP(A837&B837,'Standard output'!A:D,4,0)","v":{"$error":"#N/A"}},{"$f":"Orders!B838/$C837","v":{"$error":"#N/A"}},{"$f":"Orders!C838/$C837","v":{"$error":"#N/A"}},{"$f":"Orders!D838/$C837","v":{"$error":"#N/A"}}]
[{"$f":"Orders!A839","v":0},{"$f":"VLOOKUP(A838,'Product-tool'!A:E,2,0)","v":{"$error":"#N/A"}},{"$f":"VLOOKUP(A838&B838,'Standard output'!A:D,4,0)","v":{"$error":"#N/A"}},{"$f":"Orders!B839/$C838","v":{"$error":"#N/A"}},{"$f":"Orders!C839/$C838","v":{"$error":"#N/A"}},{"$f":"Orders!D839/$C838","v":{"$error":"#N/A"}}]
[{"$f":"Orders!A840","v":0},{"$f":"VLOOKUP(A839,'Product-tool'!A:E,2,0)","v":{"$error":"#N/A"}},{"$f":"VLOOKUP(A839&B839,'Standard output'!A:D,4,0)","v":{"$error":"#N/A"}},{"$f":"Orders!B840/$C839","v":{"$error":"#N/A"}},{"$f":"Orders!C840/$C839","v":{"$error":"#N/A"}},{"$f":"Orders!D840/$C839","v":{"$error":"#N/A"}}]
[{"$f":"Orders!A841","v":0},{"$f":"VLOOKUP(A840,'Product-tool'!A:E,2,0)","v":{"$error":"#N/A"}},{"$f":"VLOOKUP(A840&B840,'Standard output'!A:D,4,0)","v":{"$error":"#N/A"}},{"$f":"Orders!B841/$C840","v":{"$error":"#N/A"}},{"$f":"Orders!C841/$C840","v":{"$error":"#N/A"}},{"$f":"Orders!D841/$C840","v":{"$error":"#N/A"}}]
[{"$f":"Orders!A842","v":0},{"$f":"VLOOKUP(A841,'Product-tool'!A:E,2,0)","v":{"$error":"#N/A"}},{"$f":"VLOOKUP(A841&B841,'Standard output'!A:D,4,0)","v":{"$error":"#N/A"}},{"$f":"Orders!B842/$C841","v":{"$error":"#N/A"}},{"$f":"Orders!C842/$C841","v":{"$error":"#N/A"}},{"$f":"Orders!D842/$C841","v":{"$error":"#N/A"}}]
[{"$f":"Orders!A843","v":0},{"$f":"VLOOKUP(A842,'Product-tool'!A:E,2,0)","v":{"$error":"#N/A"}},{"$f":"VLOOKUP(A842&B842,'Standard output'!A:D,4,0)","v":{"$error":"#N/A"}},{"$f":"Orders!B843/$C842","v":{"$error":"#N/A"}},{"$f":"Orders!C843/$C842","v":{"$error":"#N/A"}},{"$f":"Orders!D843/$C842","v":{"$error":"#N/A"}}]
[{"$f":"Orders!A844","v":0},{"$f":"VLOOKUP(A843,'Product-tool'!A:E,2,0)","v":{"$error":"#N/A"}},{"$f":"VLOOKUP(A843&B843,'Standard output'!A:D,4,0)","v":{"$error":"#N/A"}},{"$f":"Orders!B844/$C843","v":{"$error":"#N/A"}},{"$f":"Orders!C844/$C843","v":{"$error":"#N/A"}},{"$f":"Orders!D844/$C843","v":{"$error":"#N/A"}}]
[{"$f":"Orders!A845","v":0},{"$f":"VLOOKUP(A844,'Product-tool'!A:E,2,0)","v":{"$error":"#N/A"}},{"$f":"VLOOKUP(A844&B844,'Standard output'!A:D,4,0)","v":{"$error":"#N/A"}},{"$f":"Orders!B845/$C844","v":{"$error":"#N/A"}},{"$f":"Orders!C845/$C844","v":{"$error":"#N/A"}},{"$f":"Orders!D845/$C844","v":{"$error":"#N/A"}}]
[{"$f":"Orders!A846","v":0},{"$f":"VLOOKUP(A845,'Product-tool'!A:E,2,0)","v":{"$error":"#N/A"}},{"$f":"VLOOKUP(A845&B845,'Standard output'!A:D,4,0)","v":{"$error":"#N/A"}},{"$f":"Orders!B846/$C845","v":{"$error":"#N/A"}},{"$f":"Orders!C846/$C845","v":{"$error":"#N/A"}},{"$f":"Orders!D846/$C845","v":{"$error":"#N/A"}}]
[{"$f":"Orders!A847","v":0},{"$f":"VLOOKUP(A846,'Product-tool'!A:E,2,0)","v":{"$error":"#N/A"}},{"$f":"VLOOKUP(A846&B846,'Standard output'!A:D,4,0)","v":{"$error":"#N/A"}},{"$f":"Orders!B847/$C846","v":{"$error":"#N/A"}},{"$f":"Orders!C847/$C846","v":{"$error":"#N/A"}},{"$f":"Orders!D847/$C846","v":{"$error":"#N/A"}}]
[{"$f":"Orders!A848","v":0},{"$f":"VLOOKUP(A847,'Product-tool'!A:E,2,0)","v":{"$error":"#N/A"}},{"$f":"VLOOKUP(A847&B847,'Standard output'!A:D,4,0)","v":{"$error":"#N/A"}},{"$f":"Orders!B848/$C847","v":{"$error":"#N/A"}},{"$f":"Orders!C848/$C847","v":{"$error":"#N/A"}},{"$f":"Orders!D848/$C847","v":{"$error":"#N/A"}}]
[{"$f":"Orders!A849","v":0},{"$f":"VLOOKUP(A848,'Product-tool'!A:E,2,0)","v":{"$error":"#N/A"}},{"$f":"VLOOKUP(A848&B848,'Standard output'!A:D,4,0)","v":{"$error":"#N/A"}},{"$f":"Orders!B849/$C848","v":{"$error":"#N/A"}},{"$f":"Orders!C849/$C848","v":{"$error":"#N/A"}},{"$f":"Orders!D849/$C848","v":{"$error":"#N/A"}}]
[{"$f":"Orders!A850","v":0},{"$f":"VLOOKUP(A849,'Product-tool'!A:E,2,0)","v":{"$error":"#N/A"}},{"$f":"VLOOKUP(A849&B849,'Standard output'!A:D,4,0)","v":{"$error":"#N/A"}},{"$f":"Orders!B850/$C849","v":{"$error":"#N/A"}},{"$f":"Orders!C850/$C849","v":{"$error":"#N/A"}},{"$f":"Orders!D850/$C849","v":{"$error":"#N/A"}}]
[{"$f":"Orders!A851","v":0},{"$f":"VLOOKUP(A850,'Product-tool'!A:E,2,0)","v":{"$error":"#N/A"}},{"$f":"VLOOKUP(A850&B850,'Standard output'!A:D,4,0)","v":{"$error":"#N/A"}},{"$f":"Orders!B851/$C850","v":{"$error":"#N/A"}},{"$f":"Orders!C851/$C850","v":{"$error":"#N/A"}},{"$f":"Orders!D851/$C850","v":{"$error":"#N/A"}}]
[{"$f":"Orders!A852","v":0},{"$f":"VLOOKUP(A851,'Product-tool'!A:E,2,0)","v":{"$error":"#N/A"}},{"$f":"VLOOKUP(A851&B851,'Standard output'!A:D,4,0)","v":{"$error":"#N/A"}},{"$f":"Orders!B852/$C851","v":{"$error":"#N/A"}},{"$f":"Orders!C852/$C851","v":{"$error":"#N/A"}},{"$f":"Orders!D852/$C851","v":{"$error":"#N/A"}}]
[{"$f":"Orders!A853","v":0},{"$f":"VLOOKUP(A852,'Product-tool'!A:E,2,0)","v":{"$error":"#N/A"}},{"$f":"VLOOKUP(A852&B852,'Standard output'!A:D,4,0)","v":{"$error":"#N/A"}},{"$f":"Orders!B853/$C852","v":{"$error":"#N/A"}},{"$f":"Orders!C853/$C852","v":{"$error":"#N/A"}},{"$f":"Orders!D853/$C852","v":{"$error":"#N/A"}}]
[{"$f":"Orders!A854","v":0},{"$f":"VLOOKUP(A853,'Product-tool'!A:E,2,0)","v":{"$error":"#N/A"}},{"$f":"VLOOKUP(A853&B853,'Standard output'!A:D,4,0)","v":{"$error":"#N/A"}},{"$f":"Orders!B854/$C853","v":{"$error":"#N/A"}},{"$f":"Orders!C854/$C853","v":{"$error":"#N/A"}},{"$f":"Orders!D854/$C853","v":{"$error":"#N/A"}}]
[{"$f":"Orders!A855","v":0},{"$f":"VLOOKUP(A854,'Product-tool'!A:E,2,0)","v":{"$error":"#N/A"}},{"$f":"VLOOKUP(A854&B854,'Standard output'!A:D,4,0)","v":{"$error":"#N/A"}},{"$f":"Orders!B855/$C854","v":{"$error":"#N/A"}},{"$f":"Orders!C855/$C854","v":{"$error":"#N/A"}},{"$f":"Orders!D855/$C854","v":{"$error":"#N/A"}}]
[{"$f":"Orders!A856","v":0},{"$f":"VLOOKUP(A855,'Product-tool'!A:E,2,0)","v":{"$error":"#N/A"}},{"$f":"VLOOKUP(A855&B855,'Standard output'!A:D,4,0)","v":{"$error":"#N/A"}},{"$f":"Orders!B856/$C855","v":{"$error":"#N/A"}},{"$f":"Orders!C856/$C855","v":{"$error":"#N/A"}},{"$f":"Orders!D856/$C855","v":{"$error":"#N/A"}}]
[{"$f":"Orders!A857","v":0},{"$f":"VLOOKUP(A856,'Product-tool'!A:E,2,0)","v":{"$error":"#N/A"}},{"$f":"VLOOKUP(A856&B856,'Standard output'!A:D,4,0)","v":{"$error":"#N/A"}},{"$f":"Orders!B857/$C856","v":{"$error":"#N/A"}},{"$f":"Orders!C857/$C856","v":{"$error":"#N/A"}},{"$f":"Orders!D857/$C856","v":{"$error":"#N/A"}}]
[{"$f":"Orders!A858","v":0},{"$f":"VLOOKUP(A857,'Product-tool'!A:E,2,0)","v":{"$error":"#N/A"}},{"$f":"VLOOKUP(A857&B857,'Standard output'!A:D,4,0)","v":{"$error":"#N/A"}},{"$f":"Orders!B858/$C857","v":{"$error":"#N/A"}},{"$f":"Orders!C858/$C857","v":{"$error":"#N/A"}},{"$f":"Orders!D858/$C857","v":{"$error":"#N/A"}}]
[{"$f":"Orders!A859","v":0},{"$f":"VLOOKUP(A858,'Product-tool'!A:E,2,0)","v":{"$error":"#N/A"}},{"$f":"VLOOKUP(A858&B858,'Standard output'!A:D,4,0)","v":{"$error":"#N/A"}},{"$f":"Orders!B859/$C858","v":{"$error":"#N/A"}},{"$f":"Orders!C859/$C858","v":{"$error":"#N/A"}},{"$f":"Orders!D859/$C858","v":{"$error":"#N/A"}}]
[{"$f":"Orders!A860","v":0},{"$f":"VLOOKUP(A859,'Product-tool'!A:E,2,0)","v":{"$error":"#N/A"}},{"$f":"VLOOKUP(A859&B859,'Standard output'!A:D,4,0)","v":{"$error":"#N/A"}},{"$f":"Orders!B860/$C859","v":{"$error":"#N/A"}},{"$f":"Orders!C860/$C859","v":{"$error":"#N/A"}},{"$f":"Orders!D860/$C859","v":{"$error":"#N/A"}}]
[{"$f":"Orders!A861","v":0},{"$f":"VLOOKUP(A860,'Product-tool'!A:E,2,0)","v":{"$error":"#N/A"}},{"$f":"VLOOKUP(A860&B860,'Standard output'!A:D,4,0)","v":{"$error":"#N/A"}},{"$f":"Orders!B861/$C860","v":{"$error":"#N/A"}},{"$f":"Orders!C861/$C860","v":{"$error":"#N/A"}},{"$f":"Orders!D861/$C860","v":{"$error":"#N/A"}}]
[{"$f":"Orders!A862","v":0},{"$f":"VLOOKUP(A861,'Product-tool'!A:E,2,0)","v":{"$error":"#N/A"}},{"$f":"VLOOKUP(A861&B861,'Standard output'!A:D,4,0)","v":{"$error":"#N/A"}},{"$f":"Orders!B862/$C861","v":{"$error":"#N/A"}},{"$f":"Orders!C862/$C861","v":{"$error":"#N/A"}},{"$f":"Orders!D862/$C861","v":{"$error":"#N/A"}}]
[{"$f":"Orders!A863","v":0},{"$f":"VLOOKUP(A862,'Product-tool'!A:E,2,0)","v":{"$error":"#N/A"}},{"$f":"VLOOKUP(A862&B862,'Standard output'!A:D,4,0)","v":{"$error":"#N/A"}},{"$f":"Orders!B863/$C862","v":{"$error":"#N/A"}},{"$f":"Orders!C863/$C862","v":{"$error":"#N/A"}},{"$f":"Orders!D863/$C862","v":{"$error":"#N/A"}}]
[{"$f":"Orders!A864","v":0},{"$f":"VLOOKUP(A863,'Product-tool'!A:E,2,0)","v":{"$error":"#N/A"}},{"$f":"VLOOKUP(A863&B863,'Standard output'!A:D,4,0)","v":{"$error":"#N/A"}},{"$f":"Orders!B864/$C863","v":{"$error":"#N/A"}},{"$f":"Orders!C864/$C863","v":{"$error":"#N/A"}},{"$f":"Orders!D864/$C863","v":{"$error":"#N/A"}}]
[{"$f":"Orders!A865","v":0},{"$f":"VLOOKUP(A864,'Product-tool'!A:E,2,0)","v":{"$error":"#N/A"}},{"$f":"VLOOKUP(A864&B864,'Standard output'!A:D,4,0)","v":{"$error":"#N/A"}},{"$f":"Orders!B865/$C864","v":{"$error":"#N/A"}},{"$f":"Orders!C865/$C864","v":{"$error":"#N/A"}},{"$f":"Orders!D865/$C864","v":{"$error":"#N/A"}}]
[{"$f":"Orders!A866","v":0},{"$f":"VLOOKUP(A865,'Product-tool'!A:E,2,0)","v":{"$error":"#N/A"}},{"$f":"VLOOKUP(A865&B865,'Standard output'!A:D,4,0)","v":{"$error":"#N/A"}},{"$f":"Orders!B866/$C865","v":{"$error":"#N/A"}},{"$f":"Orders!C866/$C865","v":{"$error":"#N/A"}},{"$f":"Orders!D866/$C865","v":{"$error":"#N/A"}}]
[{"$f":"Orders!A867","v":0},{"$f":"VLOOKUP(A866,'Product-tool'!A:E,2,0)","v":{"$error":"#N/A"}},{"$f":"VLOOKUP(A866&B866,'Standard output'!A:D,4,0)","v":{"$error":"#N/A"}},{"$f":"Orders!B867/$C866","v":{"$error":"#N/A"}},{"$f":"Orders!C867/$C866","v":{"$error":"#N/A"}},{"$f":"Orders!D867/$C866","v":{"$error":"#N/A"}}]
[{"$f":"Orders!A868","v":0},{"$f":"VLOOKUP(A867,'Product-tool'!A:E,2,0)","v":{"$error":"#N/A"}},{"$f":"VLOOKUP(A867&B867,'Standard output'!A:D,4,0)","v":{"$error":"#N/A"}},{"$f":"Orders!B868/$C867","v":{"$error":"#N/A"}},{"$f":"Orders!C868/$C867","v":{"$error":"#N/A"}},{"$f":"Orders!D868/$C867","v":{"$error":"#N/A"}}]
[{"$f":"Orders!A869","v":0},{"$f":"VLOOKUP(A868,'Product-tool'!A:E,2,0)","v":{"$error":"#N/A"}},{"$f":"VLOOKUP(A868&B868,'Standard output'!A:D,4,0)","v":{"$error":"#N/A"}},{"$f":"Orders!B869/$C868","v":{"$error":"#N/A"}},{"$f":"Orders!C869/$C868","v":{"$error":"#N/A"}},{"$f":"Orders!D869/$C868","v":{"$error":"#N/A"}}]
[{"$f":"Orders!A870","v":0},{"$f":"VLOOKUP(A869,'Product-tool'!A:E,2,0)","v":{"$error":"#N/A"}},{"$f":"VLOOKUP(A869&B869,'Standard output'!A:D,4,0)","v":{"$error":"#N/A"}},{"$f":"Orders!B870/$C869","v":{"$error":"#N/A"}},{"$f":"Orders!C870/$C869","v":{"$error":"#N/A"}},{"$f":"Orders!D870/$C869","v":{"$error":"#N/A"}}]
[{"$f":"Orders!A871","v":0},{"$f":"VLOOKUP(A870,'Product-tool'!A:E,2,0)","v":{"$error":"#N/A"}},{"$f":"VLOOKUP(A870&B870,'Standard output'!A:D,4,0)","v":{"$error":"#N/A"}},{"$f":"Orders!B871/$C870","v":{"$error":"#N/A"}},{"$f":"Orders!C871/$C870","v":{"$error":"#N/A"}},{"$f":"Orders!D871/$C870","v":{"$error":"#N/A"}}]
[{"$f":"Orders!A872","v":0},{"$f":"VLOOKUP(A871,'Product-tool'!A:E,2,0)","v":{"$error":"#N/A"}},{"$f":"VLOOKUP(A871&B871,'Standard output'!A:D,4,0)","v":{"$error":"#N/A"}},{"$f":"Orders!B872/$C871","v":{"$error":"#N/A"}},{"$f":"Orders!C872/$C871","v":{"$error":"#N/A"}},{"$f":"Orders!D872/$C871","v":{"$error":"#N/A"}}]
[{"$f":"Orders!A873","v":0},{"$f":"VLOOKUP(A872,'Product-tool'!A:E,2,0)","v":{"$error":"#N/A"}},{"$f":"VLOOKUP(A872&B872,'Standard output'!A:D,4,0)","v":{"$error":"#N/A"}},{"$f":"Orders!B873/$C872","v":{"$error":"#N/A"}},{"$f":"Orders!C873/$C872","v":{"$error":"#N/A"}},{"$f":"Orders!D873/$C872","v":{"$error":"#N/A"}}]
[{"$f":"Orders!A874","v":0},{"$f":"VLOOKUP(A873,'Product-tool'!A:E,2,0)","v":{"$error":"#N/A"}},{"$f":"VLOOKUP(A873&B873,'Standard output'!A:D,4,0)","v":{"$error":"#N/A"}},{"$f":"Orders!B874/$C873","v":{"$error":"#N/A"}},{"$f":"Orders!C874/$C873","v":{"$error":"#N/A"}},{"$f":"Orders!D874/$C873","v":{"$error":"#N/A"}}]
[{"$f":"Orders!A875","v":0},{"$f":"VLOOKUP(A874,'Product-tool'!A:E,2,0)","v":{"$error":"#N/A"}},{"$f":"VLOOKUP(A874&B874,'Standard output'!A:D,4,0)","v":{"$error":"#N/A"}},{"$f":"Orders!B875/$C874","v":{"$error":"#N/A"}},{"$f":"Orders!C875/$C874","v":{"$error":"#N/A"}},{"$f":"Orders!D875/$C874","v":{"$error":"#N/A"}}]
[{"$f":"Orders!A876","v":0},{"$f":"VLOOKUP(A875,'Product-tool'!A:E,2,0)","v":{"$error":"#N/A"}},{"$f":"VLOOKUP(A875&B875,'Standard output'!A:D,4,0)","v":{"$error":"#N/A"}},{"$f":"Orders!B876/$C875","v":{"$error":"#N/A"}},{"$f":"Orders!C876/$C875","v":{"$error":"#N/A"}},{"$f":"Orders!D876/$C875","v":{"$error":"#N/A"}}]
[{"$f":"Orders!A877","v":0},{"$f":"VLOOKUP(A876,'Product-tool'!A:E,2,0)","v":{"$error":"#N/A"}},{"$f":"VLOOKUP(A876&B876,'Standard output'!A:D,4,0)","v":{"$error":"#N/A"}},{"$f":"Orders!B877/$C876","v":{"$error":"#N/A"}},{"$f":"Orders!C877/$C876","v":{"$error":"#N/A"}},{"$f":"Orders!D877/$C876","v":{"$error":"#N/A"}}]
[{"$f":"Orders!A878","v":0},{"$f":"VLOOKUP(A877,'Product-tool'!A:E,2,0)","v":{"$error":"#N/A"}},{"$f":"VLOOKUP(A877&B877,'Standard output'!A:D,4,0)","v":{"$error":"#N/A"}},{"$f":"Orders!B878/$C877","v":{"$error":"#N/A"}},{"$f":"Orders!C878/$C877","v":{"$error":"#N/A"}},{"$f":"Orders!D878/$C877","v":{"$error":"#N/A"}}]
[{"$f":"Orders!A879","v":0},{"$f":"VLOOKUP(A878,'Product-tool'!A:E,2,0)","v":{"$error":"#N/A"}},{"$f":"VLOOKUP(A878&B878,'Standard output'!A:D,4,0)","v":{"$error":"#N/A"}},{"$f":"Orders!B879/$C878","v":{"$error":"#N/A"}},{"$f":"Orders!C879/$C878","v":{"$error":"#N/A"}},{"$f":"Orders!D879/$C878","v":{"$error":"#N/A"}}]
[{"$f":"Orders!A880","v":0},{"$f":"VLOOKUP(A879,'Product-tool'!A:E,2,0)","v":{"$error":"#N/A"}},{"$f":"VLOOKUP(A879&B879,'Standard output'!A:D,4,0)","v":{"$error":"#N/A"}},{"$f":"Orders!B880/$C879","v":{"$error":"#N/A"}},{"$f":"Orders!C880/$C879","v":{"$error":"#N/A"}},{"$f":"Orders!D880/$C879","v":{"$error":"#N/A"}}]
[{"$f":"Orders!A881","v":0},{"$f":"VLOOKUP(A880,'Product-tool'!A:E,2,0)","v":{"$error":"#N/A"}},{"$f":"VLOOKUP(A880&B880,'Standard output'!A:D,4,0)","v":{"$error":"#N/A"}},{"$f":"Orders!B881/$C880","v":{"$error":"#N/A"}},{"$f":"Orders!C881/$C880","v":{"$error":"#N/A"}},{"$f":"Orders!D881/$C880","v":{"$error":"#N/A"}}]
[{"$f":"Orders!A882","v":0},{"$f":"VLOOKUP(A881,'Product-tool'!A:E,2,0)","v":{"$error":"#N/A"}},{"$f":"VLOOKUP(A881&B881,'Standard output'!A:D,4,0)","v":{"$error":"#N/A"}},{"$f":"Orders!B882/$C881","v":{"$error":"#N/A"}},{"$f":"Orders!C882/$C881","v":{"$error":"#N/A"}},{"$f":"Orders!D882/$C881","v":{"$error":"#N/A"}}]
[{"$f":"Orders!A883","v":0},{"$f":"VLOOKUP(A882,'Product-tool'!A:E,2,0)","v":{"$error":"#N/A"}},{"$f":"VLOOKUP(A882&B882,'Standard output'!A:D,4,0)","v":{"$error":"#N/A"}},{"$f":"Orders!B883/$C882","v":{"$error":"#N/A"}},{"$f":"Orders!C883/$C882","v":{"$error":"#N/A"}},{"$f":"Orders!D883/$C882","v":{"$error":"#N/A"}}]
[{"$f":"Orders!A884","v":0},{"$f":"VLOOKUP(A883,'Product-tool'!A:E,2,0)","v":{"$error":"#N/A"}},{"$f":"VLOOKUP(A883&B883,'Standard output'!A:D,4,0)","v":{"$error":"#N/A"}},{"$f":"Orders!B884/$C883","v":{"$error":"#N/A"}},{"$f":"Orders!C884/$C883","v":{"$error":"#N/A"}},{"$f":"Orders!D884/$C883","v":{"$error":"#N/A"}}]
[{"$f":"Orders!A885","v":0},{"$f":"VLOOKUP(A884,'Product-tool'!A:E,2,0)","v":{"$error":"#N/A"}},{"$f":"VLOOKUP(A884&B884,'Standard output'!A:D,4,0)","v":{"$error":"#N/A"}},{"$f":"Orders!B885/$C884","v":{"$error":"#N/A"}},{"$f":"Orders!C885/$C884","v":{"$error":"#N/A"}},{"$f":"Orders!D885/$C884","v":{"$error":"#N/A"}}]
[{"$f":"Orders!A886","v":0},{"$f":"VLOOKUP(A885,'Product-tool'!A:E,2,0)","v":{"$error":"#N/A"}},{"$f":"VLOOKUP(A885&B885,'Standard output'!A:D,4,0)","v":{"$error":"#N/A"}},{"$f":"Orders!B886/$C885","v":{"$error":"#N/A"}},{"$f":"Orders!C886/$C885","v":{"$error":"#N/A"}},{"$f":"Orders!D886/$C885","v":{"$error":"#N/A"}}]
[{"$f":"Orders!A887","v":0},{"$f":"VLOOKUP(A886,'Product-tool'!A:E,2,0)","v":{"$error":"#N/A"}},{"$f":"VLOOKUP(A886&B886,'Standard output'!A:D,4,0)","v":{"$error":"#N/A"}},{"$f":"Orders!B887/$C886","v":{"$error":"#N/A"}},{"$f":"Orders!C887/$C886","v":{"$error":"#N/A"}},{"$f":"Orders!D887/$C886","v":{"$error":"#N/A"}}]
[{"$f":"Orders!A888","v":0},{"$f":"VLOOKUP(A887,'Product-tool'!A:E,2,0)","v":{"$error":"#N/A"}},{"$f":"VLOOKUP(A887&B887,'Standard output'!A:D,4,0)","v":{"$error":"#N/A"}},{"$f":"Orders!B888/$C887","v":{"$error":"#N/A"}},{"$f":"Orders!C888/$C887","v":{"$error":"#N/A"}},{"$f":"Orders!D888/$C887","v":{"$error":"#N/A"}}]
[{"$f":"Orders!A889","v":0},{"$f":"VLOOKUP(A888,'Product-tool'!A:E,2,0)","v":{"$error":"#N/A"}},{"$f":"VLOOKUP(A888&B888,'Standard output'!A:D,4,0)","v":{"$error":"#N/A"}},{"$f":"Orders!B889/$C888","v":{"$error":"#N/A"}},{"$f":"Orders!C889/$C888","v":{"$error":"#N/A"}},{"$f":"Orders!D889/$C888","v":{"$error":"#N/A"}}]
[{"$f":"Orders!A890","v":0},{"$f":"VLOOKUP(A889,'Product-tool'!A:E,2,0)","v":{"$error":"#N/A"}},{"$f":"VLOOKUP(A889&B889,'Standard output'!A:D,4,0)","v":{"$error":"#N/A"}},{"$f":"Orders!B890/$C889","v":{"$error":"#N/A"}},{"$f":"Orders!C890/$C889","v":{"$error":"#N/A"}},{"$f":"Orders!D890/$C889","v":{"$error":"#N/A"}}]
[{"$f":"Orders!A891","v":0},{"$f":"VLOOKUP(A890,'Product-tool'!A:E,2,0)","v":{"$error":"#N/A"}},{"$f":"VLOOKUP(A890&B890,'Standard output'!A:D,4,0)","v":{"$error":"#N/A"}},{"$f":"Orders!B891/$C890","v":{"$error":"#N/A"}},{"$f":"Orders!C891/$C890","v":{"$error":"#N/A"}},{"$f":"Orders!D891/$C890","v":{"$error":"#N/A"}}]
[{"$f":"Orders!A892","v":0},{"$f":"VLOOKUP(A891,'Product-tool'!A:E,2,0)","v":{"$error":"#N/A"}},{"$f":"VLOOKUP(A891&B891,'Standard output'!A:D,4,0)","v":{"$error":"#N/A"}},{"$f":"Orders!B892/$C891","v":{"$error":"#N/A"}},{"$f":"Orders!C892/$C891","v":{"$error":"#N/A"}},{"$f":"Orders!D892/$C891","v":{"$error":"#N/A"}}]
[{"$f":"Orders!A893","v":0},{"$f":"VLOOKUP(A892,'Product-tool'!A:E,2,0)","v":{"$error":"#N/A"}},{"$f":"VLOOKUP(A892&B892,'Standard output'!A:D,4,0)","v":{"$error":"#N/A"}},{"$f":"Orders!B893/$C892","v":{"$error":"#N/A"}},{"$f":"Orders!C893/$C892","v":{"$error":"#N/A"}},{"$f":"Orders!D893/$C892","v":{"$error":"#N/A"}}]
[{"$f":"Orders!A894","v":0},{"$f":"VLOOKUP(A893,'Product-tool'!A:E,2,0)","v":{"$error":"#N/A"}},{"$f":"VLOOKUP(A893&B893,'Standard output'!A:D,4,0)","v":{"$error":"#N/A"}},{"$f":"Orders!B894/$C893","v":{"$error":"#N/A"}},{"$f":"Orders!C894/$C893","v":{"$error":"#N/A"}},{"$f":"Orders!D894/$C893","v":{"$error":"#N/A"}}]
[{"$f":"Orders!A895","v":0},{"$f":"VLOOKUP(A894,'Product-tool'!A:E,2,0)","v":{"$error":"#N/A"}},{"$f":"VLOOKUP(A894&B894,'Standard output'!A:D,4,0)","v":{"$error":"#N/A"}},{"$f":"Orders!B895/$C894","v":{"$error":"#N/A"}},{"$f":"Orders!C895/$C894","v":{"$error":"#N/A"}},{"$f":"Orders!D895/$C894","v":{"$error":"#N/A"}}]
[{"$f":"Orders!A896","v":0},{"$f":"VLOOKUP(A895,'Product-tool'!A:E,2,0)","v":{"$error":"#N/A"}},{"$f":"VLOOKUP(A895&B895,'Standard output'!A:D,4,0)","v":{"$error":"#N/A"}},{"$f":"Orders!B896/$C895","v":{"$error":"#N/A"}},{"$f":"Orders!C896/$C895","v":{"$error":"#N/A"}},{"$f":"Orders!D896/$C895","v":{"$error":"#N/A"}}]
[{"$f":"Orders!A897","v":0},{"$f":"VLOOKUP(A896,'Product-tool'!A:E,2,0)","v":{"$error":"#N/A"}},{"$f":"VLOOKUP(A896&B896,'Standard output'!A:D,4,0)","v":{"$error":"#N/A"}},{"$f":"Orders!B897/$C896","v":{"$error":"#N/A"}},{"$f":"Orders!C897/$C896","v":{"$error":"#N/A"}},{"$f":"Orders!D897/$C896","v":{"$error":"#N/A"}}]
[{"$f":"Orders!A898","v":0},{"$f":"VLOOKUP(A897,'Product-tool'!A:E,2,0)","v":{"$error":"#N/A"}},{"$f":"VLOOKUP(A897&B897,'Standard output'!A:D,4,0)","v":{"$error":"#N/A"}},{"$f":"Orders!B898/$C897","v":{"$error":"#N/A"}},{"$f":"Orders!C898/$C897","v":{"$error":"#N/A"}},{"$f":"Orders!D898/$C897","v":{"$error":"#N/A"}}]
[{"$f":"Orders!A899","v":0},{"$f":"VLOOKUP(A898,'Product-tool'!A:E,2,0)","v":{"$error":"#N/A"}},{"$f":"VLOOKUP(A898&B898,'Standard output'!A:D,4,0)","v":{"$error":"#N/A"}},{"$f":"Orders!B899/$C898","v":{"$error":"#N/A"}},{"$f":"Orders!C899/$C898","v":{"$error":"#N/A"}},{"$f":"Orders!D899/$C898","v":{"$error":"#N/A"}}]
[{"$f":"Orders!A900","v":0},{"$f":"VLOOKUP(A899,'Product-tool'!A:E,2,0)","v":{"$error":"#N/A"}},{"$f":"VLOOKUP(A899&B899,'Standard output'!A:D,4,0)","v":{"$error":"#N/A"}},{"$f":"Orders!B900/$C899","v":{"$error":"#N/A"}},{"$f":"Orders!C900/$C899","v":{"$error":"#N/A"}},{"$f":"Orders!D900/$C899","v":{"$error":"#N/A"}}]
[{"$f":"Orders!A901","v":0},{"$f":"VLOOKUP(A900,'Product-tool'!A:E,2,0)","v":{"$error":"#N/A"}},{"$f":"VLOOKUP(A900&B900,'Standard output'!A:D,4,0)","v":{"$error":"#N/A"}},{"$f":"Orders!B901/$C900","v":{"$error":"#N/A"}},{"$f":"Orders!C901/$C900","v":{"$error":"#N/A"}},{"$f":"Orders!D901/$C900","v":{"$error":"#N/A"}}]
[{"$f":"Orders!A902","v":0},{"$f":"VLOOKUP(A901,'Product-tool'!A:E,2,0)","v":{"$error":"#N/A"}},{"$f":"VLOOKUP(A901&B901,'Standard output'!A:D,4,0)","v":{"$error":"#N/A"}},{"$f":"Orders!B902/$C901","v":{"$error":"#N/A"}},{"$f":"Orders!C902/$C901","v":{"$error":"#N/A"}},{"$f":"Orders!D902/$C901","v":{"$error":"#N/A"}}]
[{"$f":"Orders!A903","v":0},{"$f":"VLOOKUP(A902,'Product-tool'!A:E,2,0)","v":{"$error":"#N/A"}},{"$f":"VLOOKUP(A902&B902,'Standard output'!A:D,4,0)","v":{"$error":"#N/A"}},{"$f":"Orders!B903/$C902","v":{"$error":"#N/A"}},{"$f":"Orders!C903/$C902","v":{"$error":"#N/A"}},{"$f":"Orders!D903/$C902","v":{"$error":"#N/A"}}]
[{"$f":"Orders!A904","v":0},{"$f":"VLOOKUP(A903,'Product-tool'!A:E,2,0)","v":{"$error":"#N/A"}},{"$f":"VLOOKUP(A903&B903,'Standard output'!A:D,4,0)","v":{"$error":"#N/A"}},{"$f":"Orders!B904/$C903","v":{"$error":"#N/A"}},{"$f":"Orders!C904/$C903","v":{"$error":"#N/A"}},{"$f":"Orders!D904/$C903","v":{"$error":"#N/A"}}]
[{"$f":"Orders!A905","v":0},{"$f":"VLOOKUP(A904,'Product-tool'!A:E,2,0)","v":{"$error":"#N/A"}},{"$f":"VLOOKUP(A904&B904,'Standard output'!A:D,4,0)","v":{"$error":"#N/A"}},{"$f":"Orders!B905/$C904","v":{"$error":"#N/A"}},{"$f":"Orders!C905/$C904","v":{"$error":"#N/A"}},{"$f":"Orders!D905/$C904","v":{"$error":"#N/A"}}]
[{"$f":"Orders!A906","v":0},{"$f":"VLOOKUP(A905,'Product-tool'!A:E,2,0)","v":{"$error":"#N/A"}},{"$f":"VLOOKUP(A905&B905,'Standard output'!A:D,4,0)","v":{"$error":"#N/A"}},{"$f":"Orders!B906/$C905","v":{"$error":"#N/A"}},{"$f":"Orders!C906/$C905","v":{"$error":"#N/A"}},{"$f":"Orders!D906/$C905","v":{"$error":"#N/A"}}]
[{"$f":"Orders!A907","v":0},{"$f":"VLOOKUP(A906,'Product-tool'!A:E,2,0)","v":{"$error":"#N/A"}},{"$f":"VLOOKUP(A906&B906,'Standard output'!A:D,4,0)","v":{"$error":"#N/A"}},{"$f":"Orders!B907/$C906","v":{"$error":"#N/A"}},{"$f":"Orders!C907/$C906","v":{"$error":"#N/A"}},{"$f":"Orders!D907/$C906","v":{"$error":"#N/A"}}]
[{"$f":"Orders!A908","v":0},{"$f":"VLOOKUP(A907,'Product-tool'!A:E,2,0)","v":{"$error":"#N/A"}},{"$f":"VLOOKUP(A907&B907,'Standard output'!A:D,4,0)","v":{"$error":"#N/A"}},{"$f":"Orders!B908/$C907","v":{"$error":"#N/A"}},{"$f":"Orders!C908/$C907","v":{"$error":"#N/A"}},{"$f":"Orders!D908/$C907","v":{"$error":"#N/A"}}]
[{"$f":"Orders!A909","v":0},{"$f":"VLOOKUP(A908,'Product-tool'!A:E,2,0)","v":{"$error":"#N/A"}},{"$f":"VLOOKUP(A908&B908,'Standard output'!A:D,4,0)","v":{"$error":"#N/A"}},{"$f":"Orders!B909/$C908","v":{"$error":"#N/A"}},{"$f":"Orders!C909/$C908","v":{"$error":"#N/A"}},{"$f":"Orders!D909/$C908","v":{"$error":"#N/A"}}]
[{"$f":"Orders!A910","v":0},{"$f":"VLOOKUP(A909,'Product-tool'!A:E,2,0)","v":{"$error":"#N/A"}},{"$f":"VLOOKUP(A909&B909,'Standard output'!A:D,4,0)","v":{"$error":"#N/A"}},{"$f":"Orders!B910/$C909","v":{"$error":"#N/A"}},{"$f":"Orders!C910/$C909","v":{"$error":"#N/A"}},{"$f":"Orders!D910/$C909","v":{"$error":"#N/A"}}]
[{"$f":"Orders!A911","v":0},{"$f":"VLOOKUP(A910,'Product-tool'!A:E,2,0)","v":{"$error":"#N/A"}},{"$f":"VLOOKUP(A910&B910,'Standard output'!A:D,4,0)","v":{"$error":"#N/A"}},{"$f":"Orders!B911/$C910","v":{"$error":"#N/A"}},{"$f":"Orders!C911/$C910","v":{"$error":"#N/A"}},{"$f":"Orders!D911/$C910","v":{"$error":"#N/A"}}]
[{"$f":"Orders!A912","v":0},{"$f":"VLOOKUP(A911,'Product-tool'!A:E,2,0)","v":{"$error":"#N/A"}},{"$f":"VLOOKUP(A911&B911,'Standard output'!A:D,4,0)","v":{"$error":"#N/A"}},{"$f":"Orders!B912/$C911","v":{"$error":"#N/A"}},{"$f":"Orders!C912/$C911","v":{"$error":"#N/A"}},{"$f":"Orders!D912/$C911","v":{"$error":"#N/A"}}]
[{"$f":"Orders!A913","v":0},{"$f":"VLOOKUP(A912,'Product-tool'!A:E,2,0)","v":{"$error":"#N/A"}},{"$f":"VLOOKUP(A912&B912,'Standard output'!A:D,4,0)","v":{"$error":"#N/A"}},{"$f":"Orders!B913/$C912","v":{"$error":"#N/A"}},{"$f":"Orders!C913/$C912","v":{"$error":"#N/A"}},{"$f":"Orders!D913/$C912","v":{"$error":"#N/A"}}]
[{"$f":"Orders!A914","v":0},{"$f":"VLOOKUP(A913,'Product-tool'!A:E,2,0)","v":{"$error":"#N/A"}},{"$f":"VLOOKUP(A913&B913,'Standard output'!A:D,4,0)","v":{"$error":"#N/A"}},{"$f":"Orders!B914/$C913","v":{"$error":"#N/A"}},{"$f":"Orders!C914/$C913","v":{"$error":"#N/A"}},{"$f":"Orders!D914/$C913","v":{"$error":"#N/A"}}]
[{"$f":"Orders!A915","v":0},{"$f":"VLOOKUP(A914,'Product-tool'!A:E,2,0)","v":{"$error":"#N/A"}},{"$f":"VLOOKUP(A914&B914,'Standard output'!A:D,4,0)","v":{"$error":"#N/A"}},{"$f":"Orders!B915/$C914","v":{"$error":"#N/A"}},{"$f":"Orders!C915/$C914","v":{"$error":"#N/A"}},{"$f":"Orders!D915/$C914","v":{"$error":"#N/A"}}]
[{"$f":"Orders!A916","v":0},{"$f":"VLOOKUP(A915,'Product-tool'!A:E,2,0)","v":{"$error":"#N/A"}},{"$f":"VLOOKUP(A915&B915,'Standard output'!A:D,4,0)","v":{"$error":"#N/A"}},{"$f":"Orders!B916/$C915","v":{"$error":"#N/A"}},{"$f":"Orders!C916/$C915","v":{"$error":"#N/A"}},{"$f":"Orders!D916/$C915","v":{"$error":"#N/A"}}]
[{"$f":"Orders!A917","v":0},{"$f":"VLOOKUP(A916,'Product-tool'!A:E,2,0)","v":{"$error":"#N/A"}},{"$f":"VLOOKUP(A916&B916,'Standard output'!A:D,4,0)","v":{"$error":"#N/A"}},{"$f":"Orders!B917/$C916","v":{"$error":"#N/A"}},{"$f":"Orders!C917/$C916","v":{"$error":"#N/A"}},{"$f":"Orders!D917/$C916","v":{"$error":"#N/A"}}]
[{"$f":"Orders!A918","v":0},{"$f":"VLOOKUP(A917,'Product-tool'!A:E,2,0)","v":{"$error":"#N/A"}},{"$f":"VLOOKUP(A917&B917,'Standard output'!A:D,4,0)","v":{"$error":"#N/A"}},{"$f":"Orders!B918/$C917","v":{"$error":"#N/A"}},{"$f":"Orders!C918/$C917","v":{"$error":"#N/A"}},{"$f":"Orders!D918/$C917","v":{"$error":"#N/A"}}]
[{"$f":"Orders!A919","v":0},{"$f":"VLOOKUP(A918,'Product-tool'!A:E,2,0)","v":{"$error":"#N/A"}},{"$f":"VLOOKUP(A918&B918,'Standard output'!A:D,4,0)","v":{"$error":"#N/A"}},{"$f":"Orders!B919/$C918","v":{"$error":"#N/A"}},{"$f":"Orders!C919/$C918","v":{"$error":"#N/A"}},{"$f":"Orders!D919/$C918","v":{"$error":"#N/A"}}]
[{"$f":"Orders!A920","v":0},{"$f":"VLOOKUP(A919,'Product-tool'!A:E,2,0)","v":{"$error":"#N/A"}},{"$f":"VLOOKUP(A919&B919,'Standard output'!A:D,4,0)","v":{"$error":"#N/A"}},{"$f":"Orders!B920/$C919","v":{"$error":"#N/A"}},{"$f":"Orders!C920/$C919","v":{"$error":"#N/A"}},{"$f":"Orders!D920/$C919","v":{"$error":"#N/A"}}]
[{"$f":"Orders!A921","v":0},{"$f":"VLOOKUP(A920,'Product-tool'!A:E,2,0)","v":{"$error":"#N/A"}},{"$f":"VLOOKUP(A920&B920,'Standard output'!A:D,4,0)","v":{"$error":"#N/A"}},{"$f":"Orders!B921/$C920","v":{"$error":"#N/A"}},{"$f":"Orders!C921/$C920","v":{"$error":"#N/A"}},{"$f":"Orders!D921/$C920","v":{"$error":"#N/A"}}]
[{"$f":"Orders!A922","v":0},{"$f":"VLOOKUP(A921,'Product-tool'!A:E,2,0)","v":{"$error":"#N/A"}},{"$f":"VLOOKUP(A921&B921,'Standard output'!A:D,4,0)","v":{"$error":"#N/A"}},{"$f":"Orders!B922/$C921","v":{"$error":"#N/A"}},{"$f":"Orders!C922/$C921","v":{"$error":"#N/A"}},{"$f":"Orders!D922/$C921","v":{"$error":"#N/A"}}]
[{"$f":"Orders!A923","v":0},{"$f":"VLOOKUP(A922,'Product-tool'!A:E,2,0)","v":{"$error":"#N/A"}},{"$f":"VLOOKUP(A922&B922,'Standard output'!A:D,4,0)","v":{"$error":"#N/A"}},{"$f":"Orders!B923/$C922","v":{"$error":"#N/A"}},{"$f":"Orders!C923/$C922","v":{"$error":"#N/A"}},{"$f":"Orders!D923/$C922","v":{"$error":"#N/A"}}]
[{"$f":"Orders!A924","v":0},{"$f":"VLOOKUP(A923,'Product-tool'!A:E,2,0)","v":{"$error":"#N/A"}},{"$f":"VLOOKUP(A923&B923,'Standard output'!A:D,4,0)","v":{"$error":"#N/A"}},{"$f":"Orders!B924/$C923","v":{"$error":"#N/A"}},{"$f":"Orders!C924/$C923","v":{"$error":"#N/A"}},{"$f":"Orders!D924/$C923","v":{"$error":"#N/A"}}]
[{"$f":"Orders!A925","v":0},{"$f":"VLOOKUP(A924,'Product-tool'!A:E,2,0)","v":{"$error":"#N/A"}},{"$f":"VLOOKUP(A924&B924,'Standard output'!A:D,4,0)","v":{"$error":"#N/A"}},{"$f":"Orders!B925/$C924","v":{"$error":"#N/A"}},{"$f":"Orders!C925/$C924","v":{"$error":"#N/A"}},{"$f":"Orders!D925/$C924","v":{"$error":"#N/A"}}]
[{"$f":"Orders!A926","v":0},{"$f":"VLOOKUP(A925,'Product-tool'!A:E,2,0)","v":{"$error":"#N/A"}},{"$f":"VLOOKUP(A925&B925,'Standard output'!A:D,4,0)","v":{"$error":"#N/A"}},{"$f":"Orders!B926/$C925","v":{"$error":"#N/A"}},{"$f":"Orders!C926/$C925","v":{"$error":"#N/A"}},{"$f":"Orders!D926/$C925","v":{"$error":"#N/A"}}]
[{"$f":"Orders!A927","v":0},{"$f":"VLOOKUP(A926,'Product-tool'!A:E,2,0)","v":{"$error":"#N/A"}},{"$f":"VLOOKUP(A926&B926,'Standard output'!A:D,4,0)","v":{"$error":"#N/A"}},{"$f":"Orders!B927/$C926","v":{"$error":"#N/A"}},{"$f":"Orders!C927/$C926","v":{"$error":"#N/A"}},{"$f":"Orders!D927/$C926","v":{"$error":"#N/A"}}]
[{"$f":"Orders!A928","v":0},{"$f":"VLOOKUP(A927,'Product-tool'!A:E,2,0)","v":{"$error":"#N/A"}},{"$f":"VLOOKUP(A927&B927,'Standard output'!A:D,4,0)","v":{"$error":"#N/A"}},{"$f":"Orders!B928/$C927","v":{"$error":"#N/A"}},{"$f":"Orders!C928/$C927","v":{"$error":"#N/A"}},{"$f":"Orders!D928/$C927","v":{"$error":"#N/A"}}]
[{"$f":"Orders!A929","v":0},{"$f":"VLOOKUP(A928,'Product-tool'!A:E,2,0)","v":{"$error":"#N/A"}},{"$f":"VLOOKUP(A928&B928,'Standard output'!A:D,4,0)","v":{"$error":"#N/A"}},{"$f":"Orders!B929/$C928","v":{"$error":"#N/A"}},{"$f":"Orders!C929/$C928","v":{"$error":"#N/A"}},{"$f":"Orders!D929/$C928","v":{"$error":"#N/A"}}]
[{"$f":"Orders!A930","v":0},{"$f":"VLOOKUP(A929,'Product-tool'!A:E,2,0)","v":{"$error":"#N/A"}},{"$f":"VLOOKUP(A929&B929,'Standard output'!A:D,4,0)","v":{"$error":"#N/A"}},{"$f":"Orders!B930/$C929","v":{"$error":"#N/A"}},{"$f":"Orders!C930/$C929","v":{"$error":"#N/A"}},{"$f":"Orders!D930/$C929","v":{"$error":"#N/A"}}]
[{"$f":"Orders!A931","v":0},{"$f":"VLOOKUP(A930,'Product-tool'!A:E,2,0)","v":{"$error":"#N/A"}},{"$f":"VLOOKUP(A930&B930,'Standard output'!A:D,4,0)","v":{"$error":"#N/A"}},{"$f":"Orders!B931/$C930","v":{"$error":"#N/A"}},{"$f":"Orders!C931/$C930","v":{"$error":"#N/A"}},{"$f":"Orders!D931/$C930","v":{"$error":"#N/A"}}]
[{"$f":"Orders!A932","v":0},{"$f":"VLOOKUP(A931,'Product-tool'!A:E,2,0)","v":{"$error":"#N/A"}},{"$f":"VLOOKUP(A931&B931,'Standard output'!A:D,4,0)","v":{"$error":"#N/A"}},{"$f":"Orders!B932/$C931","v":{"$error":"#N/A"}},{"$f":"Orders!C932/$C931","v":{"$error":"#N/A"}},{"$f":"Orders!D932/$C931","v":{"$error":"#N/A"}}]
[{"$f":"Orders!A933","v":0},{"$f":"VLOOKUP(A932,'Product-tool'!A:E,2,0)","v":{"$error":"#N/A"}},{"$f":"VLOOKUP(A932&B932,'Standard output'!A:D,4,0)","v":{"$error":"#N/A"}},{"$f":"Orders!B933/$C932","v":{"$error":"#N/A"}},{"$f":"Orders!C933/$C932","v":{"$error":"#N/A"}},{"$f":"Orders!D933/$C932","v":{"$error":"#N/A"}}]
[{"$f":"Orders!A934","v":0},{"$f":"VLOOKUP(A933,'Product-tool'!A:E,2,0)","v":{"$error":"#N/A"}},{"$f":"VLOOKUP(A933&B933,'Standard output'!A:D,4,0)","v":{"$error":"#N/A"}},{"$f":"Orders!B934/$C933","v":{"$error":"#N/A"}},{"$f":"Orders!C934/$C933","v":{"$error":"#N/A"}},{"$f":"Orders!D934/$C933","v":{"$error":"#N/A"}}]
[{"$f":"Orders!A935","v":0},{"$f":"VLOOKUP(A934,'Product-tool'!A:E,2,0)","v":{"$error":"#N/A"}},{"$f":"VLOOKUP(A934&B934,'Standard output'!A:D,4,0)","v":{"$error":"#N/A"}},{"$f":"Orders!B935/$C934","v":{"$error":"#N/A"}},{"$f":"Orders!C935/$C934","v":{"$error":"#N/A"}},{"$f":"Orders!D935/$C934","v":{"$error":"#N/A"}}]
[{"$f":"Orders!A936","v":0},{"$f":"VLOOKUP(A935,'Product-tool'!A:E,2,0)","v":{"$error":"#N/A"}},{"$f":"VLOOKUP(A935&B935,'Standard output'!A:D,4,0)","v":{"$error":"#N/A"}},{"$f":"Orders!B936/$C935","v":{"$error":"#N/A"}},{"$f":"Orders!C936/$C935","v":{"$error":"#N/A"}},{"$f":"Orders!D936/$C935","v":{"$error":"#N/A"}}]
[{"$f":"Orders!A937","v":0},{"$f":"VLOOKUP(A936,'Product-tool'!A:E,2,0)","v":{"$error":"#N/A"}},{"$f":"VLOOKUP(A936&B936,'Standard output'!A:D,4,0)","v":{"$error":"#N/A"}},{"$f":"Orders!B937/$C936","v":{"$error":"#N/A"}},{"$f":"Orders!C937/$C936","v":{"$error":"#N/A"}},{"$f":"Orders!D937/$C936","v":{"$error":"#N/A"}}]
[{"$f":"Orders!A938","v":0},{"$f":"VLOOKUP(A937,'Product-tool'!A:E,2,0)","v":{"$error":"#N/A"}},{"$f":"VLOOKUP(A937&B937,'Standard output'!A:D,4,0)","v":{"$error":"#N/A"}},{"$f":"Orders!B938/$C937","v":{"$error":"#N/A"}},{"$f":"Orders!C938/$C937","v":{"$error":"#N/A"}},{"$f":"Orders!D938/$C937","v":{"$error":"#N/A"}}]
[{"$f":"Orders!A939","v":0},{"$f":"VLOOKUP(A938,'Product-tool'!A:E,2,0)","v":{"$error":"#N/A"}},{"$f":"VLOOKUP(A938&B938,'Standard output'!A:D,4,0)","v":{"$error":"#N/A"}},{"$f":"Orders!B939/$C938","v":{"$error":"#N/A"}},{"$f":"Orders!C939/$C938","v":{"$error":"#N/A"}},{"$f":"Orders!D939/$C938","v":{"$error":"#N/A"}}]
[{"$f":"Orders!A940","v":0},{"$f":"VLOOKUP(A939,'Product-tool'!A:E,2,0)","v":{"$error":"#N/A"}},{"$f":"VLOOKUP(A939&B939,'Standard output'!A:D,4,0)","v":{"$error":"#N/A"}},{"$f":"Orders!B940/$C939","v":{"$error":"#N/A"}},{"$f":"Orders!C940/$C939","v":{"$error":"#N/A"}},{"$f":"Orders!D940/$C939","v":{"$error":"#N/A"}}]
[{"$f":"Orders!A941","v":0},{"$f":"VLOOKUP(A940,'Product-tool'!A:E,2,0)","v":{"$error":"#N/A"}},{"$f":"VLOOKUP(A940&B940,'Standard output'!A:D,4,0)","v":{"$error":"#N/A"}},{"$f":"Orders!B941/$C940","v":{"$error":"#N/A"}},{"$f":"Orders!C941/$C940","v":{"$error":"#N/A"}},{"$f":"Orders!D941/$C940","v":{"$error":"#N/A"}}]
[{"$f":"Orders!A942","v":0},{"$f":"VLOOKUP(A941,'Product-tool'!A:E,2,0)","v":{"$error":"#N/A"}},{"$f":"VLOOKUP(A941&B941,'Standard output'!A:D,4,0)","v":{"$error":"#N/A"}},{"$f":"Orders!B942/$C941","v":{"$error":"#N/A"}},{"$f":"Orders!C942/$C941","v":{"$error":"#N/A"}},{"$f":"Orders!D942/$C941","v":{"$error":"#N/A"}}]
[{"$f":"Orders!A943","v":0},{"$f":"VLOOKUP(A942,'Product-tool'!A:E,2,0)","v":{"$error":"#N/A"}},{"$f":"VLOOKUP(A942&B942,'Standard output'!A:D,4,0)","v":{"$error":"#N/A"}},{"$f":"Orders!B943/$C942","v":{"$error":"#N/A"}},{"$f":"Orders!C943/$C942","v":{"$error":"#N/A"}},{"$f":"Orders!D943/$C942","v":{"$error":"#N/A"}}]
[{"$f":"Orders!A944","v":0},{"$f":"VLOOKUP(A943,'Product-tool'!A:E,2,0)","v":{"$error":"#N/A"}},{"$f":"VLOOKUP(A943&B943,'Standard output'!A:D,4,0)","v":{"$error":"#N/A"}},{"$f":"Orders!B944/$C943","v":{"$error":"#N/A"}},{"$f":"Orders!C944/$C943","v":{"$error":"#N/A"}},{"$f":"Orders!D944/$C943","v":{"$error":"#N/A"}}]
[{"$f":"Orders!A945","v":0},{"$f":"VLOOKUP(A944,'Product-tool'!A:E,2,0)","v":{"$error":"#N/A"}},{"$f":"VLOOKUP(A944&B944,'Standard output'!A:D,4,0)","v":{"$error":"#N/A"}},{"$f":"Orders!B945/$C944","v":{"$error":"#N/A"}},{"$f":"Orders!C945/$C944","v":{"$error":"#N/A"}},{"$f":"Orders!D945/$C944","v":{"$error":"#N/A"}}]
[{"$f":"Orders!A946","v":0},{"$f":"VLOOKUP(A945,'Product-tool'!A:E,2,0)","v":{"$error":"#N/A"}},{"$f":"VLOOKUP(A945&B945,'Standard output'!A:D,4,0)","v":{"$error":"#N/A"}},{"$f":"Orders!B946/$C945","v":{"$error":"#N/A"}},{"$f":"Orders!C946/$C945","v":{"$error":"#N/A"}},{"$f":"Orders!D946/$C945","v":{"$error":"#N/A"}}]
[{"$f":"Orders!A947","v":0},{"$f":"VLOOKUP(A946,'Product-tool'!A:E,2,0)","v":{"$error":"#N/A"}},{"$f":"VLOOKUP(A946&B946,'Standard output'!A:D,4,0)","v":{"$error":"#N/A"}},{"$f":"Orders!B947/$C946","v":{"$error":"#N/A"}},{"$f":"Orders!C947/$C946","v":{"$error":"#N/A"}},{"$f":"Orders!D947/$C946","v":{"$error":"#N/A"}}]
[{"$f":"Orders!A948","v":0},{"$f":"VLOOKUP(A947,'Product-tool'!A:E,2,0)","v":{"$error":"#N/A"}},{"$f":"VLOOKUP(A947&B947,'Standard output'!A:D,4,0)","v":{"$error":"#N/A"}},{"$f":"Orders!B948/$C947","v":{"$error":"#N/A"}},{"$f":"Orders!C948/$C947","v":{"$error":"#N/A"}},{"$f":"Orders!D948/$C947","v":{"$error":"#N/A"}}]
[{"$f":"Orders!A949","v":0},{"$f":"VLOOKUP(A948,'Product-tool'!A:E,2,0)","v":{"$error":"#N/A"}},{"$f":"VLOOKUP(A948&B948,'Standard output'!A:D,4,0)","v":{"$error":"#N/A"}},{"$f":"Orders!B949/$C948","v":{"$error":"#N/A"}},{"$f":"Orders!C949/$C948","v":{"$error":"#N/A"}},{"$f":"Orders!D949/$C948","v":{"$error":"#N/A"}}]
[{"$f":"Orders!A950","v":0},{"$f":"VLOOKUP(A949,'Product-tool'!A:E,2,0)","v":{"$error":"#N/A"}},{"$f":"VLOOKUP(A949&B949,'Standard output'!A:D,4,0)","v":{"$error":"#N/A"}},{"$f":"Orders!B950/$C949","v":{"$error":"#N/A"}},{"$f":"Orders!C950/$C949","v":{"$error":"#N/A"}},{"$f":"Orders!D950/$C949","v":{"$error":"#N/A"}}]
[{"$f":"Orders!A951","v":0},{"$f":"VLOOKUP(A950,'Product-tool'!A:E,2,0)","v":{"$error":"#N/A"}},{"$f":"VLOOKUP(A950&B950,'Standard output'!A:D,4,0)","v":{"$error":"#N/A"}},{"$f":"Orders!B951/$C950","v":{"$error":"#N/A"}},{"$f":"Orders!C951/$C950","v":{"$error":"#N/A"}},{"$f":"Orders!D951/$C950","v":{"$error":"#N/A"}}]
[{"$f":"Orders!A952","v":0},{"$f":"VLOOKUP(A951,'Product-tool'!A:E,2,0)","v":{"$error":"#N/A"}},{"$f":"VLOOKUP(A951&B951,'Standard output'!A:D,4,0)","v":{"$error":"#N/A"}},{"$f":"Orders!B952/$C951","v":{"$error":"#N/A"}},{"$f":"Orders!C952/$C951","v":{"$error":"#N/A"}},{"$f":"Orders!D952/$C951","v":{"$error":"#N/A"}}]
[{"$f":"Orders!A953","v":0},{"$f":"VLOOKUP(A952,'Product-tool'!A:E,2,0)","v":{"$error":"#N/A"}},{"$f":"VLOOKUP(A952&B952,'Standard output'!A:D,4,0)","v":{"$error":"#N/A"}},{"$f":"Orders!B953/$C952","v":{"$error":"#N/A"}},{"$f":"Orders!C953/$C952","v":{"$error":"#N/A"}},{"$f":"Orders!D953/$C952","v":{"$error":"#N/A"}}]
[{"$f":"Orders!A954","v":0},{"$f":"VLOOKUP(A953,'Product-tool'!A:E,2,0)","v":{"$error":"#N/A"}},{"$f":"VLOOKUP(A953&B953,'Standard output'!A:D,4,0)","v":{"$error":"#N/A"}},{"$f":"Orders!B954/$C953","v":{"$error":"#N/A"}},{"$f":"Orders!C954/$C953","v":{"$error":"#N/A"}},{"$f":"Orders!D954/$C953","v":{"$error":"#N/A"}}]
[{"$f":"Orders!A955","v":0},{"$f":"VLOOKUP(A954,'Product-tool'!A:E,2,0)","v":{"$error":"#N/A"}},{"$f":"VLOOKUP(A954&B954,'Standard output'!A:D,4,0)","v":{"$error":"#N/A"}},{"$f":"Orders!B955/$C954","v":{"$error":"#N/A"}},{"$f":"Orders!C955/$C954","v":{"$error":"#N/A"}},{"$f":"Orders!D955/$C954","v":{"$error":"#N/A"}}]
[{"$f":"Orders!A956","v":0},{"$f":"VLOOKUP(A955,'Product-tool'!A:E,2,0)","v":{"$error":"#N/A"}},{"$f":"VLOOKUP(A955&B955,'Standard output'!A:D,4,0)","v":{"$error":"#N/A"}},{"$f":"Orders!B956/$C955","v":{"$error":"#N/A"}},{"$f":"Orders!C956/$C955","v":{"$error":"#N/A"}},{"$f":"Orders!D956/$C955","v":{"$error":"#N/A"}}]
[{"$f":"Orders!A957","v":0},{"$f":"VLOOKUP(A956,'Product-tool'!A:E,2,0)","v":{"$error":"#N/A"}},{"$f":"VLOOKUP(A956&B956,'Standard output'!A:D,4,0)","v":{"$error":"#N/A"}},{"$f":"Orders!B957/$C956","v":{"$error":"#N/A"}},{"$f":"Orders!C957/$C956","v":{"$error":"#N/A"}},{"$f":"Orders!D957/$C956","v":{"$error":"#N/A"}}]
[{"$f":"Orders!A958","v":0},{"$f":"VLOOKUP(A957,'Product-tool'!A:E,2,0)","v":{"$error":"#N/A"}},{"$f":"VLOOKUP(A957&B957,'Standard output'!A:D,4,0)","v":{"$error":"#N/A"}},{"$f":"Orders!B958/$C957","v":{"$error":"#N/A"}},{"$f":"Orders!C958/$C957","v":{"$error":"#N/A"}},{"$f":"Orders!D958/$C957","v":{"$error":"#N/A"}}]
[{"$f":"Orders!A959","v":0},{"$f":"VLOOKUP(A958,'Product-tool'!A:E,2,0)","v":{"$error":"#N/A"}},{"$f":"VLOOKUP(A958&B958,'Standard output'!A:D,4,0)","v":{"$error":"#N/A"}},{"$f":"Orders!B959/$C958","v":{"$error":"#N/A"}},{"$f":"Orders!C959/$C958","v":{"$error":"#N/A"}},{"$f":"Orders!D959/$C958","v":{"$error":"#N/A"}}]
[{"$f":"Orders!A960","v":0},{"$f":"VLOOKUP(A959,'Product-tool'!A:E,2,0)","v":{"$error":"#N/A"}},{"$f":"VLOOKUP(A959&B959,'Standard output'!A:D,4,0)","v":{"$error":"#N/A"}},{"$f":"Orders!B960/$C959","v":{"$error":"#N/A"}},{"$f":"Orders!C960/$C959","v":{"$error":"#N/A"}},{"$f":"Orders!D960/$C959","v":{"$error":"#N/A"}}]
[{"$f":"Orders!A961","v":0},{"$f":"VLOOKUP(A960,'Product-tool'!A:E,2,0)","v":{"$error":"#N/A"}},{"$f":"VLOOKUP(A960&B960,'Standard output'!A:D,4,0)","v":{"$error":"#N/A"}},{"$f":"Orders!B961/$C960","v":{"$error":"#N/A"}},{"$f":"Orders!C961/$C960","v":{"$error":"#N/A"}},{"$f":"Orders!D961/$C960","v":{"$error":"#N/A"}}]
[{"$f":"Orders!A962","v":0},{"$f":"VLOOKUP(A961,'Product-tool'!A:E,2,0)","v":{"$error":"#N/A"}},{"$f":"VLOOKUP(A961&B961,'Standard output'!A:D,4,0)","v":{"$error":"#N/A"}},{"$f":"Orders!B962/$C961","v":{"$error":"#N/A"}},{"$f":"Orders!C962/$C961","v":{"$error":"#N/A"}},{"$f":"Orders!D962/$C961","v":{"$error":"#N/A"}}]
[{"$f":"Orders!A963","v":0},{"$f":"VLOOKUP(A962,'Product-tool'!A:E,2,0)","v":{"$error":"#N/A"}},{"$f":"VLOOKUP(A962&B962,'Standard output'!A:D,4,0)","v":{"$error":"#N/A"}},{"$f":"Orders!B963/$C962","v":{"$error":"#N/A"}},{"$f":"Orders!C963/$C962","v":{"$error":"#N/A"}},{"$f":"Orders!D963/$C962","v":{"$error":"#N/A"}}]
[{"$f":"Orders!A964","v":0},{"$f":"VLOOKUP(A963,'Product-tool'!A:E,2,0)","v":{"$error":"#N/A"}},{"$f":"VLOOKUP(A963&B963,'Standard output'!A:D,4,0)","v":{"$error":"#N/A"}},{"$f":"Orders!B964/$C963","v":{"$error":"#N/A"}},{"$f":"Orders!C964/$C963","v":{"$error":"#N/A"}},{"$f":"Orders!D964/$C963","v":{"$error":"#N/A"}}]
[{"$f":"Orders!A965","v":0},{"$f":"VLOOKUP(A964,'Product-tool'!A:E,2,0)","v":{"$error":"#N/A"}},{"$f":"VLOOKUP(A964&B964,'Standard output'!A:D,4,0)","v":{"$error":"#N/A"}},{"$f":"Orders!B965/$C964","v":{"$error":"#N/A"}},{"$f":"Orders!C965/$C964","v":{"$error":"#N/A"}},{"$f":"Orders!D965/$C964","v":{"$error":"#N/A"}}]
[{"$f":"Orders!A966","v":0},{"$f":"VLOOKUP(A965,'Product-tool'!A:E,2,0)","v":{"$error":"#N/A"}},{"$f":"VLOOKUP(A965&B965,'Standard output'!A:D,4,0)","v":{"$error":"#N/A"}},{"$f":"Orders!B966/$C965","v":{"$error":"#N/A"}},{"$f":"Orders!C966/$C965","v":{"$error":"#N/A"}},{"$f":"Orders!D966/$C965","v":{"$error":"#N/A"}}]
[{"$f":"Orders!A967","v":0},{"$f":"VLOOKUP(A966,'Product-tool'!A:E,2,0)","v":{"$error":"#N/A"}},{"$f":"VLOOKUP(A966&B966,'Standard output'!A:D,4,0)","v":{"$error":"#N/A"}},{"$f":"Orders!B967/$C966","v":{"$error":"#N/A"}},{"$f":"Orders!C967/$C966","v":{"$error":"#N/A"}},{"$f":"Orders!D967/$C966","v":{"$error":"#N/A"}}]
[{"$f":"Orders!A968","v":0},{"$f":"VLOOKUP(A967,'Product-tool'!A:E,2,0)","v":{"$error":"#N/A"}},{"$f":"VLOOKUP(A967&B967,'Standard output'!A:D,4,0)","v":{"$error":"#N/A"}},{"$f":"Orders!B968/$C967","v":{"$error":"#N/A"}},{"$f":"Orders!C968/$C967","v":{"$error":"#N/A"}},{"$f":"Orders!D968/$C967","v":{"$error":"#N/A"}}]
[{"$f":"Orders!A969","v":0},{"$f":"VLOOKUP(A968,'Product-tool'!A:E,2,0)","v":{"$error":"#N/A"}},{"$f":"VLOOKUP(A968&B968,'Standard output'!A:D,4,0)","v":{"$error":"#N/A"}},{"$f":"Orders!B969/$C968","v":{"$error":"#N/A"}},{"$f":"Orders!C969/$C968","v":{"$error":"#N/A"}},{"$f":"Orders!D969/$C968","v":{"$error":"#N/A"}}]
[{"$f":"Orders!A970","v":0},{"$f":"VLOOKUP(A969,'Product-tool'!A:E,2,0)","v":{"$error":"#N/A"}},{"$f":"VLOOKUP(A969&B969,'Standard output'!A:D,4,0)","v":{"$error":"#N/A"}},{"$f":"Orders!B970/$C969","v":{"$error":"#N/A"}},{"$f":"Orders!C970/$C969","v":{"$error":"#N/A"}},{"$f":"Orders!D970/$C969","v":{"$error":"#N/A"}}]
[{"$f":"Orders!A971","v":0},{"$f":"VLOOKUP(A970,'Product-tool'!A:E,2,0)","v":{"$error":"#N/A"}},{"$f":"VLOOKUP(A970&B970,'Standard output'!A:D,4,0)","v":{"$error":"#N/A"}},{"$f":"Orders!B971/$C970","v":{"$error":"#N/A"}},{"$f":"Orders!C971/$C970","v":{"$error":"#N/A"}},{"$f":"Orders!D971/$C970","v":{"$error":"#N/A"}}]
[{"$f":"Orders!A972","v":0},{"$f":"VLOOKUP(A971,'Product-tool'!A:E,2,0)","v":{"$error":"#N/A"}},{"$f":"VLOOKUP(A971&B971,'Standard output'!A:D,4,0)","v":{"$error":"#N/A"}},{"$f":"Orders!B972/$C971","v":{"$error":"#N/A"}},{"$f":"Orders!C972/$C971","v":{"$error":"#N/A"}},{"$f":"Orders!D972/$C971","v":{"$error":"#N/A"}}]
[{"$f":"Orders!A973","v":0},{"$f":"VLOOKUP(A972,'Product-tool'!A:E,2,0)","v":{"$error":"#N/A"}},{"$f":"VLOOKUP(A972&B972,'Standard output'!A:D,4,0)","v":{"$error":"#N/A"}},{"$f":"Orders!B973/$C972","v":{"$error":"#N/A"}},{"$f":"Orders!C973/$C972","v":{"$error":"#N/A"}},{"$f":"Orders!D973/$C972","v":{"$error":"#N/A"}}]
[{"$f":"Orders!A974","v":0},{"$f":"VLOOKUP(A973,'Product-tool'!A:E,2,0)","v":{"$error":"#N/A"}},{"$f":"VLOOKUP(A973&B973,'Standard output'!A:D,4,0)","v":{"$error":"#N/A"}},{"$f":"Orders!B974/$C973","v":{"$error":"#N/A"}},{"$f":"Orders!C974/$C973","v":{"$error":"#N/A"}},{"$f":"Orders!D974/$C973","v":{"$error":"#N/A"}}]
[{"$f":"Orders!A975","v":0},{"$f":"VLOOKUP(A974,'Product-tool'!A:E,2,0)","v":{"$error":"#N/A"}},{"$f":"VLOOKUP(A974&B974,'Standard output'!A:D,4,0)","v":{"$error":"#N/A"}},{"$f":"Orders!B975/$C974","v":{"$error":"#N/A"}},{"$f":"Orders!C975/$C974","v":{"$error":"#N/A"}},{"$f":"Orders!D975/$C974","v":{"$error":"#N/A"}}]
[{"$f":"Orders!A976","v":0},{"$f":"VLOOKUP(A975,'Product-tool'!A:E,2,0)","v":{"$error":"#N/A"}},{"$f":"VLOOKUP(A975&B975,'Standard output'!A:D,4,0)","v":{"$error":"#N/A"}},{"$f":"Orders!B976/$C975","v":{"$error":"#N/A"}},{"$f":"Orders!C976/$C975","v":{"$error":"#N/A"}},{"$f":"Orders!D976/$C975","v":{"$error":"#N/A"}}]
[{"$f":"Orders!A977","v":0},{"$f":"VLOOKUP(A976,'Product-tool'!A:E,2,0)","v":{"$error":"#N/A"}},{"$f":"VLOOKUP(A976&B976,'Standard output'!A:D,4,0)","v":{"$error":"#N/A"}},{"$f":"Orders!B977/$C976","v":{"$error":"#N/A"}},{"$f":"Orders!C977/$C976","v":{"$error":"#N/A"}},{"$f":"Orders!D977/$C976","v":{"$error":"#N/A"}}]
[{"$f":"Orders!A978","v":0},{"$f":"VLOOKUP(A977,'Product-tool'!A:E,2,0)","v":{"$error":"#N/A"}},{"$f":"VLOOKUP(A977&B977,'Standard output'!A:D,4,0)","v":{"$error":"#N/A"}},{"$f":"Orders!B978/$C977","v":{"$error":"#N/A"}},{"$f":"Orders!C978/$C977","v":{"$error":"#N/A"}},{"$f":"Orders!D978/$C977","v":{"$error":"#N/A"}}]
[{"$f":"Orders!A979","v":0},{"$f":"VLOOKUP(A978,'Product-tool'!A:E,2,0)","v":{"$error":"#N/A"}},{"$f":"VLOOKUP(A978&B978,'Standard output'!A:D,4,0)","v":{"$error":"#N/A"}},{"$f":"Orders!B979/$C978","v":{"$error":"#N/A"}},{"$f":"Orders!C979/$C978","v":{"$error":"#N/A"}},{"$f":"Orders!D979/$C978","v":{"$error":"#N/A"}}]
[{"$f":"Orders!A980","v":0},{"$f":"VLOOKUP(A979,'Product-tool'!A:E,2,0)","v":{"$error":"#N/A"}},{"$f":"VLOOKUP(A979&B979,'Standard output'!A:D,4,0)","v":{"$error":"#N/A"}},{"$f":"Orders!B980/$C979","v":{"$error":"#N/A"}},{"$f":"Orders!C980/$C979","v":{"$error":"#N/A"}},{"$f":"Orders!D980/$C979","v":{"$error":"#N/A"}}]
[{"$f":"Orders!A981","v":0},{"$f":"VLOOKUP(A980,'Product-tool'!A:E,2,0)","v":{"$error":"#N/A"}},{"$f":"VLOOKUP(A980&B980,'Standard output'!A:D,4,0)","v":{"$error":"#N/A"}},{"$f":"Orders!B981/$C980","v":{"$error":"#N/A"}},{"$f":"Orders!C981/$C980","v":{"$error":"#N/A"}},{"$f":"Orders!D981/$C980","v":{"$error":"#N/A"}}]
[{"$f":"Orders!A982","v":0},{"$f":"VLOOKUP(A981,'Product-tool'!A:E,2,0)","v":{"$error":"#N/A"}},{"$f":"VLOOKUP(A981&B981,'Standard output'!A:D,4,0)","v":{"$error":"#N/A"}},{"$f":"Orders!B982/$C981","v":{"$error":"#N/A"}},{"$f":"Orders!C982/$C981","v":{"$error":"#N/A"}},{"$f":"Orders!D982/$C981","v":{"$error":"#N/A"}}]
[{"$f":"Orders!A983","v":0},{"$f":"VLOOKUP(A982,'Product-tool'!A:E,2,0)","v":{"$error":"#N/A"}},{"$f":"VLOOKUP(A982&B982,'Standard output'!A:D,4,0)","v":{"$error":"#N/A"}},{"$f":"Orders!B983/$C982","v":{"$error":"#N/A"}},{"$f":"Orders!C983/$C982","v":{"$error":"#N/A"}},{"$f":"Orders!D983/$C982","v":{"$error":"#N/A"}}]
[{"$f":"Orders!A984","v":0},{"$f":"VLOOKUP(A983,'Product-tool'!A:E,2,0)","v":{"$error":"#N/A"}},{"$f":"VLOOKUP(A983&B983,'Standard output'!A:D,4,0)","v":{"$error":"#N/A"}},{"$f":"Orders!B984/$C983","v":{"$error":"#N/A"}},{"$f":"Orders!C984/$C983","v":{"$error":"#N/A"}},{"$f":"Orders!D984/$C983","v":{"$error":"#N/A"}}]
[{"$f":"Orders!A985","v":0},{"$f":"VLOOKUP(A984,'Product-tool'!A:E,2,0)","v":{"$error":"#N/A"}},{"$f":"VLOOKUP(A984&B984,'Standard output'!A:D,4,0)","v":{"$error":"#N/A"}},{"$f":"Orders!B985/$C984","v":{"$error":"#N/A"}},{"$f":"Orders!C985/$C984","v":{"$error":"#N/A"}},{"$f":"Orders!D985/$C984","v":{"$error":"#N/A"}}]
[{"$f":"Orders!A986","v":0},{"$f":"VLOOKUP(A985,'Product-tool'!A:E,2,0)","v":{"$error":"#N/A"}},{"$f":"VLOOKUP(A985&B985,'Standard output'!A:D,4,0)","v":{"$error":"#N/A"}},{"$f":"Orders!B986/$C985","v":{"$error":"#N/A"}},{"$f":"Orders!C986/$C985","v":{"$error":"#N/A"}},{"$f":"Orders!D986/$C985","v":{"$error":"#N/A"}}]
[{"$f":"Orders!A987","v":0},{"$f":"VLOOKUP(A986,'Product-tool'!A:E,2,0)","v":{"$error":"#N/A"}},{"$f":"VLOOKUP(A986&B986,'Standard output'!A:D,4,0)","v":{"$error":"#N/A"}},{"$f":"Orders!B987/$C986","v":{"$error":"#N/A"}},{"$f":"Orders!C987/$C986","v":{"$error":"#N/A"}},{"$f":"Orders!D987/$C986","v":{"$error":"#N/A"}}]
[{"$f":"Orders!A988","v":0},{"$f":"VLOOKUP(A987,'Product-tool'!A:E,2,0)","v":{"$error":"#N/A"}},{"$f":"VLOOKUP(A987&B987,'Standard output'!A:D,4,0)","v":{"$error":"#N/A"}},{"$f":"Orders!B988/$C987","v":{"$error":"#N/A"}},{"$f":"Orders!C988/$C987","v":{"$error":"#N/A"}},{"$f":"Orders!D988/$C987","v":{"$error":"#N/A"}}]
[{"$f":"Orders!A989","v":0},{"$f":"VLOOKUP(A988,'Product-tool'!A:E,2,0)","v":{"$error":"#N/A"}},{"$f":"VLOOKUP(A988&B988,'Standard output'!A:D,4,0)","v":{"$error":"#N/A"}},{"$f":"Orders!B989/$C988","v":{"$error":"#N/A"}},{"$f":"Orders!C989/$C988","v":{"$error":"#N/A"}},{"$f":"Orders!D989/$C988","v":{"$error":"#N/A"}}]
[{"$f":"Orders!A990","v":0},{"$f":"VLOOKUP(A989,'Product-tool'!A:E,2,0)","v":{"$error":"#N/A"}},{"$f":"VLOOKUP(A989&B989,'Standard output'!A:D,4,0)","v":{"$error":"#N/A"}},{"$f":"Orders!B990/$C989","v":{"$error":"#N/A"}},{"$f":"Orders!C990/$C989","v":{"$error":"#N/A"}},{"$f":"Orders!D990/$C989","v":{"$error":"#N/A"}}]
[{"$f":"Orders!A991","v":0},{"$f":"VLOOKUP(A990,'Product-tool'!A:E,2,0)","v":{"$error":"#N/A"}},{"$f":"VLOOKUP(A990&B990,'Standard output'!A:D,4,0)","v":{"$error":"#N/A"}},{"$f":"Orders!B991/$C990","v":{"$error":"#N/A"}},{"$f":"Orders!C991/$C990","v":{"$error":"#N/A"}},{"$f":"Orders!D991/$C990","v":{"$error":"#N/A"}}]
[{"$f":"Orders!A992","v":0},{"$f":"VLOOKUP(A991,'Product-tool'!A:E,2,0)","v":{"$error":"#N/A"}},{"$f":"VLOOKUP(A991&B991,'Standard output'!A:D,4,0)","v":{"$error":"#N/A"}},{"$f":"Orders!B992/$C991","v":{"$error":"#N/A"}},{"$f":"Orders!C992/$C991","v":{"$error":"#N/A"}},{"$f":"Orders!D992/$C991","v":{"$error":"#N/A"}}]
[{"$f":"Orders!A993","v":0},{"$f":"VLOOKUP(A992,'Product-tool'!A:E,2,0)","v":{"$error":"#N/A"}},{"$f":"VLOOKUP(A992&B992,'Standard output'!A:D,4,0)","v":{"$error":"#N/A"}},{"$f":"Orders!B993/$C992","v":{"$error":"#N/A"}},{"$f":"Orders!C993/$C992","v":{"$error":"#N/A"}},{"$f":"Orders!D993/$C992","v":{"$error":"#N/A"}}]
[{"$f":"Orders!A994","v":0},{"$f":"VLOOKUP(A993,'Product-tool'!A:E,2,0)","v":{"$error":"#N/A"}},{"$f":"VLOOKUP(A993&B993,'Standard output'!A:D,4,0)","v":{"$error":"#N/A"}},{"$f":"Orders!B994/$C993","v":{"$error":"#N/A"}},{"$f":"Orders!C994/$C993","v":{"$error":"#N/A"}},{"$f":"Orders!D994/$C993","v":{"$error":"#N/A"}}]
[{"$f":"Orders!A995","v":0},{"$f":"VLOOKUP(A994,'Product-tool'!A:E,2,0)","v":{"$error":"#N/A"}},{"$f":"VLOOKUP(A994&B994,'Standard output'!A:D,4,0)","v":{"$error":"#N/A"}},{"$f":"Orders!B995/$C994","v":{"$error":"#N/A"}},{"$f":"Orders!C995/$C994","v":{"$error":"#N/A"}},{"$f":"Orders!D995/$C994","v":{"$error":"#N/A"}}]
[{"$f":"Orders!A996","v":0},{"$f":"VLOOKUP(A995,'Product-tool'!A:E,2,0)","v":{"$error":"#N/A"}},{"$f":"VLOOKUP(A995&B995,'Standard output'!A:D,4,0)","v":{"$error":"#N/A"}},{"$f":"Orders!B996/$C995","v":{"$error":"#N/A"}},{"$f":"Orders!C996/$C995","v":{"$error":"#N/A"}},{"$f":"Orders!D996/$C995","v":{"$error":"#N/A"}}]
[{"$f":"Orders!A997","v":0},{"$f":"VLOOKUP(A996,'Product-tool'!A:E,2,0)","v":{"$error":"#N/A"}},{"$f":"VLOOKUP(A996&B996,'Standard output'!A:D,4,0)","v":{"$error":"#N/A"}},{"$f":"Orders!B997/$C996","v":{"$error":"#N/A"}},{"$f":"Orders!C997/$C996","v":{"$error":"#N/A"}},{"$f":"Orders!D997/$C996","v":{"$error":"#N/A"}}]
[{"$f":"Orders!A998","v":0},{"$f":"VLOOKUP(A997,'Product-tool'!A:E,2,0)","v":{"$error":"#N/A"}},{"$f":"VLOOKUP(A997&B997,'Standard output'!A:D,4,0)","v":{"$error":"#N/A"}},{"$f":"Orders!B998/$C997","v":{"$error":"#N/A"}},{"$f":"Orders!C998/$C997","v":{"$error":"#N/A"}},{"$f":"Orders!D998/$C997","v":{"$error":"#N/A"}}]
[{"$f":"Orders!A999","v":0},{"$f":"VLOOKUP(A998,'Product-tool'!A:E,2,0)","v":{"$error":"#N/A"}},{"$f":"VLOOKUP(A998&B998,'Standard output'!A:D,4,0)","v":{"$error":"#N/A"}},{"$f":"Orders!B999/$C998","v":{"$error":"#N/A"}},{"$f":"Orders!C999/$C998","v":{"$error":"#N/A"}},{"$f":"Orders!D999/$C998","v":{"$error":"#N/A"}}]
[{"$f":"Orders!A1000","v":0},{"$f":"VLOOKUP(A999,'Product-tool'!A:E,2,0)","v":{"$error":"#N/A"}},{"$f":"VLOOKUP(A999&B999,'Standard output'!A:D,4,0)","v":{"$error":"#N/A"}},{"$f":"Orders!B1000/$C999","v":{"$error":"#N/A"}},{"$f":"Orders!C1000/$C999","v":{"$error":"#N/A"}},{"$f":"Orders!D1000/$C999","v":{"$error":"#N/A"}}]
[{"$f":"Orders!A1001","v":0},{"$f":"VLOOKUP(A1000,'Product-tool'!A:E,2,0)","v":{"$error":"#N/A"}},{"$f":"VLOOKUP(A1000&B1000,'Standard output'!A:D,4,0)","v":{"$error":"#N/A"}},{"$f":"Orders!B1001/$C1000","v":{"$error":"#N/A"}},{"$f":"Orders!C1001/$C1000","v":{"$error":"#N/A"}},{"$f":"Orders!D1001/$C1000","v":{"$error":"#N/A"}}]
[{"$f":"Orders!A1002","v":0},{"$f":"VLOOKUP(A1001,'Product-tool'!A:E,2,0)","v":{"$error":"#N/A"}},{"$f":"VLOOKUP(A1001&B1001,'Standard output'!A:D,4,0)","v":{"$error":"#N/A"}},{"$f":"Orders!B1002/$C1001","v":{"$error":"#N/A"}},{"$f":"Orders!C1002/$C1001","v":{"$error":"#N/A"}},{"$f":"Orders!D1002/$C1001","v":{"$error":"#N/A"}}]
[{"$f":"Orders!A1003","v":0},{"$f":"VLOOKUP(A1002,'Product-tool'!A:E,2,0)","v":{"$error":"#N/A"}},{"$f":"VLOOKUP(A1002&B1002,'Standard output'!A:D,4,0)","v":{"$error":"#N/A"}},{"$f":"Orders!B1003/$C1002","v":{"$error":"#N/A"}},{"$f":"Orders!C1003/$C1002","v":{"$error":"#N/A"}},{"$f":"Orders!D1003/$C1002","v":{"$error":"#N/A"}}]
[{"$f":"Orders!A1004","v":0},{"$f":"VLOOKUP(A1003,'Product-tool'!A:E,2,0)","v":{"$error":"#N/A"}},{"$f":"VLOOKUP(A1003&B1003,'Standard output'!A:D,4,0)","v":{"$error":"#N/A"}},{"$f":"Orders!B1004/$C1003","v":{"$error":"#N/A"}},{"$f":"Orders!C1004/$C1003","v":{"$error":"#N/A"}},{"$f":"Orders!D1004/$C1003","v":{"$error":"#N/A"}}]
[{"$f":"Orders!A1005","v":0},{"$f":"VLOOKUP(A1004,'Product-tool'!A:E,2,0)","v":{"$error":"#N/A"}},{"$f":"VLOOKUP(A1004&B1004,'Standard output'!A:D,4,0)","v":{"$error":"#N/A"}},{"$f":"Orders!B1005/$C1004","v":{"$error":"#N/A"}},{"$f":"Orders!C1005/$C1004","v":{"$error":"#N/A"}},{"$f":"Orders!D1005/$C1004","v":{"$error":"#N/A"}}]
[{"$f":"Orders!A1006","v":0},{"$f":"VLOOKUP(A1005,'Product-tool'!A:E,2,0)","v":{"$error":"#N/A"}},{"$f":"VLOOKUP(A1005&B1005,'Standard output'!A:D,4,0)","v":{"$error":"#N/A"}},{"$f":"Orders!B1006/$C1005","v":{"$error":"#N/A"}},{"$f":"Orders!C1006/$C1005","v":{"$error":"#N/A"}},{"$f":"Orders!D1006/$C1005","v":{"$error":"#N/A"}}]
[{"$f":"Orders!A1007","v":0},{"$f":"VLOOKUP(A1006,'Product-tool'!A:E,2,0)","v":{"$error":"#N/A"}},{"$f":"VLOOKUP(A1006&B1006,'Standard output'!A:D,4,0)","v":{"$error":"#N/A"}},{"$f":"Orders!B1007/$C1006","v":{"$error":"#N/A"}},{"$f":"Orders!C1007/$C1006","v":{"$error":"#N/A"}},{"$f":"Orders!D1007/$C1006","v":{"$error":"#N/A"}}]
[{"$f":"Orders!A1008","v":0},{"$f":"VLOOKUP(A1007,'Product-tool'!A:E,2,0)","v":{"$error":"#N/A"}},{"$f":"VLOOKUP(A1007&B1007,'Standard output'!A:D,4,0)","v":{"$error":"#N/A"}},{"$f":"Orders!B1008/$C1007","v":{"$error":"#N/A"}},{"$f":"Orders!C1008/$C1007","v":{"$error":"#N/A"}},{"$f":"Orders!D1008/$C1007","v":{"$error":"#N/A"}}]
[{"$f":"Orders!A1009","v":0},{"$f":"VLOOKUP(A1008,'Product-tool'!A:E,2,0)","v":{"$error":"#N/A"}},{"$f":"VLOOKUP(A1008&B1008,'Standard output'!A:D,4,0)","v":{"$error":"#N/A"}},{"$f":"Orders!B1009/$C1008","v":{"$error":"#N/A"}},{"$f":"Orders!C1009/$C1008","v":{"$error":"#N/A"}},{"$f":"Orders!D1009/$C1008","v":{"$error":"#N/A"}}]
[{"$f":"Orders!A1010","v":0},{"$f":"VLOOKUP(A1009,'Product-tool'!A:E,2,0)","v":{"$error":"#N/A"}},{"$f":"VLOOKUP(A1009&B1009,'Standard output'!A:D,4,0)","v":{"$error":"#N/A"}},{"$f":"Orders!B1010/$C1009","v":{"$error":"#N/A"}},{"$f":"Orders!C1010/$C1009","v":{"$error":"#N/A"}},{"$f":"Orders!D1010/$C1009","v":{"$error":"#N/A"}}]
[{"$f":"Orders!A1011","v":0},{"$f":"VLOOKUP(A1010,'Product-tool'!A:E,2,0)","v":{"$error":"#N/A"}},{"$f":"VLOOKUP(A1010&B1010,'Standard output'!A:D,4,0)","v":{"$error":"#N/A"}},{"$f":"Orders!B1011/$C1010","v":{"$error":"#N/A"}},{"$f":"Orders!C1011/$C1010","v":{"$error":"#N/A"}},{"$f":"Orders!D1011/$C1010","v":{"$error":"#N/A"}}]
[{"$f":"Orders!A1012","v":0},{"$f":"VLOOKUP(A1011,'Product-tool'!A:E,2,0)","v":{"$error":"#N/A"}},{"$f":"VLOOKUP(A1011&B1011,'Standard output'!A:D,4,0)","v":{"$error":"#N/A"}},{"$f":"Orders!B1012/$C1011","v":{"$error":"#N/A"}},{"$f":"Orders!C1012/$C1011","v":{"$error":"#N/A"}},{"$f":"Orders!D1012/$C1011","v":{"$error":"#N/A"}}]
[{"$f":"Orders!A1013","v":0},{"$f":"VLOOKUP(A1012,'Product-tool'!A:E,2,0)","v":{"$error":"#N/A"}},{"$f":"VLOOKUP(A1012&B1012,'Standard output'!A:D,4,0)","v":{"$error":"#N/A"}},{"$f":"Orders!B1013/$C1012","v":{"$error":"#N/A"}},{"$f":"Orders!C1013/$C1012","v":{"$error":"#N/A"}},{"$f":"Orders!D1013/$C1012","v":{"$error":"#N/A"}}]
[{"$f":"Orders!A1014","v":0},{"$f":"VLOOKUP(A1013,'Product-tool'!A:E,2,0)","v":{"$error":"#N/A"}},{"$f":"VLOOKUP(A1013&B1013,'Standard output'!A:D,4,0)","v":{"$error":"#N/A"}},{"$f":"Orders!B1014/$C1013","v":{"$error":"#N/A"}},{"$f":"Orders!C1014/$C1013","v":{"$error":"#N/A"}},{"$f":"Orders!D1014/$C1013","v":{"$error":"#N/A"}}]
[{"$f":"Orders!A1015","v":0},{"$f":"VLOOKUP(A1014,'Product-tool'!A:E,2,0)","v":{"$error":"#N/A"}},{"$f":"VLOOKUP(A1014&B1014,'Standard output'!A:D,4,0)","v":{"$error":"#N/A"}},{"$f":"Orders!B1015/$C1014","v":{"$error":"#N/A"}},{"$f":"Orders!C1015/$C1014","v":{"$error":"#N/A"}},{"$f":"Orders!D1015/$C1014","v":{"$error":"#N/A"}}]
[{"$f":"Orders!A1016","v":0},{"$f":"VLOOKUP(A1015,'Product-tool'!A:E,2,0)","v":{"$error":"#N/A"}},{"$f":"VLOOKUP(A1015&B1015,'Standard output'!A:D,4,0)","v":{"$error":"#N/A"}},{"$f":"Orders!B1016/$C1015","v":{"$error":"#N/A"}},{"$f":"Orders!C1016/$C1015","v":{"$error":"#N/A"}},{"$f":"Orders!D1016/$C1015","v":{"$error":"#N/A"}}]
[{"$f":"Orders!A1017","v":0},{"$f":"VLOOKUP(A1016,'Product-tool'!A:E,2,0)","v":{"$error":"#N/A"}},{"$f":"VLOOKUP(A1016&B1016,'Standard output'!A:D,4,0)","v":{"$error":"#N/A"}},{"$f":"Orders!B1017/$C1016","v":{"$error":"#N/A"}},{"$f":"Orders!C1017/$C1016","v":{"$error":"#N/A"}},{"$f":"Orders!D1017/$C1016","v":{"$error":"#N/A"}}]
[{"$f":"Orders!A1018","v":0},{"$f":"VLOOKUP(A1017,'Product-tool'!A:E,2,0)","v":{"$error":"#N/A"}},{"$f":"VLOOKUP(A1017&B1017,'Standard output'!A:D,4,0)","v":{"$error":"#N/A"}},{"$f":"Orders!B1018/$C1017","v":{"$error":"#N/A"}},{"$f":"Orders!C1018/$C1017","v":{"$error":"#N/A"}},{"$f":"Orders!D1018/$C1017","v":{"$error":"#N/A"}}]
[{"$f":"Orders!A1019","v":0},{"$f":"VLOOKUP(A1018,'Product-tool'!A:E,2,0)","v":{"$error":"#N/A"}},{"$f":"VLOOKUP(A1018&B1018,'Standard output'!A:D,4,0)","v":{"$error":"#N/A"}},{"$f":"Orders!B1019/$C1018","v":{"$error":"#N/A"}},{"$f":"Orders!C1019/$C1018","v":{"$error":"#N/A"}},{"$f":"Orders!D1019/$C1018","v":{"$error":"#N/A"}}]
[{"$f":"Orders!A1020","v":0},{"$f":"VLOOKUP(A1019,'Product-tool'!A:E,2,0)","v":{"$error":"#N/A"}},{"$f":"VLOOKUP(A1019&B1019,'Standard output'!A:D,4,0)","v":{"$error":"#N/A"}},{"$f":"Orders!B1020/$C1019","v":{"$error":"#N/A"}},{"$f":"Orders!C1020/$C1019","v":{"$error":"#N/A"}},{"$f":"Orders!D1020/$C1019","v":{"$error":"#N/A"}}]
[{"$f":"Orders!A1021","v":0},{"$f":"VLOOKUP(A1020,'Product-tool'!A:E,2,0)","v":{"$error":"#N/A"}},{"$f":"VLOOKUP(A1020&B1020,'Standard output'!A:D,4,0)","v":{"$error":"#N/A"}},{"$f":"Orders!B1021/$C1020","v":{"$error":"#N/A"}},{"$f":"Orders!C1021/$C1020","v":{"$error":"#N/A"}},{"$f":"Orders!D1021/$C1020","v":{"$error":"#N/A"}}]
[{"$f":"Orders!A1022","v":0},{"$f":"VLOOKUP(A1021,'Product-tool'!A:E,2,0)","v":{"$error":"#N/A"}},{"$f":"VLOOKUP(A1021&B1021,'Standard output'!A:D,4,0)","v":{"$error":"#N/A"}},{"$f":"Orders!B1022/$C1021","v":{"$error":"#N/A"}},{"$f":"Orders!C1022/$C1021","v":{"$error":"#N/A"}},{"$f":"Orders!D1022/$C1021","v":{"$error":"#N/A"}}]
[{"$f":"Orders!A1023","v":0},{"$f":"VLOOKUP(A1022,'Product-tool'!A:E,2,0)","v":{"$error":"#N/A"}},{"$f":"VLOOKUP(A1022&B1022,'Standard output'!A:D,4,0)","v":{"$error":"#N/A"}},{"$f":"Orders!B1023/$C1022","v":{"$error":"#N/A"}},{"$f":"Orders!C1023/$C1022","v":{"$error":"#N/A"}},{"$f":"Orders!D1023/$C1022","v":{"$error":"#N/A"}}]
[{"$f":"Orders!A1024","v":0},{"$f":"VLOOKUP(A1023,'Product-tool'!A:E,2,0)","v":{"$error":"#N/A"}},{"$f":"VLOOKUP(A1023&B1023,'Standard output'!A:D,4,0)","v":{"$error":"#N/A"}},{"$f":"Orders!B1024/$C1023","v":{"$error":"#N/A"}},{"$f":"Orders!C1024/$C1023","v":{"$error":"#N/A"}},{"$f":"Orders!D1024/$C1023","v":{"$error":"#N/A"}}]
[{"$f":"Orders!A1025","v":0},{"$f":"VLOOKUP(A1024,'Product-tool'!A:E,2,0)","v":{"$error":"#N/A"}},{"$f":"VLOOKUP(A1024&B1024,'Standard output'!A:D,4,0)","v":{"$error":"#N/A"}},{"$f":"Orders!B1025/$C1024","v":{"$error":"#N/A"}},{"$f":"Orders!C1025/$C1024","v":{"$error":"#N/A"}},{"$f":"Orders!D1025/$C1024","v":{"$error":"#N/A"}}]
[{"$f":"Orders!A1026","v":0},{"$f":"VLOOKUP(A1025,'Product-tool'!A:E,2,0)","v":{"$error":"#N/A"}},{"$f":"VLOOKUP(A1025&B1025,'Standard output'!A:D,4,0)","v":{"$error":"#N/A"}},{"$f":"Orders!B1026/$C1025","v":{"$error":"#N/A"}},{"$f":"Orders!C1026/$C1025","v":{"$error":"#N/A"}},{"$f":"Orders!D1026/$C1025","v":{"$error":"#N/A"}}]
[{"$f":"Orders!A1027","v":0},{"$f":"VLOOKUP(A1026,'Product-tool'!A:E,2,0)","v":{"$error":"#N/A"}},{"$f":"VLOOKUP(A1026&B1026,'Standard output'!A:D,4,0)","v":{"$error":"#N/A"}},{"$f":"Orders!B1027/$C1026","v":{"$error":"#N/A"}},{"$f":"Orders!C1027/$C1026","v":{"$error":"#N/A"}},{"$f":"Orders!D1027/$C1026","v":{"$error":"#N/A"}}]
[{"$f":"Orders!A1028","v":0},{"$f":"VLOOKUP(A1027,'Product-tool'!A:E,2,0)","v":{"$error":"#N/A"}},{"$f":"VLOOKUP(A1027&B1027,'Standard output'!A:D,4,0)","v":{"$error":"#N/A"}},{"$f":"Orders!B1028/$C1027","v":{"$error":"#N/A"}},{"$f":"Orders!C1028/$C1027","v":{"$error":"#N/A"}},{"$f":"Orders!D1028/$C1027","v":{"$error":"#N/A"}}]
[{"$f":"Orders!A1029","v":0},{"$f":"VLOOKUP(A1028,'Product-tool'!A:E,2,0)","v":{"$error":"#N/A"}},{"$f":"VLOOKUP(A1028&B1028,'Standard output'!A:D,4,0)","v":{"$error":"#N/A"}},{"$f":"Orders!B1029/$C1028","v":{"$error":"#N/A"}},{"$f":"Orders!C1029/$C1028","v":{"$error":"#N/A"}},{"$f":"Orders!D1029/$C1028","v":{"$error":"#N/A"}}]
[{"$f":"Orders!A1030","v":0},{"$f":"VLOOKUP(A1029,'Product-tool'!A:E,2,0)","v":{"$error":"#N/A"}},{"$f":"VLOOKUP(A1029&B1029,'Standard output'!A:D,4,0)","v":{"$error":"#N/A"}},{"$f":"Orders!B1030/$C1029","v":{"$error":"#N/A"}},{"$f":"Orders!C1030/$C1029","v":{"$error":"#N/A"}},{"$f":"Orders!D1030/$C1029","v":{"$error":"#N/A"}}]
[{"$f":"Orders!A1031","v":0},{"$f":"VLOOKUP(A1030,'Product-tool'!A:E,2,0)","v":{"$error":"#N/A"}},{"$f":"VLOOKUP(A1030&B1030,'Standard output'!A:D,4,0)","v":{"$error":"#N/A"}},{"$f":"Orders!B1031/$C1030","v":{"$error":"#N/A"}},{"$f":"Orders!C1031/$C1030","v":{"$error":"#N/A"}},{"$f":"Orders!D1031/$C1030","v":{"$error":"#N/A"}}]
[{"$f":"Orders!A1032","v":0},{"$f":"VLOOKUP(A1031,'Product-tool'!A:E,2,0)","v":{"$error":"#N/A"}},{"$f":"VLOOKUP(A1031&B1031,'Standard output'!A:D,4,0)","v":{"$error":"#N/A"}},{"$f":"Orders!B1032/$C1031","v":{"$error":"#N/A"}},{"$f":"Orders!C1032/$C1031","v":{"$error":"#N/A"}},{"$f":"Orders!D1032/$C1031","v":{"$error":"#N/A"}}]
[{"$f":"Orders!A1033","v":0},{"$f":"VLOOKUP(A1032,'Product-tool'!A:E,2,0)","v":{"$error":"#N/A"}},{"$f":"VLOOKUP(A1032&B1032,'Standard output'!A:D,4,0)","v":{"$error":"#N/A"}},{"$f":"Orders!B1033/$C1032","v":{"$error":"#N/A"}},{"$f":"Orders!C1033/$C1032","v":{"$error":"#N/A"}},{"$f":"Orders!D1033/$C1032","v":{"$error":"#N/A"}}]
[{"$f":"Orders!A1034","v":0},{"$f":"VLOOKUP(A1033,'Product-tool'!A:E,2,0)","v":{"$error":"#N/A"}},{"$f":"VLOOKUP(A1033&B1033,'Standard output'!A:D,4,0)","v":{"$error":"#N/A"}},{"$f":"Orders!B1034/$C1033","v":{"$error":"#N/A"}},{"$f":"Orders!C1034/$C1033","v":{"$error":"#N/A"}},{"$f":"Orders!D1034/$C1033","v":{"$error":"#N/A"}}]
[{"$f":"Orders!A1035","v":0},{"$f":"VLOOKUP(A1034,'Product-tool'!A:E,2,0)","v":{"$error":"#N/A"}},{"$f":"VLOOKUP(A1034&B1034,'Standard output'!A:D,4,0)","v":{"$error":"#N/A"}},{"$f":"Orders!B1035/$C1034","v":{"$error":"#N/A"}},{"$f":"Orders!C1035/$C1034","v":{"$error":"#N/A"}},{"$f":"Orders!D1035/$C1034","v":{"$error":"#N/A"}}]
[{"$f":"Orders!A1036","v":0},{"$f":"VLOOKUP(A1035,'Product-tool'!A:E,2,0)","v":{"$error":"#N/A"}},{"$f":"VLOOKUP(A1035&B1035,'Standard output'!A:D,4,0)","v":{"$error":"#N/A"}},{"$f":"Orders!B1036/$C1035","v":{"$error":"#N/A"}},{"$f":"Orders!C1036/$C1035","v":{"$error":"#N/A"}},{"$f":"Orders!D1036/$C1035","v":{"$error":"#N/A"}}]
[{"$f":"Orders!A1037","v":0},{"$f":"VLOOKUP(A1036,'Product-tool'!A:E,2,0)","v":{"$error":"#N/A"}},{"$f":"VLOOKUP(A1036&B1036,'Standard output'!A:D,4,0)","v":{"$error":"#N/A"}},{"$f":"Orders!B1037/$C1036","v":{"$error":"#N/A"}},{"$f":"Orders!C1037/$C1036","v":{"$error":"#N/A"}},{"$f":"Orders!D1037/$C1036","v":{"$error":"#N/A"}}]
[{"$f":"Orders!A1038","v":0},{"$f":"VLOOKUP(A1037,'Product-tool'!A:E,2,0)","v":{"$error":"#N/A"}},{"$f":"VLOOKUP(A1037&B1037,'Standard output'!A:D,4,0)","v":{"$error":"#N/A"}},{"$f":"Orders!B1038/$C1037","v":{"$error":"#N/A"}},{"$f":"Orders!C1038/$C1037","v":{"$error":"#N/A"}},{"$f":"Orders!D1038/$C1037","v":{"$error":"#N/A"}}]
[{"$f":"Orders!A1039","v":0},{"$f":"VLOOKUP(A1038,'Product-tool'!A:E,2,0)","v":{"$error":"#N/A"}},{"$f":"VLOOKUP(A1038&B1038,'Standard output'!A:D,4,0)","v":{"$error":"#N/A"}},{"$f":"Orders!B1039/$C1038","v":{"$error":"#N/A"}},{"$f":"Orders!C1039/$C1038","v":{"$error":"#N/A"}},{"$f":"Orders!D1039/$C1038","v":{"$error":"#N/A"}}]
[{"$f":"Orders!A1040","v":0},{"$f":"VLOOKUP(A1039,'Product-tool'!A:E,2,0)","v":{"$error":"#N/A"}},{"$f":"VLOOKUP(A1039&B1039,'Standard output'!A:D,4,0)","v":{"$error":"#N/A"}},{"$f":"Orders!B1040/$C1039","v":{"$error":"#N/A"}},{"$f":"Orders!C1040/$C1039","v":{"$error":"#N/A"}},{"$f":"Orders!D1040/$C1039","v":{"$error":"#N/A"}}]
[{"$f":"Orders!A1041","v":0},{"$f":"VLOOKUP(A1040,'Product-tool'!A:E,2,0)","v":{"$error":"#N/A"}},{"$f":"VLOOKUP(A1040&B1040,'Standard output'!A:D,4,0)","v":{"$error":"#N/A"}},{"$f":"Orders!B1041/$C1040","v":{"$error":"#N/A"}},{"$f":"Orders!C1041/$C1040","v":{"$error":"#N/A"}},{"$f":"Orders!D1041/$C1040","v":{"$error":"#N/A"}}]
[{"$f":"Orders!A1042","v":0},{"$f":"VLOOKUP(A1041,'Product-tool'!A:E,2,0)","v":{"$error":"#N/A"}},{"$f":"VLOOKUP(A1041&B1041,'Standard output'!A:D,4,0)","v":{"$error":"#N/A"}},{"$f":"Orders!B1042/$C1041","v":{"$error":"#N/A"}},{"$f":"Orders!C1042/$C1041","v":{"$error":"#N/A"}},{"$f":"Orders!D1042/$C1041","v":{"$error":"#N/A"}}]
[{"$f":"Orders!A1043","v":0},{"$f":"VLOOKUP(A1042,'Product-tool'!A:E,2,0)","v":{"$error":"#N/A"}},{"$f":"VLOOKUP(A1042&B1042,'Standard output'!A:D,4,0)","v":{"$error":"#N/A"}},{"$f":"Orders!B1043/$C1042","v":{"$error":"#N/A"}},{"$f":"Orders!C1043/$C1042","v":{"$error":"#N/A"}},{"$f":"Orders!D1043/$C1042","v":{"$error":"#N/A"}}]
[{"$f":"Orders!A1044","v":0},{"$f":"VLOOKUP(A1043,'Product-tool'!A:E,2,0)","v":{"$error":"#N/A"}},{"$f":"VLOOKUP(A1043&B1043,'Standard output'!A:D,4,0)","v":{"$error":"#N/A"}},{"$f":"Orders!B1044/$C1043","v":{"$error":"#N/A"}},{"$f":"Orders!C1044/$C1043","v":{"$error":"#N/A"}},{"$f":"Orders!D1044/$C1043","v":{"$error":"#N/A"}}]
[{"$f":"Orders!A1045","v":0},{"$f":"VLOOKUP(A1044,'Product-tool'!A:E,2,0)","v":{"$error":"#N/A"}},{"$f":"VLOOKUP(A1044&B1044,'Standard output'!A:D,4,0)","v":{"$error":"#N/A"}},{"$f":"Orders!B1045/$C1044","v":{"$error":"#N/A"}},{"$f":"Orders!C1045/$C1044","v":{"$error":"#N/A"}},{"$f":"Orders!D1045/$C1044","v":{"$error":"#N/A"}}]
[{"$f":"Orders!A1046","v":0},{"$f":"VLOOKUP(A1045,'Product-tool'!A:E,2,0)","v":{"$error":"#N/A"}},{"$f":"VLOOKUP(A1045&B1045,'Standard output'!A:D,4,0)","v":{"$error":"#N/A"}},{"$f":"Orders!B1046/$C1045","v":{"$error":"#N/A"}},{"$f":"Orders!C1046/$C1045","v":{"$error":"#N/A"}},{"$f":"Orders!D1046/$C1045","v":{"$error":"#N/A"}}]
[{"$f":"Orders!A1047","v":0},{"$f":"VLOOKUP(A1046,'Product-tool'!A:E,2,0)","v":{"$error":"#N/A"}},{"$f":"VLOOKUP(A1046&B1046,'Standard output'!A:D,4,0)","v":{"$error":"#N/A"}},{"$f":"Orders!B1047/$C1046","v":{"$error":"#N/A"}},{"$f":"Orders!C1047/$C1046","v":{"$error":"#N/A"}},{"$f":"Orders!D1047/$C1046","v":{"$error":"#N/A"}}]
[{"$f":"Orders!A1048","v":0},{"$f":"VLOOKUP(A1047,'Product-tool'!A:E,2,0)","v":{"$error":"#N/A"}},{"$f":"VLOOKUP(A1047&B1047,'Standard output'!A:D,4,0)","v":{"$error":"#N/A"}},{"$f":"Orders!B1048/$C1047","v":{"$error":"#N/A"}},{"$f":"Orders!C1048/$C1047","v":{"$error":"#N/A"}},{"$f":"Orders!D1048/$C1047","v":{"$error":"#N/A"}}]
[{"$f":"Orders!A1049","v":0},{"$f":"VLOOKUP(A1048,'Product-tool'!A:E,2,0)","v":{"$error":"#N/A"}},{"$f":"VLOOKUP(A1048&B1048,'Standard output'!A:D,4,0)","v":{"$error":"#N/A"}},{"$f":"Orders!B1049/$C1048","v":{"$error":"#N/A"}},{"$f":"Orders!C1049/$C1048","v":{"$error":"#N/A"}},{"$f":"Orders!D1049/$C1048","v":{"$error":"#N/A"}}]
[{"$f":"Orders!A1050","v":0},{"$f":"VLOOKUP(A1049,'Product-tool'!A:E,2,0)","v":{"$error":"#N/A"}},{"$f":"VLOOKUP(A1049&B1049,'Standard output'!A:D,4,0)","v":{"$error":"#N/A"}},{"$f":"Orders!B1050/$C1049","v":{"$error":"#N/A"}},{"$f":"Orders!C1050/$C1049","v":{"$error":"#N/A"}},{"$f":"Orders!D1050/$C1049","v":{"$error":"#N/A"}}]
[{"$f":"Orders!A1051","v":0},{"$f":"VLOOKUP(A1050,'Product-tool'!A:E,2,0)","v":{"$error":"#N/A"}},{"$f":"VLOOKUP(A1050&B1050,'Standard output'!A:D,4,0)","v":{"$error":"#N/A"}},{"$f":"Orders!B1051/$C1050","v":{"$error":"#N/A"}},{"$f":"Orders!C1051/$C1050","v":{"$error":"#N/A"}},{"$f":"Orders!D1051/$C1050","v":{"$error":"#N/A"}}]
[{"$f":"Orders!A1052","v":0},{"$f":"VLOOKUP(A1051,'Product-tool'!A:E,2,0)","v":{"$error":"#N/A"}},{"$f":"VLOOKUP(A1051&B1051,'Standard output'!A:D,4,0)","v":{"$error":"#N/A"}},{"$f":"Orders!B1052/$C1051","v":{"$error":"#N/A"}},{"$f":"Orders!C1052/$C1051","v":{"$error":"#N/A"}},{"$f":"Orders!D1052/$C1051","v":{"$error":"#N/A"}}]
[{"$f":"Orders!A1053","v":0},{"$f":"VLOOKUP(A1052,'Product-tool'!A:E,2,0)","v":{"$error":"#N/A"}},{"$f":"VLOOKUP(A1052&B1052,'Standard output'!A:D,4,0)","v":{"$error":"#N/A"}},{"$f":"Orders!B1053/$C1052","v":{"$error":"#N/A"}},{"$f":"Orders!C1053/$C1052","v":{"$error":"#N/A"}},{"$f":"Orders!D1053/$C1052","v":{"$error":"#N/A"}}]
[{"$f":"Orders!A1054","v":0},{"$f":"VLOOKUP(A1053,'Product-tool'!A:E,2,0)","v":{"$error":"#N/A"}},{"$f":"VLOOKUP(A1053&B1053,'Standard output'!A:D,4,0)","v":{"$error":"#N/A"}},{"$f":"Orders!B1054/$C1053","v":{"$error":"#N/A"}},{"$f":"Orders!C1054/$C1053","v":{"$error":"#N/A"}},{"$f":"Orders!D1054/$C1053","v":{"$error":"#N/A"}}]
[{"$f":"Orders!A1055","v":0},{"$f":"VLOOKUP(A1054,'Product-tool'!A:E,2,0)","v":{"$error":"#N/A"}},{"$f":"VLOOKUP(A1054&B1054,'Standard output'!A:D,4,0)","v":{"$error":"#N/A"}},{"$f":"Orders!B1055/$C1054","v":{"$error":"#N/A"}},{"$f":"Orders!C1055/$C1054","v":{"$error":"#N/A"}},{"$f":"Orders!D1055/$C1054","v":{"$error":"#N/A"}}]
[{"$f":"Orders!A1056","v":0},{"$f":"VLOOKUP(A1055,'Product-tool'!A:E,2,0)","v":{"$error":"#N/A"}},{"$f":"VLOOKUP(A1055&B1055,'Standard output'!A:D,4,0)","v":{"$error":"#N/A"}},{"$f":"Orders!B1056/$C1055","v":{"$error":"#N/A"}},{"$f":"Orders!C1056/$C1055","v":{"$error":"#N/A"}},{"$f":"Orders!D1056/$C1055","v":{"$error":"#N/A"}}]
[{"$f":"Orders!A1057","v":0},{"$f":"VLOOKUP(A1056,'Product-tool'!A:E,2,0)","v":{"$error":"#N/A"}},{"$f":"VLOOKUP(A1056&B1056,'Standard output'!A:D,4,0)","v":{"$error":"#N/A"}},{"$f":"Orders!B1057/$C1056","v":{"$error":"#N/A"}},{"$f":"Orders!C1057/$C1056","v":{"$error":"#N/A"}},{"$f":"Orders!D1057/$C1056","v":{"$error":"#N/A"}}]
[{"$f":"Orders!A1058","v":0},{"$f":"VLOOKUP(A1057,'Product-tool'!A:E,2,0)","v":{"$error":"#N/A"}},{"$f":"VLOOKUP(A1057&B1057,'Standard output'!A:D,4,0)","v":{"$error":"#N/A"}},{"$f":"Orders!B1058/$C1057","v":{"$error":"#N/A"}},{"$f":"Orders!C1058/$C1057","v":{"$error":"#N/A"}},{"$f":"Orders!D1058/$C1057","v":{"$error":"#N/A"}}]
[{"$f":"Orders!A1059","v":0},{"$f":"VLOOKUP(A1058,'Product-tool'!A:E,2,0)","v":{"$error":"#N/A"}},{"$f":"VLOOKUP(A1058&B1058,'Standard output'!A:D,4,0)","v":{"$error":"#N/A"}},{"$f":"Orders!B1059/$C1058","v":{"$error":"#N/A"}},{"$f":"Orders!C1059/$C1058","v":{"$error":"#N/A"}},{"$f":"Orders!D1059/$C1058","v":{"$error":"#N/A"}}]
[{"$f":"Orders!A1060","v":0},{"$f":"VLOOKUP(A1059,'Product-tool'!A:E,2,0)","v":{"$error":"#N/A"}},{"$f":"VLOOKUP(A1059&B1059,'Standard output'!A:D,4,0)","v":{"$error":"#N/A"}},{"$f":"Orders!B1060/$C1059","v":{"$error":"#N/A"}},{"$f":"Orders!C1060/$C1059","v":{"$error":"#N/A"}},{"$f":"Orders!D1060/$C1059","v":{"$error":"#N/A"}}]
[{"$f":"Orders!A1061","v":0},{"$f":"VLOOKUP(A1060,'Product-tool'!A:E,2,0)","v":{"$error":"#N/A"}},{"$f":"VLOOKUP(A1060&B1060,'Standard output'!A:D,4,0)","v":{"$error":"#N/A"}},{"$f":"Orders!B1061/$C1060","v":{"$error":"#N/A"}},{"$f":"Orders!C1061/$C1060","v":{"$error":"#N/A"}},{"$f":"Orders!D1061/$C1060","v":{"$error":"#N/A"}}]
[{"$f":"Orders!A1062","v":0},{"$f":"VLOOKUP(A1061,'Product-tool'!A:E,2,0)","v":{"$error":"#N/A"}},{"$f":"VLOOKUP(A1061&B1061,'Standard output'!A:D,4,0)","v":{"$error":"#N/A"}},{"$f":"Orders!B1062/$C1061","v":{"$error":"#N/A"}},{"$f":"Orders!C1062/$C1061","v":{"$error":"#N/A"}},{"$f":"Orders!D1062/$C1061","v":{"$error":"#N/A"}}]
[{"$f":"Orders!A1063","v":0},{"$f":"VLOOKUP(A1062,'Product-tool'!A:E,2,0)","v":{"$error":"#N/A"}},{"$f":"VLOOKUP(A1062&B1062,'Standard output'!A:D,4,0)","v":{"$error":"#N/A"}},{"$f":"Orders!B1063/$C1062","v":{"$error":"#N/A"}},{"$f":"Orders!C1063/$C1062","v":{"$error":"#N/A"}},{"$f":"Orders!D1063/$C1062","v":{"$error":"#N/A"}}]
[{"$f":"Orders!A1064","v":0},{"$f":"VLOOKUP(A1063,'Product-tool'!A:E,2,0)","v":{"$error":"#N/A"}},{"$f":"VLOOKUP(A1063&B1063,'Standard output'!A:D,4,0)","v":{"$error":"#N/A"}},{"$f":"Orders!B1064/$C1063","v":{"$error":"#N/A"}},{"$f":"Orders!C1064/$C1063","v":{"$error":"#N/A"}},{"$f":"Orders!D1064/$C1063","v":{"$error":"#N/A"}}]
[{"$f":"Orders!A1065","v":0},{"$f":"VLOOKUP(A1064,'Product-tool'!A:E,2,0)","v":{"$error":"#N/A"}},{"$f":"VLOOKUP(A1064&B1064,'Standard output'!A:D,4,0)","v":{"$error":"#N/A"}},{"$f":"Orders!B1065/$C1064","v":{"$error":"#N/A"}},{"$f":"Orders!C1065/$C1064","v":{"$error":"#N/A"}},{"$f":"Orders!D1065/$C1064","v":{"$error":"#N/A"}}]
[{"$f":"Orders!A1066","v":0},{"$f":"VLOOKUP(A1065,'Product-tool'!A:E,2,0)","v":{"$error":"#N/A"}},{"$f":"VLOOKUP(A1065&B1065,'Standard output'!A:D,4,0)","v":{"$error":"#N/A"}},{"$f":"Orders!B1066/$C1065","v":{"$error":"#N/A"}},{"$f":"Orders!C1066/$C1065","v":{"$error":"#N/A"}},{"$f":"Orders!D1066/$C1065","v":{"$error":"#N/A"}}]
[{"$f":"Orders!A1067","v":0},{"$f":"VLOOKUP(A1066,'Product-tool'!A:E,2,0)","v":{"$error":"#N/A"}},{"$f":"VLOOKUP(A1066&B1066,'Standard output'!A:D,4,0)","v":{"$error":"#N/A"}},{"$f":"Orders!B1067/$C1066","v":{"$error":"#N/A"}},{"$f":"Orders!C1067/$C1066","v":{"$error":"#N/A"}},{"$f":"Orders!D1067/$C1066","v":{"$error":"#N/A"}}]
[{"$f":"Orders!A1068","v":0},{"$f":"VLOOKUP(A1067,'Product-tool'!A:E,2,0)","v":{"$error":"#N/A"}},{"$f":"VLOOKUP(A1067&B1067,'Standard output'!A:D,4,0)","v":{"$error":"#N/A"}},{"$f":"Orders!B1068/$C1067","v":{"$error":"#N/A"}},{"$f":"Orders!C1068/$C1067","v":{"$error":"#N/A"}},{"$f":"Orders!D1068/$C1067","v":{"$error":"#N/A"}}]
[{"$f":"Orders!A1069","v":0},{"$f":"VLOOKUP(A1068,'Product-tool'!A:E,2,0)","v":{"$error":"#N/A"}},{"$f":"VLOOKUP(A1068&B1068,'Standard output'!A:D,4,0)","v":{"$error":"#N/A"}},{"$f":"Orders!B1069/$C1068","v":{"$error":"#N/A"}},{"$f":"Orders!C1069/$C1068","v":{"$error":"#N/A"}},{"$f":"Orders!D1069/$C1068","v":{"$error":"#N/A"}}]
[{"$f":"Orders!A1070","v":0},{"$f":"VLOOKUP(A1069,'Product-tool'!A:E,2,0)","v":{"$error":"#N/A"}},{"$f":"VLOOKUP(A1069&B1069,'Standard output'!A:D,4,0)","v":{"$error":"#N/A"}},{"$f":"Orders!B1070/$C1069","v":{"$error":"#N/A"}},{"$f":"Orders!C1070/$C1069","v":{"$error":"#N/A"}},{"$f":"Orders!D1070/$C1069","v":{"$error":"#N/A"}}]
[{"$f":"Orders!A1071","v":0},{"$f":"VLOOKUP(A1070,'Product-tool'!A:E,2,0)","v":{"$error":"#N/A"}},{"$f":"VLOOKUP(A1070&B1070,'Standard output'!A:D,4,0)","v":{"$error":"#N/A"}},{"$f":"Orders!B1071/$C1070","v":{"$error":"#N/A"}},{"$f":"Orders!C1071/$C1070","v":{"$error":"#N/A"}},{"$f":"Orders!D1071/$C1070","v":{"$error":"#N/A"}}]
[{"$f":"Orders!A1072","v":0},{"$f":"VLOOKUP(A1071,'Product-tool'!A:E,2,0)","v":{"$error":"#N/A"}},{"$f":"VLOOKUP(A1071&B1071,'Standard output'!A:D,4,0)","v":{"$error":"#N/A"}},{"$f":"Orders!B1072/$C1071","v":{"$error":"#N/A"}},{"$f":"Orders!C1072/$C1071","v":{"$error":"#N/A"}},{"$f":"Orders!D1072/$C1071","v":{"$error":"#N/A"}}]
[{"$f":"Orders!A1073","v":0},{"$f":"VLOOKUP(A1072,'Product-tool'!A:E,2,0)","v":{"$error":"#N/A"}},{"$f":"VLOOKUP(A1072&B1072,'Standard output'!A:D,4,0)","v":{"$error":"#N/A"}},{"$f":"Orders!B1073/$C1072","v":{"$error":"#N/A"}},{"$f":"Orders!C1073/$C1072","v":{"$error":"#N/A"}},{"$f":"Orders!D1073/$C1072","v":{"$error":"#N/A"}}]
[{"$f":"Orders!A1074","v":0},{"$f":"VLOOKUP(A1073,'Product-tool'!A:E,2,0)","v":{"$error":"#N/A"}},{"$f":"VLOOKUP(A1073&B1073,'Standard output'!A:D,4,0)","v":{"$error":"#N/A"}},{"$f":"Orders!B1074/$C1073","v":{"$error":"#N/A"}},{"$f":"Orders!C1074/$C1073","v":{"$error":"#N/A"}},{"$f":"Orders!D1074/$C1073","v":{"$error":"#N/A"}}]
[{"$f":"Orders!A1075","v":0},{"$f":"VLOOKUP(A1074,'Product-tool'!A:E,2,0)","v":{"$error":"#N/A"}},{"$f":"VLOOKUP(A1074&B1074,'Standard output'!A:D,4,0)","v":{"$error":"#N/A"}},{"$f":"Orders!B1075/$C1074","v":{"$error":"#N/A"}},{"$f":"Orders!C1075/$C1074","v":{"$error":"#N/A"}},{"$f":"Orders!D1075/$C1074","v":{"$error":"#N/A"}}]
[{"$f":"Orders!A1076","v":0},{"$f":"VLOOKUP(A1075,'Product-tool'!A:E,2,0)","v":{"$error":"#N/A"}},{"$f":"VLOOKUP(A1075&B1075,'Standard output'!A:D,4,0)","v":{"$error":"#N/A"}},{"$f":"Orders!B1076/$C1075","v":{"$error":"#N/A"}},{"$f":"Orders!C1076/$C1075","v":{"$error":"#N/A"}},{"$f":"Orders!D1076/$C1075","v":{"$error":"#N/A"}}]
[{"$f":"Orders!A1077","v":0},{"$f":"VLOOKUP(A1076,'Product-tool'!A:E,2,0)","v":{"$error":"#N/A"}},{"$f":"VLOOKUP(A1076&B1076,'Standard output'!A:D,4,0)","v":{"$error":"#N/A"}},{"$f":"Orders!B1077/$C1076","v":{"$error":"#N/A"}},{"$f":"Orders!C1077/$C1076","v":{"$error":"#N/A"}},{"$f":"Orders!D1077/$C1076","v":{"$error":"#N/A"}}]
[{"$f":"Orders!A1078","v":0},{"$f":"VLOOKUP(A1077,'Product-tool'!A:E,2,0)","v":{"$error":"#N/A"}},{"$f":"VLOOKUP(A1077&B1077,'Standard output'!A:D,4,0)","v":{"$error":"#N/A"}},{"$f":"Orders!B1078/$C1077","v":{"$error":"#N/A"}},{"$f":"Orders!C1078/$C1077","v":{"$error":"#N/A"}},{"$f":"Orders!D1078/$C1077","v":{"$error":"#N/A"}}]
[{"$f":"Orders!A1079","v":0},{"$f":"VLOOKUP(A1078,'Product-tool'!A:E,2,0)","v":{"$error":"#N/A"}},{"$f":"VLOOKUP(A1078&B1078,'Standard output'!A:D,4,0)","v":{"$error":"#N/A"}},{"$f":"Orders!B1079/$C1078","v":{"$error":"#N/A"}},{"$f":"Orders!C1079/$C1078","v":{"$error":"#N/A"}},{"$f":"Orders!D1079/$C1078","v":{"$error":"#N/A"}}]
[{"$f":"Orders!A1080","v":0},{"$f":"VLOOKUP(A1079,'Product-tool'!A:E,2,0)","v":{"$error":"#N/A"}},{"$f":"VLOOKUP(A1079&B1079,'Standard output'!A:D,4,0)","v":{"$error":"#N/A"}},{"$f":"Orders!B1080/$C1079","v":{"$error":"#N/A"}},{"$f":"Orders!C1080/$C1079","v":{"$error":"#N/A"}},{"$f":"Orders!D1080/$C1079","v":{"$error":"#N/A"}}]
[{"$f":"Orders!A1081","v":0},{"$f":"VLOOKUP(A1080,'Product-tool'!A:E,2,0)","v":{"$error":"#N/A"}},{"$f":"VLOOKUP(A1080&B1080,'Standard output'!A:D,4,0)","v":{"$error":"#N/A"}},{"$f":"Orders!B1081/$C1080","v":{"$error":"#N/A"}},{"$f":"Orders!C1081/$C1080","v":{"$error":"#N/A"}},{"$f":"Orders!D1081/$C1080","v":{"$error":"#N/A"}}]
[{"$f":"Orders!A1082","v":0},{"$f":"VLOOKUP(A1081,'Product-tool'!A:E,2,0)","v":{"$error":"#N/A"}},{"$f":"VLOOKUP(A1081&B1081,'Standard output'!A:D,4,0)","v":{"$error":"#N/A"}},{"$f":"Orders!B1082/$C1081","v":{"$error":"#N/A"}},{"$f":"Orders!C1082/$C1081","v":{"$error":"#N/A"}},{"$f":"Orders!D1082/$C1081","v":{"$error":"#N/A"}}]
[{"$f":"Orders!A1083","v":0},{"$f":"VLOOKUP(A1082,'Product-tool'!A:E,2,0)","v":{"$error":"#N/A"}},{"$f":"VLOOKUP(A1082&B1082,'Standard output'!A:D,4,0)","v":{"$error":"#N/A"}},{"$f":"Orders!B1083/$C1082","v":{"$error":"#N/A"}},{"$f":"Orders!C1083/$C1082","v":{"$error":"#N/A"}},{"$f":"Orders!D1083/$C1082","v":{"$error":"#N/A"}}]
[{"$f":"Orders!A1084","v":0},{"$f":"VLOOKUP(A1083,'Product-tool'!A:E,2,0)","v":{"$error":"#N/A"}},{"$f":"VLOOKUP(A1083&B1083,'Standard output'!A:D,4,0)","v":{"$error":"#N/A"}},{"$f":"Orders!B1084/$C1083","v":{"$error":"#N/A"}},{"$f":"Orders!C1084/$C1083","v":{"$error":"#N/A"}},{"$f":"Orders!D1084/$C1083","v":{"$error":"#N/A"}}]
[{"$f":"Orders!A1085","v":0},{"$f":"VLOOKUP(A1084,'Product-tool'!A:E,2,0)","v":{"$error":"#N/A"}},{"$f":"VLOOKUP(A1084&B1084,'Standard output'!A:D,4,0)","v":{"$error":"#N/A"}},{"$f":"Orders!B1085/$C1084","v":{"$error":"#N/A"}},{"$f":"Orders!C1085/$C1084","v":{"$error":"#N/A"}},{"$f":"Orders!D1085/$C1084","v":{"$error":"#N/A"}}]
[{"$f":"Orders!A1086","v":0},{"$f":"VLOOKUP(A1085,'Product-tool'!A:E,2,0)","v":{"$error":"#N/A"}},{"$f":"VLOOKUP(A1085&B1085,'Standard output'!A:D,4,0)","v":{"$error":"#N/A"}},{"$f":"Orders!B1086/$C1085","v":{"$error":"#N/A"}},{"$f":"Orders!C1086/$C1085","v":{"$error":"#N/A"}},{"$f":"Orders!D1086/$C1085","v":{"$error":"#N/A"}}]
[{"$f":"Orders!A1087","v":0},{"$f":"VLOOKUP(A1086,'Product-tool'!A:E,2,0)","v":{"$error":"#N/A"}},{"$f":"VLOOKUP(A1086&B1086,'Standard output'!A:D,4,0)","v":{"$error":"#N/A"}},{"$f":"Orders!B1087/$C1086","v":{"$error":"#N/A"}},{"$f":"Orders!C1087/$C1086","v":{"$error":"#N/A"}},{"$f":"Orders!D1087/$C1086","v":{"$error":"#N/A"}}]
[{"$f":"Orders!A1088","v":0},{"$f":"VLOOKUP(A1087,'Product-tool'!A:E,2,0)","v":{"$error":"#N/A"}},{"$f":"VLOOKUP(A1087&B1087,'Standard output'!A:D,4,0)","v":{"$error":"#N/A"}},{"$f":"Orders!B1088/$C1087","v":{"$error":"#N/A"}},{"$f":"Orders!C1088/$C1087","v":{"$error":"#N/A"}},{"$f":"Orders!D1088/$C1087","v":{"$error":"#N/A"}}]
[{"$f":"Orders!A1089","v":0},{"$f":"VLOOKUP(A1088,'Product-tool'!A:E,2,0)","v":{"$error":"#N/A"}},{"$f":"VLOOKUP(A1088&B1088,'Standard output'!A:D,4,0)","v":{"$error":"#N/A"}},{"$f":"Orders!B1089/$C1088","v":{"$error":"#N/A"}},{"$f":"Orders!C1089/$C1088","v":{"$error":"#N/A"}},{"$f":"Orders!D1089/$C1088","v":{"$error":"#N/A"}}]
[{"$f":"Orders!A1090","v":0},{"$f":"VLOOKUP(A1089,'Product-tool'!A:E,2,0)","v":{"$error":"#N/A"}},{"$f":"VLOOKUP(A1089&B1089,'Standard output'!A:D,4,0)","v":{"$error":"#N/A"}},{"$f":"Orders!B1090/$C1089","v":{"$error":"#N/A"}},{"$f":"Orders!C1090/$C1089","v":{"$error":"#N/A"}},{"$f":"Orders!D1090/$C1089","v":{"$error":"#N/A"}}]
[{"$f":"Orders!A1091","v":0},{"$f":"VLOOKUP(A1090,'Product-tool'!A:E,2,0)","v":{"$error":"#N/A"}},{"$f":"VLOOKUP(A1090&B1090,'Standard output'!A:D,4,0)","v":{"$error":"#N/A"}},{"$f":"Orders!B1091/$C1090","v":{"$error":"#N/A"}},{"$f":"Orders!C1091/$C1090","v":{"$error":"#N/A"}},{"$f":"Orders!D1091/$C1090","v":{"$error":"#N/A"}}]
[{"$f":"Orders!A1092","v":0},{"$f":"VLOOKUP(A1091,'Product-tool'!A:E,2,0)","v":{"$error":"#N/A"}},{"$f":"VLOOKUP(A1091&B1091,'Standard output'!A:D,4,0)","v":{"$error":"#N/A"}},{"$f":"Orders!B1092/$C1091","v":{"$error":"#N/A"}},{"$f":"Orders!C1092/$C1091","v":{"$error":"#N/A"}},{"$f":"Orders!D1092/$C1091","v":{"$error":"#N/A"}}]
[{"$f":"Orders!A1093","v":0},{"$f":"VLOOKUP(A1092,'Product-tool'!A:E,2,0)","v":{"$error":"#N/A"}},{"$f":"VLOOKUP(A1092&B1092,'Standard output'!A:D,4,0)","v":{"$error":"#N/A"}},{"$f":"Orders!B1093/$C1092","v":{"$error":"#N/A"}},{"$f":"Orders!C1093/$C1092","v":{"$error":"#N/A"}},{"$f":"Orders!D1093/$C1092","v":{"$error":"#N/A"}}]
[{"$f":"Orders!A1094","v":0},{"$f":"VLOOKUP(A1093,'Product-tool'!A:E,2,0)","v":{"$error":"#N/A"}},{"$f":"VLOOKUP(A1093&B1093,'Standard output'!A:D,4,0)","v":{"$error":"#N/A"}},{"$f":"Orders!B1094/$C1093","v":{"$error":"#N/A"}},{"$f":"Orders!C1094/$C1093","v":{"$error":"#N/A"}},{"$f":"Orders!D1094/$C1093","v":{"$error":"#N/A"}}]
[{"$f":"Orders!A1095","v":0},{"$f":"VLOOKUP(A1094,'Product-tool'!A:E,2,0)","v":{"$error":"#N/A"}},{"$f":"VLOOKUP(A1094&B1094,'Standard output'!A:D,4,0)","v":{"$error":"#N/A"}},{"$f":"Orders!B1095/$C1094","v":{"$error":"#N/A"}},{"$f":"Orders!C1095/$C1094","v":{"$error":"#N/A"}},{"$f":"Orders!D1095/$C1094","v":{"$error":"#N/A"}}]
[{"$f":"Orders!A1096","v":0},{"$f":"VLOOKUP(A1095,'Product-tool'!A:E,2,0)","v":{"$error":"#N/A"}},{"$f":"VLOOKUP(A1095&B1095,'Standard output'!A:D,4,0)","v":{"$error":"#N/A"}},{"$f":"Orders!B1096/$C1095","v":{"$error":"#N/A"}},{"$f":"Orders!C1096/$C1095","v":{"$error":"#N/A"}},{"$f":"Orders!D1096/$C1095","v":{"$error":"#N/A"}}]
[{"$f":"Orders!A1097","v":0},{"$f":"VLOOKUP(A1096,'Product-tool'!A:E,2,0)","v":{"$error":"#N/A"}},{"$f":"VLOOKUP(A1096&B1096,'Standard output'!A:D,4,0)","v":{"$error":"#N/A"}},{"$f":"Orders!B1097/$C1096","v":{"$error":"#N/A"}},{"$f":"Orders!C1097/$C1096","v":{"$error":"#N/A"}},{"$f":"Orders!D1097/$C1096","v":{"$error":"#N/A"}}]
[{"$f":"Orders!A1098","v":0},{"$f":"VLOOKUP(A1097,'Product-tool'!A:E,2,0)","v":{"$error":"#N/A"}},{"$f":"VLOOKUP(A1097&B1097,'Standard output'!A:D,4,0)","v":{"$error":"#N/A"}},{"$f":"Orders!B1098/$C1097","v":{"$error":"#N/A"}},{"$f":"Orders!C1098/$C1097","v":{"$error":"#N/A"}},{"$f":"Orders!D1098/$C1097","v":{"$error":"#N/A"}}]
[{"$f":"Orders!A1099","v":0},{"$f":"VLOOKUP(A1098,'Product-tool'!A:E,2,0)","v":{"$error":"#N/A"}},{"$f":"VLOOKUP(A1098&B1098,'Standard output'!A:D,4,0)","v":{"$error":"#N/A"}},{"$f":"Orders!B1099/$C1098","v":{"$error":"#N/A"}},{"$f":"Orders!C1099/$C1098","v":{"$error":"#N/A"}},{"$f":"Orders!D1099/$C1098","v":{"$error":"#N/A"}}]
[{"$f":"Orders!A1100","v":0},{"$f":"VLOOKUP(A1099,'Product-tool'!A:E,2,0)","v":{"$error":"#N/A"}},{"$f":"VLOOKUP(A1099&B1099,'Standard output'!A:D,4,0)","v":{"$error":"#N/A"}},{"$f":"Orders!B1100/$C1099","v":{"$error":"#N/A"}},{"$f":"Orders!C1100/$C1099","v":{"$error":"#N/A"}},{"$f":"Orders!D1100/$C1099","v":{"$error":"#N/A"}}]
[{"$f":"Orders!A1101","v":0},{"$f":"VLOOKUP(A1100,'Product-tool'!A:E,2,0)","v":{"$error":"#N/A"}},{"$f":"VLOOKUP(A1100&B1100,'Standard output'!A:D,4,0)","v":{"$error":"#N/A"}},{"$f":"Orders!B1101/$C1100","v":{"$error":"#N/A"}},{"$f":"Orders!C1101/$C1100","v":{"$error":"#N/A"}},{"$f":"Orders!D1101/$C1100","v":{"$error":"#N/A"}}]
[{"$f":"Orders!A1102","v":0},{"$f":"VLOOKUP(A1101,'Product-tool'!A:E,2,0)","v":{"$error":"#N/A"}},{"$f":"VLOOKUP(A1101&B1101,'Standard output'!A:D,4,0)","v":{"$error":"#N/A"}},{"$f":"Orders!B1102/$C1101","v":{"$error":"#N/A"}},{"$f":"Orders!C1102/$C1101","v":{"$error":"#N/A"}},{"$f":"Orders!D1102/$C1101","v":{"$error":"#N/A"}}]
[{"$f":"Orders!A1103","v":0},{"$f":"VLOOKUP(A1102,'Product-tool'!A:E,2,0)","v":{"$error":"#N/A"}},{"$f":"VLOOKUP(A1102&B1102,'Standard output'!A:D,4,0)","v":{"$error":"#N/A"}},{"$f":"Orders!B1103/$C1102","v":{"$error":"#N/A"}},{"$f":"Orders!C1103/$C1102","v":{"$error":"#N/A"}},{"$f":"Orders!D1103/$C1102","v":{"$error":"#N/A"}}]
[{"$f":"Orders!A1104","v":0},{"$f":"VLOOKUP(A1103,'Product-tool'!A:E,2,0)","v":{"$error":"#N/A"}},{"$f":"VLOOKUP(A1103&B1103,'Standard output'!A:D,4,0)","v":{"$error":"#N/A"}},{"$f":"Orders!B1104/$C1103","v":{"$error":"#N/A"}},{"$f":"Orders!C1104/$C1103","v":{"$error":"#N/A"}},{"$f":"Orders!D1104/$C1103","v":{"$error":"#N/A"}}]
[{"$f":"Orders!A1105","v":0},{"$f":"VLOOKUP(A1104,'Product-tool'!A:E,2,0)","v":{"$error":"#N/A"}},{"$f":"VLOOKUP(A1104&B1104,'Standard output'!A:D,4,0)","v":{"$error":"#N/A"}},{"$f":"Orders!B1105/$C1104","v":{"$error":"#N/A"}},{"$f":"Orders!C1105/$C1104","v":{"$error":"#N/A"}},{"$f":"Orders!D1105/$C1104","v":{"$error":"#N/A"}}]
[{"$f":"Orders!A1106","v":0},{"$f":"VLOOKUP(A1105,'Product-tool'!A:E,2,0)","v":{"$error":"#N/A"}},{"$f":"VLOOKUP(A1105&B1105,'Standard output'!A:D,4,0)","v":{"$error":"#N/A"}},{"$f":"Orders!B1106/$C1105","v":{"$error":"#N/A"}},{"$f":"Orders!C1106/$C1105","v":{"$error":"#N/A"}},{"$f":"Orders!D1106/$C1105","v":{"$error":"#N/A"}}]
[{"$f":"Orders!A1107","v":0},{"$f":"VLOOKUP(A1106,'Product-tool'!A:E,2,0)","v":{"$error":"#N/A"}},{"$f":"VLOOKUP(A1106&B1106,'Standard output'!A:D,4,0)","v":{"$error":"#N/A"}},{"$f":"Orders!B1107/$C1106","v":{"$error":"#N/A"}},{"$f":"Orders!C1107/$C1106","v":{"$error":"#N/A"}},{"$f":"Orders!D1107/$C1106","v":{"$error":"#N/A"}}]
[{"$f":"Orders!A1108","v":0},{"$f":"VLOOKUP(A1107,'Product-tool'!A:E,2,0)","v":{"$error":"#N/A"}},{"$f":"VLOOKUP(A1107&B1107,'Standard output'!A:D,4,0)","v":{"$error":"#N/A"}},{"$f":"Orders!B1108/$C1107","v":{"$error":"#N/A"}},{"$f":"Orders!C1108/$C1107","v":{"$error":"#N/A"}},{"$f":"Orders!D1108/$C1107","v":{"$error":"#N/A"}}]
[{"$f":"Orders!A1109","v":0},{"$f":"VLOOKUP(A1108,'Product-tool'!A:E,2,0)","v":{"$error":"#N/A"}},{"$f":"VLOOKUP(A1108&B1108,'Standard output'!A:D,4,0)","v":{"$error":"#N/A"}},{"$f":"Orders!B1109/$C1108","v":{"$error":"#N/A"}},{"$f":"Orders!C1109/$C1108","v":{"$error":"#N/A"}},{"$f":"Orders!D1109/$C1108","v":{"$error":"#N/A"}}]
[{"$f":"Orders!A1110","v":0},{"$f":"VLOOKUP(A1109,'Product-tool'!A:E,2,0)","v":{"$error":"#N/A"}},{"$f":"VLOOKUP(A1109&B1109,'Standard output'!A:D,4,0)","v":{"$error":"#N/A"}},{"$f":"Orders!B1110/$C1109","v":{"$error":"#N/A"}},{"$f":"Orders!C1110/$C1109","v":{"$error":"#N/A"}},{"$f":"Orders!D1110/$C1109","v":{"$error":"#N/A"}}]
[{"$f":"Orders!A1111","v":0},{"$f":"VLOOKUP(A1110,'Product-tool'!A:E,2,0)","v":{"$error":"#N/A"}},{"$f":"VLOOKUP(A1110&B1110,'Standard output'!A:D,4,0)","v":{"$error":"#N/A"}},{"$f":"Orders!B1111/$C1110","v":{"$error":"#N/A"}},{"$f":"Orders!C1111/$C1110","v":{"$error":"#N/A"}},{"$f":"Orders!D1111/$C1110","v":{"$error":"#N/A"}}]
[{"$f":"Orders!A1112","v":0},{"$f":"VLOOKUP(A1111,'Product-tool'!A:E,2,0)","v":{"$error":"#N/A"}},{"$f":"VLOOKUP(A1111&B1111,'Standard output'!A:D,4,0)","v":{"$error":"#N/A"}},{"$f":"Orders!B1112/$C1111","v":{"$error":"#N/A"}},{"$f":"Orders!C1112/$C1111","v":{"$error":"#N/A"}},{"$f":"Orders!D1112/$C1111","v":{"$error":"#N/A"}}]
[{"$f":"Orders!A1113","v":0},{"$f":"VLOOKUP(A1112,'Product-tool'!A:E,2,0)","v":{"$error":"#N/A"}},{"$f":"VLOOKUP(A1112&B1112,'Standard output'!A:D,4,0)","v":{"$error":"#N/A"}},{"$f":"Orders!B1113/$C1112","v":{"$error":"#N/A"}},{"$f":"Orders!C1113/$C1112","v":{"$error":"#N/A"}},{"$f":"Orders!D1113/$C1112","v":{"$error":"#N/A"}}]
[{"$f":"Orders!A1114","v":0},{"$f":"VLOOKUP(A1113,'Product-tool'!A:E,2,0)","v":{"$error":"#N/A"}},{"$f":"VLOOKUP(A1113&B1113,'Standard output'!A:D,4,0)","v":{"$error":"#N/A"}},{"$f":"Orders!B1114/$C1113","v":{"$error":"#N/A"}},{"$f":"Orders!C1114/$C1113","v":{"$error":"#N/A"}},{"$f":"Orders!D1114/$C1113","v":{"$error":"#N/A"}}]
[{"$f":"Orders!A1115","v":0},{"$f":"VLOOKUP(A1114,'Product-tool'!A:E,2,0)","v":{"$error":"#N/A"}},{"$f":"VLOOKUP(A1114&B1114,'Standard output'!A:D,4,0)","v":{"$error":"#N/A"}},{"$f":"Orders!B1115/$C1114","v":{"$error":"#N/A"}},{"$f":"Orders!C1115/$C1114","v":{"$error":"#N/A"}},{"$f":"Orders!D1115/$C1114","v":{"$error":"#N/A"}}]
[{"$f":"Orders!A1116","v":0},{"$f":"VLOOKUP(A1115,'Product-tool'!A:E,2,0)","v":{"$error":"#N/A"}},{"$f":"VLOOKUP(A1115&B1115,'Standard output'!A:D,4,0)","v":{"$error":"#N/A"}},{"$f":"Orders!B1116/$C1115","v":{"$error":"#N/A"}},{"$f":"Orders!C1116/$C1115","v":{"$error":"#N/A"}},{"$f":"Orders!D1116/$C1115","v":{"$error":"#N/A"}}]
[{"$f":"Orders!A1117","v":0},{"$f":"VLOOKUP(A1116,'Product-tool'!A:E,2,0)","v":{"$error":"#N/A"}},{"$f":"VLOOKUP(A1116&B1116,'Standard output'!A:D,4,0)","v":{"$error":"#N/A"}},{"$f":"Orders!B1117/$C1116","v":{"$error":"#N/A"}},{"$f":"Orders!C1117/$C1116","v":{"$error":"#N/A"}},{"$f":"Orders!D1117/$C1116","v":{"$error":"#N/A"}}]
[{"$f":"Orders!A1118","v":0},{"$f":"VLOOKUP(A1117,'Product-tool'!A:E,2,0)","v":{"$error":"#N/A"}},{"$f":"VLOOKUP(A1117&B1117,'Standard output'!A:D,4,0)","v":{"$error":"#N/A"}},{"$f":"Orders!B1118/$C1117","v":{"$error":"#N/A"}},{"$f":"Orders!C1118/$C1117","v":{"$error":"#N/A"}},{"$f":"Orders!D1118/$C1117","v":{"$error":"#N/A"}}]
[{"$f":"Orders!A1119","v":0},{"$f":"VLOOKUP(A1118,'Product-tool'!A:E,2,0)","v":{"$error":"#N/A"}},{"$f":"VLOOKUP(A1118&B1118,'Standard output'!A:D,4,0)","v":{"$error":"#N/A"}},{"$f":"Orders!B1119/$C1118","v":{"$error":"#N/A"}},{"$f":"Orders!C1119/$C1118","v":{"$error":"#N/A"}},{"$f":"Orders!D1119/$C1118","v":{"$error":"#N/A"}}]
[{"$f":"Orders!A1120","v":0},{"$f":"VLOOKUP(A1119,'Product-tool'!A:E,2,0)","v":{"$error":"#N/A"}},{"$f":"VLOOKUP(A1119&B1119,'Standard output'!A:D,4,0)","v":{"$error":"#N/A"}},{"$f":"Orders!B1120/$C1119","v":{"$error":"#N/A"}},{"$f":"Orders!C1120/$C1119","v":{"$error":"#N/A"}},{"$f":"Orders!D1120/$C1119","v":{"$error":"#N/A"}}]
[{"$f":"Orders!A1121","v":0},{"$f":"VLOOKUP(A1120,'Product-tool'!A:E,2,0)","v":{"$error":"#N/A"}},{"$f":"VLOOKUP(A1120&B1120,'Standard output'!A:D,4,0)","v":{"$error":"#N/A"}},{"$f":"Orders!B1121/$C1120","v":{"$error":"#N/A"}},{"$f":"Orders!C1121/$C1120","v":{"$error":"#N/A"}},{"$f":"Orders!D1121/$C1120","v":{"$error":"#N/A"}}]
[{"$f":"Orders!A1122","v":0},{"$f":"VLOOKUP(A1121,'Product-tool'!A:E,2,0)","v":{"$error":"#N/A"}},{"$f":"VLOOKUP(A1121&B1121,'Standard output'!A:D,4,0)","v":{"$error":"#N/A"}},{"$f":"Orders!B1122/$C1121","v":{"$error":"#N/A"}},{"$f":"Orders!C1122/$C1121","v":{"$error":"#N/A"}},{"$f":"Orders!D1122/$C1121","v":{"$error":"#N/A"}}]
[{"$f":"Orders!A1123","v":0},{"$f":"VLOOKUP(A1122,'Product-tool'!A:E,2,0)","v":{"$error":"#N/A"}},{"$f":"VLOOKUP(A1122&B1122,'Standard output'!A:D,4,0)","v":{"$error":"#N/A"}},{"$f":"Orders!B1123/$C1122","v":{"$error":"#N/A"}},{"$f":"Orders!C1123/$C1122","v":{"$error":"#N/A"}},{"$f":"Orders!D1123/$C1122","v":{"$error":"#N/A"}}]
[{"$f":"Orders!A1124","v":0},{"$f":"VLOOKUP(A1123,'Product-tool'!A:E,2,0)","v":{"$error":"#N/A"}},{"$f":"VLOOKUP(A1123&B1123,'Standard output'!A:D,4,0)","v":{"$error":"#N/A"}},{"$f":"Orders!B1124/$C1123","v":{"$error":"#N/A"}},{"$f":"Orders!C1124/$C1123","v":{"$error":"#N/A"}},{"$f":"Orders!D1124/$C1123","v":{"$error":"#N/A"}}]
[{"$f":"Orders!A1125","v":0},{"$f":"VLOOKUP(A1124,'Product-tool'!A:E,2,0)","v":{"$error":"#N/A"}},{"$f":"VLOOKUP(A1124&B1124,'Standard output'!A:D,4,0)","v":{"$error":"#N/A"}},{"$f":"Orders!B1125/$C1124","v":{"$error":"#N/A"}},{"$f":"Orders!C1125/$C1124","v":{"$error":"#N/A"}},{"$f":"Orders!D1125/$C1124","v":{"$error":"#N/A"}}]
[{"$f":"Orders!A1126","v":0},{"$f":"VLOOKUP(A1125,'Product-tool'!A:E,2,0)","v":{"$error":"#N/A"}},{"$f":"VLOOKUP(A1125&B1125,'Standard output'!A:D,4,0)","v":{"$error":"#N/A"}},{"$f":"Orders!B1126/$C1125","v":{"$error":"#N/A"}},{"$f":"Orders!C1126/$C1125","v":{"$error":"#N/A"}},{"$f":"Orders!D1126/$C1125","v":{"$error":"#N/A"}}]
[{"$f":"Orders!A1127","v":0},{"$f":"VLOOKUP(A1126,'Product-tool'!A:E,2,0)","v":{"$error":"#N/A"}},{"$f":"VLOOKUP(A1126&B1126,'Standard output'!A:D,4,0)","v":{"$error":"#N/A"}},{"$f":"Orders!B1127/$C1126","v":{"$error":"#N/A"}},{"$f":"Orders!C1127/$C1126","v":{"$error":"#N/A"}},{"$f":"Orders!D1127/$C1126","v":{"$error":"#N/A"}}]
[{"$f":"Orders!A1128","v":0},{"$f":"VLOOKUP(A1127,'Product-tool'!A:E,2,0)","v":{"$error":"#N/A"}},{"$f":"VLOOKUP(A1127&B1127,'Standard output'!A:D,4,0)","v":{"$error":"#N/A"}},{"$f":"Orders!B1128/$C1127","v":{"$error":"#N/A"}},{"$f":"Orders!C1128/$C1127","v":{"$error":"#N/A"}},{"$f":"Orders!D1128/$C1127","v":{"$error":"#N/A"}}]
[{"$f":"Orders!A1129","v":0},{"$f":"VLOOKUP(A1128,'Product-tool'!A:E,2,0)","v":{"$error":"#N/A"}},{"$f":"VLOOKUP(A1128&B1128,'Standard output'!A:D,4,0)","v":{"$error":"#N/A"}},{"$f":"Orders!B1129/$C1128","v":{"$error":"#N/A"}},{"$f":"Orders!C1129/$C1128","v":{"$error":"#N/A"}},{"$f":"Orders!D1129/$C1128","v":{"$error":"#N/A"}}]
[{"$f":"Orders!A1130","v":0},{"$f":"VLOOKUP(A1129,'Product-tool'!A:E,2,0)","v":{"$error":"#N/A"}},{"$f":"VLOOKUP(A1129&B1129,'Standard output'!A:D,4,0)","v":{"$error":"#N/A"}},{"$f":"Orders!B1130/$C1129","v":{"$error":"#N/A"}},{"$f":"Orders!C1130/$C1129","v":{"$error":"#N/A"}},{"$f":"Orders!D1130/$C1129","v":{"$error":"#N/A"}}]
[{"$f":"Orders!A1131","v":0},{"$f":"VLOOKUP(A1130,'Product-tool'!A:E,2,0)","v":{"$error":"#N/A"}},{"$f":"VLOOKUP(A1130&B1130,'Standard output'!A:D,4,0)","v":{"$error":"#N/A"}},{"$f":"Orders!B1131/$C1130","v":{"$error":"#N/A"}},{"$f":"Orders!C1131/$C1130","v":{"$error":"#N/A"}},{"$f":"Orders!D1131/$C1130","v":{"$error":"#N/A"}}]
[{"$f":"Orders!A1132","v":0},{"$f":"VLOOKUP(A1131,'Product-tool'!A:E,2,0)","v":{"$error":"#N/A"}},{"$f":"VLOOKUP(A1131&B1131,'Standard output'!A:D,4,0)","v":{"$error":"#N/A"}},{"$f":"Orders!B1132/$C1131","v":{"$error":"#N/A"}},{"$f":"Orders!C1132/$C1131","v":{"$error":"#N/A"}},{"$f":"Orders!D1132/$C1131","v":{"$error":"#N/A"}}]
[{"$f":"Orders!A1133","v":0},{"$f":"VLOOKUP(A1132,'Product-tool'!A:E,2,0)","v":{"$error":"#N/A"}},{"$f":"VLOOKUP(A1132&B1132,'Standard output'!A:D,4,0)","v":{"$error":"#N/A"}},{"$f":"Orders!B1133/$C1132","v":{"$error":"#N/A"}},{"$f":"Orders!C1133/$C1132","v":{"$error":"#N/A"}},{"$f":"Orders!D1133/$C1132","v":{"$error":"#N/A"}}]
[{"$f":"Orders!A1134","v":0},{"$f":"VLOOKUP(A1133,'Product-tool'!A:E,2,0)","v":{"$error":"#N/A"}},{"$f":"VLOOKUP(A1133&B1133,'Standard output'!A:D,4,0)","v":{"$error":"#N/A"}},{"$f":"Orders!B1134/$C1133","v":{"$error":"#N/A"}},{"$f":"Orders!C1134/$C1133","v":{"$error":"#N/A"}},{"$f":"Orders!D1134/$C1133","v":{"$error":"#N/A"}}]
[{"$f":"Orders!A1135","v":0},{"$f":"VLOOKUP(A1134,'Product-tool'!A:E,2,0)","v":{"$error":"#N/A"}},{"$f":"VLOOKUP(A1134&B1134,'Standard output'!A:D,4,0)","v":{"$error":"#N/A"}},{"$f":"Orders!B1135/$C1134","v":{"$error":"#N/A"}},{"$f":"Orders!C1135/$C1134","v":{"$error":"#N/A"}},{"$f":"Orders!D1135/$C1134","v":{"$error":"#N/A"}}]
[{"$f":"Orders!A1136","v":0},{"$f":"VLOOKUP(A1135,'Product-tool'!A:E,2,0)","v":{"$error":"#N/A"}},{"$f":"VLOOKUP(A1135&B1135,'Standard output'!A:D,4,0)","v":{"$error":"#N/A"}},{"$f":"Orders!B1136/$C1135","v":{"$error":"#N/A"}},{"$f":"Orders!C1136/$C1135","v":{"$error":"#N/A"}},{"$f":"Orders!D1136/$C1135","v":{"$error":"#N/A"}}]
[{"$f":"Orders!A1137","v":0},{"$f":"VLOOKUP(A1136,'Product-tool'!A:E,2,0)","v":{"$error":"#N/A"}},{"$f":"VLOOKUP(A1136&B1136,'Standard output'!A:D,4,0)","v":{"$error":"#N/A"}},{"$f":"Orders!B1137/$C1136","v":{"$error":"#N/A"}},{"$f":"Orders!C1137/$C1136","v":{"$error":"#N/A"}},{"$f":"Orders!D1137/$C1136","v":{"$error":"#N/A"}}]
[{"$f":"Orders!A1138","v":0},{"$f":"VLOOKUP(A1137,'Product-tool'!A:E,2,0)","v":{"$error":"#N/A"}},{"$f":"VLOOKUP(A1137&B1137,'Standard output'!A:D,4,0)","v":{"$error":"#N/A"}},{"$f":"Orders!B1138/$C1137","v":{"$error":"#N/A"}},{"$f":"Orders!C1138/$C1137","v":{"$error":"#N/A"}},{"$f":"Orders!D1138/$C1137","v":{"$error":"#N/A"}}]
[{"$f":"Orders!A1139","v":0},{"$f":"VLOOKUP(A1138,'Product-tool'!A:E,2,0)","v":{"$error":"#N/A"}},{"$f":"VLOOKUP(A1138&B1138,'Standard output'!A:D,4,0)","v":{"$error":"#N/A"}},{"$f":"Orders!B1139/$C1138","v":{"$error":"#N/A"}},{"$f":"Orders!C1139/$C1138","v":{"$error":"#N/A"}},{"$f":"Orders!D1139/$C1138","v":{"$error":"#N/A"}}]
[{"$f":"Orders!A1140","v":0},{"$f":"VLOOKUP(A1139,'Product-tool'!A:E,2,0)","v":{"$error":"#N/A"}},{"$f":"VLOOKUP(A1139&B1139,'Standard output'!A:D,4,0)","v":{"$error":"#N/A"}},{"$f":"Orders!B1140/$C1139","v":{"$error":"#N/A"}},{"$f":"Orders!C1140/$C1139","v":{"$error":"#N/A"}},{"$f":"Orders!D1140/$C1139","v":{"$error":"#N/A"}}]
[{"$f":"Orders!A1141","v":0},{"$f":"VLOOKUP(A1140,'Product-tool'!A:E,2,0)","v":{"$error":"#N/A"}},{"$f":"VLOOKUP(A1140&B1140,'Standard output'!A:D,4,0)","v":{"$error":"#N/A"}},{"$f":"Orders!B1141/$C1140","v":{"$error":"#N/A"}},{"$f":"Orders!C1141/$C1140","v":{"$error":"#N/A"}},{"$f":"Orders!D1141/$C1140","v":{"$error":"#N/A"}}]
[{"$f":"Orders!A1142","v":0},{"$f":"VLOOKUP(A1141,'Product-tool'!A:E,2,0)","v":{"$error":"#N/A"}},{"$f":"VLOOKUP(A1141&B1141,'Standard output'!A:D,4,0)","v":{"$error":"#N/A"}},{"$f":"Orders!B1142/$C1141","v":{"$error":"#N/A"}},{"$f":"Orders!C1142/$C1141","v":{"$error":"#N/A"}},{"$f":"Orders!D1142/$C1141","v":{"$error":"#N/A"}}]
[{"$f":"Orders!A1143","v":0},{"$f":"VLOOKUP(A1142,'Product-tool'!A:E,2,0)","v":{"$error":"#N/A"}},{"$f":"VLOOKUP(A1142&B1142,'Standard output'!A:D,4,0)","v":{"$error":"#N/A"}},{"$f":"Orders!B1143/$C1142","v":{"$error":"#N/A"}},{"$f":"Orders!C1143/$C1142","v":{"$error":"#N/A"}},{"$f":"Orders!D1143/$C1142","v":{"$error":"#N/A"}}]
[{"$f":"Orders!A1144","v":0},{"$f":"VLOOKUP(A1143,'Product-tool'!A:E,2,0)","v":{"$error":"#N/A"}},{"$f":"VLOOKUP(A1143&B1143,'Standard output'!A:D,4,0)","v":{"$error":"#N/A"}},{"$f":"Orders!B1144/$C1143","v":{"$error":"#N/A"}},{"$f":"Orders!C1144/$C1143","v":{"$error":"#N/A"}},{"$f":"Orders!D1144/$C1143","v":{"$error":"#N/A"}}]
[{"$f":"Orders!A1145","v":0},{"$f":"VLOOKUP(A1144,'Product-tool'!A:E,2,0)","v":{"$error":"#N/A"}},{"$f":"VLOOKUP(A1144&B1144,'Standard output'!A:D,4,0)","v":{"$error":"#N/A"}},{"$f":"Orders!B1145/$C1144","v":{"$error":"#N/A"}},{"$f":"Orders!C1145/$C1144","v":{"$error":"#N/A"}},{"$f":"Orders!D1145/$C1144","v":{"$error":"#N/A"}}]
[{"$f":"Orders!A1146","v":0},{"$f":"VLOOKUP(A1145,'Product-tool'!A:E,2,0)","v":{"$error":"#N/A"}},{"$f":"VLOOKUP(A1145&B1145,'Standard output'!A:D,4,0)","v":{"$error":"#N/A"}},{"$f":"Orders!B1146/$C1145","v":{"$error":"#N/A"}},{"$f":"Orders!C1146/$C1145","v":{"$error":"#N/A"}},{"$f":"Orders!D1146/$C1145","v":{"$error":"#N/A"}}]
[{"$f":"Orders!A1147","v":0},{"$f":"VLOOKUP(A1146,'Product-tool'!A:E,2,0)","v":{"$error":"#N/A"}},{"$f":"VLOOKUP(A1146&B1146,'Standard output'!A:D,4,0)","v":{"$error":"#N/A"}},{"$f":"Orders!B1147/$C1146","v":{"$error":"#N/A"}},{"$f":"Orders!C1147/$C1146","v":{"$error":"#N/A"}},{"$f":"Orders!D1147/$C1146","v":{"$error":"#N/A"}}]
[{"$f":"Orders!A1148","v":0},{"$f":"VLOOKUP(A1147,'Product-tool'!A:E,2,0)","v":{"$error":"#N/A"}},{"$f":"VLOOKUP(A1147&B1147,'Standard output'!A:D,4,0)","v":{"$error":"#N/A"}},{"$f":"Orders!B1148/$C1147","v":{"$error":"#N/A"}},{"$f":"Orders!C1148/$C1147","v":{"$error":"#N/A"}},{"$f":"Orders!D1148/$C1147","v":{"$error":"#N/A"}}]
[{"$f":"Orders!A1149","v":0},{"$f":"VLOOKUP(A1148,'Product-tool'!A:E,2,0)","v":{"$error":"#N/A"}},{"$f":"VLOOKUP(A1148&B1148,'Standard output'!A:D,4,0)","v":{"$error":"#N/A"}},{"$f":"Orders!B1149/$C1148","v":{"$error":"#N/A"}},{"$f":"Orders!C1149/$C1148","v":{"$error":"#N/A"}},{"$f":"Orders!D1149/$C1148","v":{"$error":"#N/A"}}]
[{"$f":"Orders!A1150","v":0},{"$f":"VLOOKUP(A1149,'Product-tool'!A:E,2,0)","v":{"$error":"#N/A"}},{"$f":"VLOOKUP(A1149&B1149,'Standard output'!A:D,4,0)","v":{"$error":"#N/A"}},{"$f":"Orders!B1150/$C1149","v":{"$error":"#N/A"}},{"$f":"Orders!C1150/$C1149","v":{"$error":"#N/A"}},{"$f":"Orders!D1150/$C1149","v":{"$error":"#N/A"}}]
[{"$f":"Orders!A1151","v":0},{"$f":"VLOOKUP(A1150,'Product-tool'!A:E,2,0)","v":{"$error":"#N/A"}},{"$f":"VLOOKUP(A1150&B1150,'Standard output'!A:D,4,0)","v":{"$error":"#N/A"}},{"$f":"Orders!B1151/$C1150","v":{"$error":"#N/A"}},{"$f":"Orders!C1151/$C1150","v":{"$error":"#N/A"}},{"$f":"Orders!D1151/$C1150","v":{"$error":"#N/A"}}]
[{"$f":"Orders!A1152","v":0},{"$f":"VLOOKUP(A1151,'Product-tool'!A:E,2,0)","v":{"$error":"#N/A"}},{"$f":"VLOOKUP(A1151&B1151,'Standard output'!A:D,4,0)","v":{"$error":"#N/A"}},{"$f":"Orders!B1152/$C1151","v":{"$error":"#N/A"}},{"$f":"Orders!C1152/$C1151","v":{"$error":"#N/A"}},{"$f":"Orders!D1152/$C1151","v":{"$error":"#N/A"}}]
[{"$f":"Orders!A1153","v":0},{"$f":"VLOOKUP(A1152,'Product-tool'!A:E,2,0)","v":{"$error":"#N/A"}},{"$f":"VLOOKUP(A1152&B1152,'Standard output'!A:D,4,0)","v":{"$error":"#N/A"}},{"$f":"Orders!B1153/$C1152","v":{"$error":"#N/A"}},{"$f":"Orders!C1153/$C1152","v":{"$error":"#N/A"}},{"$f":"Orders!D1153/$C1152","v":{"$error":"#N/A"}}]
[{"$f":"Orders!A1154","v":0},{"$f":"VLOOKUP(A1153,'Product-tool'!A:E,2,0)","v":{"$error":"#N/A"}},{"$f":"VLOOKUP(A1153&B1153,'Standard output'!A:D,4,0)","v":{"$error":"#N/A"}},{"$f":"Orders!B1154/$C1153","v":{"$error":"#N/A"}},{"$f":"Orders!C1154/$C1153","v":{"$error":"#N/A"}},{"$f":"Orders!D1154/$C1153","v":{"$error":"#N/A"}}]
[{"$f":"Orders!A1155","v":0},{"$f":"VLOOKUP(A1154,'Product-tool'!A:E,2,0)","v":{"$error":"#N/A"}},{"$f":"VLOOKUP(A1154&B1154,'Standard output'!A:D,4,0)","v":{"$error":"#N/A"}},{"$f":"Orders!B1155/$C1154","v":{"$error":"#N/A"}},{"$f":"Orders!C1155/$C1154","v":{"$error":"#N/A"}},{"$f":"Orders!D1155/$C1154","v":{"$error":"#N/A"}}]
[{"$f":"Orders!A1156","v":0},{"$f":"VLOOKUP(A1155,'Product-tool'!A:E,2,0)","v":{"$error":"#N/A"}},{"$f":"VLOOKUP(A1155&B1155,'Standard output'!A:D,4,0)","v":{"$error":"#N/A"}},{"$f":"Orders!B1156/$C1155","v":{"$error":"#N/A"}},{"$f":"Orders!C1156/$C1155","v":{"$error":"#N/A"}},{"$f":"Orders!D1156/$C1155","v":{"$error":"#N/A"}}]
[{"$f":"Orders!A1157","v":0},{"$f":"VLOOKUP(A1156,'Product-tool'!A:E,2,0)","v":{"$error":"#N/A"}},{"$f":"VLOOKUP(A1156&B1156,'Standard output'!A:D,4,0)","v":{"$error":"#N/A"}},{"$f":"Orders!B1157/$C1156","v":{"$error":"#N/A"}},{"$f":"Orders!C1157/$C1156","v":{"$error":"#N/A"}},{"$f":"Orders!D1157/$C1156","v":{"$error":"#N/A"}}]
[{"$f":"Orders!A1158","v":0},{"$f":"VLOOKUP(A1157,'Product-tool'!A:E,2,0)","v":{"$error":"#N/A"}},{"$f":"VLOOKUP(A1157&B1157,'Standard output'!A:D,4,0)","v":{"$error":"#N/A"}},{"$f":"Orders!B1158/$C1157","v":{"$error":"#N/A"}},{"$f":"Orders!C1158/$C1157","v":{"$error":"#N/A"}},{"$f":"Orders!D1158/$C1157","v":{"$error":"#N/A"}}]
[{"$f":"Orders!A1159","v":0},{"$f":"VLOOKUP(A1158,'Product-tool'!A:E,2,0)","v":{"$error":"#N/A"}},{"$f":"VLOOKUP(A1158&B1158,'Standard output'!A:D,4,0)","v":{"$error":"#N/A"}},{"$f":"Orders!B1159/$C1158","v":{"$error":"#N/A"}},{"$f":"Orders!C1159/$C1158","v":{"$error":"#N/A"}},{"$f":"Orders!D1159/$C1158","v":{"$error":"#N/A"}}]
[{"$f":"Orders!A1160","v":0},{"$f":"VLOOKUP(A1159,'Product-tool'!A:E,2,0)","v":{"$error":"#N/A"}},{"$f":"VLOOKUP(A1159&B1159,'Standard output'!A:D,4,0)","v":{"$error":"#N/A"}},{"$f":"Orders!B1160/$C1159","v":{"$error":"#N/A"}},{"$f":"Orders!C1160/$C1159","v":{"$error":"#N/A"}},{"$f":"Orders!D1160/$C1159","v":{"$error":"#N/A"}}]
[{"$f":"Orders!A1161","v":0},{"$f":"VLOOKUP(A1160,'Product-tool'!A:E,2,0)","v":{"$error":"#N/A"}},{"$f":"VLOOKUP(A1160&B1160,'Standard output'!A:D,4,0)","v":{"$error":"#N/A"}},{"$f":"Orders!B1161/$C1160","v":{"$error":"#N/A"}},{"$f":"Orders!C1161/$C1160","v":{"$error":"#N/A"}},{"$f":"Orders!D1161/$C1160","v":{"$error":"#N/A"}}]
[{"$f":"Orders!A1162","v":0},{"$f":"VLOOKUP(A1161,'Product-tool'!A:E,2,0)","v":{"$error":"#N/A"}},{"$f":"VLOOKUP(A1161&B1161,'Standard output'!A:D,4,0)","v":{"$error":"#N/A"}},{"$f":"Orders!B1162/$C1161","v":{"$error":"#N/A"}},{"$f":"Orders!C1162/$C1161","v":{"$error":"#N/A"}},{"$f":"Orders!D1162/$C1161","v":{"$error":"#N/A"}}]
[{"$f":"Orders!A1163","v":0},{"$f":"VLOOKUP(A1162,'Product-tool'!A:E,2,0)","v":{"$error":"#N/A"}},{"$f":"VLOOKUP(A1162&B1162,'Standard output'!A:D,4,0)","v":{"$error":"#N/A"}},{"$f":"Orders!B1163/$C1162","v":{"$error":"#N/A"}},{"$f":"Orders!C1163/$C1162","v":{"$error":"#N/A"}},{"$f":"Orders!D1163/$C1162","v":{"$error":"#N/A"}}]
[{"$f":"Orders!A1164","v":0},{"$f":"VLOOKUP(A1163,'Product-tool'!A:E,2,0)","v":{"$error":"#N/A"}},{"$f":"VLOOKUP(A1163&B1163,'Standard output'!A:D,4,0)","v":{"$error":"#N/A"}},{"$f":"Orders!B1164/$C1163","v":{"$error":"#N/A"}},{"$f":"Orders!C1164/$C1163","v":{"$error":"#N/A"}},{"$f":"Orders!D1164/$C1163","v":{"$error":"#N/A"}}]
[{"$f":"Orders!A1165","v":0},{"$f":"VLOOKUP(A1164,'Product-tool'!A:E,2,0)","v":{"$error":"#N/A"}},{"$f":"VLOOKUP(A1164&B1164,'Standard output'!A:D,4,0)","v":{"$error":"#N/A"}},{"$f":"Orders!B1165/$C1164","v":{"$error":"#N/A"}},{"$f":"Orders!C1165/$C1164","v":{"$error":"#N/A"}},{"$f":"Orders!D1165/$C1164","v":{"$error":"#N/A"}}]
[{"$f":"Orders!A1166","v":0},{"$f":"VLOOKUP(A1165,'Product-tool'!A:E,2,0)","v":{"$error":"#N/A"}},{"$f":"VLOOKUP(A1165&B1165,'Standard output'!A:D,4,0)","v":{"$error":"#N/A"}},{"$f":"Orders!B1166/$C1165","v":{"$error":"#N/A"}},{"$f":"Orders!C1166/$C1165","v":{"$error":"#N/A"}},{"$f":"Orders!D1166/$C1165","v":{"$error":"#N/A"}}]
[{"$f":"Orders!A1167","v":0},{"$f":"VLOOKUP(A1166,'Product-tool'!A:E,2,0)","v":{"$error":"#N/A"}},{"$f":"VLOOKUP(A1166&B1166,'Standard output'!A:D,4,0)","v":{"$error":"#N/A"}},{"$f":"Orders!B1167/$C1166","v":{"$error":"#N/A"}},{"$f":"Orders!C1167/$C1166","v":{"$error":"#N/A"}},{"$f":"Orders!D1167/$C1166","v":{"$error":"#N/A"}}]
[{"$f":"Orders!A1168","v":0},{"$f":"VLOOKUP(A1167,'Product-tool'!A:E,2,0)","v":{"$error":"#N/A"}},{"$f":"VLOOKUP(A1167&B1167,'Standard output'!A:D,4,0)","v":{"$error":"#N/A"}},{"$f":"Orders!B1168/$C1167","v":{"$error":"#N/A"}},{"$f":"Orders!C1168/$C1167","v":{"$error":"#N/A"}},{"$f":"Orders!D1168/$C1167","v":{"$error":"#N/A"}}]
[{"$f":"Orders!A1169","v":0},{"$f":"VLOOKUP(A1168,'Product-tool'!A:E,2,0)","v":{"$error":"#N/A"}},{"$f":"VLOOKUP(A1168&B1168,'Standard output'!A:D,4,0)","v":{"$error":"#N/A"}},{"$f":"Orders!B1169/$C1168","v":{"$error":"#N/A"}},{"$f":"Orders!C1169/$C1168","v":{"$error":"#N/A"}},{"$f":"Orders!D1169/$C1168","v":{"$error":"#N/A"}}]
[{"$f":"Orders!A1170","v":0},{"$f":"VLOOKUP(A1169,'Product-tool'!A:E,2,0)","v":{"$error":"#N/A"}},{"$f":"VLOOKUP(A1169&B1169,'Standard output'!A:D,4,0)","v":{"$error":"#N/A"}},{"$f":"Orders!B1170/$C1169","v":{"$error":"#N/A"}},{"$f":"Orders!C1170/$C1169","v":{"$error":"#N/A"}},{"$f":"Orders!D1170/$C1169","v":{"$error":"#N/A"}}]
[{"$f":"Orders!A1171","v":0},{"$f":"VLOOKUP(A1170,'Product-tool'!A:E,2,0)","v":{"$error":"#N/A"}},{"$f":"VLOOKUP(A1170&B1170,'Standard output'!A:D,4,0)","v":{"$error":"#N/A"}},{"$f":"Orders!B1171/$C1170","v":{"$error":"#N/A"}},{"$f":"Orders!C1171/$C1170","v":{"$error":"#N/A"}},{"$f":"Orders!D1171/$C1170","v":{"$error":"#N/A"}}]
[{"$f":"Orders!A1172","v":0},{"$f":"VLOOKUP(A1171,'Product-tool'!A:E,2,0)","v":{"$error":"#N/A"}},{"$f":"VLOOKUP(A1171&B1171,'Standard output'!A:D,4,0)","v":{"$error":"#N/A"}},{"$f":"Orders!B1172/$C1171","v":{"$error":"#N/A"}},{"$f":"Orders!C1172/$C1171","v":{"$error":"#N/A"}},{"$f":"Orders!D1172/$C1171","v":{"$error":"#N/A"}}]
[{"$f":"Orders!A1173","v":0},{"$f":"VLOOKUP(A1172,'Product-tool'!A:E,2,0)","v":{"$error":"#N/A"}},{"$f":"VLOOKUP(A1172&B1172,'Standard output'!A:D,4,0)","v":{"$error":"#N/A"}},{"$f":"Orders!B1173/$C1172","v":{"$error":"#N/A"}},{"$f":"Orders!C1173/$C1172","v":{"$error":"#N/A"}},{"$f":"Orders!D1173/$C1172","v":{"$error":"#N/A"}}]
[{"$f":"Orders!A1174","v":0},{"$f":"VLOOKUP(A1173,'Product-tool'!A:E,2,0)","v":{"$error":"#N/A"}},{"$f":"VLOOKUP(A1173&B1173,'Standard output'!A:D,4,0)","v":{"$error":"#N/A"}},{"$f":"Orders!B1174/$C1173","v":{"$error":"#N/A"}},{"$f":"Orders!C1174/$C1173","v":{"$error":"#N/A"}},{"$f":"Orders!D1174/$C1173","v":{"$error":"#N/A"}}]
[{"$f":"Orders!A1175","v":0},{"$f":"VLOOKUP(A1174,'Product-tool'!A:E,2,0)","v":{"$error":"#N/A"}},{"$f":"VLOOKUP(A1174&B1174,'Standard output'!A:D,4,0)","v":{"$error":"#N/A"}},{"$f":"Orders!B1175/$C1174","v":{"$error":"#N/A"}},{"$f":"Orders!C1175/$C1174","v":{"$error":"#N/A"}},{"$f":"Orders!D1175/$C1174","v":{"$error":"#N/A"}}]
[{"$f":"Orders!A1176","v":0},{"$f":"VLOOKUP(A1175,'Product-tool'!A:E,2,0)","v":{"$error":"#N/A"}},{"$f":"VLOOKUP(A1175&B1175,'Standard output'!A:D,4,0)","v":{"$error":"#N/A"}},{"$f":"Orders!B1176/$C1175","v":{"$error":"#N/A"}},{"$f":"Orders!C1176/$C1175","v":{"$error":"#N/A"}},{"$f":"Orders!D1176/$C1175","v":{"$error":"#N/A"}}]
[{"$f":"Orders!A1177","v":0},{"$f":"VLOOKUP(A1176,'Product-tool'!A:E,2,0)","v":{"$error":"#N/A"}},{"$f":"VLOOKUP(A1176&B1176,'Standard output'!A:D,4,0)","v":{"$error":"#N/A"}},{"$f":"Orders!B1177/$C1176","v":{"$error":"#N/A"}},{"$f":"Orders!C1177/$C1176","v":{"$error":"#N/A"}},{"$f":"Orders!D1177/$C1176","v":{"$error":"#N/A"}}]
[{"$f":"Orders!A1178","v":0},{"$f":"VLOOKUP(A1177,'Product-tool'!A:E,2,0)","v":{"$error":"#N/A"}},{"$f":"VLOOKUP(A1177&B1177,'Standard output'!A:D,4,0)","v":{"$error":"#N/A"}},{"$f":"Orders!B1178/$C1177","v":{"$error":"#N/A"}},{"$f":"Orders!C1178/$C1177","v":{"$error":"#N/A"}},{"$f":"Orders!D1178/$C1177","v":{"$error":"#N/A"}}]
[{"$f":"Orders!A1179","v":0},{"$f":"VLOOKUP(A1178,'Product-tool'!A:E,2,0)","v":{"$error":"#N/A"}},{"$f":"VLOOKUP(A1178&B1178,'Standard output'!A:D,4,0)","v":{"$error":"#N/A"}},{"$f":"Orders!B1179/$C1178","v":{"$error":"#N/A"}},{"$f":"Orders!C1179/$C1178","v":{"$error":"#N/A"}},{"$f":"Orders!D1179/$C1178","v":{"$error":"#N/A"}}]
[{"$f":"Orders!A1180","v":0},{"$f":"VLOOKUP(A1179,'Product-tool'!A:E,2,0)","v":{"$error":"#N/A"}},{"$f":"VLOOKUP(A1179&B1179,'Standard output'!A:D,4,0)","v":{"$error":"#N/A"}},{"$f":"Orders!B1180/$C1179","v":{"$error":"#N/A"}},{"$f":"Orders!C1180/$C1179","v":{"$error":"#N/A"}},{"$f":"Orders!D1180/$C1179","v":{"$error":"#N/A"}}]
[{"$f":"Orders!A1181","v":0},{"$f":"VLOOKUP(A1180,'Product-tool'!A:E,2,0)","v":{"$error":"#N/A"}},{"$f":"VLOOKUP(A1180&B1180,'Standard output'!A:D,4,0)","v":{"$error":"#N/A"}},{"$f":"Orders!B1181/$C1180","v":{"$error":"#N/A"}},{"$f":"Orders!C1181/$C1180","v":{"$error":"#N/A"}},{"$f":"Orders!D1181/$C1180","v":{"$error":"#N/A"}}]
[{"$f":"Orders!A1182","v":0},{"$f":"VLOOKUP(A1181,'Product-tool'!A:E,2,0)","v":{"$error":"#N/A"}},{"$f":"VLOOKUP(A1181&B1181,'Standard output'!A:D,4,0)","v":{"$error":"#N/A"}},{"$f":"Orders!B1182/$C1181","v":{"$error":"#N/A"}},{"$f":"Orders!C1182/$C1181","v":{"$error":"#N/A"}},{"$f":"Orders!D1182/$C1181","v":{"$error":"#N/A"}}]
[{"$f":"Orders!A1183","v":0},{"$f":"VLOOKUP(A1182,'Product-tool'!A:E,2,0)","v":{"$error":"#N/A"}},{"$f":"VLOOKUP(A1182&B1182,'Standard output'!A:D,4,0)","v":{"$error":"#N/A"}},{"$f":"Orders!B1183/$C1182","v":{"$error":"#N/A"}},{"$f":"Orders!C1183/$C1182","v":{"$error":"#N/A"}},{"$f":"Orders!D1183/$C1182","v":{"$error":"#N/A"}}]
[{"$f":"Orders!A1184","v":0},{"$f":"VLOOKUP(A1183,'Product-tool'!A:E,2,0)","v":{"$error":"#N/A"}},{"$f":"VLOOKUP(A1183&B1183,'Standard output'!A:D,4,0)","v":{"$error":"#N/A"}},{"$f":"Orders!B1184/$C1183","v":{"$error":"#N/A"}},{"$f":"Orders!C1184/$C1183","v":{"$error":"#N/A"}},{"$f":"Orders!D1184/$C1183","v":{"$error":"#N/A"}}]
[{"$f":"Orders!A1185","v":0},{"$f":"VLOOKUP(A1184,'Product-tool'!A:E,2,0)","v":{"$error":"#N/A"}},{"$f":"VLOOKUP(A1184&B1184,'Standard output'!A:D,4,0)","v":{"$error":"#N/A"}},{"$f":"Orders!B1185/$C1184","v":{"$error":"#N/A"}},{"$f":"Orders!C1185/$C1184","v":{"$error":"#N/A"}},{"$f":"Orders!D1185/$C1184","v":{"$error":"#N/A"}}]
[{"$f":"Orders!A1186","v":0},{"$f":"VLOOKUP(A1185,'Product-tool'!A:E,2,0)","v":{"$error":"#N/A"}},{"$f":"VLOOKUP(A1185&B1185,'Standard output'!A:D,4,0)","v":{"$error":"#N/A"}},{"$f":"Orders!B1186/$C1185","v":{"$error":"#N/A"}},{"$f":"Orders!C1186/$C1185","v":{"$error":"#N/A"}},{"$f":"Orders!D1186/$C1185","v":{"$error":"#N/A"}}]
[{"$f":"Orders!A1187","v":0},{"$f":"VLOOKUP(A1186,'Product-tool'!A:E,2,0)","v":{"$error":"#N/A"}},{"$f":"VLOOKUP(A1186&B1186,'Standard output'!A:D,4,0)","v":{"$error":"#N/A"}},{"$f":"Orders!B1187/$C1186","v":{"$error":"#N/A"}},{"$f":"Orders!C1187/$C1186","v":{"$error":"#N/A"}},{"$f":"Orders!D1187/$C1186","v":{"$error":"#N/A"}}]
[{"$f":"Orders!A1188","v":0},{"$f":"VLOOKUP(A1187,'Product-tool'!A:E,2,0)","v":{"$error":"#N/A"}},{"$f":"VLOOKUP(A1187&B1187,'Standard output'!A:D,4,0)","v":{"$error":"#N/A"}},{"$f":"Orders!B1188/$C1187","v":{"$error":"#N/A"}},{"$f":"Orders!C1188/$C1187","v":{"$error":"#N/A"}},{"$f":"Orders!D1188/$C1187","v":{"$error":"#N/A"}}]
[{"$f":"Orders!A1189","v":0},{"$f":"VLOOKUP(A1188,'Product-tool'!A:E,2,0)","v":{"$error":"#N/A"}},{"$f":"VLOOKUP(A1188&B1188,'Standard output'!A:D,4,0)","v":{"$error":"#N/A"}},{"$f":"Orders!B1189/$C1188","v":{"$error":"#N/A"}},{"$f":"Orders!C1189/$C1188","v":{"$error":"#N/A"}},{"$f":"Orders!D1189/$C1188","v":{"$error":"#N/A"}}]
[{"$f":"Orders!A1190","v":0},{"$f":"VLOOKUP(A1189,'Product-tool'!A:E,2,0)","v":{"$error":"#N/A"}},{"$f":"VLOOKUP(A1189&B1189,'Standard output'!A:D,4,0)","v":{"$error":"#N/A"}},{"$f":"Orders!B1190/$C1189","v":{"$error":"#N/A"}},{"$f":"Orders!C1190/$C1189","v":{"$error":"#N/A"}},{"$f":"Orders!D1190/$C1189","v":{"$error":"#N/A"}}]
[{"$f":"Orders!A1191","v":0},{"$f":"VLOOKUP(A1190,'Product-tool'!A:E,2,0)","v":{"$error":"#N/A"}},{"$f":"VLOOKUP(A1190&B1190,'Standard output'!A:D,4,0)","v":{"$error":"#N/A"}},{"$f":"Orders!B1191/$C1190","v":{"$error":"#N/A"}},{"$f":"Orders!C1191/$C1190","v":{"$error":"#N/A"}},{"$f":"Orders!D1191/$C1190","v":{"$error":"#N/A"}}]
[{"$f":"Orders!A1192","v":0},{"$f":"VLOOKUP(A1191,'Product-tool'!A:E,2,0)","v":{"$error":"#N/A"}},{"$f":"VLOOKUP(A1191&B1191,'Standard output'!A:D,4,0)","v":{"$error":"#N/A"}},{"$f":"Orders!B1192/$C1191","v":{"$error":"#N/A"}},{"$f":"Orders!C1192/$C1191","v":{"$error":"#N/A"}},{"$f":"Orders!D1192/$C1191","v":{"$error":"#N/A"}}]
[{"$f":"Orders!A1193","v":0},{"$f":"VLOOKUP(A1192,'Product-tool'!A:E,2,0)","v":{"$error":"#N/A"}},{"$f":"VLOOKUP(A1192&B1192,'Standard output'!A:D,4,0)","v":{"$error":"#N/A"}},{"$f":"Orders!B1193/$C1192","v":{"$error":"#N/A"}},{"$f":"Orders!C1193/$C1192","v":{"$error":"#N/A"}},{"$f":"Orders!D1193/$C1192","v":{"$error":"#N/A"}}]
[{"$f":"Orders!A1194","v":0},{"$f":"VLOOKUP(A1193,'Product-tool'!A:E,2,0)","v":{"$error":"#N/A"}},{"$f":"VLOOKUP(A1193&B1193,'Standard output'!A:D,4,0)","v":{"$error":"#N/A"}},{"$f":"Orders!B1194/$C1193","v":{"$error":"#N/A"}},{"$f":"Orders!C1194/$C1193","v":{"$error":"#N/A"}},{"$f":"Orders!D1194/$C1193","v":{"$error":"#N/A"}}]
[{"$f":"Orders!A1195","v":0},{"$f":"VLOOKUP(A1194,'Product-tool'!A:E,2,0)","v":{"$error":"#N/A"}},{"$f":"VLOOKUP(A1194&B1194,'Standard output'!A:D,4,0)","v":{"$error":"#N/A"}},{"$f":"Orders!B1195/$C1194","v":{"$error":"#N/A"}},{"$f":"Orders!C1195/$C1194","v":{"$error":"#N/A"}},{"$f":"Orders!D1195/$C1194","v":{"$error":"#N/A"}}]
[{"$f":"Orders!A1196","v":0},{"$f":"VLOOKUP(A1195,'Product-tool'!A:E,2,0)","v":{"$error":"#N/A"}},{"$f":"VLOOKUP(A1195&B1195,'Standard output'!A:D,4,0)","v":{"$error":"#N/A"}},{"$f":"Orders!B1196/$C1195","v":{"$error":"#N/A"}},{"$f":"Orders!C1196/$C1195","v":{"$error":"#N/A"}},{"$f":"Orders!D1196/$C1195","v":{"$error":"#N/A"}}]
[{"$f":"Orders!A1197","v":0},{"$f":"VLOOKUP(A1196,'Product-tool'!A:E,2,0)","v":{"$error":"#N/A"}},{"$f":"VLOOKUP(A1196&B1196,'Standard output'!A:D,4,0)","v":{"$error":"#N/A"}},{"$f":"Orders!B1197/$C1196","v":{"$error":"#N/A"}},{"$f":"Orders!C1197/$C1196","v":{"$error":"#N/A"}},{"$f":"Orders!D1197/$C1196","v":{"$error":"#N/A"}}]
[{"$f":"Orders!A1198","v":0},{"$f":"VLOOKUP(A1197,'Product-tool'!A:E,2,0)","v":{"$error":"#N/A"}},{"$f":"VLOOKUP(A1197&B1197,'Standard output'!A:D,4,0)","v":{"$error":"#N/A"}},{"$f":"Orders!B1198/$C1197","v":{"$error":"#N/A"}},{"$f":"Orders!C1198/$C1197","v":{"$error":"#N/A"}},{"$f":"Orders!D1198/$C1197","v":{"$error":"#N/A"}}]
[{"$f":"Orders!A1199","v":0},{"$f":"VLOOKUP(A1198,'Product-tool'!A:E,2,0)","v":{"$error":"#N/A"}},{"$f":"VLOOKUP(A1198&B1198,'Standard output'!A:D,4,0)","v":{"$error":"#N/A"}},{"$f":"Orders!B1199/$C1198","v":{"$error":"#N/A"}},{"$f":"Orders!C1199/$C1198","v":{"$error":"#N/A"}},{"$f":"Orders!D1199/$C1198","v":{"$error":"#N/A"}}]
[{"$f":"Orders!A1200","v":0},{"$f":"VLOOKUP(A1199,'Product-tool'!A:E,2,0)","v":{"$error":"#N/A"}},{"$f":"VLOOKUP(A1199&B1199,'Standard output'!A:D,4,0)","v":{"$error":"#N/A"}},{"$f":"Orders!B1200/$C1199","v":{"$error":"#N/A"}},{"$f":"Orders!C1200/$C1199","v":{"$error":"#N/A"}},{"$f":"Orders!D1200/$C1199","v":{"$error":"#N/A"}}]
[{"$f":"Orders!A1201","v":0},{"$f":"VLOOKUP(A1200,'Product-tool'!A:E,2,0)","v":{"$error":"#N/A"}},{"$f":"VLOOKUP(A1200&B1200,'Standard output'!A:D,4,0)","v":{"$error":"#N/A"}},{"$f":"Orders!B1201/$C1200","v":{"$error":"#N/A"}},{"$f":"Orders!C1201/$C1200","v":{"$error":"#N/A"}},{"$f":"Orders!D1201/$C1200","v":{"$error":"#N/A"}}]
[{"$f":"Orders!A1202","v":0},{"$f":"VLOOKUP(A1201,'Product-tool'!A:E,2,0)","v":{"$error":"#N/A"}},{"$f":"VLOOKUP(A1201&B1201,'Standard output'!A:D,4,0)","v":{"$error":"#N/A"}},{"$f":"Orders!B1202/$C1201","v":{"$error":"#N/A"}},{"$f":"Orders!C1202/$C1201","v":{"$error":"#N/A"}},{"$f":"Orders!D1202/$C1201","v":{"$error":"#N/A"}}]
[{"$f":"Orders!A1203","v":0},{"$f":"VLOOKUP(A1202,'Product-tool'!A:E,2,0)","v":{"$error":"#N/A"}},{"$f":"VLOOKUP(A1202&B1202,'Standard output'!A:D,4,0)","v":{"$error":"#N/A"}},{"$f":"Orders!B1203/$C1202","v":{"$error":"#N/A"}},{"$f":"Orders!C1203/$C1202","v":{"$error":"#N/A"}},{"$f":"Orders!D1203/$C1202","v":{"$error":"#N/A"}}]
[{"$f":"Orders!A1204","v":0},{"$f":"VLOOKUP(A1203,'Product-tool'!A:E,2,0)","v":{"$error":"#N/A"}},{"$f":"VLOOKUP(A1203&B1203,'Standard output'!A:D,4,0)","v":{"$error":"#N/A"}},{"$f":"Orders!B1204/$C1203","v":{"$error":"#N/A"}},{"$f":"Orders!C1204/$C1203","v":{"$error":"#N/A"}},{"$f":"Orders!D1204/$C1203","v":{"$error":"#N/A"}}]
[{"$f":"Orders!A1205","v":0},{"$f":"VLOOKUP(A1204,'Product-tool'!A:E,2,0)","v":{"$error":"#N/A"}},{"$f":"VLOOKUP(A1204&B1204,'Standard output'!A:D,4,0)","v":{"$error":"#N/A"}},{"$f":"Orders!B1205/$C1204","v":{"$error":"#N/A"}},{"$f":"Orders!C1205/$C1204","v":{"$error":"#N/A"}},{"$f":"Orders!D1205/$C1204","v":{"$error":"#N/A"}}]
[{"$f":"Orders!A1206","v":0},{"$f":"VLOOKUP(A1205,'Product-tool'!A:E,2,0)","v":{"$error":"#N/A"}},{"$f":"VLOOKUP(A1205&B1205,'Standard output'!A:D,4,0)","v":{"$error":"#N/A"}},{"$f":"Orders!B1206/$C1205","v":{"$error":"#N/A"}},{"$f":"Orders!C1206/$C1205","v":{"$error":"#N/A"}},{"$f":"Orders!D1206/$C1205","v":{"$error":"#N/A"}}]
[{"$f":"Orders!A1207","v":0},{"$f":"VLOOKUP(A1206,'Product-tool'!A:E,2,0)","v":{"$error":"#N/A"}},{"$f":"VLOOKUP(A1206&B1206,'Standard output'!A:D,4,0)","v":{"$error":"#N/A"}},{"$f":"Orders!B1207/$C1206","v":{"$error":"#N/A"}},{"$f":"Orders!C1207/$C1206","v":{"$error":"#N/A"}},{"$f":"Orders!D1207/$C1206","v":{"$error":"#N/A"}}]
[{"$f":"Orders!A1208","v":0},{"$f":"VLOOKUP(A1207,'Product-tool'!A:E,2,0)","v":{"$error":"#N/A"}},{"$f":"VLOOKUP(A1207&B1207,'Standard output'!A:D,4,0)","v":{"$error":"#N/A"}},{"$f":"Orders!B1208/$C1207","v":{"$error":"#N/A"}},{"$f":"Orders!C1208/$C1207","v":{"$error":"#N/A"}},{"$f":"Orders!D1208/$C1207","v":{"$error":"#N/A"}}]
[{"$f":"Orders!A1209","v":0},{"$f":"VLOOKUP(A1208,'Product-tool'!A:E,2,0)","v":{"$error":"#N/A"}},{"$f":"VLOOKUP(A1208&B1208,'Standard output'!A:D,4,0)","v":{"$error":"#N/A"}},{"$f":"Orders!B1209/$C1208","v":{"$error":"#N/A"}},{"$f":"Orders!C1209/$C1208","v":{"$error":"#N/A"}},{"$f":"Orders!D1209/$C1208","v":{"$error":"#N/A"}}]
[{"$f":"Orders!A1210","v":0},{"$f":"VLOOKUP(A1209,'Product-tool'!A:E,2,0)","v":{"$error":"#N/A"}},{"$f":"VLOOKUP(A1209&B1209,'Standard output'!A:D,4,0)","v":{"$error":"#N/A"}},{"$f":"Orders!B1210/$C1209","v":{"$error":"#N/A"}},{"$f":"Orders!C1210/$C1209","v":{"$error":"#N/A"}},{"$f":"Orders!D1210/$C1209","v":{"$error":"#N/A"}}]
[{"$f":"Orders!A1211","v":0},{"$f":"VLOOKUP(A1210,'Product-tool'!A:E,2,0)","v":{"$error":"#N/A"}},{"$f":"VLOOKUP(A1210&B1210,'Standard output'!A:D,4,0)","v":{"$error":"#N/A"}},{"$f":"Orders!B1211/$C1210","v":{"$error":"#N/A"}},{"$f":"Orders!C1211/$C1210","v":{"$error":"#N/A"}},{"$f":"Orders!D1211/$C1210","v":{"$error":"#N/A"}}]
[{"$f":"Orders!A1212","v":0},{"$f":"VLOOKUP(A1211,'Product-tool'!A:E,2,0)","v":{"$error":"#N/A"}},{"$f":"VLOOKUP(A1211&B1211,'Standard output'!A:D,4,0)","v":{"$error":"#N/A"}},{"$f":"Orders!B1212/$C1211","v":{"$error":"#N/A"}},{"$f":"Orders!C1212/$C1211","v":{"$error":"#N/A"}},{"$f":"Orders!D1212/$C1211","v":{"$error":"#N/A"}}]
[{"$f":"Orders!A1213","v":0},{"$f":"VLOOKUP(A1212,'Product-tool'!A:E,2,0)","v":{"$error":"#N/A"}},{"$f":"VLOOKUP(A1212&B1212,'Standard output'!A:D,4,0)","v":{"$error":"#N/A"}},{"$f":"Orders!B1213/$C1212","v":{"$error":"#N/A"}},{"$f":"Orders!C1213/$C1212","v":{"$error":"#N/A"}},{"$f":"Orders!D1213/$C1212","v":{"$error":"#N/A"}}]
[{"$f":"Orders!A1214","v":0},{"$f":"VLOOKUP(A1213,'Product-tool'!A:E,2,0)","v":{"$error":"#N/A"}},{"$f":"VLOOKUP(A1213&B1213,'Standard output'!A:D,4,0)","v":{"$error":"#N/A"}},{"$f":"Orders!B1214/$C1213","v":{"$error":"#N/A"}},{"$f":"Orders!C1214/$C1213","v":{"$error":"#N/A"}},{"$f":"Orders!D1214/$C1213","v":{"$error":"#N/A"}}]
[{"$f":"Orders!A1215","v":0},{"$f":"VLOOKUP(A1214,'Product-tool'!A:E,2,0)","v":{"$error":"#N/A"}},{"$f":"VLOOKUP(A1214&B1214,'Standard output'!A:D,4,0)","v":{"$error":"#N/A"}},{"$f":"Orders!B1215/$C1214","v":{"$error":"#N/A"}},{"$f":"Orders!C1215/$C1214","v":{"$error":"#N/A"}},{"$f":"Orders!D1215/$C1214","v":{"$error":"#N/A"}}]
[{"$f":"Orders!A1216","v":0},{"$f":"VLOOKUP(A1215,'Product-tool'!A:E,2,0)","v":{"$error":"#N/A"}},{"$f":"VLOOKUP(A1215&B1215,'Standard output'!A:D,4,0)","v":{"$error":"#N/A"}},{"$f":"Orders!B1216/$C1215","v":{"$error":"#N/A"}},{"$f":"Orders!C1216/$C1215","v":{"$error":"#N/A"}},{"$f":"Orders!D1216/$C1215","v":{"$error":"#N/A"}}]
[{"$f":"Orders!A1217","v":0},{"$f":"VLOOKUP(A1216,'Product-tool'!A:E,2,0)","v":{"$error":"#N/A"}},{"$f":"VLOOKUP(A1216&B1216,'Standard output'!A:D,4,0)","v":{"$error":"#N/A"}},{"$f":"Orders!B1217/$C1216","v":{"$error":"#N/A"}},{"$f":"Orders!C1217/$C1216","v":{"$error":"#N/A"}},{"$f":"Orders!D1217/$C1216","v":{"$error":"#N/A"}}]
[{"$f":"Orders!A1218","v":0},{"$f":"VLOOKUP(A1217,'Product-tool'!A:E,2,0)","v":{"$error":"#N/A"}},{"$f":"VLOOKUP(A1217&B1217,'Standard output'!A:D,4,0)","v":{"$error":"#N/A"}},{"$f":"Orders!B1218/$C1217","v":{"$error":"#N/A"}},{"$f":"Orders!C1218/$C1217","v":{"$error":"#N/A"}},{"$f":"Orders!D1218/$C1217","v":{"$error":"#N/A"}}]
[{"$f":"Orders!A1219","v":0},{"$f":"VLOOKUP(A1218,'Product-tool'!A:E,2,0)","v":{"$error":"#N/A"}},{"$f":"VLOOKUP(A1218&B1218,'Standard output'!A:D,4,0)","v":{"$error":"#N/A"}},{"$f":"Orders!B1219/$C1218","v":{"$error":"#N/A"}},{"$f":"Orders!C1219/$C1218","v":{"$error":"#N/A"}},{"$f":"Orders!D1219/$C1218","v":{"$error":"#N/A"}}]
[{"$f":"Orders!A1220","v":0},{"$f":"VLOOKUP(A1219,'Product-tool'!A:E,2,0)","v":{"$error":"#N/A"}},{"$f":"VLOOKUP(A1219&B1219,'Standard output'!A:D,4,0)","v":{"$error":"#N/A"}},{"$f":"Orders!B1220/$C1219","v":{"$error":"#N/A"}},{"$f":"Orders!C1220/$C1219","v":{"$error":"#N/A"}},{"$f":"Orders!D1220/$C1219","v":{"$error":"#N/A"}}]
[{"$f":"Orders!A1221","v":0},{"$f":"VLOOKUP(A1220,'Product-tool'!A:E,2,0)","v":{"$error":"#N/A"}},{"$f":"VLOOKUP(A1220&B1220,'Standard output'!A:D,4,0)","v":{"$error":"#N/A"}},{"$f":"Orders!B1221/$C1220","v":{"$error":"#N/A"}},{"$f":"Orders!C1221/$C1220","v":{"$error":"#N/A"}},{"$f":"Orders!D1221/$C1220","v":{"$error":"#N/A"}}]
[{"$f":"Orders!A1222","v":0},{"$f":"VLOOKUP(A1221,'Product-tool'!A:E,2,0)","v":{"$error":"#N/A"}},{"$f":"VLOOKUP(A1221&B1221,'Standard output'!A:D,4,0)","v":{"$error":"#N/A"}},{"$f":"Orders!B1222/$C1221","v":{"$error":"#N/A"}},{"$f":"Orders!C1222/$C1221","v":{"$error":"#N/A"}},{"$f":"Orders!D1222/$C1221","v":{"$error":"#N/A"}}]
[{"$f":"Orders!A1223","v":0},{"$f":"VLOOKUP(A1222,'Product-tool'!A:E,2,0)","v":{"$error":"#N/A"}},{"$f":"VLOOKUP(A1222&B1222,'Standard output'!A:D,4,0)","v":{"$error":"#N/A"}},{"$f":"Orders!B1223/$C1222","v":{"$error":"#N/A"}},{"$f":"Orders!C1223/$C1222","v":{"$error":"#N/A"}},{"$f":"Orders!D1223/$C1222","v":{"$error":"#N/A"}}]
[{"$f":"Orders!A1224","v":0},{"$f":"VLOOKUP(A1223,'Product-tool'!A:E,2,0)","v":{"$error":"#N/A"}},{"$f":"VLOOKUP(A1223&B1223,'Standard output'!A:D,4,0)","v":{"$error":"#N/A"}},{"$f":"Orders!B1224/$C1223","v":{"$error":"#N/A"}},{"$f":"Orders!C1224/$C1223","v":{"$error":"#N/A"}},{"$f":"Orders!D1224/$C1223","v":{"$error":"#N/A"}}]
[{"$f":"Orders!A1225","v":0},{"$f":"VLOOKUP(A1224,'Product-tool'!A:E,2,0)","v":{"$error":"#N/A"}},{"$f":"VLOOKUP(A1224&B1224,'Standard output'!A:D,4,0)","v":{"$error":"#N/A"}},{"$f":"Orders!B1225/$C1224","v":{"$error":"#N/A"}},{"$f":"Orders!C1225/$C1224","v":{"$error":"#N/A"}},{"$f":"Orders!D1225/$C1224","v":{"$error":"#N/A"}}]
[{"$f":"Orders!A1226","v":0},{"$f":"VLOOKUP(A1225,'Product-tool'!A:E,2,0)","v":{"$error":"#N/A"}},{"$f":"VLOOKUP(A1225&B1225,'Standard output'!A:D,4,0)","v":{"$error":"#N/A"}},{"$f":"Orders!B1226/$C1225","v":{"$error":"#N/A"}},{"$f":"Orders!C1226/$C1225","v":{"$error":"#N/A"}},{"$f":"Orders!D1226/$C1225","v":{"$error":"#N/A"}}]
[{"$f":"Orders!A1227","v":0},{"$f":"VLOOKUP(A1226,'Product-tool'!A:E,2,0)","v":{"$error":"#N/A"}},{"$f":"VLOOKUP(A1226&B1226,'Standard output'!A:D,4,0)","v":{"$error":"#N/A"}},{"$f":"Orders!B1227/$C1226","v":{"$error":"#N/A"}},{"$f":"Orders!C1227/$C1226","v":{"$error":"#N/A"}},{"$f":"Orders!D1227/$C1226","v":{"$error":"#N/A"}}]
[{"$f":"Orders!A1228","v":0},{"$f":"VLOOKUP(A1227,'Product-tool'!A:E,2,0)","v":{"$error":"#N/A"}},{"$f":"VLOOKUP(A1227&B1227,'Standard output'!A:D,4,0)","v":{"$error":"#N/A"}},{"$f":"Orders!B1228/$C1227","v":{"$error":"#N/A"}},{"$f":"Orders!C1228/$C1227","v":{"$error":"#N/A"}},{"$f":"Orders!D1228/$C1227","v":{"$error":"#N/A"}}]
[{"$f":"Orders!A1229","v":0},{"$f":"VLOOKUP(A1228,'Product-tool'!A:E,2,0)","v":{"$error":"#N/A"}},{"$f":"VLOOKUP(A1228&B1228,'Standard output'!A:D,4,0)","v":{"$error":"#N/A"}},{"$f":"Orders!B1229/$C1228","v":{"$error":"#N/A"}},{"$f":"Orders!C1229/$C1228","v":{"$error":"#N/A"}},{"$f":"Orders!D1229/$C1228","v":{"$error":"#N/A"}}]
[{"$f":"Orders!A1230","v":0},{"$f":"VLOOKUP(A1229,'Product-tool'!A:E,2,0)","v":{"$error":"#N/A"}},{"$f":"VLOOKUP(A1229&B1229,'Standard output'!A:D,4,0)","v":{"$error":"#N/A"}},{"$f":"Orders!B1230/$C1229","v":{"$error":"#N/A"}},{"$f":"Orders!C1230/$C1229","v":{"$error":"#N/A"}},{"$f":"Orders!D1230/$C1229","v":{"$error":"#N/A"}}]
[{"$f":"Orders!A1231","v":0},{"$f":"VLOOKUP(A1230,'Product-tool'!A:E,2,0)","v":{"$error":"#N/A"}},{"$f":"VLOOKUP(A1230&B1230,'Standard output'!A:D,4,0)","v":{"$error":"#N/A"}},{"$f":"Orders!B1231/$C1230","v":{"$error":"#N/A"}},{"$f":"Orders!C1231/$C1230","v":{"$error":"#N/A"}},{"$f":"Orders!D1231/$C1230","v":{"$error":"#N/A"}}]
[{"$f":"Orders!A1232","v":0},{"$f":"VLOOKUP(A1231,'Product-tool'!A:E,2,0)","v":{"$error":"#N/A"}},{"$f":"VLOOKUP(A1231&B1231,'Standard output'!A:D,4,0)","v":{"$error":"#N/A"}},{"$f":"Orders!B1232/$C1231","v":{"$error":"#N/A"}},{"$f":"Orders!C1232/$C1231","v":{"$error":"#N/A"}},{"$f":"Orders!D1232/$C1231","v":{"$error":"#N/A"}}]
[{"$f":"Orders!A1233","v":0},{"$f":"VLOOKUP(A1232,'Product-tool'!A:E,2,0)","v":{"$error":"#N/A"}},{"$f":"VLOOKUP(A1232&B1232,'Standard output'!A:D,4,0)","v":{"$error":"#N/A"}},{"$f":"Orders!B1233/$C1232","v":{"$error":"#N/A"}},{"$f":"Orders!C1233/$C1232","v":{"$error":"#N/A"}},{"$f":"Orders!D1233/$C1232","v":{"$error":"#N/A"}}]
[{"$f":"Orders!A1234","v":0},{"$f":"VLOOKUP(A1233,'Product-tool'!A:E,2,0)","v":{"$error":"#N/A"}},{"$f":"VLOOKUP(A1233&B1233,'Standard output'!A:D,4,0)","v":{"$error":"#N/A"}},{"$f":"Orders!B1234/$C1233","v":{"$error":"#N/A"}},{"$f":"Orders!C1234/$C1233","v":{"$error":"#N/A"}},{"$f":"Orders!D1234/$C1233","v":{"$error":"#N/A"}}]
[{"$f":"Orders!A1235","v":0},{"$f":"VLOOKUP(A1234,'Product-tool'!A:E,2,0)","v":{"$error":"#N/A"}},{"$f":"VLOOKUP(A1234&B1234,'Standard output'!A:D,4,0)","v":{"$error":"#N/A"}},{"$f":"Orders!B1235/$C1234","v":{"$error":"#N/A"}},{"$f":"Orders!C1235/$C1234","v":{"$error":"#N/A"}},{"$f":"Orders!D1235/$C1234","v":{"$error":"#N/A"}}]
[{"$f":"Orders!A1236","v":0},{"$f":"VLOOKUP(A1235,'Product-tool'!A:E,2,0)","v":{"$error":"#N/A"}},{"$f":"VLOOKUP(A1235&B1235,'Standard output'!A:D,4,0)","v":{"$error":"#N/A"}},{"$f":"Orders!B1236/$C1235","v":{"$error":"#N/A"}},{"$f":"Orders!C1236/$C1235","v":{"$error":"#N/A"}},{"$f":"Orders!D1236/$C1235","v":{"$error":"#N/A"}}]
[{"$f":"Orders!A1237","v":0},{"$f":"VLOOKUP(A1236,'Product-tool'!A:E,2,0)","v":{"$error":"#N/A"}},{"$f":"VLOOKUP(A1236&B1236,'Standard output'!A:D,4,0)","v":{"$error":"#N/A"}},{"$f":"Orders!B1237/$C1236","v":{"$error":"#N/A"}},{"$f":"Orders!C1237/$C1236","v":{"$error":"#N/A"}},{"$f":"Orders!D1237/$C1236","v":{"$error":"#N/A"}}]
[{"$f":"Orders!A1238","v":0},{"$f":"VLOOKUP(A1237,'Product-tool'!A:E,2,0)","v":{"$error":"#N/A"}},{"$f":"VLOOKUP(A1237&B1237,'Standard output'!A:D,4,0)","v":{"$error":"#N/A"}},{"$f":"Orders!B1238/$C1237","v":{"$error":"#N/A"}},{"$f":"Orders!C1238/$C1237","v":{"$error":"#N/A"}},{"$f":"Orders!D1238/$C1237","v":{"$error":"#N/A"}}]
[{"$f":"Orders!A1239","v":0},{"$f":"VLOOKUP(A1238,'Product-tool'!A:E,2,0)","v":{"$error":"#N/A"}},{"$f":"VLOOKUP(A1238&B1238,'Standard output'!A:D,4,0)","v":{"$error":"#N/A"}},{"$f":"Orders!B1239/$C1238","v":{"$error":"#N/A"}},{"$f":"Orders!C1239/$C1238","v":{"$error":"#N/A"}},{"$f":"Orders!D1239/$C1238","v":{"$error":"#N/A"}}]
[{"$f":"Orders!A1240","v":0},{"$f":"VLOOKUP(A1239,'Product-tool'!A:E,2,0)","v":{"$error":"#N/A"}},{"$f":"VLOOKUP(A1239&B1239,'Standard output'!A:D,4,0)","v":{"$error":"#N/A"}},{"$f":"Orders!B1240/$C1239","v":{"$error":"#N/A"}},{"$f":"Orders!C1240/$C1239","v":{"$error":"#N/A"}},{"$f":"Orders!D1240/$C1239","v":{"$error":"#N/A"}}]
[{"$f":"Orders!A1241","v":0},{"$f":"VLOOKUP(A1240,'Product-tool'!A:E,2,0)","v":{"$error":"#N/A"}},{"$f":"VLOOKUP(A1240&B1240,'Standard output'!A:D,4,0)","v":{"$error":"#N/A"}},{"$f":"Orders!B1241/$C1240","v":{"$error":"#N/A"}},{"$f":"Orders!C1241/$C1240","v":{"$error":"#N/A"}},{"$f":"Orders!D1241/$C1240","v":{"$error":"#N/A"}}]
[{"$f":"Orders!A1242","v":0},{"$f":"VLOOKUP(A1241,'Product-tool'!A:E,2,0)","v":{"$error":"#N/A"}},{"$f":"VLOOKUP(A1241&B1241,'Standard output'!A:D,4,0)","v":{"$error":"#N/A"}},{"$f":"Orders!B1242/$C1241","v":{"$error":"#N/A"}},{"$f":"Orders!C1242/$C1241","v":{"$error":"#N/A"}},{"$f":"Orders!D1242/$C1241","v":{"$error":"#N/A"}}]
[{"$f":"Orders!A1243","v":0},{"$f":"VLOOKUP(A1242,'Product-tool'!A:E,2,0)","v":{"$error":"#N/A"}},{"$f":"VLOOKUP(A1242&B1242,'Standard output'!A:D,4,0)","v":{"$error":"#N/A"}},{"$f":"Orders!B1243/$C1242","v":{"$error":"#N/A"}},{"$f":"Orders!C1243/$C1242","v":{"$error":"#N/A"}},{"$f":"Orders!D1243/$C1242","v":{"$error":"#N/A"}}]
[{"$f":"Orders!A1244","v":0},{"$f":"VLOOKUP(A1243,'Product-tool'!A:E,2,0)","v":{"$error":"#N/A"}},{"$f":"VLOOKUP(A1243&B1243,'Standard output'!A:D,4,0)","v":{"$error":"#N/A"}},{"$f":"Orders!B1244/$C1243","v":{"$error":"#N/A"}},{"$f":"Orders!C1244/$C1243","v":{"$error":"#N/A"}},{"$f":"Orders!D1244/$C1243","v":{"$error":"#N/A"}}]
[{"$f":"Orders!A1245","v":0},{"$f":"VLOOKUP(A1244,'Product-tool'!A:E,2,0)","v":{"$error":"#N/A"}},{"$f":"VLOOKUP(A1244&B1244,'Standard output'!A:D,4,0)","v":{"$error":"#N/A"}},{"$f":"Orders!B1245/$C1244","v":{"$error":"#N/A"}},{"$f":"Orders!C1245/$C1244","v":{"$error":"#N/A"}},{"$f":"Orders!D1245/$C1244","v":{"$error":"#N/A"}}]
[{"$f":"Orders!A1246","v":0},{"$f":"VLOOKUP(A1245,'Product-tool'!A:E,2,0)","v":{"$error":"#N/A"}},{"$f":"VLOOKUP(A1245&B1245,'Standard output'!A:D,4,0)","v":{"$error":"#N/A"}},{"$f":"Orders!B1246/$C1245","v":{"$error":"#N/A"}},{"$f":"Orders!C1246/$C1245","v":{"$error":"#N/A"}},{"$f":"Orders!D1246/$C1245","v":{"$error":"#N/A"}}]
[{"$f":"Orders!A1247","v":0},{"$f":"VLOOKUP(A1246,'Product-tool'!A:E,2,0)","v":{"$error":"#N/A"}},{"$f":"VLOOKUP(A1246&B1246,'Standard output'!A:D,4,0)","v":{"$error":"#N/A"}},{"$f":"Orders!B1247/$C1246","v":{"$error":"#N/A"}},{"$f":"Orders!C1247/$C1246","v":{"$error":"#N/A"}},{"$f":"Orders!D1247/$C1246","v":{"$error":"#N/A"}}]
[{"$f":"Orders!A1248","v":0},{"$f":"VLOOKUP(A1247,'Product-tool'!A:E,2,0)","v":{"$error":"#N/A"}},{"$f":"VLOOKUP(A1247&B1247,'Standard output'!A:D,4,0)","v":{"$error":"#N/A"}},{"$f":"Orders!B1248/$C1247","v":{"$error":"#N/A"}},{"$f":"Orders!C1248/$C1247","v":{"$error":"#N/A"}},{"$f":"Orders!D1248/$C1247","v":{"$error":"#N/A"}}]
[{"$f":"Orders!A1249","v":0},{"$f":"VLOOKUP(A1248,'Product-tool'!A:E,2,0)","v":{"$error":"#N/A"}},{"$f":"VLOOKUP(A1248&B1248,'Standard output'!A:D,4,0)","v":{"$error":"#N/A"}},{"$f":"Orders!B1249/$C1248","v":{"$error":"#N/A"}},{"$f":"Orders!C1249/$C1248","v":{"$error":"#N/A"}},{"$f":"Orders!D1249/$C1248","v":{"$error":"#N/A"}}]
[{"$f":"Orders!A1250","v":0},{"$f":"VLOOKUP(A1249,'Product-tool'!A:E,2,0)","v":{"$error":"#N/A"}},{"$f":"VLOOKUP(A1249&B1249,'Standard output'!A:D,4,0)","v":{"$error":"#N/A"}},{"$f":"Orders!B1250/$C1249","v":{"$error":"#N/A"}},{"$f":"Orders!C1250/$C1249","v":{"$error":"#N/A"}},{"$f":"Orders!D1250/$C1249","v":{"$error":"#N/A"}}]
[{"$f":"Orders!A1251","v":0},{"$f":"VLOOKUP(A1250,'Product-tool'!A:E,2,0)","v":{"$error":"#N/A"}},{"$f":"VLOOKUP(A1250&B1250,'Standard output'!A:D,4,0)","v":{"$error":"#N/A"}},{"$f":"Orders!B1251/$C1250","v":{"$error":"#N/A"}},{"$f":"Orders!C1251/$C1250","v":{"$error":"#N/A"}},{"$f":"Orders!D1251/$C1250","v":{"$error":"#N/A"}}]
[{"$f":"Orders!A1252","v":0},{"$f":"VLOOKUP(A1251,'Product-tool'!A:E,2,0)","v":{"$error":"#N/A"}},{"$f":"VLOOKUP(A1251&B1251,'Standard output'!A:D,4,0)","v":{"$error":"#N/A"}},{"$f":"Orders!B1252/$C1251","v":{"$error":"#N/A"}},{"$f":"Orders!C1252/$C1251","v":{"$error":"#N/A"}},{"$f":"Orders!D1252/$C1251","v":{"$error":"#N/A"}}]
[{"$f":"Orders!A1253","v":0},{"$f":"VLOOKUP(A1252,'Product-tool'!A:E,2,0)","v":{"$error":"#N/A"}},{"$f":"VLOOKUP(A1252&B1252,'Standard output'!A:D,4,0)","v":{"$error":"#N/A"}},{"$f":"Orders!B1253/$C1252","v":{"$error":"#N/A"}},{"$f":"Orders!C1253/$C1252","v":{"$error":"#N/A"}},{"$f":"Orders!D1253/$C1252","v":{"$error":"#N/A"}}]
[{"$f":"Orders!A1254","v":0},{"$f":"VLOOKUP(A1253,'Product-tool'!A:E,2,0)","v":{"$error":"#N/A"}},{"$f":"VLOOKUP(A1253&B1253,'Standard output'!A:D,4,0)","v":{"$error":"#N/A"}},{"$f":"Orders!B1254/$C1253","v":{"$error":"#N/A"}},{"$f":"Orders!C1254/$C1253","v":{"$error":"#N/A"}},{"$f":"Orders!D1254/$C1253","v":{"$error":"#N/A"}}]
[{"$f":"Orders!A1255","v":0},{"$f":"VLOOKUP(A1254,'Product-tool'!A:E,2,0)","v":{"$error":"#N/A"}},{"$f":"VLOOKUP(A1254&B1254,'Standard output'!A:D,4,0)","v":{"$error":"#N/A"}},{"$f":"Orders!B1255/$C1254","v":{"$error":"#N/A"}},{"$f":"Orders!C1255/$C1254","v":{"$error":"#N/A"}},{"$f":"Orders!D1255/$C1254","v":{"$error":"#N/A"}}]
[{"$f":"Orders!A1256","v":0},{"$f":"VLOOKUP(A1255,'Product-tool'!A:E,2,0)","v":{"$error":"#N/A"}},{"$f":"VLOOKUP(A1255&B1255,'Standard output'!A:D,4,0)","v":{"$error":"#N/A"}},{"$f":"Orders!B1256/$C1255","v":{"$error":"#N/A"}},{"$f":"Orders!C1256/$C1255","v":{"$error":"#N/A"}},{"$f":"Orders!D1256/$C1255","v":{"$error":"#N/A"}}]
[{"$f":"Orders!A1257","v":0},{"$f":"VLOOKUP(A1256,'Product-tool'!A:E,2,0)","v":{"$error":"#N/A"}},{"$f":"VLOOKUP(A1256&B1256,'Standard output'!A:D,4,0)","v":{"$error":"#N/A"}},{"$f":"Orders!B1257/$C1256","v":{"$error":"#N/A"}},{"$f":"Orders!C1257/$C1256","v":{"$error":"#N/A"}},{"$f":"Orders!D1257/$C1256","v":{"$error":"#N/A"}}]
[{"$f":"Orders!A1258","v":0},{"$f":"VLOOKUP(A1257,'Product-tool'!A:E,2,0)","v":{"$error":"#N/A"}},{"$f":"VLOOKUP(A1257&B1257,'Standard output'!A:D,4,0)","v":{"$error":"#N/A"}},{"$f":"Orders!B1258/$C1257","v":{"$error":"#N/A"}},{"$f":"Orders!C1258/$C1257","v":{"$error":"#N/A"}},{"$f":"Orders!D1258/$C1257","v":{"$error":"#N/A"}}]
[{"$f":"Orders!A1259","v":0},{"$f":"VLOOKUP(A1258,'Product-tool'!A:E,2,0)","v":{"$error":"#N/A"}},{"$f":"VLOOKUP(A1258&B1258,'Standard output'!A:D,4,0)","v":{"$error":"#N/A"}},{"$f":"Orders!B1259/$C1258","v":{"$error":"#N/A"}},{"$f":"Orders!C1259/$C1258","v":{"$error":"#N/A"}},{"$f":"Orders!D1259/$C1258","v":{"$error":"#N/A"}}]
[{"$f":"Orders!A1260","v":0},{"$f":"VLOOKUP(A1259,'Product-tool'!A:E,2,0)","v":{"$error":"#N/A"}},{"$f":"VLOOKUP(A1259&B1259,'Standard output'!A:D,4,0)","v":{"$error":"#N/A"}},{"$f":"Orders!B1260/$C1259","v":{"$error":"#N/A"}},{"$f":"Orders!C1260/$C1259","v":{"$error":"#N/A"}},{"$f":"Orders!D1260/$C1259","v":{"$error":"#N/A"}}]
[{"$f":"Orders!A1261","v":0},{"$f":"VLOOKUP(A1260,'Product-tool'!A:E,2,0)","v":{"$error":"#N/A"}},{"$f":"VLOOKUP(A1260&B1260,'Standard output'!A:D,4,0)","v":{"$error":"#N/A"}},{"$f":"Orders!B1261/$C1260","v":{"$error":"#N/A"}},{"$f":"Orders!C1261/$C1260","v":{"$error":"#N/A"}},{"$f":"Orders!D1261/$C1260","v":{"$error":"#N/A"}}]
[{"$f":"Orders!A1262","v":0},{"$f":"VLOOKUP(A1261,'Product-tool'!A:E,2,0)","v":{"$error":"#N/A"}},{"$f":"VLOOKUP(A1261&B1261,'Standard output'!A:D,4,0)","v":{"$error":"#N/A"}},{"$f":"Orders!B1262/$C1261","v":{"$error":"#N/A"}},{"$f":"Orders!C1262/$C1261","v":{"$error":"#N/A"}},{"$f":"Orders!D1262/$C1261","v":{"$error":"#N/A"}}]
[{"$f":"Orders!A1263","v":0},{"$f":"VLOOKUP(A1262,'Product-tool'!A:E,2,0)","v":{"$error":"#N/A"}},{"$f":"VLOOKUP(A1262&B1262,'Standard output'!A:D,4,0)","v":{"$error":"#N/A"}},{"$f":"Orders!B1263/$C1262","v":{"$error":"#N/A"}},{"$f":"Orders!C1263/$C1262","v":{"$error":"#N/A"}},{"$f":"Orders!D1263/$C1262","v":{"$error":"#N/A"}}]
[{"$f":"Orders!A1264","v":0},{"$f":"VLOOKUP(A1263,'Product-tool'!A:E,2,0)","v":{"$error":"#N/A"}},{"$f":"VLOOKUP(A1263&B1263,'Standard output'!A:D,4,0)","v":{"$error":"#N/A"}},{"$f":"Orders!B1264/$C1263","v":{"$error":"#N/A"}},{"$f":"Orders!C1264/$C1263","v":{"$error":"#N/A"}},{"$f":"Orders!D1264/$C1263","v":{"$error":"#N/A"}}]
[{"$f":"Orders!A1265","v":0},{"$f":"VLOOKUP(A1264,'Product-tool'!A:E,2,0)","v":{"$error":"#N/A"}},{"$f":"VLOOKUP(A1264&B1264,'Standard output'!A:D,4,0)","v":{"$error":"#N/A"}},{"$f":"Orders!B1265/$C1264","v":{"$error":"#N/A"}},{"$f":"Orders!C1265/$C1264","v":{"$error":"#N/A"}},{"$f":"Orders!D1265/$C1264","v":{"$error":"#N/A"}}]
[{"$f":"Orders!A1266","v":0},{"$f":"VLOOKUP(A1265,'Product-tool'!A:E,2,0)","v":{"$error":"#N/A"}},{"$f":"VLOOKUP(A1265&B1265,'Standard output'!A:D,4,0)","v":{"$error":"#N/A"}},{"$f":"Orders!B1266/$C1265","v":{"$error":"#N/A"}},{"$f":"Orders!C1266/$C1265","v":{"$error":"#N/A"}},{"$f":"Orders!D1266/$C1265","v":{"$error":"#N/A"}}]
[{"$f":"Orders!A1267","v":0},{"$f":"VLOOKUP(A1266,'Product-tool'!A:E,2,0)","v":{"$error":"#N/A"}},{"$f":"VLOOKUP(A1266&B1266,'Standard output'!A:D,4,0)","v":{"$error":"#N/A"}},{"$f":"Orders!B1267/$C1266","v":{"$error":"#N/A"}},{"$f":"Orders!C1267/$C1266","v":{"$error":"#N/A"}},{"$f":"Orders!D1267/$C1266","v":{"$error":"#N/A"}}]
[{"$f":"Orders!A1268","v":0},{"$f":"VLOOKUP(A1267,'Product-tool'!A:E,2,0)","v":{"$error":"#N/A"}},{"$f":"VLOOKUP(A1267&B1267,'Standard output'!A:D,4,0)","v":{"$error":"#N/A"}},{"$f":"Orders!B1268/$C1267","v":{"$error":"#N/A"}},{"$f":"Orders!C1268/$C1267","v":{"$error":"#N/A"}},{"$f":"Orders!D1268/$C1267","v":{"$error":"#N/A"}}]
[{"$f":"Orders!A1269","v":0},{"$f":"VLOOKUP(A1268,'Product-tool'!A:E,2,0)","v":{"$error":"#N/A"}},{"$f":"VLOOKUP(A1268&B1268,'Standard output'!A:D,4,0)","v":{"$error":"#N/A"}},{"$f":"Orders!B1269/$C1268","v":{"$error":"#N/A"}},{"$f":"Orders!C1269/$C1268","v":{"$error":"#N/A"}},{"$f":"Orders!D1269/$C1268","v":{"$error":"#N/A"}}]
[{"$f":"Orders!A1270","v":0},{"$f":"VLOOKUP(A1269,'Product-tool'!A:E,2,0)","v":{"$error":"#N/A"}},{"$f":"VLOOKUP(A1269&B1269,'Standard output'!A:D,4,0)","v":{"$error":"#N/A"}},{"$f":"Orders!B1270/$C1269","v":{"$error":"#N/A"}},{"$f":"Orders!C1270/$C1269","v":{"$error":"#N/A"}},{"$f":"Orders!D1270/$C1269","v":{"$error":"#N/A"}}]
[{"$f":"Orders!A1271","v":0},{"$f":"VLOOKUP(A1270,'Product-tool'!A:E,2,0)","v":{"$error":"#N/A"}},{"$f":"VLOOKUP(A1270&B1270,'Standard output'!A:D,4,0)","v":{"$error":"#N/A"}},{"$f":"Orders!B1271/$C1270","v":{"$error":"#N/A"}},{"$f":"Orders!C1271/$C1270","v":{"$error":"#N/A"}},{"$f":"Orders!D1271/$C1270","v":{"$error":"#N/A"}}]
[{"$f":"Orders!A1272","v":0},{"$f":"VLOOKUP(A1271,'Product-tool'!A:E,2,0)","v":{"$error":"#N/A"}},{"$f":"VLOOKUP(A1271&B1271,'Standard output'!A:D,4,0)","v":{"$error":"#N/A"}},{"$f":"Orders!B1272/$C1271","v":{"$error":"#N/A"}},{"$f":"Orders!C1272/$C1271","v":{"$error":"#N/A"}},{"$f":"Orders!D1272/$C1271","v":{"$error":"#N/A"}}]
[{"$f":"Orders!A1273","v":0},{"$f":"VLOOKUP(A1272,'Product-tool'!A:E,2,0)","v":{"$error":"#N/A"}},{"$f":"VLOOKUP(A1272&B1272,'Standard output'!A:D,4,0)","v":{"$error":"#N/A"}},{"$f":"Orders!B1273/$C1272","v":{"$error":"#N/A"}},{"$f":"Orders!C1273/$C1272","v":{"$error":"#N/A"}},{"$f":"Orders!D1273/$C1272","v":{"$error":"#N/A"}}]
[{"$f":"Orders!A1274","v":0},{"$f":"VLOOKUP(A1273,'Product-tool'!A:E,2,0)","v":{"$error":"#N/A"}},{"$f":"VLOOKUP(A1273&B1273,'Standard output'!A:D,4,0)","v":{"$error":"#N/A"}},{"$f":"Orders!B1274/$C1273","v":{"$error":"#N/A"}},{"$f":"Orders!C1274/$C1273","v":{"$error":"#N/A"}},{"$f":"Orders!D1274/$C1273","v":{"$error":"#N/A"}}]
[{"$f":"Orders!A1275","v":0},{"$f":"VLOOKUP(A1274,'Product-tool'!A:E,2,0)","v":{"$error":"#N/A"}},{"$f":"VLOOKUP(A1274&B1274,'Standard output'!A:D,4,0)","v":{"$error":"#N/A"}},{"$f":"Orders!B1275/$C1274","v":{"$error":"#N/A"}},{"$f":"Orders!C1275/$C1274","v":{"$error":"#N/A"}},{"$f":"Orders!D1275/$C1274","v":{"$error":"#N/A"}}]
[{"$f":"Orders!A1276","v":0},{"$f":"VLOOKUP(A1275,'Product-tool'!A:E,2,0)","v":{"$error":"#N/A"}},{"$f":"VLOOKUP(A1275&B1275,'Standard output'!A:D,4,0)","v":{"$error":"#N/A"}},{"$f":"Orders!B1276/$C1275","v":{"$error":"#N/A"}},{"$f":"Orders!C1276/$C1275","v":{"$error":"#N/A"}},{"$f":"Orders!D1276/$C1275","v":{"$error":"#N/A"}}]
[{"$f":"Orders!A1277","v":0},{"$f":"VLOOKUP(A1276,'Product-tool'!A:E,2,0)","v":{"$error":"#N/A"}},{"$f":"VLOOKUP(A1276&B1276,'Standard output'!A:D,4,0)","v":{"$error":"#N/A"}},{"$f":"Orders!B1277/$C1276","v":{"$error":"#N/A"}},{"$f":"Orders!C1277/$C1276","v":{"$error":"#N/A"}},{"$f":"Orders!D1277/$C1276","v":{"$error":"#N/A"}}]
[{"$f":"Orders!A1278","v":0},{"$f":"VLOOKUP(A1277,'Product-tool'!A:E,2,0)","v":{"$error":"#N/A"}},{"$f":"VLOOKUP(A1277&B1277,'Standard output'!A:D,4,0)","v":{"$error":"#N/A"}},{"$f":"Orders!B1278/$C1277","v":{"$error":"#N/A"}},{"$f":"Orders!C1278/$C1277","v":{"$error":"#N/A"}},{"$f":"Orders!D1278/$C1277","v":{"$error":"#N/A"}}]
[{"$f":"Orders!A1279","v":0},{"$f":"VLOOKUP(A1278,'Product-tool'!A:E,2,0)","v":{"$error":"#N/A"}},{"$f":"VLOOKUP(A1278&B1278,'Standard output'!A:D,4,0)","v":{"$error":"#N/A"}},{"$f":"Orders!B1279/$C1278","v":{"$error":"#N/A"}},{"$f":"Orders!C1279/$C1278","v":{"$error":"#N/A"}},{"$f":"Orders!D1279/$C1278","v":{"$error":"#N/A"}}]
[{"$f":"Orders!A1280","v":0},{"$f":"VLOOKUP(A1279,'Product-tool'!A:E,2,0)","v":{"$error":"#N/A"}},{"$f":"VLOOKUP(A1279&B1279,'Standard output'!A:D,4,0)","v":{"$error":"#N/A"}},{"$f":"Orders!B1280/$C1279","v":{"$error":"#N/A"}},{"$f":"Orders!C1280/$C1279","v":{"$error":"#N/A"}},{"$f":"Orders!D1280/$C1279","v":{"$error":"#N/A"}}]
[{"$f":"Orders!A1281","v":0},{"$f":"VLOOKUP(A1280,'Product-tool'!A:E,2,0)","v":{"$error":"#N/A"}},{"$f":"VLOOKUP(A1280&B1280,'Standard output'!A:D,4,0)","v":{"$error":"#N/A"}},{"$f":"Orders!B1281/$C1280","v":{"$error":"#N/A"}},{"$f":"Orders!C1281/$C1280","v":{"$error":"#N/A"}},{"$f":"Orders!D1281/$C1280","v":{"$error":"#N/A"}}]
[{"$f":"Orders!A1282","v":0},{"$f":"VLOOKUP(A1281,'Product-tool'!A:E,2,0)","v":{"$error":"#N/A"}},{"$f":"VLOOKUP(A1281&B1281,'Standard output'!A:D,4,0)","v":{"$error":"#N/A"}},{"$f":"Orders!B1282/$C1281","v":{"$error":"#N/A"}},{"$f":"Orders!C1282/$C1281","v":{"$error":"#N/A"}},{"$f":"Orders!D1282/$C1281","v":{"$error":"#N/A"}}]
[{"$f":"Orders!A1283","v":0},{"$f":"VLOOKUP(A1282,'Product-tool'!A:E,2,0)","v":{"$error":"#N/A"}},{"$f":"VLOOKUP(A1282&B1282,'Standard output'!A:D,4,0)","v":{"$error":"#N/A"}},{"$f":"Orders!B1283/$C1282","v":{"$error":"#N/A"}},{"$f":"Orders!C1283/$C1282","v":{"$error":"#N/A"}},{"$f":"Orders!D1283/$C1282","v":{"$error":"#N/A"}}]
[{"$f":"Orders!A1284","v":0},{"$f":"VLOOKUP(A1283,'Product-tool'!A:E,2,0)","v":{"$error":"#N/A"}},{"$f":"VLOOKUP(A1283&B1283,'Standard output'!A:D,4,0)","v":{"$error":"#N/A"}},{"$f":"Orders!B1284/$C1283","v":{"$error":"#N/A"}},{"$f":"Orders!C1284/$C1283","v":{"$error":"#N/A"}},{"$f":"Orders!D1284/$C1283","v":{"$error":"#N/A"}}]
[{"$f":"Orders!A1285","v":0},{"$f":"VLOOKUP(A1284,'Product-tool'!A:E,2,0)","v":{"$error":"#N/A"}},{"$f":"VLOOKUP(A1284&B1284,'Standard output'!A:D,4,0)","v":{"$error":"#N/A"}},{"$f":"Orders!B1285/$C1284","v":{"$error":"#N/A"}},{"$f":"Orders!C1285/$C1284","v":{"$error":"#N/A"}},{"$f":"Orders!D1285/$C1284","v":{"$error":"#N/A"}}]
[{"$f":"Orders!A1286","v":0},{"$f":"VLOOKUP(A1285,'Product-tool'!A:E,2,0)","v":{"$error":"#N/A"}},{"$f":"VLOOKUP(A1285&B1285,'Standard output'!A:D,4,0)","v":{"$error":"#N/A"}},{"$f":"Orders!B1286/$C1285","v":{"$error":"#N/A"}},{"$f":"Orders!C1286/$C1285","v":{"$error":"#N/A"}},{"$f":"Orders!D1286/$C1285","v":{"$error":"#N/A"}}]
[{"$f":"Orders!A1287","v":0},{"$f":"VLOOKUP(A1286,'Product-tool'!A:E,2,0)","v":{"$error":"#N/A"}},{"$f":"VLOOKUP(A1286&B1286,'Standard output'!A:D,4,0)","v":{"$error":"#N/A"}},{"$f":"Orders!B1287/$C1286","v":{"$error":"#N/A"}},{"$f":"Orders!C1287/$C1286","v":{"$error":"#N/A"}},{"$f":"Orders!D1287/$C1286","v":{"$error":"#N/A"}}]
[{"$f":"Orders!A1288","v":0},{"$f":"VLOOKUP(A1287,'Product-tool'!A:E,2,0)","v":{"$error":"#N/A"}},{"$f":"VLOOKUP(A1287&B1287,'Standard output'!A:D,4,0)","v":{"$error":"#N/A"}},{"$f":"Orders!B1288/$C1287","v":{"$error":"#N/A"}},{"$f":"Orders!C1288/$C1287","v":{"$error":"#N/A"}},{"$f":"Orders!D1288/$C1287","v":{"$error":"#N/A"}}]
[{"$f":"Orders!A1289","v":0},{"$f":"VLOOKUP(A1288,'Product-tool'!A:E,2,0)","v":{"$error":"#N/A"}},{"$f":"VLOOKUP(A1288&B1288,'Standard output'!A:D,4,0)","v":{"$error":"#N/A"}},{"$f":"Orders!B1289/$C1288","v":{"$error":"#N/A"}},{"$f":"Orders!C1289/$C1288","v":{"$error":"#N/A"}},{"$f":"Orders!D1289/$C1288","v":{"$error":"#N/A"}}]
[{"$f":"Orders!A1290","v":0},{"$f":"VLOOKUP(A1289,'Product-tool'!A:E,2,0)","v":{"$error":"#N/A"}},{"$f":"VLOOKUP(A1289&B1289,'Standard output'!A:D,4,0)","v":{"$error":"#N/A"}},{"$f":"Orders!B1290/$C1289","v":{"$error":"#N/A"}},{"$f":"Orders!C1290/$C1289","v":{"$error":"#N/A"}},{"$f":"Orders!D1290/$C1289","v":{"$error":"#N/A"}}]
[{"$f":"Orders!A1291","v":0},{"$f":"VLOOKUP(A1290,'Product-tool'!A:E,2,0)","v":{"$error":"#N/A"}},{"$f":"VLOOKUP(A1290&B1290,'Standard output'!A:D,4,0)","v":{"$error":"#N/A"}},{"$f":"Orders!B1291/$C1290","v":{"$error":"#N/A"}},{"$f":"Orders!C1291/$C1290","v":{"$error":"#N/A"}},{"$f":"Orders!D1291/$C1290","v":{"$error":"#N/A"}}]
[{"$f":"Orders!A1292","v":0},{"$f":"VLOOKUP(A1291,'Product-tool'!A:E,2,0)","v":{"$error":"#N/A"}},{"$f":"VLOOKUP(A1291&B1291,'Standard output'!A:D,4,0)","v":{"$error":"#N/A"}},{"$f":"Orders!B1292/$C1291","v":{"$error":"#N/A"}},{"$f":"Orders!C1292/$C1291","v":{"$error":"#N/A"}},{"$f":"Orders!D1292/$C1291","v":{"$error":"#N/A"}}]
[{"$f":"Orders!A1293","v":0},{"$f":"VLOOKUP(A1292,'Product-tool'!A:E,2,0)","v":{"$error":"#N/A"}},{"$f":"VLOOKUP(A1292&B1292,'Standard output'!A:D,4,0)","v":{"$error":"#N/A"}},{"$f":"Orders!B1293/$C1292","v":{"$error":"#N/A"}},{"$f":"Orders!C1293/$C1292","v":{"$error":"#N/A"}},{"$f":"Orders!D1293/$C1292","v":{"$error":"#N/A"}}]
[{"$f":"Orders!A1294","v":0},{"$f":"VLOOKUP(A1293,'Product-tool'!A:E,2,0)","v":{"$error":"#N/A"}},{"$f":"VLOOKUP(A1293&B1293,'Standard output'!A:D,4,0)","v":{"$error":"#N/A"}},{"$f":"Orders!B1294/$C1293","v":{"$error":"#N/A"}},{"$f":"Orders!C1294/$C1293","v":{"$error":"#N/A"}},{"$f":"Orders!D1294/$C1293","v":{"$error":"#N/A"}}]
[{"$f":"Orders!A1295","v":0},{"$f":"VLOOKUP(A1294,'Product-tool'!A:E,2,0)","v":{"$error":"#N/A"}},{"$f":"VLOOKUP(A1294&B1294,'Standard output'!A:D,4,0)","v":{"$error":"#N/A"}},{"$f":"Orders!B1295/$C1294","v":{"$error":"#N/A"}},{"$f":"Orders!C1295/$C1294","v":{"$error":"#N/A"}},{"$f":"Orders!D1295/$C1294","v":{"$error":"#N/A"}}]
[{"$f":"Orders!A1296","v":0},{"$f":"VLOOKUP(A1295,'Product-tool'!A:E,2,0)","v":{"$error":"#N/A"}},{"$f":"VLOOKUP(A1295&B1295,'Standard output'!A:D,4,0)","v":{"$error":"#N/A"}},{"$f":"Orders!B1296/$C1295","v":{"$error":"#N/A"}},{"$f":"Orders!C1296/$C1295","v":{"$error":"#N/A"}},{"$f":"Orders!D1296/$C1295","v":{"$error":"#N/A"}}]
[{"$f":"Orders!A1297","v":0},{"$f":"VLOOKUP(A1296,'Product-tool'!A:E,2,0)","v":{"$error":"#N/A"}},{"$f":"VLOOKUP(A1296&B1296,'Standard output'!A:D,4,0)","v":{"$error":"#N/A"}},{"$f":"Orders!B1297/$C1296","v":{"$error":"#N/A"}},{"$f":"Orders!C1297/$C1296","v":{"$error":"#N/A"}},{"$f":"Orders!D1297/$C1296","v":{"$error":"#N/A"}}]
[{"$f":"Orders!A1298","v":0},{"$f":"VLOOKUP(A1297,'Product-tool'!A:E,2,0)","v":{"$error":"#N/A"}},{"$f":"VLOOKUP(A1297&B1297,'Standard output'!A:D,4,0)","v":{"$error":"#N/A"}},{"$f":"Orders!B1298/$C1297","v":{"$error":"#N/A"}},{"$f":"Orders!C1298/$C1297","v":{"$error":"#N/A"}},{"$f":"Orders!D1298/$C1297","v":{"$error":"#N/A"}}]
[{"$f":"Orders!A1299","v":0},{"$f":"VLOOKUP(A1298,'Product-tool'!A:E,2,0)","v":{"$error":"#N/A"}},{"$f":"VLOOKUP(A1298&B1298,'Standard output'!A:D,4,0)","v":{"$error":"#N/A"}},{"$f":"Orders!B1299/$C1298","v":{"$error":"#N/A"}},{"$f":"Orders!C1299/$C1298","v":{"$error":"#N/A"}},{"$f":"Orders!D1299/$C1298","v":{"$error":"#N/A"}}]
[{"$f":"Orders!A1300","v":0},{"$f":"VLOOKUP(A1299,'Product-tool'!A:E,2,0)","v":{"$error":"#N/A"}},{"$f":"VLOOKUP(A1299&B1299,'Standard output'!A:D,4,0)","v":{"$error":"#N/A"}},{"$f":"Orders!B1300/$C1299","v":{"$error":"#N/A"}},{"$f":"Orders!C1300/$C1299","v":{"$error":"#N/A"}},{"$f":"Orders!D1300/$C1299","v":{"$error":"#N/A"}}]
[{"$f":"Orders!A1301","v":0},{"$f":"VLOOKUP(A1300,'Product-tool'!A:E,2,0)","v":{"$error":"#N/A"}},{"$f":"VLOOKUP(A1300&B1300,'Standard output'!A:D,4,0)","v":{"$error":"#N/A"}},{"$f":"Orders!B1301/$C1300","v":{"$error":"#N/A"}},{"$f":"Orders!C1301/$C1300","v":{"$error":"#N/A"}},{"$f":"Orders!D1301/$C1300","v":{"$error":"#N/A"}}]
[{"$f":"Orders!A1302","v":0},{"$f":"VLOOKUP(A1301,'Product-tool'!A:E,2,0)","v":{"$error":"#N/A"}},{"$f":"VLOOKUP(A1301&B1301,'Standard output'!A:D,4,0)","v":{"$error":"#N/A"}},{"$f":"Orders!B1302/$C1301","v":{"$error":"#N/A"}},{"$f":"Orders!C1302/$C1301","v":{"$error":"#N/A"}},{"$f":"Orders!D1302/$C1301","v":{"$error":"#N/A"}}]
[{"$f":"Orders!A1303","v":0},{"$f":"VLOOKUP(A1302,'Product-tool'!A:E,2,0)","v":{"$error":"#N/A"}},{"$f":"VLOOKUP(A1302&B1302,'Standard output'!A:D,4,0)","v":{"$error":"#N/A"}},{"$f":"Orders!B1303/$C1302","v":{"$error":"#N/A"}},{"$f":"Orders!C1303/$C1302","v":{"$error":"#N/A"}},{"$f":"Orders!D1303/$C1302","v":{"$error":"#N/A"}}]
[{"$f":"Orders!A1304","v":0},{"$f":"VLOOKUP(A1303,'Product-tool'!A:E,2,0)","v":{"$error":"#N/A"}},{"$f":"VLOOKUP(A1303&B1303,'Standard output'!A:D,4,0)","v":{"$error":"#N/A"}},{"$f":"Orders!B1304/$C1303","v":{"$error":"#N/A"}},{"$f":"Orders!C1304/$C1303","v":{"$error":"#N/A"}},{"$f":"Orders!D1304/$C1303","v":{"$error":"#N/A"}}]
[{"$f":"Orders!A1305","v":0},{"$f":"VLOOKUP(A1304,'Product-tool'!A:E,2,0)","v":{"$error":"#N/A"}},{"$f":"VLOOKUP(A1304&B1304,'Standard output'!A:D,4,0)","v":{"$error":"#N/A"}},{"$f":"Orders!B1305/$C1304","v":{"$error":"#N/A"}},{"$f":"Orders!C1305/$C1304","v":{"$error":"#N/A"}},{"$f":"Orders!D1305/$C1304","v":{"$error":"#N/A"}}]
[{"$f":"Orders!A1306","v":0},{"$f":"VLOOKUP(A1305,'Product-tool'!A:E,2,0)","v":{"$error":"#N/A"}},{"$f":"VLOOKUP(A1305&B1305,'Standard output'!A:D,4,0)","v":{"$error":"#N/A"}},{"$f":"Orders!B1306/$C1305","v":{"$error":"#N/A"}},{"$f":"Orders!C1306/$C1305","v":{"$error":"#N/A"}},{"$f":"Orders!D1306/$C1305","v":{"$error":"#N/A"}}]
[{"$f":"Orders!A1307","v":0},{"$f":"VLOOKUP(A1306,'Product-tool'!A:E,2,0)","v":{"$error":"#N/A"}},{"$f":"VLOOKUP(A1306&B1306,'Standard output'!A:D,4,0)","v":{"$error":"#N/A"}},{"$f":"Orders!B1307/$C1306","v":{"$error":"#N/A"}},{"$f":"Orders!C1307/$C1306","v":{"$error":"#N/A"}},{"$f":"Orders!D1307/$C1306","v":{"$error":"#N/A"}}]
[{"$f":"Orders!A1308","v":0},{"$f":"VLOOKUP(A1307,'Product-tool'!A:E,2,0)","v":{"$error":"#N/A"}},{"$f":"VLOOKUP(A1307&B1307,'Standard output'!A:D,4,0)","v":{"$error":"#N/A"}},{"$f":"Orders!B1308/$C1307","v":{"$error":"#N/A"}},{"$f":"Orders!C1308/$C1307","v":{"$error":"#N/A"}},{"$f":"Orders!D1308/$C1307","v":{"$error":"#N/A"}}]
[{"$f":"Orders!A1309","v":0},{"$f":"VLOOKUP(A1308,'Product-tool'!A:E,2,0)","v":{"$error":"#N/A"}},{"$f":"VLOOKUP(A1308&B1308,'Standard output'!A:D,4,0)","v":{"$error":"#N/A"}},{"$f":"Orders!B1309/$C1308","v":{"$error":"#N/A"}},{"$f":"Orders!C1309/$C1308","v":{"$error":"#N/A"}},{"$f":"Orders!D1309/$C1308","v":{"$error":"#N/A"}}]
[{"$f":"Orders!A1310","v":0},{"$f":"VLOOKUP(A1309,'Product-tool'!A:E,2,0)","v":{"$error":"#N/A"}},{"$f":"VLOOKUP(A1309&B1309,'Standard output'!A:D,4,0)","v":{"$error":"#N/A"}},{"$f":"Orders!B1310/$C1309","v":{"$error":"#N/A"}},{"$f":"Orders!C1310/$C1309","v":{"$error":"#N/A"}},{"$f":"Orders!D1310/$C1309","v":{"$error":"#N/A"}}]
[{"$f":"Orders!A1311","v":0},{"$f":"VLOOKUP(A1310,'Product-tool'!A:E,2,0)","v":{"$error":"#N/A"}},{"$f":"VLOOKUP(A1310&B1310,'Standard output'!A:D,4,0)","v":{"$error":"#N/A"}},{"$f":"Orders!B1311/$C1310","v":{"$error":"#N/A"}},{"$f":"Orders!C1311/$C1310","v":{"$error":"#N/A"}},{"$f":"Orders!D1311/$C1310","v":{"$error":"#N/A"}}]
[{"$f":"Orders!A1312","v":0},{"$f":"VLOOKUP(A1311,'Product-tool'!A:E,2,0)","v":{"$error":"#N/A"}},{"$f":"VLOOKUP(A1311&B1311,'Standard output'!A:D,4,0)","v":{"$error":"#N/A"}},{"$f":"Orders!B1312/$C1311","v":{"$error":"#N/A"}},{"$f":"Orders!C1312/$C1311","v":{"$error":"#N/A"}},{"$f":"Orders!D1312/$C1311","v":{"$error":"#N/A"}}]
[{"$f":"Orders!A1313","v":0},{"$f":"VLOOKUP(A1312,'Product-tool'!A:E,2,0)","v":{"$error":"#N/A"}},{"$f":"VLOOKUP(A1312&B1312,'Standard output'!A:D,4,0)","v":{"$error":"#N/A"}},{"$f":"Orders!B1313/$C1312","v":{"$error":"#N/A"}},{"$f":"Orders!C1313/$C1312","v":{"$error":"#N/A"}},{"$f":"Orders!D1313/$C1312","v":{"$error":"#N/A"}}]
[{"$f":"Orders!A1314","v":0},{"$f":"VLOOKUP(A1313,'Product-tool'!A:E,2,0)","v":{"$error":"#N/A"}},{"$f":"VLOOKUP(A1313&B1313,'Standard output'!A:D,4,0)","v":{"$error":"#N/A"}},{"$f":"Orders!B1314/$C1313","v":{"$error":"#N/A"}},{"$f":"Orders!C1314/$C1313","v":{"$error":"#N/A"}},{"$f":"Orders!D1314/$C1313","v":{"$error":"#N/A"}}]
[{"$f":"Orders!A1315","v":0},{"$f":"VLOOKUP(A1314,'Product-tool'!A:E,2,0)","v":{"$error":"#N/A"}},{"$f":"VLOOKUP(A1314&B1314,'Standard output'!A:D,4,0)","v":{"$error":"#N/A"}},{"$f":"Orders!B1315/$C1314","v":{"$error":"#N/A"}},{"$f":"Orders!C1315/$C1314","v":{"$error":"#N/A"}},{"$f":"Orders!D1315/$C1314","v":{"$error":"#N/A"}}]
[{"$f":"Orders!A1316","v":0},{"$f":"VLOOKUP(A1315,'Product-tool'!A:E,2,0)","v":{"$error":"#N/A"}},{"$f":"VLOOKUP(A1315&B1315,'Standard output'!A:D,4,0)","v":{"$error":"#N/A"}},{"$f":"Orders!B1316/$C1315","v":{"$error":"#N/A"}},{"$f":"Orders!C1316/$C1315","v":{"$error":"#N/A"}},{"$f":"Orders!D1316/$C1315","v":{"$error":"#N/A"}}]
[{"$f":"Orders!A1317","v":0},{"$f":"VLOOKUP(A1316,'Product-tool'!A:E,2,0)","v":{"$error":"#N/A"}},{"$f":"VLOOKUP(A1316&B1316,'Standard output'!A:D,4,0)","v":{"$error":"#N/A"}},{"$f":"Orders!B1317/$C1316","v":{"$error":"#N/A"}},{"$f":"Orders!C1317/$C1316","v":{"$error":"#N/A"}},{"$f":"Orders!D1317/$C1316","v":{"$error":"#N/A"}}]
[{"$f":"Orders!A1318","v":0},{"$f":"VLOOKUP(A1317,'Product-tool'!A:E,2,0)","v":{"$error":"#N/A"}},{"$f":"VLOOKUP(A1317&B1317,'Standard output'!A:D,4,0)","v":{"$error":"#N/A"}},{"$f":"Orders!B1318/$C1317","v":{"$error":"#N/A"}},{"$f":"Orders!C1318/$C1317","v":{"$error":"#N/A"}},{"$f":"Orders!D1318/$C1317","v":{"$error":"#N/A"}}]
[{"$f":"Orders!A1319","v":0},{"$f":"VLOOKUP(A1318,'Product-tool'!A:E,2,0)","v":{"$error":"#N/A"}},{"$f":"VLOOKUP(A1318&B1318,'Standard output'!A:D,4,0)","v":{"$error":"#N/A"}},{"$f":"Orders!B1319/$C1318","v":{"$error":"#N/A"}},{"$f":"Orders!C1319/$C1318","v":{"$error":"#N/A"}},{"$f":"Orders!D1319/$C1318","v":{"$error":"#N/A"}}]
[{"$f":"Orders!A1320","v":0},{"$f":"VLOOKUP(A1319,'Product-tool'!A:E,2,0)","v":{"$error":"#N/A"}},{"$f":"VLOOKUP(A1319&B1319,'Standard output'!A:D,4,0)","v":{"$error":"#N/A"}},{"$f":"Orders!B1320/$C1319","v":{"$error":"#N/A"}},{"$f":"Orders!C1320/$C1319","v":{"$error":"#N/A"}},{"$f":"Orders!D1320/$C1319","v":{"$error":"#N/A"}}]
[{"$f":"Orders!A1321","v":0},{"$f":"VLOOKUP(A1320,'Product-tool'!A:E,2,0)","v":{"$error":"#N/A"}},{"$f":"VLOOKUP(A1320&B1320,'Standard output'!A:D,4,0)","v":{"$error":"#N/A"}},{"$f":"Orders!B1321/$C1320","v":{"$error":"#N/A"}},{"$f":"Orders!C1321/$C1320","v":{"$error":"#N/A"}},{"$f":"Orders!D1321/$C1320","v":{"$error":"#N/A"}}]
[{"$f":"Orders!A1322","v":0},{"$f":"VLOOKUP(A1321,'Product-tool'!A:E,2,0)","v":{"$error":"#N/A"}},{"$f":"VLOOKUP(A1321&B1321,'Standard output'!A:D,4,0)","v":{"$error":"#N/A"}},{"$f":"Orders!B1322/$C1321","v":{"$error":"#N/A"}},{"$f":"Orders!C1322/$C1321","v":{"$error":"#N/A"}},{"$f":"Orders!D1322/$C1321","v":{"$error":"#N/A"}}]
[{"$f":"Orders!A1323","v":0},{"$f":"VLOOKUP(A1322,'Product-tool'!A:E,2,0)","v":{"$error":"#N/A"}},{"$f":"VLOOKUP(A1322&B1322,'Standard output'!A:D,4,0)","v":{"$error":"#N/A"}},{"$f":"Orders!B1323/$C1322","v":{"$error":"#N/A"}},{"$f":"Orders!C1323/$C1322","v":{"$error":"#N/A"}},{"$f":"Orders!D1323/$C1322","v":{"$error":"#N/A"}}]
[{"$f":"Orders!A1324","v":0},{"$f":"VLOOKUP(A1323,'Product-tool'!A:E,2,0)","v":{"$error":"#N/A"}},{"$f":"VLOOKUP(A1323&B1323,'Standard output'!A:D,4,0)","v":{"$error":"#N/A"}},{"$f":"Orders!B1324/$C1323","v":{"$error":"#N/A"}},{"$f":"Orders!C1324/$C1323","v":{"$error":"#N/A"}},{"$f":"Orders!D1324/$C1323","v":{"$error":"#N/A"}}]
[{"$f":"Orders!A1325","v":0},{"$f":"VLOOKUP(A1324,'Product-tool'!A:E,2,0)","v":{"$error":"#N/A"}},{"$f":"VLOOKUP(A1324&B1324,'Standard output'!A:D,4,0)","v":{"$error":"#N/A"}},{"$f":"Orders!B1325/$C1324","v":{"$error":"#N/A"}},{"$f":"Orders!C1325/$C1324","v":{"$error":"#N/A"}},{"$f":"Orders!D1325/$C1324","v":{"$error":"#N/A"}}]
[{"$f":"Orders!A1326","v":0},{"$f":"VLOOKUP(A1325,'Product-tool'!A:E,2,0)","v":{"$error":"#N/A"}},{"$f":"VLOOKUP(A1325&B1325,'Standard output'!A:D,4,0)","v":{"$error":"#N/A"}},{"$f":"Orders!B1326/$C1325","v":{"$error":"#N/A"}},{"$f":"Orders!C1326/$C1325","v":{"$error":"#N/A"}},{"$f":"Orders!D1326/$C1325","v":{"$error":"#N/A"}}]
[{"$f":"Orders!A1327","v":0},{"$f":"VLOOKUP(A1326,'Product-tool'!A:E,2,0)","v":{"$error":"#N/A"}},{"$f":"VLOOKUP(A1326&B1326,'Standard output'!A:D,4,0)","v":{"$error":"#N/A"}},{"$f":"Orders!B1327/$C1326","v":{"$error":"#N/A"}},{"$f":"Orders!C1327/$C1326","v":{"$error":"#N/A"}},{"$f":"Orders!D1327/$C1326","v":{"$error":"#N/A"}}]
[{"$f":"Orders!A1328","v":0},{"$f":"VLOOKUP(A1327,'Product-tool'!A:E,2,0)","v":{"$error":"#N/A"}},{"$f":"VLOOKUP(A1327&B1327,'Standard output'!A:D,4,0)","v":{"$error":"#N/A"}},{"$f":"Orders!B1328/$C1327","v":{"$error":"#N/A"}},{"$f":"Orders!C1328/$C1327","v":{"$error":"#N/A"}},{"$f":"Orders!D1328/$C1327","v":{"$error":"#N/A"}}]
[{"$f":"Orders!A1329","v":0},{"$f":"VLOOKUP(A1328,'Product-tool'!A:E,2,0)","v":{"$error":"#N/A"}},{"$f":"VLOOKUP(A1328&B1328,'Standard output'!A:D,4,0)","v":{"$error":"#N/A"}},{"$f":"Orders!B1329/$C1328","v":{"$error":"#N/A"}},{"$f":"Orders!C1329/$C1328","v":{"$error":"#N/A"}},{"$f":"Orders!D1329/$C1328","v":{"$error":"#N/A"}}]
[{"$f":"Orders!A1330","v":0},{"$f":"VLOOKUP(A1329,'Product-tool'!A:E,2,0)","v":{"$error":"#N/A"}},{"$f":"VLOOKUP(A1329&B1329,'Standard output'!A:D,4,0)","v":{"$error":"#N/A"}},{"$f":"Orders!B1330/$C1329","v":{"$error":"#N/A"}},{"$f":"Orders!C1330/$C1329","v":{"$error":"#N/A"}},{"$f":"Orders!D1330/$C1329","v":{"$error":"#N/A"}}]
[{"$f":"Orders!A1331","v":0},{"$f":"VLOOKUP(A1330,'Product-tool'!A:E,2,0)","v":{"$error":"#N/A"}},{"$f":"VLOOKUP(A1330&B1330,'Standard output'!A:D,4,0)","v":{"$error":"#N/A"}},{"$f":"Orders!B1331/$C1330","v":{"$error":"#N/A"}},{"$f":"Orders!C1331/$C1330","v":{"$error":"#N/A"}},{"$f":"Orders!D1331/$C1330","v":{"$error":"#N/A"}}]
[{"$f":"Orders!A1332","v":0},{"$f":"VLOOKUP(A1331,'Product-tool'!A:E,2,0)","v":{"$error":"#N/A"}},{"$f":"VLOOKUP(A1331&B1331,'Standard output'!A:D,4,0)","v":{"$error":"#N/A"}},{"$f":"Orders!B1332/$C1331","v":{"$error":"#N/A"}},{"$f":"Orders!C1332/$C1331","v":{"$error":"#N/A"}},{"$f":"Orders!D1332/$C1331","v":{"$error":"#N/A"}}]
[{"$f":"Orders!A1333","v":0},{"$f":"VLOOKUP(A1332,'Product-tool'!A:E,2,0)","v":{"$error":"#N/A"}},{"$f":"VLOOKUP(A1332&B1332,'Standard output'!A:D,4,0)","v":{"$error":"#N/A"}},{"$f":"Orders!B1333/$C1332","v":{"$error":"#N/A"}},{"$f":"Orders!C1333/$C1332","v":{"$error":"#N/A"}},{"$f":"Orders!D1333/$C1332","v":{"$error":"#N/A"}}]
[{"$f":"Orders!A1334","v":0},{"$f":"VLOOKUP(A1333,'Product-tool'!A:E,2,0)","v":{"$error":"#N/A"}},{"$f":"VLOOKUP(A1333&B1333,'Standard output'!A:D,4,0)","v":{"$error":"#N/A"}},{"$f":"Orders!B1334/$C1333","v":{"$error":"#N/A"}},{"$f":"Orders!C1334/$C1333","v":{"$error":"#N/A"}},{"$f":"Orders!D1334/$C1333","v":{"$error":"#N/A"}}]
[{"$f":"Orders!A1335","v":0},{"$f":"VLOOKUP(A1334,'Product-tool'!A:E,2,0)","v":{"$error":"#N/A"}},{"$f":"VLOOKUP(A1334&B1334,'Standard output'!A:D,4,0)","v":{"$error":"#N/A"}},{"$f":"Orders!B1335/$C1334","v":{"$error":"#N/A"}},{"$f":"Orders!C1335/$C1334","v":{"$error":"#N/A"}},{"$f":"Orders!D1335/$C1334","v":{"$error":"#N/A"}}]
[{"$f":"Orders!A1336","v":0},{"$f":"VLOOKUP(A1335,'Product-tool'!A:E,2,0)","v":{"$error":"#N/A"}},{"$f":"VLOOKUP(A1335&B1335,'Standard output'!A:D,4,0)","v":{"$error":"#N/A"}},{"$f":"Orders!B1336/$C1335","v":{"$error":"#N/A"}},{"$f":"Orders!C1336/$C1335","v":{"$error":"#N/A"}},{"$f":"Orders!D1336/$C1335","v":{"$error":"#N/A"}}]
[{"$f":"Orders!A1337","v":0},{"$f":"VLOOKUP(A1336,'Product-tool'!A:E,2,0)","v":{"$error":"#N/A"}},{"$f":"VLOOKUP(A1336&B1336,'Standard output'!A:D,4,0)","v":{"$error":"#N/A"}},{"$f":"Orders!B1337/$C1336","v":{"$error":"#N/A"}},{"$f":"Orders!C1337/$C1336","v":{"$error":"#N/A"}},{"$f":"Orders!D1337/$C1336","v":{"$error":"#N/A"}}]
[{"$f":"Orders!A1338","v":0},{"$f":"VLOOKUP(A1337,'Product-tool'!A:E,2,0)","v":{"$error":"#N/A"}},{"$f":"VLOOKUP(A1337&B1337,'Standard output'!A:D,4,0)","v":{"$error":"#N/A"}},{"$f":"Orders!B1338/$C1337","v":{"$error":"#N/A"}},{"$f":"Orders!C1338/$C1337","v":{"$error":"#N/A"}},{"$f":"Orders!D1338/$C1337","v":{"$error":"#N/A"}}]
[{"$f":"Orders!A1339","v":0},{"$f":"VLOOKUP(A1338,'Product-tool'!A:E,2,0)","v":{"$error":"#N/A"}},{"$f":"VLOOKUP(A1338&B1338,'Standard output'!A:D,4,0)","v":{"$error":"#N/A"}},{"$f":"Orders!B1339/$C1338","v":{"$error":"#N/A"}},{"$f":"Orders!C1339/$C1338","v":{"$error":"#N/A"}},{"$f":"Orders!D1339/$C1338","v":{"$error":"#N/A"}}]
[{"$f":"Orders!A1340","v":0},{"$f":"VLOOKUP(A1339,'Product-tool'!A:E,2,0)","v":{"$error":"#N/A"}},{"$f":"VLOOKUP(A1339&B1339,'Standard output'!A:D,4,0)","v":{"$error":"#N/A"}},{"$f":"Orders!B1340/$C1339","v":{"$error":"#N/A"}},{"$f":"Orders!C1340/$C1339","v":{"$error":"#N/A"}},{"$f":"Orders!D1340/$C1339","v":{"$error":"#N/A"}}]
[{"$f":"Orders!A1341","v":0},{"$f":"VLOOKUP(A1340,'Product-tool'!A:E,2,0)","v":{"$error":"#N/A"}},{"$f":"VLOOKUP(A1340&B1340,'Standard output'!A:D,4,0)","v":{"$error":"#N/A"}},{"$f":"Orders!B1341/$C1340","v":{"$error":"#N/A"}},{"$f":"Orders!C1341/$C1340","v":{"$error":"#N/A"}},{"$f":"Orders!D1341/$C1340","v":{"$error":"#N/A"}}]
[{"$f":"Orders!A1342","v":0},{"$f":"VLOOKUP(A1341,'Product-tool'!A:E,2,0)","v":{"$error":"#N/A"}},{"$f":"VLOOKUP(A1341&B1341,'Standard output'!A:D,4,0)","v":{"$error":"#N/A"}},{"$f":"Orders!B1342/$C1341","v":{"$error":"#N/A"}},{"$f":"Orders!C1342/$C1341","v":{"$error":"#N/A"}},{"$f":"Orders!D1342/$C1341","v":{"$error":"#N/A"}}]
[{"$f":"Orders!A1343","v":0},{"$f":"VLOOKUP(A1342,'Product-tool'!A:E,2,0)","v":{"$error":"#N/A"}},{"$f":"VLOOKUP(A1342&B1342,'Standard output'!A:D,4,0)","v":{"$error":"#N/A"}},{"$f":"Orders!B1343/$C1342","v":{"$error":"#N/A"}},{"$f":"Orders!C1343/$C1342","v":{"$error":"#N/A"}},{"$f":"Orders!D1343/$C1342","v":{"$error":"#N/A"}}]
[{"$f":"Orders!A1344","v":0},{"$f":"VLOOKUP(A1343,'Product-tool'!A:E,2,0)","v":{"$error":"#N/A"}},{"$f":"VLOOKUP(A1343&B1343,'Standard output'!A:D,4,0)","v":{"$error":"#N/A"}},{"$f":"Orders!B1344/$C1343","v":{"$error":"#N/A"}},{"$f":"Orders!C1344/$C1343","v":{"$error":"#N/A"}},{"$f":"Orders!D1344/$C1343","v":{"$error":"#N/A"}}]
[{"$f":"Orders!A1345","v":0},{"$f":"VLOOKUP(A1344,'Product-tool'!A:E,2,0)","v":{"$error":"#N/A"}},{"$f":"VLOOKUP(A1344&B1344,'Standard output'!A:D,4,0)","v":{"$error":"#N/A"}},{"$f":"Orders!B1345/$C1344","v":{"$error":"#N/A"}},{"$f":"Orders!C1345/$C1344","v":{"$error":"#N/A"}},{"$f":"Orders!D1345/$C1344","v":{"$error":"#N/A"}}]
[{"$f":"Orders!A1346","v":0},{"$f":"VLOOKUP(A1345,'Product-tool'!A:E,2,0)","v":{"$error":"#N/A"}},{"$f":"VLOOKUP(A1345&B1345,'Standard output'!A:D,4,0)","v":{"$error":"#N/A"}},{"$f":"Orders!B1346/$C1345","v":{"$error":"#N/A"}},{"$f":"Orders!C1346/$C1345","v":{"$error":"#N/A"}},{"$f":"Orders!D1346/$C1345","v":{"$error":"#N/A"}}]
[{"$f":"Orders!A1347","v":0},{"$f":"VLOOKUP(A1346,'Product-tool'!A:E,2,0)","v":{"$error":"#N/A"}},{"$f":"VLOOKUP(A1346&B1346,'Standard output'!A:D,4,0)","v":{"$error":"#N/A"}},{"$f":"Orders!B1347/$C1346","v":{"$error":"#N/A"}},{"$f":"Orders!C1347/$C1346","v":{"$error":"#N/A"}},{"$f":"Orders!D1347/$C1346","v":{"$error":"#N/A"}}]
[{"$f":"Orders!A1348","v":0},{"$f":"VLOOKUP(A1347,'Product-tool'!A:E,2,0)","v":{"$error":"#N/A"}},{"$f":"VLOOKUP(A1347&B1347,'Standard output'!A:D,4,0)","v":{"$error":"#N/A"}},{"$f":"Orders!B1348/$C1347","v":{"$error":"#N/A"}},{"$f":"Orders!C1348/$C1347","v":{"$error":"#N/A"}},{"$f":"Orders!D1348/$C1347","v":{"$error":"#N/A"}}]
[{"$f":"Orders!A1349","v":0},{"$f":"VLOOKUP(A1348,'Product-tool'!A:E,2,0)","v":{"$error":"#N/A"}},{"$f":"VLOOKUP(A1348&B1348,'Standard output'!A:D,4,0)","v":{"$error":"#N/A"}},{"$f":"Orders!B1349/$C1348","v":{"$error":"#N/A"}},{"$f":"Orders!C1349/$C1348","v":{"$error":"#N/A"}},{"$f":"Orders!D1349/$C1348","v":{"$error":"#N/A"}}]
[{"$f":"Orders!A1350","v":0},{"$f":"VLOOKUP(A1349,'Product-tool'!A:E,2,0)","v":{"$error":"#N/A"}},{"$f":"VLOOKUP(A1349&B1349,'Standard output'!A:D,4,0)","v":{"$error":"#N/A"}},{"$f":"Orders!B1350/$C1349","v":{"$error":"#N/A"}},{"$f":"Orders!C1350/$C1349","v":{"$error":"#N/A"}},{"$f":"Orders!D1350/$C1349","v":{"$error":"#N/A"}}]
[{"$f":"Orders!A1351","v":0},{"$f":"VLOOKUP(A1350,'Product-tool'!A:E,2,0)","v":{"$error":"#N/A"}},{"$f":"VLOOKUP(A1350&B1350,'Standard output'!A:D,4,0)","v":{"$error":"#N/A"}},{"$f":"Orders!B1351/$C1350","v":{"$error":"#N/A"}},{"$f":"Orders!C1351/$C1350","v":{"$error":"#N/A"}},{"$f":"Orders!D1351/$C1350","v":{"$error":"#N/A"}}]
[{"$f":"Orders!A1352","v":0},{"$f":"VLOOKUP(A1351,'Product-tool'!A:E,2,0)","v":{"$error":"#N/A"}},{"$f":"VLOOKUP(A1351&B1351,'Standard output'!A:D,4,0)","v":{"$error":"#N/A"}},{"$f":"Orders!B1352/$C1351","v":{"$error":"#N/A"}},{"$f":"Orders!C1352/$C1351","v":{"$error":"#N/A"}},{"$f":"Orders!D1352/$C1351","v":{"$error":"#N/A"}}]
[{"$f":"Orders!A1353","v":0},{"$f":"VLOOKUP(A1352,'Product-tool'!A:E,2,0)","v":{"$error":"#N/A"}},{"$f":"VLOOKUP(A1352&B1352,'Standard output'!A:D,4,0)","v":{"$error":"#N/A"}},{"$f":"Orders!B1353/$C1352","v":{"$error":"#N/A"}},{"$f":"Orders!C1353/$C1352","v":{"$error":"#N/A"}},{"$f":"Orders!D1353/$C1352","v":{"$error":"#N/A"}}]
[{"$f":"Orders!A1354","v":0},{"$f":"VLOOKUP(A1353,'Product-tool'!A:E,2,0)","v":{"$error":"#N/A"}},{"$f":"VLOOKUP(A1353&B1353,'Standard output'!A:D,4,0)","v":{"$error":"#N/A"}},{"$f":"Orders!B1354/$C1353","v":{"$error":"#N/A"}},{"$f":"Orders!C1354/$C1353","v":{"$error":"#N/A"}},{"$f":"Orders!D1354/$C1353","v":{"$error":"#N/A"}}]
[{"$f":"Orders!A1355","v":0},{"$f":"VLOOKUP(A1354,'Product-tool'!A:E,2,0)","v":{"$error":"#N/A"}},{"$f":"VLOOKUP(A1354&B1354,'Standard output'!A:D,4,0)","v":{"$error":"#N/A"}},{"$f":"Orders!B1355/$C1354","v":{"$error":"#N/A"}},{"$f":"Orders!C1355/$C1354","v":{"$error":"#N/A"}},{"$f":"Orders!D1355/$C1354","v":{"$error":"#N/A"}}]
[{"$f":"Orders!A1356","v":0},{"$f":"VLOOKUP(A1355,'Product-tool'!A:E,2,0)","v":{"$error":"#N/A"}},{"$f":"VLOOKUP(A1355&B1355,'Standard output'!A:D,4,0)","v":{"$error":"#N/A"}},{"$f":"Orders!B1356/$C1355","v":{"$error":"#N/A"}},{"$f":"Orders!C1356/$C1355","v":{"$error":"#N/A"}},{"$f":"Orders!D1356/$C1355","v":{"$error":"#N/A"}}]
[{"$f":"Orders!A1357","v":0},{"$f":"VLOOKUP(A1356,'Product-tool'!A:E,2,0)","v":{"$error":"#N/A"}},{"$f":"VLOOKUP(A1356&B1356,'Standard output'!A:D,4,0)","v":{"$error":"#N/A"}},{"$f":"Orders!B1357/$C1356","v":{"$error":"#N/A"}},{"$f":"Orders!C1357/$C1356","v":{"$error":"#N/A"}},{"$f":"Orders!D1357/$C1356","v":{"$error":"#N/A"}}]
[{"$f":"Orders!A1358","v":0},{"$f":"VLOOKUP(A1357,'Product-tool'!A:E,2,0)","v":{"$error":"#N/A"}},{"$f":"VLOOKUP(A1357&B1357,'Standard output'!A:D,4,0)","v":{"$error":"#N/A"}},{"$f":"Orders!B1358/$C1357","v":{"$error":"#N/A"}},{"$f":"Orders!C1358/$C1357","v":{"$error":"#N/A"}},{"$f":"Orders!D1358/$C1357","v":{"$error":"#N/A"}}]
[{"$f":"Orders!A1359","v":0},{"$f":"VLOOKUP(A1358,'Product-tool'!A:E,2,0)","v":{"$error":"#N/A"}},{"$f":"VLOOKUP(A1358&B1358,'Standard output'!A:D,4,0)","v":{"$error":"#N/A"}},{"$f":"Orders!B1359/$C1358","v":{"$error":"#N/A"}},{"$f":"Orders!C1359/$C1358","v":{"$error":"#N/A"}},{"$f":"Orders!D1359/$C1358","v":{"$error":"#N/A"}}]
[{"$f":"Orders!A1360","v":0},{"$f":"VLOOKUP(A1359,'Product-tool'!A:E,2,0)","v":{"$error":"#N/A"}},{"$f":"VLOOKUP(A1359&B1359,'Standard output'!A:D,4,0)","v":{"$error":"#N/A"}},{"$f":"Orders!B1360/$C1359","v":{"$error":"#N/A"}},{"$f":"Orders!C1360/$C1359","v":{"$error":"#N/A"}},{"$f":"Orders!D1360/$C1359","v":{"$error":"#N/A"}}]
[{"$f":"Orders!A1361","v":0},{"$f":"VLOOKUP(A1360,'Product-tool'!A:E,2,0)","v":{"$error":"#N/A"}},{"$f":"VLOOKUP(A1360&B1360,'Standard output'!A:D,4,0)","v":{"$error":"#N/A"}},{"$f":"Orders!B1361/$C1360","v":{"$error":"#N/A"}},{"$f":"Orders!C1361/$C1360","v":{"$error":"#N/A"}},{"$f":"Orders!D1361/$C1360","v":{"$error":"#N/A"}}]
[{"$f":"Orders!A1362","v":0},{"$f":"VLOOKUP(A1361,'Product-tool'!A:E,2,0)","v":{"$error":"#N/A"}},{"$f":"VLOOKUP(A1361&B1361,'Standard output'!A:D,4,0)","v":{"$error":"#N/A"}},{"$f":"Orders!B1362/$C1361","v":{"$error":"#N/A"}},{"$f":"Orders!C1362/$C1361","v":{"$error":"#N/A"}},{"$f":"Orders!D1362/$C1361","v":{"$error":"#N/A"}}]
[{"$f":"Orders!A1363","v":0},{"$f":"VLOOKUP(A1362,'Product-tool'!A:E,2,0)","v":{"$error":"#N/A"}},{"$f":"VLOOKUP(A1362&B1362,'Standard output'!A:D,4,0)","v":{"$error":"#N/A"}},{"$f":"Orders!B1363/$C1362","v":{"$error":"#N/A"}},{"$f":"Orders!C1363/$C1362","v":{"$error":"#N/A"}},{"$f":"Orders!D1363/$C1362","v":{"$error":"#N/A"}}]
[{"$f":"Orders!A1364","v":0},{"$f":"VLOOKUP(A1363,'Product-tool'!A:E,2,0)","v":{"$error":"#N/A"}},{"$f":"VLOOKUP(A1363&B1363,'Standard output'!A:D,4,0)","v":{"$error":"#N/A"}},{"$f":"Orders!B1364/$C1363","v":{"$error":"#N/A"}},{"$f":"Orders!C1364/$C1363","v":{"$error":"#N/A"}},{"$f":"Orders!D1364/$C1363","v":{"$error":"#N/A"}}]
[{"$f":"Orders!A1365","v":0},{"$f":"VLOOKUP(A1364,'Product-tool'!A:E,2,0)","v":{"$error":"#N/A"}},{"$f":"VLOOKUP(A1364&B1364,'Standard output'!A:D,4,0)","v":{"$error":"#N/A"}},{"$f":"Orders!B1365/$C1364","v":{"$error":"#N/A"}},{"$f":"Orders!C1365/$C1364","v":{"$error":"#N/A"}},{"$f":"Orders!D1365/$C1364","v":{"$error":"#N/A"}}]
[{"$f":"Orders!A1366","v":0},{"$f":"VLOOKUP(A1365,'Product-tool'!A:E,2,0)","v":{"$error":"#N/A"}},{"$f":"VLOOKUP(A1365&B1365,'Standard output'!A:D,4,0)","v":{"$error":"#N/A"}},{"$f":"Orders!B1366/$C1365","v":{"$error":"#N/A"}},{"$f":"Orders!C1366/$C1365","v":{"$error":"#N/A"}},{"$f":"Orders!D1366/$C1365","v":{"$error":"#N/A"}}]
[{"$f":"Orders!A1367","v":0},{"$f":"VLOOKUP(A1366,'Product-tool'!A:E,2,0)","v":{"$error":"#N/A"}},{"$f":"VLOOKUP(A1366&B1366,'Standard output'!A:D,4,0)","v":{"$error":"#N/A"}},{"$f":"Orders!B1367/$C1366","v":{"$error":"#N/A"}},{"$f":"Orders!C1367/$C1366","v":{"$error":"#N/A"}},{"$f":"Orders!D1367/$C1366","v":{"$error":"#N/A"}}]
[{"$f":"Orders!A1368","v":0},{"$f":"VLOOKUP(A1367,'Product-tool'!A:E,2,0)","v":{"$error":"#N/A"}},{"$f":"VLOOKUP(A1367&B1367,'Standard output'!A:D,4,0)","v":{"$error":"#N/A"}},{"$f":"Orders!B1368/$C1367","v":{"$error":"#N/A"}},{"$f":"Orders!C1368/$C1367","v":{"$error":"#N/A"}},{"$f":"Orders!D1368/$C1367","v":{"$error":"#N/A"}}]
[{"$f":"Orders!A1369","v":0},{"$f":"VLOOKUP(A1368,'Product-tool'!A:E,2,0)","v":{"$error":"#N/A"}},{"$f":"VLOOKUP(A1368&B1368,'Standard output'!A:D,4,0)","v":{"$error":"#N/A"}},{"$f":"Orders!B1369/$C1368","v":{"$error":"#N/A"}},{"$f":"Orders!C1369/$C1368","v":{"$error":"#N/A"}},{"$f":"Orders!D1369/$C1368","v":{"$error":"#N/A"}}]
[{"$f":"Orders!A1370","v":0},{"$f":"VLOOKUP(A1369,'Product-tool'!A:E,2,0)","v":{"$error":"#N/A"}},{"$f":"VLOOKUP(A1369&B1369,'Standard output'!A:D,4,0)","v":{"$error":"#N/A"}},{"$f":"Orders!B1370/$C1369","v":{"$error":"#N/A"}},{"$f":"Orders!C1370/$C1369","v":{"$error":"#N/A"}},{"$f":"Orders!D1370/$C1369","v":{"$error":"#N/A"}}]
[{"$f":"Orders!A1371","v":0},{"$f":"VLOOKUP(A1370,'Product-tool'!A:E,2,0)","v":{"$error":"#N/A"}},{"$f":"VLOOKUP(A1370&B1370,'Standard output'!A:D,4,0)","v":{"$error":"#N/A"}},{"$f":"Orders!B1371/$C1370","v":{"$error":"#N/A"}},{"$f":"Orders!C1371/$C1370","v":{"$error":"#N/A"}},{"$f":"Orders!D1371/$C1370","v":{"$error":"#N/A"}}]
[{"$f":"Orders!A1372","v":0},{"$f":"VLOOKUP(A1371,'Product-tool'!A:E,2,0)","v":{"$error":"#N/A"}},{"$f":"VLOOKUP(A1371&B1371,'Standard output'!A:D,4,0)","v":{"$error":"#N/A"}},{"$f":"Orders!B1372/$C1371","v":{"$error":"#N/A"}},{"$f":"Orders!C1372/$C1371","v":{"$error":"#N/A"}},{"$f":"Orders!D1372/$C1371","v":{"$error":"#N/A"}}]
[{"$f":"Orders!A1373","v":0},{"$f":"VLOOKUP(A1372,'Product-tool'!A:E,2,0)","v":{"$error":"#N/A"}},{"$f":"VLOOKUP(A1372&B1372,'Standard output'!A:D,4,0)","v":{"$error":"#N/A"}},{"$f":"Orders!B1373/$C1372","v":{"$error":"#N/A"}},{"$f":"Orders!C1373/$C1372","v":{"$error":"#N/A"}},{"$f":"Orders!D1373/$C1372","v":{"$error":"#N/A"}}]
[{"$f":"Orders!A1374","v":0},{"$f":"VLOOKUP(A1373,'Product-tool'!A:E,2,0)","v":{"$error":"#N/A"}},{"$f":"VLOOKUP(A1373&B1373,'Standard output'!A:D,4,0)","v":{"$error":"#N/A"}},{"$f":"Orders!B1374/$C1373","v":{"$error":"#N/A"}},{"$f":"Orders!C1374/$C1373","v":{"$error":"#N/A"}},{"$f":"Orders!D1374/$C1373","v":{"$error":"#N/A"}}]
[{"$f":"Orders!A1375","v":0},{"$f":"VLOOKUP(A1374,'Product-tool'!A:E,2,0)","v":{"$error":"#N/A"}},{"$f":"VLOOKUP(A1374&B1374,'Standard output'!A:D,4,0)","v":{"$error":"#N/A"}},{"$f":"Orders!B1375/$C1374","v":{"$error":"#N/A"}},{"$f":"Orders!C1375/$C1374","v":{"$error":"#N/A"}},{"$f":"Orders!D1375/$C1374","v":{"$error":"#N/A"}}]
[{"$f":"Orders!A1376","v":0},{"$f":"VLOOKUP(A1375,'Product-tool'!A:E,2,0)","v":{"$error":"#N/A"}},{"$f":"VLOOKUP(A1375&B1375,'Standard output'!A:D,4,0)","v":{"$error":"#N/A"}},{"$f":"Orders!B1376/$C1375","v":{"$error":"#N/A"}},{"$f":"Orders!C1376/$C1375","v":{"$error":"#N/A"}},{"$f":"Orders!D1376/$C1375","v":{"$error":"#N/A"}}]
[{"$f":"Orders!A1377","v":0},{"$f":"VLOOKUP(A1376,'Product-tool'!A:E,2,0)","v":{"$error":"#N/A"}},{"$f":"VLOOKUP(A1376&B1376,'Standard output'!A:D,4,0)","v":{"$error":"#N/A"}},{"$f":"Orders!B1377/$C1376","v":{"$error":"#N/A"}},{"$f":"Orders!C1377/$C1376","v":{"$error":"#N/A"}},{"$f":"Orders!D1377/$C1376","v":{"$error":"#N/A"}}]
[{"$f":"Orders!A1378","v":0},{"$f":"VLOOKUP(A1377,'Product-tool'!A:E,2,0)","v":{"$error":"#N/A"}},{"$f":"VLOOKUP(A1377&B1377,'Standard output'!A:D,4,0)","v":{"$error":"#N/A"}},{"$f":"Orders!B1378/$C1377","v":{"$error":"#N/A"}},{"$f":"Orders!C1378/$C1377","v":{"$error":"#N/A"}},{"$f":"Orders!D1378/$C1377","v":{"$error":"#N/A"}}]
[{"$f":"Orders!A1379","v":0},{"$f":"VLOOKUP(A1378,'Product-tool'!A:E,2,0)","v":{"$error":"#N/A"}},{"$f":"VLOOKUP(A1378&B1378,'Standard output'!A:D,4,0)","v":{"$error":"#N/A"}},{"$f":"Orders!B1379/$C1378","v":{"$error":"#N/A"}},{"$f":"Orders!C1379/$C1378","v":{"$error":"#N/A"}},{"$f":"Orders!D1379/$C1378","v":{"$error":"#N/A"}}]
[{"$f":"Orders!A1380","v":0},{"$f":"VLOOKUP(A1379,'Product-tool'!A:E,2,0)","v":{"$error":"#N/A"}},{"$f":"VLOOKUP(A1379&B1379,'Standard output'!A:D,4,0)","v":{"$error":"#N/A"}},{"$f":"Orders!B1380/$C1379","v":{"$error":"#N/A"}},{"$f":"Orders!C1380/$C1379","v":{"$error":"#N/A"}},{"$f":"Orders!D1380/$C1379","v":{"$error":"#N/A"}}]
[{"$f":"Orders!A1381","v":0},{"$f":"VLOOKUP(A1380,'Product-tool'!A:E,2,0)","v":{"$error":"#N/A"}},{"$f":"VLOOKUP(A1380&B1380,'Standard output'!A:D,4,0)","v":{"$error":"#N/A"}},{"$f":"Orders!B1381/$C1380","v":{"$error":"#N/A"}},{"$f":"Orders!C1381/$C1380","v":{"$error":"#N/A"}},{"$f":"Orders!D1381/$C1380","v":{"$error":"#N/A"}}]
[{"$f":"Orders!A1382","v":0},{"$f":"VLOOKUP(A1381,'Product-tool'!A:E,2,0)","v":{"$error":"#N/A"}},{"$f":"VLOOKUP(A1381&B1381,'Standard output'!A:D,4,0)","v":{"$error":"#N/A"}},{"$f":"Orders!B1382/$C1381","v":{"$error":"#N/A"}},{"$f":"Orders!C1382/$C1381","v":{"$error":"#N/A"}},{"$f":"Orders!D1382/$C1381","v":{"$error":"#N/A"}}]
[{"$f":"Orders!A1383","v":0},{"$f":"VLOOKUP(A1382,'Product-tool'!A:E,2,0)","v":{"$error":"#N/A"}},{"$f":"VLOOKUP(A1382&B1382,'Standard output'!A:D,4,0)","v":{"$error":"#N/A"}},{"$f":"Orders!B1383/$C1382","v":{"$error":"#N/A"}},{"$f":"Orders!C1383/$C1382","v":{"$error":"#N/A"}},{"$f":"Orders!D1383/$C1382","v":{"$error":"#N/A"}}]
[{"$f":"Orders!A1384","v":0},{"$f":"VLOOKUP(A1383,'Product-tool'!A:E,2,0)","v":{"$error":"#N/A"}},{"$f":"VLOOKUP(A1383&B1383,'Standard output'!A:D,4,0)","v":{"$error":"#N/A"}},{"$f":"Orders!B1384/$C1383","v":{"$error":"#N/A"}},{"$f":"Orders!C1384/$C1383","v":{"$error":"#N/A"}},{"$f":"Orders!D1384/$C1383","v":{"$error":"#N/A"}}]
[{"$f":"Orders!A1385","v":0},{"$f":"VLOOKUP(A1384,'Product-tool'!A:E,2,0)","v":{"$error":"#N/A"}},{"$f":"VLOOKUP(A1384&B1384,'Standard output'!A:D,4,0)","v":{"$error":"#N/A"}},{"$f":"Orders!B1385/$C1384","v":{"$error":"#N/A"}},{"$f":"Orders!C1385/$C1384","v":{"$error":"#N/A"}},{"$f":"Orders!D1385/$C1384","v":{"$error":"#N/A"}}]
[{"$f":"Orders!A1386","v":0},{"$f":"VLOOKUP(A1385,'Product-tool'!A:E,2,0)","v":{"$error":"#N/A"}},{"$f":"VLOOKUP(A1385&B1385,'Standard output'!A:D,4,0)","v":{"$error":"#N/A"}},{"$f":"Orders!B1386/$C1385","v":{"$error":"#N/A"}},{"$f":"Orders!C1386/$C1385","v":{"$error":"#N/A"}},{"$f":"Orders!D1386/$C1385","v":{"$error":"#N/A"}}]
[{"$f":"Orders!A1387","v":0},{"$f":"VLOOKUP(A1386,'Product-tool'!A:E,2,0)","v":{"$error":"#N/A"}},{"$f":"VLOOKUP(A1386&B1386,'Standard output'!A:D,4,0)","v":{"$error":"#N/A"}},{"$f":"Orders!B1387/$C1386","v":{"$error":"#N/A"}},{"$f":"Orders!C1387/$C1386","v":{"$error":"#N/A"}},{"$f":"Orders!D1387/$C1386","v":{"$error":"#N/A"}}]
[{"$f":"Orders!A1388","v":0},{"$f":"VLOOKUP(A1387,'Product-tool'!A:E,2,0)","v":{"$error":"#N/A"}},{"$f":"VLOOKUP(A1387&B1387,'Standard output'!A:D,4,0)","v":{"$error":"#N/A"}},{"$f":"Orders!B1388/$C1387","v":{"$error":"#N/A"}},{"$f":"Orders!C1388/$C1387","v":{"$error":"#N/A"}},{"$f":"Orders!D1388/$C1387","v":{"$error":"#N/A"}}]
[{"$f":"Orders!A1389","v":0},{"$f":"VLOOKUP(A1388,'Product-tool'!A:E,2,0)","v":{"$error":"#N/A"}},{"$f":"VLOOKUP(A1388&B1388,'Standard output'!A:D,4,0)","v":{"$error":"#N/A"}},{"$f":"Orders!B1389/$C1388","v":{"$error":"#N/A"}},{"$f":"Orders!C1389/$C1388","v":{"$error":"#N/A"}},{"$f":"Orders!D1389/$C1388","v":{"$error":"#N/A"}}]
[{"$f":"Orders!A1390","v":0},{"$f":"VLOOKUP(A1389,'Product-tool'!A:E,2,0)","v":{"$error":"#N/A"}},{"$f":"VLOOKUP(A1389&B1389,'Standard output'!A:D,4,0)","v":{"$error":"#N/A"}},{"$f":"Orders!B1390/$C1389","v":{"$error":"#N/A"}},{"$f":"Orders!C1390/$C1389","v":{"$error":"#N/A"}},{"$f":"Orders!D1390/$C1389","v":{"$error":"#N/A"}}]
[{"$f":"Orders!A1391","v":0},{"$f":"VLOOKUP(A1390,'Product-tool'!A:E,2,0)","v":{"$error":"#N/A"}},{"$f":"VLOOKUP(A1390&B1390,'Standard output'!A:D,4,0)","v":{"$error":"#N/A"}},{"$f":"Orders!B1391/$C1390","v":{"$error":"#N/A"}},{"$f":"Orders!C1391/$C1390","v":{"$error":"#N/A"}},{"$f":"Orders!D1391/$C1390","v":{"$error":"#N/A"}}]
[{"$f":"Orders!A1392","v":0},{"$f":"VLOOKUP(A1391,'Product-tool'!A:E,2,0)","v":{"$error":"#N/A"}},{"$f":"VLOOKUP(A1391&B1391,'Standard output'!A:D,4,0)","v":{"$error":"#N/A"}},{"$f":"Orders!B1392/$C1391","v":{"$error":"#N/A"}},{"$f":"Orders!C1392/$C1391","v":{"$error":"#N/A"}},{"$f":"Orders!D1392/$C1391","v":{"$error":"#N/A"}}]
[{"$f":"Orders!A1393","v":0},{"$f":"VLOOKUP(A1392,'Product-tool'!A:E,2,0)","v":{"$error":"#N/A"}},{"$f":"VLOOKUP(A1392&B1392,'Standard output'!A:D,4,0)","v":{"$error":"#N/A"}},{"$f":"Orders!B1393/$C1392","v":{"$error":"#N/A"}},{"$f":"Orders!C1393/$C1392","v":{"$error":"#N/A"}},{"$f":"Orders!D1393/$C1392","v":{"$error":"#N/A"}}]
[{"$f":"Orders!A1394","v":0},{"$f":"VLOOKUP(A1393,'Product-tool'!A:E,2,0)","v":{"$error":"#N/A"}},{"$f":"VLOOKUP(A1393&B1393,'Standard output'!A:D,4,0)","v":{"$error":"#N/A"}},{"$f":"Orders!B1394/$C1393","v":{"$error":"#N/A"}},{"$f":"Orders!C1394/$C1393","v":{"$error":"#N/A"}},{"$f":"Orders!D1394/$C1393","v":{"$error":"#N/A"}}]
[{"$f":"Orders!A1395","v":0},{"$f":"VLOOKUP(A1394,'Product-tool'!A:E,2,0)","v":{"$error":"#N/A"}},{"$f":"VLOOKUP(A1394&B1394,'Standard output'!A:D,4,0)","v":{"$error":"#N/A"}},{"$f":"Orders!B1395/$C1394","v":{"$error":"#N/A"}},{"$f":"Orders!C1395/$C1394","v":{"$error":"#N/A"}},{"$f":"Orders!D1395/$C1394","v":{"$error":"#N/A"}}]
[{"$f":"Orders!A1396","v":0},{"$f":"VLOOKUP(A1395,'Product-tool'!A:E,2,0)","v":{"$error":"#N/A"}},{"$f":"VLOOKUP(A1395&B1395,'Standard output'!A:D,4,0)","v":{"$error":"#N/A"}},{"$f":"Orders!B1396/$C1395","v":{"$error":"#N/A"}},{"$f":"Orders!C1396/$C1395","v":{"$error":"#N/A"}},{"$f":"Orders!D1396/$C1395","v":{"$error":"#N/A"}}]
[{"$f":"Orders!A1397","v":0},{"$f":"VLOOKUP(A1396,'Product-tool'!A:E,2,0)","v":{"$error":"#N/A"}},{"$f":"VLOOKUP(A1396&B1396,'Standard output'!A:D,4,0)","v":{"$error":"#N/A"}},{"$f":"Orders!B1397/$C1396","v":{"$error":"#N/A"}},{"$f":"Orders!C1397/$C1396","v":{"$error":"#N/A"}},{"$f":"Orders!D1397/$C1396","v":{"$error":"#N/A"}}]
[{"$f":"Orders!A1398","v":0},{"$f":"VLOOKUP(A1397,'Product-tool'!A:E,2,0)","v":{"$error":"#N/A"}},{"$f":"VLOOKUP(A1397&B1397,'Standard output'!A:D,4,0)","v":{"$error":"#N/A"}},{"$f":"Orders!B1398/$C1397","v":{"$error":"#N/A"}},{"$f":"Orders!C1398/$C1397","v":{"$error":"#N/A"}},{"$f":"Orders!D1398/$C1397","v":{"$error":"#N/A"}}]
[{"$f":"Orders!A1399","v":0},{"$f":"VLOOKUP(A1398,'Product-tool'!A:E,2,0)","v":{"$error":"#N/A"}},{"$f":"VLOOKUP(A1398&B1398,'Standard output'!A:D,4,0)","v":{"$error":"#N/A"}},{"$f":"Orders!B1399/$C1398","v":{"$error":"#N/A"}},{"$f":"Orders!C1399/$C1398","v":{"$error":"#N/A"}},{"$f":"Orders!D1399/$C1398","v":{"$error":"#N/A"}}]
[{"$f":"Orders!A1400","v":0},{"$f":"VLOOKUP(A1399,'Product-tool'!A:E,2,0)","v":{"$error":"#N/A"}},{"$f":"VLOOKUP(A1399&B1399,'Standard output'!A:D,4,0)","v":{"$error":"#N/A"}},{"$f":"Orders!B1400/$C1399","v":{"$error":"#N/A"}},{"$f":"Orders!C1400/$C1399","v":{"$error":"#N/A"}},{"$f":"Orders!D1400/$C1399","v":{"$error":"#N/A"}}]
[{"$f":"Orders!A1401","v":0},{"$f":"VLOOKUP(A1400,'Product-tool'!A:E,2,0)","v":{"$error":"#N/A"}},{"$f":"VLOOKUP(A1400&B1400,'Standard output'!A:D,4,0)","v":{"$error":"#N/A"}},{"$f":"Orders!B1401/$C1400","v":{"$error":"#N/A"}},{"$f":"Orders!C1401/$C1400","v":{"$error":"#N/A"}},{"$f":"Orders!D1401/$C1400","v":{"$error":"#N/A"}}]
[{"$f":"Orders!A1402","v":0},{"$f":"VLOOKUP(A1401,'Product-tool'!A:E,2,0)","v":{"$error":"#N/A"}},{"$f":"VLOOKUP(A1401&B1401,'Standard output'!A:D,4,0)","v":{"$error":"#N/A"}},{"$f":"Orders!B1402/$C1401","v":{"$error":"#N/A"}},{"$f":"Orders!C1402/$C1401","v":{"$error":"#N/A"}},{"$f":"Orders!D1402/$C1401","v":{"$error":"#N/A"}}]
[{"$f":"Orders!A1403","v":0},{"$f":"VLOOKUP(A1402,'Product-tool'!A:E,2,0)","v":{"$error":"#N/A"}},{"$f":"VLOOKUP(A1402&B1402,'Standard output'!A:D,4,0)","v":{"$error":"#N/A"}},{"$f":"Orders!B1403/$C1402","v":{"$error":"#N/A"}},{"$f":"Orders!C1403/$C1402","v":{"$error":"#N/A"}},{"$f":"Orders!D1403/$C1402","v":{"$error":"#N/A"}}]
[{"$f":"Orders!A1404","v":0},{"$f":"VLOOKUP(A1403,'Product-tool'!A:E,2,0)","v":{"$error":"#N/A"}},{"$f":"VLOOKUP(A1403&B1403,'Standard output'!A:D,4,0)","v":{"$error":"#N/A"}},{"$f":"Orders!B1404/$C1403","v":{"$error":"#N/A"}},{"$f":"Orders!C1404/$C1403","v":{"$error":"#N/A"}},{"$f":"Orders!D1404/$C1403","v":{"$error":"#N/A"}}]
[{"$f":"Orders!A1405","v":0},{"$f":"VLOOKUP(A1404,'Product-tool'!A:E,2,0)","v":{"$error":"#N/A"}},{"$f":"VLOOKUP(A1404&B1404,'Standard output'!A:D,4,0)","v":{"$error":"#N/A"}},{"$f":"Orders!B1405/$C1404","v":{"$error":"#N/A"}},{"$f":"Orders!C1405/$C1404","v":{"$error":"#N/A"}},{"$f":"Orders!D1405/$C1404","v":{"$error":"#N/A"}}]
[{"$f":"Orders!A1406","v":0},{"$f":"VLOOKUP(A1405,'Product-tool'!A:E,2,0)","v":{"$error":"#N/A"}},{"$f":"VLOOKUP(A1405&B1405,'Standard output'!A:D,4,0)","v":{"$error":"#N/A"}},{"$f":"Orders!B1406/$C1405","v":{"$error":"#N/A"}},{"$f":"Orders!C1406/$C1405","v":{"$error":"#N/A"}},{"$f":"Orders!D1406/$C1405","v":{"$error":"#N/A"}}]
[{"$f":"Orders!A1407","v":0},{"$f":"VLOOKUP(A1406,'Product-tool'!A:E,2,0)","v":{"$error":"#N/A"}},{"$f":"VLOOKUP(A1406&B1406,'Standard output'!A:D,4,0)","v":{"$error":"#N/A"}},{"$f":"Orders!B1407/$C1406","v":{"$error":"#N/A"}},{"$f":"Orders!C1407/$C1406","v":{"$error":"#N/A"}},{"$f":"Orders!D1407/$C1406","v":{"$error":"#N/A"}}]
[{"$f":"Orders!A1408","v":0},{"$f":"VLOOKUP(A1407,'Product-tool'!A:E,2,0)","v":{"$error":"#N/A"}},{"$f":"VLOOKUP(A1407&B1407,'Standard output'!A:D,4,0)","v":{"$error":"#N/A"}},{"$f":"Orders!B1408/$C1407","v":{"$error":"#N/A"}},{"$f":"Orders!C1408/$C1407","v":{"$error":"#N/A"}},{"$f":"Orders!D1408/$C1407","v":{"$error":"#N/A"}}]
[{"$f":"Orders!A1409","v":0},{"$f":"VLOOKUP(A1408,'Product-tool'!A:E,2,0)","v":{"$error":"#N/A"}},{"$f":"VLOOKUP(A1408&B1408,'Standard output'!A:D,4,0)","v":{"$error":"#N/A"}},{"$f":"Orders!B1409/$C1408","v":{"$error":"#N/A"}},{"$f":"Orders!C1409/$C1408","v":{"$error":"#N/A"}},{"$f":"Orders!D1409/$C1408","v":{"$error":"#N/A"}}]
[{"$f":"Orders!A1410","v":0},{"$f":"VLOOKUP(A1409,'Product-tool'!A:E,2,0)","v":{"$error":"#N/A"}},{"$f":"VLOOKUP(A1409&B1409,'Standard output'!A:D,4,0)","v":{"$error":"#N/A"}},{"$f":"Orders!B1410/$C1409","v":{"$error":"#N/A"}},{"$f":"Orders!C1410/$C1409","v":{"$error":"#N/A"}},{"$f":"Orders!D1410/$C1409","v":{"$error":"#N/A"}}]
[{"$f":"Orders!A1411","v":0},{"$f":"VLOOKUP(A1410,'Product-tool'!A:E,2,0)","v":{"$error":"#N/A"}},{"$f":"VLOOKUP(A1410&B1410,'Standard output'!A:D,4,0)","v":{"$error":"#N/A"}},{"$f":"Orders!B1411/$C1410","v":{"$error":"#N/A"}},{"$f":"Orders!C1411/$C1410","v":{"$error":"#N/A"}},{"$f":"Orders!D1411/$C1410","v":{"$error":"#N/A"}}]
[{"$f":"Orders!A1412","v":0},{"$f":"VLOOKUP(A1411,'Product-tool'!A:E,2,0)","v":{"$error":"#N/A"}},{"$f":"VLOOKUP(A1411&B1411,'Standard output'!A:D,4,0)","v":{"$error":"#N/A"}},{"$f":"Orders!B1412/$C1411","v":{"$error":"#N/A"}},{"$f":"Orders!C1412/$C1411","v":{"$error":"#N/A"}},{"$f":"Orders!D1412/$C1411","v":{"$error":"#N/A"}}]
[{"$f":"Orders!A1413","v":0},{"$f":"VLOOKUP(A1412,'Product-tool'!A:E,2,0)","v":{"$error":"#N/A"}},{"$f":"VLOOKUP(A1412&B1412,'Standard output'!A:D,4,0)","v":{"$error":"#N/A"}},{"$f":"Orders!B1413/$C1412","v":{"$error":"#N/A"}},{"$f":"Orders!C1413/$C1412","v":{"$error":"#N/A"}},{"$f":"Orders!D1413/$C1412","v":{"$error":"#N/A"}}]
[{"$f":"Orders!A1414","v":0},{"$f":"VLOOKUP(A1413,'Product-tool'!A:E,2,0)","v":{"$error":"#N/A"}},{"$f":"VLOOKUP(A1413&B1413,'Standard output'!A:D,4,0)","v":{"$error":"#N/A"}},{"$f":"Orders!B1414/$C1413","v":{"$error":"#N/A"}},{"$f":"Orders!C1414/$C1413","v":{"$error":"#N/A"}},{"$f":"Orders!D1414/$C1413","v":{"$error":"#N/A"}}]
[{"$f":"Orders!A1415","v":0},{"$f":"VLOOKUP(A1414,'Product-tool'!A:E,2,0)","v":{"$error":"#N/A"}},{"$f":"VLOOKUP(A1414&B1414,'Standard output'!A:D,4,0)","v":{"$error":"#N/A"}},{"$f":"Orders!B1415/$C1414","v":{"$error":"#N/A"}},{"$f":"Orders!C1415/$C1414","v":{"$error":"#N/A"}},{"$f":"Orders!D1415/$C1414","v":{"$error":"#N/A"}}]
[{"$f":"Orders!A1416","v":0},{"$f":"VLOOKUP(A1415,'Product-tool'!A:E,2,0)","v":{"$error":"#N/A"}},{"$f":"VLOOKUP(A1415&B1415,'Standard output'!A:D,4,0)","v":{"$error":"#N/A"}},{"$f":"Orders!B1416/$C1415","v":{"$error":"#N/A"}},{"$f":"Orders!C1416/$C1415","v":{"$error":"#N/A"}},{"$f":"Orders!D1416/$C1415","v":{"$error":"#N/A"}}]
[{"$f":"Orders!A1417","v":0},{"$f":"VLOOKUP(A1416,'Product-tool'!A:E,2,0)","v":{"$error":"#N/A"}},{"$f":"VLOOKUP(A1416&B1416,'Standard output'!A:D,4,0)","v":{"$error":"#N/A"}},{"$f":"Orders!B1417/$C1416","v":{"$error":"#N/A"}},{"$f":"Orders!C1417/$C1416","v":{"$error":"#N/A"}},{"$f":"Orders!D1417/$C1416","v":{"$error":"#N/A"}}]
[{"$f":"Orders!A1418","v":0},{"$f":"VLOOKUP(A1417,'Product-tool'!A:E,2,0)","v":{"$error":"#N/A"}},{"$f":"VLOOKUP(A1417&B1417,'Standard output'!A:D,4,0)","v":{"$error":"#N/A"}},{"$f":"Orders!B1418/$C1417","v":{"$error":"#N/A"}},{"$f":"Orders!C1418/$C1417","v":{"$error":"#N/A"}},{"$f":"Orders!D1418/$C1417","v":{"$error":"#N/A"}}]
[{"$f":"Orders!A1419","v":0},{"$f":"VLOOKUP(A1418,'Product-tool'!A:E,2,0)","v":{"$error":"#N/A"}},{"$f":"VLOOKUP(A1418&B1418,'Standard output'!A:D,4,0)","v":{"$error":"#N/A"}},{"$f":"Orders!B1419/$C1418","v":{"$error":"#N/A"}},{"$f":"Orders!C1419/$C1418","v":{"$error":"#N/A"}},{"$f":"Orders!D1419/$C1418","v":{"$error":"#N/A"}}]
[{"$f":"Orders!A1420","v":0},{"$f":"VLOOKUP(A1419,'Product-tool'!A:E,2,0)","v":{"$error":"#N/A"}},{"$f":"VLOOKUP(A1419&B1419,'Standard output'!A:D,4,0)","v":{"$error":"#N/A"}},{"$f":"Orders!B1420/$C1419","v":{"$error":"#N/A"}},{"$f":"Orders!C1420/$C1419","v":{"$error":"#N/A"}},{"$f":"Orders!D1420/$C1419","v":{"$error":"#N/A"}}]
[{"$f":"Orders!A1421","v":0},{"$f":"VLOOKUP(A1420,'Product-tool'!A:E,2,0)","v":{"$error":"#N/A"}},{"$f":"VLOOKUP(A1420&B1420,'Standard output'!A:D,4,0)","v":{"$error":"#N/A"}},{"$f":"Orders!B1421/$C1420","v":{"$error":"#N/A"}},{"$f":"Orders!C1421/$C1420","v":{"$error":"#N/A"}},{"$f":"Orders!D1421/$C1420","v":{"$error":"#N/A"}}]
[{"$f":"Orders!A1422","v":0},{"$f":"VLOOKUP(A1421,'Product-tool'!A:E,2,0)","v":{"$error":"#N/A"}},{"$f":"VLOOKUP(A1421&B1421,'Standard output'!A:D,4,0)","v":{"$error":"#N/A"}},{"$f":"Orders!B1422/$C1421","v":{"$error":"#N/A"}},{"$f":"Orders!C1422/$C1421","v":{"$error":"#N/A"}},{"$f":"Orders!D1422/$C1421","v":{"$error":"#N/A"}}]
[{"$f":"Orders!A1423","v":0},{"$f":"VLOOKUP(A1422,'Product-tool'!A:E,2,0)","v":{"$error":"#N/A"}},{"$f":"VLOOKUP(A1422&B1422,'Standard output'!A:D,4,0)","v":{"$error":"#N/A"}},{"$f":"Orders!B1423/$C1422","v":{"$error":"#N/A"}},{"$f":"Orders!C1423/$C1422","v":{"$error":"#N/A"}},{"$f":"Orders!D1423/$C1422","v":{"$error":"#N/A"}}]
[{"$f":"Orders!A1424","v":0},{"$f":"VLOOKUP(A1423,'Product-tool'!A:E,2,0)","v":{"$error":"#N/A"}},{"$f":"VLOOKUP(A1423&B1423,'Standard output'!A:D,4,0)","v":{"$error":"#N/A"}},{"$f":"Orders!B1424/$C1423","v":{"$error":"#N/A"}},{"$f":"Orders!C1424/$C1423","v":{"$error":"#N/A"}},{"$f":"Orders!D1424/$C1423","v":{"$error":"#N/A"}}]
[{"$f":"Orders!A1425","v":0},{"$f":"VLOOKUP(A1424,'Product-tool'!A:E,2,0)","v":{"$error":"#N/A"}},{"$f":"VLOOKUP(A1424&B1424,'Standard output'!A:D,4,0)","v":{"$error":"#N/A"}},{"$f":"Orders!B1425/$C1424","v":{"$error":"#N/A"}},{"$f":"Orders!C1425/$C1424","v":{"$error":"#N/A"}},{"$f":"Orders!D1425/$C1424","v":{"$error":"#N/A"}}]
[{"$f":"Orders!A1426","v":0},{"$f":"VLOOKUP(A1425,'Product-tool'!A:E,2,0)","v":{"$error":"#N/A"}},{"$f":"VLOOKUP(A1425&B1425,'Standard output'!A:D,4,0)","v":{"$error":"#N/A"}},{"$f":"Orders!B1426/$C1425","v":{"$error":"#N/A"}},{"$f":"Orders!C1426/$C1425","v":{"$error":"#N/A"}},{"$f":"Orders!D1426/$C1425","v":{"$error":"#N/A"}}]
[{"$f":"Orders!A1427","v":0},{"$f":"VLOOKUP(A1426,'Product-tool'!A:E,2,0)","v":{"$error":"#N/A"}},{"$f":"VLOOKUP(A1426&B1426,'Standard output'!A:D,4,0)","v":{"$error":"#N/A"}},{"$f":"Orders!B1427/$C1426","v":{"$error":"#N/A"}},{"$f":"Orders!C1427/$C1426","v":{"$error":"#N/A"}},{"$f":"Orders!D1427/$C1426","v":{"$error":"#N/A"}}]
[{"$f":"Orders!A1428","v":0},{"$f":"VLOOKUP(A1427,'Product-tool'!A:E,2,0)","v":{"$error":"#N/A"}},{"$f":"VLOOKUP(A1427&B1427,'Standard output'!A:D,4,0)","v":{"$error":"#N/A"}},{"$f":"Orders!B1428/$C1427","v":{"$error":"#N/A"}},{"$f":"Orders!C1428/$C1427","v":{"$error":"#N/A"}},{"$f":"Orders!D1428/$C1427","v":{"$error":"#N/A"}}]
[{"$f":"Orders!A1429","v":0},{"$f":"VLOOKUP(A1428,'Product-tool'!A:E,2,0)","v":{"$error":"#N/A"}},{"$f":"VLOOKUP(A1428&B1428,'Standard output'!A:D,4,0)","v":{"$error":"#N/A"}},{"$f":"Orders!B1429/$C1428","v":{"$error":"#N/A"}},{"$f":"Orders!C1429/$C1428","v":{"$error":"#N/A"}},{"$f":"Orders!D1429/$C1428","v":{"$error":"#N/A"}}]
[{"$f":"Orders!A1430","v":0},{"$f":"VLOOKUP(A1429,'Product-tool'!A:E,2,0)","v":{"$error":"#N/A"}},{"$f":"VLOOKUP(A1429&B1429,'Standard output'!A:D,4,0)","v":{"$error":"#N/A"}},{"$f":"Orders!B1430/$C1429","v":{"$error":"#N/A"}},{"$f":"Orders!C1430/$C1429","v":{"$error":"#N/A"}},{"$f":"Orders!D1430/$C1429","v":{"$error":"#N/A"}}]
[{"$f":"Orders!A1431","v":0},{"$f":"VLOOKUP(A1430,'Product-tool'!A:E,2,0)","v":{"$error":"#N/A"}},{"$f":"VLOOKUP(A1430&B1430,'Standard output'!A:D,4,0)","v":{"$error":"#N/A"}},{"$f":"Orders!B1431/$C1430","v":{"$error":"#N/A"}},{"$f":"Orders!C1431/$C1430","v":{"$error":"#N/A"}},{"$f":"Orders!D1431/$C1430","v":{"$error":"#N/A"}}]
[{"$f":"Orders!A1432","v":0},{"$f":"VLOOKUP(A1431,'Product-tool'!A:E,2,0)","v":{"$error":"#N/A"}},{"$f":"VLOOKUP(A1431&B1431,'Standard output'!A:D,4,0)","v":{"$error":"#N/A"}},{"$f":"Orders!B1432/$C1431","v":{"$error":"#N/A"}},{"$f":"Orders!C1432/$C1431","v":{"$error":"#N/A"}},{"$f":"Orders!D1432/$C1431","v":{"$error":"#N/A"}}]
[{"$f":"Orders!A1433","v":0},{"$f":"VLOOKUP(A1432,'Product-tool'!A:E,2,0)","v":{"$error":"#N/A"}},{"$f":"VLOOKUP(A1432&B1432,'Standard output'!A:D,4,0)","v":{"$error":"#N/A"}},{"$f":"Orders!B1433/$C1432","v":{"$error":"#N/A"}},{"$f":"Orders!C1433/$C1432","v":{"$error":"#N/A"}},{"$f":"Orders!D1433/$C1432","v":{"$error":"#N/A"}}]
[{"$f":"Orders!A1434","v":0},{"$f":"VLOOKUP(A1433,'Product-tool'!A:E,2,0)","v":{"$error":"#N/A"}},{"$f":"VLOOKUP(A1433&B1433,'Standard output'!A:D,4,0)","v":{"$error":"#N/A"}},{"$f":"Orders!B1434/$C1433","v":{"$error":"#N/A"}},{"$f":"Orders!C1434/$C1433","v":{"$error":"#N/A"}},{"$f":"Orders!D1434/$C1433","v":{"$error":"#N/A"}}]
[{"$f":"Orders!A1435","v":0},{"$f":"VLOOKUP(A1434,'Product-tool'!A:E,2,0)","v":{"$error":"#N/A"}},{"$f":"VLOOKUP(A1434&B1434,'Standard output'!A:D,4,0)","v":{"$error":"#N/A"}},{"$f":"Orders!B1435/$C1434","v":{"$error":"#N/A"}},{"$f":"Orders!C1435/$C1434","v":{"$error":"#N/A"}},{"$f":"Orders!D1435/$C1434","v":{"$error":"#N/A"}}]
[{"$f":"Orders!A1436","v":0},{"$f":"VLOOKUP(A1435,'Product-tool'!A:E,2,0)","v":{"$error":"#N/A"}},{"$f":"VLOOKUP(A1435&B1435,'Standard output'!A:D,4,0)","v":{"$error":"#N/A"}},{"$f":"Orders!B1436/$C1435","v":{"$error":"#N/A"}},{"$f":"Orders!C1436/$C1435","v":{"$error":"#N/A"}},{"$f":"Orders!D1436/$C1435","v":{"$error":"#N/A"}}]
[{"$f":"Orders!A1437","v":0},{"$f":"VLOOKUP(A1436,'Product-tool'!A:E,2,0)","v":{"$error":"#N/A"}},{"$f":"VLOOKUP(A1436&B1436,'Standard output'!A:D,4,0)","v":{"$error":"#N/A"}},{"$f":"Orders!B1437/$C1436","v":{"$error":"#N/A"}},{"$f":"Orders!C1437/$C1436","v":{"$error":"#N/A"}},{"$f":"Orders!D1437/$C1436","v":{"$error":"#N/A"}}]
[{"$f":"Orders!A1438","v":0},{"$f":"VLOOKUP(A1437,'Product-tool'!A:E,2,0)","v":{"$error":"#N/A"}},{"$f":"VLOOKUP(A1437&B1437,'Standard output'!A:D,4,0)","v":{"$error":"#N/A"}},{"$f":"Orders!B1438/$C1437","v":{"$error":"#N/A"}},{"$f":"Orders!C1438/$C1437","v":{"$error":"#N/A"}},{"$f":"Orders!D1438/$C1437","v":{"$error":"#N/A"}}]
[{"$f":"Orders!A1439","v":0},{"$f":"VLOOKUP(A1438,'Product-tool'!A:E,2,0)","v":{"$error":"#N/A"}},{"$f":"VLOOKUP(A1438&B1438,'Standard output'!A:D,4,0)","v":{"$error":"#N/A"}},{"$f":"Orders!B1439/$C1438","v":{"$error":"#N/A"}},{"$f":"Orders!C1439/$C1438","v":{"$error":"#N/A"}},{"$f":"Orders!D1439/$C1438","v":{"$error":"#N/A"}}]
[{"$f":"Orders!A1440","v":0},{"$f":"VLOOKUP(A1439,'Product-tool'!A:E,2,0)","v":{"$error":"#N/A"}},{"$f":"VLOOKUP(A1439&B1439,'Standard output'!A:D,4,0)","v":{"$error":"#N/A"}},{"$f":"Orders!B1440/$C1439","v":{"$error":"#N/A"}},{"$f":"Orders!C1440/$C1439","v":{"$error":"#N/A"}},{"$f":"Orders!D1440/$C1439","v":{"$error":"#N/A"}}]
[{"$f":"Orders!A1441","v":0},{"$f":"VLOOKUP(A1440,'Product-tool'!A:E,2,0)","v":{"$error":"#N/A"}},{"$f":"VLOOKUP(A1440&B1440,'Standard output'!A:D,4,0)","v":{"$error":"#N/A"}},{"$f":"Orders!B1441/$C1440","v":{"$error":"#N/A"}},{"$f":"Orders!C1441/$C1440","v":{"$error":"#N/A"}},{"$f":"Orders!D1441/$C1440","v":{"$error":"#N/A"}}]
[{"$f":"Orders!A1442","v":0},{"$f":"VLOOKUP(A1441,'Product-tool'!A:E,2,0)","v":{"$error":"#N/A"}},{"$f":"VLOOKUP(A1441&B1441,'Standard output'!A:D,4,0)","v":{"$error":"#N/A"}},{"$f":"Orders!B1442/$C1441","v":{"$error":"#N/A"}},{"$f":"Orders!C1442/$C1441","v":{"$error":"#N/A"}},{"$f":"Orders!D1442/$C1441","v":{"$error":"#N/A"}}]
[{"$f":"Orders!A1443","v":0},{"$f":"VLOOKUP(A1442,'Product-tool'!A:E,2,0)","v":{"$error":"#N/A"}},{"$f":"VLOOKUP(A1442&B1442,'Standard output'!A:D,4,0)","v":{"$error":"#N/A"}},{"$f":"Orders!B1443/$C1442","v":{"$error":"#N/A"}},{"$f":"Orders!C1443/$C1442","v":{"$error":"#N/A"}},{"$f":"Orders!D1443/$C1442","v":{"$error":"#N/A"}}]
[{"$f":"Orders!A1444","v":0},{"$f":"VLOOKUP(A1443,'Product-tool'!A:E,2,0)","v":{"$error":"#N/A"}},{"$f":"VLOOKUP(A1443&B1443,'Standard output'!A:D,4,0)","v":{"$error":"#N/A"}},{"$f":"Orders!B1444/$C1443","v":{"$error":"#N/A"}},{"$f":"Orders!C1444/$C1443","v":{"$error":"#N/A"}},{"$f":"Orders!D1444/$C1443","v":{"$error":"#N/A"}}]
[{"$f":"Orders!A1445","v":0},{"$f":"VLOOKUP(A1444,'Product-tool'!A:E,2,0)","v":{"$error":"#N/A"}},{"$f":"VLOOKUP(A1444&B1444,'Standard output'!A:D,4,0)","v":{"$error":"#N/A"}},{"$f":"Orders!B1445/$C1444","v":{"$error":"#N/A"}},{"$f":"Orders!C1445/$C1444","v":{"$error":"#N/A"}},{"$f":"Orders!D1445/$C1444","v":{"$error":"#N/A"}}]
[{"$f":"Orders!A1446","v":0},{"$f":"VLOOKUP(A1445,'Product-tool'!A:E,2,0)","v":{"$error":"#N/A"}},{"$f":"VLOOKUP(A1445&B1445,'Standard output'!A:D,4,0)","v":{"$error":"#N/A"}},{"$f":"Orders!B1446/$C1445","v":{"$error":"#N/A"}},{"$f":"Orders!C1446/$C1445","v":{"$error":"#N/A"}},{"$f":"Orders!D1446/$C1445","v":{"$error":"#N/A"}}]
[{"$f":"Orders!A1447","v":0},{"$f":"VLOOKUP(A1446,'Product-tool'!A:E,2,0)","v":{"$error":"#N/A"}},{"$f":"VLOOKUP(A1446&B1446,'Standard output'!A:D,4,0)","v":{"$error":"#N/A"}},{"$f":"Orders!B1447/$C1446","v":{"$error":"#N/A"}},{"$f":"Orders!C1447/$C1446","v":{"$error":"#N/A"}},{"$f":"Orders!D1447/$C1446","v":{"$error":"#N/A"}}]
[{"$f":"Orders!A1448","v":0},{"$f":"VLOOKUP(A1447,'Product-tool'!A:E,2,0)","v":{"$error":"#N/A"}},{"$f":"VLOOKUP(A1447&B1447,'Standard output'!A:D,4,0)","v":{"$error":"#N/A"}},{"$f":"Orders!B1448/$C1447","v":{"$error":"#N/A"}},{"$f":"Orders!C1448/$C1447","v":{"$error":"#N/A"}},{"$f":"Orders!D1448/$C1447","v":{"$error":"#N/A"}}]
[{"$f":"Orders!A1449","v":0},{"$f":"VLOOKUP(A1448,'Product-tool'!A:E,2,0)","v":{"$error":"#N/A"}},{"$f":"VLOOKUP(A1448&B1448,'Standard output'!A:D,4,0)","v":{"$error":"#N/A"}},{"$f":"Orders!B1449/$C1448","v":{"$error":"#N/A"}},{"$f":"Orders!C1449/$C1448","v":{"$error":"#N/A"}},{"$f":"Orders!D1449/$C1448","v":{"$error":"#N/A"}}]
[{"$f":"Orders!A1450","v":0},{"$f":"VLOOKUP(A1449,'Product-tool'!A:E,2,0)","v":{"$error":"#N/A"}},{"$f":"VLOOKUP(A1449&B1449,'Standard output'!A:D,4,0)","v":{"$error":"#N/A"}},{"$f":"Orders!B1450/$C1449","v":{"$error":"#N/A"}},{"$f":"Orders!C1450/$C1449","v":{"$error":"#N/A"}},{"$f":"Orders!D1450/$C1449","v":{"$error":"#N/A"}}]
[{"$f":"Orders!A1451","v":0},{"$f":"VLOOKUP(A1450,'Product-tool'!A:E,2,0)","v":{"$error":"#N/A"}},{"$f":"VLOOKUP(A1450&B1450,'Standard output'!A:D,4,0)","v":{"$error":"#N/A"}},{"$f":"Orders!B1451/$C1450","v":{"$error":"#N/A"}},{"$f":"Orders!C1451/$C1450","v":{"$error":"#N/A"}},{"$f":"Orders!D1451/$C1450","v":{"$error":"#N/A"}}]
[{"$f":"Orders!A1452","v":0},{"$f":"VLOOKUP(A1451,'Product-tool'!A:E,2,0)","v":{"$error":"#N/A"}},{"$f":"VLOOKUP(A1451&B1451,'Standard output'!A:D,4,0)","v":{"$error":"#N/A"}},{"$f":"Orders!B1452/$C1451","v":{"$error":"#N/A"}},{"$f":"Orders!C1452/$C1451","v":{"$error":"#N/A"}},{"$f":"Orders!D1452/$C1451","v":{"$error":"#N/A"}}]
[{"$f":"Orders!A1453","v":0},{"$f":"VLOOKUP(A1452,'Product-tool'!A:E,2,0)","v":{"$error":"#N/A"}},{"$f":"VLOOKUP(A1452&B1452,'Standard output'!A:D,4,0)","v":{"$error":"#N/A"}},{"$f":"Orders!B1453/$C1452","v":{"$error":"#N/A"}},{"$f":"Orders!C1453/$C1452","v":{"$error":"#N/A"}},{"$f":"Orders!D1453/$C1452","v":{"$error":"#N/A"}}]
[{"$f":"Orders!A1454","v":0},{"$f":"VLOOKUP(A1453,'Product-tool'!A:E,2,0)","v":{"$error":"#N/A"}},{"$f":"VLOOKUP(A1453&B1453,'Standard output'!A:D,4,0)","v":{"$error":"#N/A"}},{"$f":"Orders!B1454/$C1453","v":{"$error":"#N/A"}},{"$f":"Orders!C1454/$C1453","v":{"$error":"#N/A"}},{"$f":"Orders!D1454/$C1453","v":{"$error":"#N/A"}}]
[{"$f":"Orders!A1455","v":0},{"$f":"VLOOKUP(A1454,'Product-tool'!A:E,2,0)","v":{"$error":"#N/A"}},{"$f":"VLOOKUP(A1454&B1454,'Standard output'!A:D,4,0)","v":{"$error":"#N/A"}},{"$f":"Orders!B1455/$C1454","v":{"$error":"#N/A"}},{"$f":"Orders!C1455/$C1454","v":{"$error":"#N/A"}},{"$f":"Orders!D1455/$C1454","v":{"$error":"#N/A"}}]
[{"$f":"Orders!A1456","v":0},{"$f":"VLOOKUP(A1455,'Product-tool'!A:E,2,0)","v":{"$error":"#N/A"}},{"$f":"VLOOKUP(A1455&B1455,'Standard output'!A:D,4,0)","v":{"$error":"#N/A"}},{"$f":"Orders!B1456/$C1455","v":{"$error":"#N/A"}},{"$f":"Orders!C1456/$C1455","v":{"$error":"#N/A"}},{"$f":"Orders!D1456/$C1455","v":{"$error":"#N/A"}}]
[{"$f":"Orders!A1457","v":0},{"$f":"VLOOKUP(A1456,'Product-tool'!A:E,2,0)","v":{"$error":"#N/A"}},{"$f":"VLOOKUP(A1456&B1456,'Standard output'!A:D,4,0)","v":{"$error":"#N/A"}},{"$f":"Orders!B1457/$C1456","v":{"$error":"#N/A"}},{"$f":"Orders!C1457/$C1456","v":{"$error":"#N/A"}},{"$f":"Orders!D1457/$C1456","v":{"$error":"#N/A"}}]
[{"$f":"Orders!A1458","v":0},{"$f":"VLOOKUP(A1457,'Product-tool'!A:E,2,0)","v":{"$error":"#N/A"}},{"$f":"VLOOKUP(A1457&B1457,'Standard output'!A:D,4,0)","v":{"$error":"#N/A"}},{"$f":"Orders!B1458/$C1457","v":{"$error":"#N/A"}},{"$f":"Orders!C1458/$C1457","v":{"$error":"#N/A"}},{"$f":"Orders!D1458/$C1457","v":{"$error":"#N/A"}}]
[{"$f":"Orders!A1459","v":0},{"$f":"VLOOKUP(A1458,'Product-tool'!A:E,2,0)","v":{"$error":"#N/A"}},{"$f":"VLOOKUP(A1458&B1458,'Standard output'!A:D,4,0)","v":{"$error":"#N/A"}},{"$f":"Orders!B1459/$C1458","v":{"$error":"#N/A"}},{"$f":"Orders!C1459/$C1458","v":{"$error":"#N/A"}},{"$f":"Orders!D1459/$C1458","v":{"$error":"#N/A"}}]
[{"$f":"Orders!A1460","v":0},{"$f":"VLOOKUP(A1459,'Product-tool'!A:E,2,0)","v":{"$error":"#N/A"}},{"$f":"VLOOKUP(A1459&B1459,'Standard output'!A:D,4,0)","v":{"$error":"#N/A"}},{"$f":"Orders!B1460/$C1459","v":{"$error":"#N/A"}},{"$f":"Orders!C1460/$C1459","v":{"$error":"#N/A"}},{"$f":"Orders!D1460/$C1459","v":{"$error":"#N/A"}}]
[{"$f":"Orders!A1461","v":0},{"$f":"VLOOKUP(A1460,'Product-tool'!A:E,2,0)","v":{"$error":"#N/A"}},{"$f":"VLOOKUP(A1460&B1460,'Standard output'!A:D,4,0)","v":{"$error":"#N/A"}},{"$f":"Orders!B1461/$C1460","v":{"$error":"#N/A"}},{"$f":"Orders!C1461/$C1460","v":{"$error":"#N/A"}},{"$f":"Orders!D1461/$C1460","v":{"$error":"#N/A"}}]
[{"$f":"Orders!A1462","v":0},{"$f":"VLOOKUP(A1461,'Product-tool'!A:E,2,0)","v":{"$error":"#N/A"}},{"$f":"VLOOKUP(A1461&B1461,'Standard output'!A:D,4,0)","v":{"$error":"#N/A"}},{"$f":"Orders!B1462/$C1461","v":{"$error":"#N/A"}},{"$f":"Orders!C1462/$C1461","v":{"$error":"#N/A"}},{"$f":"Orders!D1462/$C1461","v":{"$error":"#N/A"}}]
[{"$f":"Orders!A1463","v":0},{"$f":"VLOOKUP(A1462,'Product-tool'!A:E,2,0)","v":{"$error":"#N/A"}},{"$f":"VLOOKUP(A1462&B1462,'Standard output'!A:D,4,0)","v":{"$error":"#N/A"}},{"$f":"Orders!B1463/$C1462","v":{"$error":"#N/A"}},{"$f":"Orders!C1463/$C1462","v":{"$error":"#N/A"}},{"$f":"Orders!D1463/$C1462","v":{"$error":"#N/A"}}]
[{"$f":"Orders!A1464","v":0},{"$f":"VLOOKUP(A1463,'Product-tool'!A:E,2,0)","v":{"$error":"#N/A"}},{"$f":"VLOOKUP(A1463&B1463,'Standard output'!A:D,4,0)","v":{"$error":"#N/A"}},{"$f":"Orders!B1464/$C1463","v":{"$error":"#N/A"}},{"$f":"Orders!C1464/$C1463","v":{"$error":"#N/A"}},{"$f":"Orders!D1464/$C1463","v":{"$error":"#N/A"}}]
[{"$f":"Orders!A1465","v":0},{"$f":"VLOOKUP(A1464,'Product-tool'!A:E,2,0)","v":{"$error":"#N/A"}},{"$f":"VLOOKUP(A1464&B1464,'Standard output'!A:D,4,0)","v":{"$error":"#N/A"}},{"$f":"Orders!B1465/$C1464","v":{"$error":"#N/A"}},{"$f":"Orders!C1465/$C1464","v":{"$error":"#N/A"}},{"$f":"Orders!D1465/$C1464","v":{"$error":"#N/A"}}]
[{"$f":"Orders!A1466","v":0},{"$f":"VLOOKUP(A1465,'Product-tool'!A:E,2,0)","v":{"$error":"#N/A"}},{"$f":"VLOOKUP(A1465&B1465,'Standard output'!A:D,4,0)","v":{"$error":"#N/A"}},{"$f":"Orders!B1466/$C1465","v":{"$error":"#N/A"}},{"$f":"Orders!C1466/$C1465","v":{"$error":"#N/A"}},{"$f":"Orders!D1466/$C1465","v":{"$error":"#N/A"}}]
[{"$f":"Orders!A1467","v":0},{"$f":"VLOOKUP(A1466,'Product-tool'!A:E,2,0)","v":{"$error":"#N/A"}},{"$f":"VLOOKUP(A1466&B1466,'Standard output'!A:D,4,0)","v":{"$error":"#N/A"}},{"$f":"Orders!B1467/$C1466","v":{"$error":"#N/A"}},{"$f":"Orders!C1467/$C1466","v":{"$error":"#N/A"}},{"$f":"Orders!D1467/$C1466","v":{"$error":"#N/A"}}]
[{"$f":"Orders!A1468","v":0},{"$f":"VLOOKUP(A1467,'Product-tool'!A:E,2,0)","v":{"$error":"#N/A"}},{"$f":"VLOOKUP(A1467&B1467,'Standard output'!A:D,4,0)","v":{"$error":"#N/A"}},{"$f":"Orders!B1468/$C1467","v":{"$error":"#N/A"}},{"$f":"Orders!C1468/$C1467","v":{"$error":"#N/A"}},{"$f":"Orders!D1468/$C1467","v":{"$error":"#N/A"}}]
[{"$f":"Orders!A1469","v":0},{"$f":"VLOOKUP(A1468,'Product-tool'!A:E,2,0)","v":{"$error":"#N/A"}},{"$f":"VLOOKUP(A1468&B1468,'Standard output'!A:D,4,0)","v":{"$error":"#N/A"}},{"$f":"Orders!B1469/$C1468","v":{"$error":"#N/A"}},{"$f":"Orders!C1469/$C1468","v":{"$error":"#N/A"}},{"$f":"Orders!D1469/$C1468","v":{"$error":"#N/A"}}]
[{"$f":"Orders!A1470","v":0},{"$f":"VLOOKUP(A1469,'Product-tool'!A:E,2,0)","v":{"$error":"#N/A"}},{"$f":"VLOOKUP(A1469&B1469,'Standard output'!A:D,4,0)","v":{"$error":"#N/A"}},{"$f":"Orders!B1470/$C1469","v":{"$error":"#N/A"}},{"$f":"Orders!C1470/$C1469","v":{"$error":"#N/A"}},{"$f":"Orders!D1470/$C1469","v":{"$error":"#N/A"}}]
[{"$f":"Orders!A1471","v":0},{"$f":"VLOOKUP(A1470,'Product-tool'!A:E,2,0)","v":{"$error":"#N/A"}},{"$f":"VLOOKUP(A1470&B1470,'Standard output'!A:D,4,0)","v":{"$error":"#N/A"}},{"$f":"Orders!B1471/$C1470","v":{"$error":"#N/A"}},{"$f":"Orders!C1471/$C1470","v":{"$error":"#N/A"}},{"$f":"Orders!D1471/$C1470","v":{"$error":"#N/A"}}]
[{"$f":"Orders!A1472","v":0},{"$f":"VLOOKUP(A1471,'Product-tool'!A:E,2,0)","v":{"$error":"#N/A"}},{"$f":"VLOOKUP(A1471&B1471,'Standard output'!A:D,4,0)","v":{"$error":"#N/A"}},{"$f":"Orders!B1472/$C1471","v":{"$error":"#N/A"}},{"$f":"Orders!C1472/$C1471","v":{"$error":"#N/A"}},{"$f":"Orders!D1472/$C1471","v":{"$error":"#N/A"}}]
[{"$f":"Orders!A1473","v":0},{"$f":"VLOOKUP(A1472,'Product-tool'!A:E,2,0)","v":{"$error":"#N/A"}},{"$f":"VLOOKUP(A1472&B1472,'Standard output'!A:D,4,0)","v":{"$error":"#N/A"}},{"$f":"Orders!B1473/$C1472","v":{"$error":"#N/A"}},{"$f":"Orders!C1473/$C1472","v":{"$error":"#N/A"}},{"$f":"Orders!D1473/$C1472","v":{"$error":"#N/A"}}]
[{"$f":"Orders!A1474","v":0},{"$f":"VLOOKUP(A1473,'Product-tool'!A:E,2,0)","v":{"$error":"#N/A"}},{"$f":"VLOOKUP(A1473&B1473,'Standard output'!A:D,4,0)","v":{"$error":"#N/A"}},{"$f":"Orders!B1474/$C1473","v":{"$error":"#N/A"}},{"$f":"Orders!C1474/$C1473","v":{"$error":"#N/A"}},{"$f":"Orders!D1474/$C1473","v":{"$error":"#N/A"}}]
[{"$f":"Orders!A1475","v":0},{"$f":"VLOOKUP(A1474,'Product-tool'!A:E,2,0)","v":{"$error":"#N/A"}},{"$f":"VLOOKUP(A1474&B1474,'Standard output'!A:D,4,0)","v":{"$error":"#N/A"}},{"$f":"Orders!B1475/$C1474","v":{"$error":"#N/A"}},{"$f":"Orders!C1475/$C1474","v":{"$error":"#N/A"}},{"$f":"Orders!D1475/$C1474","v":{"$error":"#N/A"}}]
[{"$f":"Orders!A1476","v":0},{"$f":"VLOOKUP(A1475,'Product-tool'!A:E,2,0)","v":{"$error":"#N/A"}},{"$f":"VLOOKUP(A1475&B1475,'Standard output'!A:D,4,0)","v":{"$error":"#N/A"}},{"$f":"Orders!B1476/$C1475","v":{"$error":"#N/A"}},{"$f":"Orders!C1476/$C1475","v":{"$error":"#N/A"}},{"$f":"Orders!D1476/$C1475","v":{"$error":"#N/A"}}]
[{"$f":"Orders!A1477","v":0},{"$f":"VLOOKUP(A1476,'Product-tool'!A:E,2,0)","v":{"$error":"#N/A"}},{"$f":"VLOOKUP(A1476&B1476,'Standard output'!A:D,4,0)","v":{"$error":"#N/A"}},{"$f":"Orders!B1477/$C1476","v":{"$error":"#N/A"}},{"$f":"Orders!C1477/$C1476","v":{"$error":"#N/A"}},{"$f":"Orders!D1477/$C1476","v":{"$error":"#N/A"}}]
[{"$f":"Orders!A1478","v":0},{"$f":"VLOOKUP(A1477,'Product-tool'!A:E,2,0)","v":{"$error":"#N/A"}},{"$f":"VLOOKUP(A1477&B1477,'Standard output'!A:D,4,0)","v":{"$error":"#N/A"}},{"$f":"Orders!B1478/$C1477","v":{"$error":"#N/A"}},{"$f":"Orders!C1478/$C1477","v":{"$error":"#N/A"}},{"$f":"Orders!D1478/$C1477","v":{"$error":"#N/A"}}]
[{"$f":"Orders!A1479","v":0},{"$f":"VLOOKUP(A1478,'Product-tool'!A:E,2,0)","v":{"$error":"#N/A"}},{"$f":"VLOOKUP(A1478&B1478,'Standard output'!A:D,4,0)","v":{"$error":"#N/A"}},{"$f":"Orders!B1479/$C1478","v":{"$error":"#N/A"}},{"$f":"Orders!C1479/$C1478","v":{"$error":"#N/A"}},{"$f":"Orders!D1479/$C1478","v":{"$error":"#N/A"}}]
[{"$f":"Orders!A1480","v":0},{"$f":"VLOOKUP(A1479,'Product-tool'!A:E,2,0)","v":{"$error":"#N/A"}},{"$f":"VLOOKUP(A1479&B1479,'Standard output'!A:D,4,0)","v":{"$error":"#N/A"}},{"$f":"Orders!B1480/$C1479","v":{"$error":"#N/A"}},{"$f":"Orders!C1480/$C1479","v":{"$error":"#N/A"}},{"$f":"Orders!D1480/$C1479","v":{"$error":"#N/A"}}]
[{"$f":"Orders!A1481","v":0},{"$f":"VLOOKUP(A1480,'Product-tool'!A:E,2,0)","v":{"$error":"#N/A"}},{"$f":"VLOOKUP(A1480&B1480,'Standard output'!A:D,4,0)","v":{"$error":"#N/A"}},{"$f":"Orders!B1481/$C1480","v":{"$error":"#N/A"}},{"$f":"Orders!C1481/$C1480","v":{"$error":"#N/A"}},{"$f":"Orders!D1481/$C1480","v":{"$error":"#N/A"}}]
[{"$f":"Orders!A1482","v":0},{"$f":"VLOOKUP(A1481,'Product-tool'!A:E,2,0)","v":{"$error":"#N/A"}},{"$f":"VLOOKUP(A1481&B1481,'Standard output'!A:D,4,0)","v":{"$error":"#N/A"}},{"$f":"Orders!B1482/$C1481","v":{"$error":"#N/A"}},{"$f":"Orders!C1482/$C1481","v":{"$error":"#N/A"}},{"$f":"Orders!D1482/$C1481","v":{"$error":"#N/A"}}]
[{"$f":"Orders!A1483","v":0},{"$f":"VLOOKUP(A1482,'Product-tool'!A:E,2,0)","v":{"$error":"#N/A"}},{"$f":"VLOOKUP(A1482&B1482,'Standard output'!A:D,4,0)","v":{"$error":"#N/A"}},{"$f":"Orders!B1483/$C1482","v":{"$error":"#N/A"}},{"$f":"Orders!C1483/$C1482","v":{"$error":"#N/A"}},{"$f":"Orders!D1483/$C1482","v":{"$error":"#N/A"}}]
[{"$f":"Orders!A1484","v":0},{"$f":"VLOOKUP(A1483,'Product-tool'!A:E,2,0)","v":{"$error":"#N/A"}},{"$f":"VLOOKUP(A1483&B1483,'Standard output'!A:D,4,0)","v":{"$error":"#N/A"}},{"$f":"Orders!B1484/$C1483","v":{"$error":"#N/A"}},{"$f":"Orders!C1484/$C1483","v":{"$error":"#N/A"}},{"$f":"Orders!D1484/$C1483","v":{"$error":"#N/A"}}]
[{"$f":"Orders!A1485","v":0},{"$f":"VLOOKUP(A1484,'Product-tool'!A:E,2,0)","v":{"$error":"#N/A"}},{"$f":"VLOOKUP(A1484&B1484,'Standard output'!A:D,4,0)","v":{"$error":"#N/A"}},{"$f":"Orders!B1485/$C1484","v":{"$error":"#N/A"}},{"$f":"Orders!C1485/$C1484","v":{"$error":"#N/A"}},{"$f":"Orders!D1485/$C1484","v":{"$error":"#N/A"}}]
[{"$f":"Orders!A1486","v":0},{"$f":"VLOOKUP(A1485,'Product-tool'!A:E,2,0)","v":{"$error":"#N/A"}},{"$f":"VLOOKUP(A1485&B1485,'Standard output'!A:D,4,0)","v":{"$error":"#N/A"}},{"$f":"Orders!B1486/$C1485","v":{"$error":"#N/A"}},{"$f":"Orders!C1486/$C1485","v":{"$error":"#N/A"}},{"$f":"Orders!D1486/$C1485","v":{"$error":"#N/A"}}]
[{"$f":"Orders!A1487","v":0},{"$f":"VLOOKUP(A1486,'Product-tool'!A:E,2,0)","v":{"$error":"#N/A"}},{"$f":"VLOOKUP(A1486&B1486,'Standard output'!A:D,4,0)","v":{"$error":"#N/A"}},{"$f":"Orders!B1487/$C1486","v":{"$error":"#N/A"}},{"$f":"Orders!C1487/$C1486","v":{"$error":"#N/A"}},{"$f":"Orders!D1487/$C1486","v":{"$error":"#N/A"}}]
[{"$f":"Orders!A1488","v":0},{"$f":"VLOOKUP(A1487,'Product-tool'!A:E,2,0)","v":{"$error":"#N/A"}},{"$f":"VLOOKUP(A1487&B1487,'Standard output'!A:D,4,0)","v":{"$error":"#N/A"}},{"$f":"Orders!B1488/$C1487","v":{"$error":"#N/A"}},{"$f":"Orders!C1488/$C1487","v":{"$error":"#N/A"}},{"$f":"Orders!D1488/$C1487","v":{"$error":"#N/A"}}]
[{"$f":"Orders!A1489","v":0},{"$f":"VLOOKUP(A1488,'Product-tool'!A:E,2,0)","v":{"$error":"#N/A"}},{"$f":"VLOOKUP(A1488&B1488,'Standard output'!A:D,4,0)","v":{"$error":"#N/A"}},{"$f":"Orders!B1489/$C1488","v":{"$error":"#N/A"}},{"$f":"Orders!C1489/$C1488","v":{"$error":"#N/A"}},{"$f":"Orders!D1489/$C1488","v":{"$error":"#N/A"}}]
[{"$f":"Orders!A1490","v":0},{"$f":"VLOOKUP(A1489,'Product-tool'!A:E,2,0)","v":{"$error":"#N/A"}},{"$f":"VLOOKUP(A1489&B1489,'Standard output'!A:D,4,0)","v":{"$error":"#N/A"}},{"$f":"Orders!B1490/$C1489","v":{"$error":"#N/A"}},{"$f":"Orders!C1490/$C1489","v":{"$error":"#N/A"}},{"$f":"Orders!D1490/$C1489","v":{"$error":"#N/A"}}]
[{"$f":"Orders!A1491","v":0},{"$f":"VLOOKUP(A1490,'Product-tool'!A:E,2,0)","v":{"$error":"#N/A"}},{"$f":"VLOOKUP(A1490&B1490,'Standard output'!A:D,4,0)","v":{"$error":"#N/A"}},{"$f":"Orders!B1491/$C1490","v":{"$error":"#N/A"}},{"$f":"Orders!C1491/$C1490","v":{"$error":"#N/A"}},{"$f":"Orders!D1491/$C1490","v":{"$error":"#N/A"}}]
[{"$f":"Orders!A1492","v":0},{"$f":"VLOOKUP(A1491,'Product-tool'!A:E,2,0)","v":{"$error":"#N/A"}},{"$f":"VLOOKUP(A1491&B1491,'Standard output'!A:D,4,0)","v":{"$error":"#N/A"}},{"$f":"Orders!B1492/$C1491","v":{"$error":"#N/A"}},{"$f":"Orders!C1492/$C1491","v":{"$error":"#N/A"}},{"$f":"Orders!D1492/$C1491","v":{"$error":"#N/A"}}]
[{"$f":"Orders!A1493","v":0},{"$f":"VLOOKUP(A1492,'Product-tool'!A:E,2,0)","v":{"$error":"#N/A"}},{"$f":"VLOOKUP(A1492&B1492,'Standard output'!A:D,4,0)","v":{"$error":"#N/A"}},{"$f":"Orders!B1493/$C1492","v":{"$error":"#N/A"}},{"$f":"Orders!C1493/$C1492","v":{"$error":"#N/A"}},{"$f":"Orders!D1493/$C1492","v":{"$error":"#N/A"}}]
[{"$f":"Orders!A1494","v":0},{"$f":"VLOOKUP(A1493,'Product-tool'!A:E,2,0)","v":{"$error":"#N/A"}},{"$f":"VLOOKUP(A1493&B1493,'Standard output'!A:D,4,0)","v":{"$error":"#N/A"}},{"$f":"Orders!B1494/$C1493","v":{"$error":"#N/A"}},{"$f":"Orders!C1494/$C1493","v":{"$error":"#N/A"}},{"$f":"Orders!D1494/$C1493","v":{"$error":"#N/A"}}]
[{"$f":"Orders!A1495","v":0},{"$f":"VLOOKUP(A1494,'Product-tool'!A:E,2,0)","v":{"$error":"#N/A"}},{"$f":"VLOOKUP(A1494&B1494,'Standard output'!A:D,4,0)","v":{"$error":"#N/A"}},{"$f":"Orders!B1495/$C1494","v":{"$error":"#N/A"}},{"$f":"Orders!C1495/$C1494","v":{"$error":"#N/A"}},{"$f":"Orders!D1495/$C1494","v":{"$error":"#N/A"}}]
[{"$f":"Orders!A1496","v":0},{"$f":"VLOOKUP(A1495,'Product-tool'!A:E,2,0)","v":{"$error":"#N/A"}},{"$f":"VLOOKUP(A1495&B1495,'Standard output'!A:D,4,0)","v":{"$error":"#N/A"}},{"$f":"Orders!B1496/$C1495","v":{"$error":"#N/A"}},{"$f":"Orders!C1496/$C1495","v":{"$error":"#N/A"}},{"$f":"Orders!D1496/$C1495","v":{"$error":"#N/A"}}]
[{"$f":"Orders!A1497","v":0},{"$f":"VLOOKUP(A1496,'Product-tool'!A:E,2,0)","v":{"$error":"#N/A"}},{"$f":"VLOOKUP(A1496&B1496,'Standard output'!A:D,4,0)","v":{"$error":"#N/A"}},{"$f":"Orders!B1497/$C1496","v":{"$error":"#N/A"}},{"$f":"Orders!C1497/$C1496","v":{"$error":"#N/A"}},{"$f":"Orders!D1497/$C1496","v":{"$error":"#N/A"}}]
[{"$f":"Orders!A1498","v":0},{"$f":"VLOOKUP(A1497,'Product-tool'!A:E,2,0)","v":{"$error":"#N/A"}},{"$f":"VLOOKUP(A1497&B1497,'Standard output'!A:D,4,0)","v":{"$error":"#N/A"}},{"$f":"Orders!B1498/$C1497","v":{"$error":"#N/A"}},{"$f":"Orders!C1498/$C1497","v":{"$error":"#N/A"}},{"$f":"Orders!D1498/$C1497","v":{"$error":"#N/A"}}]
[{"$f":"Orders!A1499","v":0},{"$f":"VLOOKUP(A1498,'Product-tool'!A:E,2,0)","v":{"$error":"#N/A"}},{"$f":"VLOOKUP(A1498&B1498,'Standard output'!A:D,4,0)","v":{"$error":"#N/A"}},{"$f":"Orders!B1499/$C1498","v":{"$error":"#N/A"}},{"$f":"Orders!C1499/$C1498","v":{"$error":"#N/A"}},{"$f":"Orders!D1499/$C1498","v":{"$error":"#N/A"}}]
[{"$f":"Orders!A1500","v":0},{"$f":"VLOOKUP(A1499,'Product-tool'!A:E,2,0)","v":{"$error":"#N/A"}},{"$f":"VLOOKUP(A1499&B1499,'Standard output'!A:D,4,0)","v":{"$error":"#N/A"}},{"$f":"Orders!B1500/$C1499","v":{"$error":"#N/A"}},{"$f":"Orders!C1500/$C1499","v":{"$error":"#N/A"}},{"$f":"Orders!D1500/$C1499","v":{"$error":"#N/A"}}]
[{"$f":"Orders!A1501","v":0},{"$f":"VLOOKUP(A1500,'Product-tool'!A:E,2,0)","v":{"$error":"#N/A"}},{"$f":"VLOOKUP(A1500&B1500,'Standard output'!A:D,4,0)","v":{"$error":"#N/A"}},{"$f":"Orders!B1501/$C1500","v":{"$error":"#N/A"}},{"$f":"Orders!C1501/$C1500","v":{"$error":"#N/A"}},{"$f":"Orders!D1501/$C1500","v":{"$error":"#N/A"}}]

{"sheet":"Sum of needed tool time","index":7,"n_rows":21,"n_cols":4,"rows_kept":21,"cut":false,"hidden":true,"merged":[]}
[{"$f":"'Tool time needed per product'!B1","v":"Tool"},{"$f":"'Tool time needed per product'!D1","v":"Week1"},{"$f":"'Tool time needed per product'!E1","v":"Week2"},{"$f":"'Tool time needed per product'!F1","v":"Week3"}]
["Tool 01",{"$f":"SUMIF('Tool time needed per product'!B:B,A2,'Tool time needed per product'!D:D)","v":83.325460628761689},{"$f":"SUMIF('Tool time needed per product'!B:B,A2,'Tool time needed per product'!E:E)","v":84.642178799472276},{"$f":"SUMIF('Tool time needed per product'!B:B,A2,'Tool time needed per product'!F:F)","v":78.464097347363662}]
["Tool 02",{"$f":"SUMIF('Tool time needed per product'!B:B,A3,'Tool time needed per product'!D:D)","v":95.887573497224238},{"$f":"SUMIF('Tool time needed per product'!B:B,A3,'Tool time needed per product'!E:E)","v":113.13295603420914},{"$f":"SUMIF('Tool time needed per product'!B:B,A3,'Tool time needed per product'!F:F)","v":97.13585225691925}]
["Tool 03",{"$f":"SUMIF('Tool time needed per product'!B:B,A4,'Tool time needed per product'!D:D)","v":4.7403474773515972},{"$f":"SUMIF('Tool time needed per product'!B:B,A4,'Tool time needed per product'!E:E)","v":6.3077726815396709},{"$f":"SUMIF('Tool time needed per product'!B:B,A4,'Tool time needed per product'!F:F)","v":5.1139535656542456}]
["Tool 04",{"$f":"SUMIF('Tool time needed per product'!B:B,A5,'Tool time needed per product'!D:D)","v":122.74030482642401},{"$f":"SUMIF('Tool time needed per product'!B:B,A5,'Tool time needed per product'!E:E)","v":170.94405281735001},{"$f":"SUMIF('Tool time needed per product'!B:B,A5,'Tool time needed per product'!F:F)","v":114.81820210973567}]
["Tool 05",{"$f":"SUMIF('Tool time needed per product'!B:B,A6,'Tool time needed per product'!D:D)","v":112.8398995117183},{"$f":"SUMIF('Tool time needed per product'!B:B,A6,'Tool time needed per product'!E:E)","v":116.66119561377944},{"$f":"SUMIF('Tool time needed per product'!B:B,A6,'Tool time needed per product'!F:F)","v":107.1431314608422}]
["Tool 06",{"$f":"SUMIF('Tool time needed per product'!B:B,A7,'Tool time needed per product'!D:D)","v":10.088939264703837},{"$f":"SUMIF('Tool time needed per product'!B:B,A7,'Tool time needed per product'!E:E)","v":15.019403231782764},{"$f":"SUMIF('Tool time needed per product'!B:B,A7,'Tool time needed per product'!F:F)","v":11.575105738729098}]
["Tool 07",{"$f":"SUMIF('Tool time needed per product'!B:B,A8,'Tool time needed per product'!D:D)","v":12.018551215218046},{"$f":"SUMIF('Tool time needed per product'!B:B,A8,'Tool time needed per product'!E:E)","v":11.206386332649},{"$f":"SUMIF('Tool time needed per product'!B:B,A8,'Tool time needed per product'!F:F)","v":10.882138049231855}]
["Tool 08",{"$f":"SUMIF('Tool time needed per product'!B:B,A9,'Tool time needed per product'!D:D)","v":108.59167962866469},{"$f":"SUMIF('Tool time needed per product'!B:B,A9,'Tool time needed per product'!E:E)","v":120.73411859061646},{"$f":"SUMIF('Tool time needed per product'!B:B,A9,'Tool time needed per product'!F:F)","v":105.6342958449798}]
["Tool 09",{"$f":"SUMIF('Tool time needed per product'!B:B,A10,'Tool time needed per product'!D:D)","v":106.90460110593268},{"$f":"SUMIF('Tool time needed per product'!B:B,A10,'Tool time needed per product'!E:E)","v":138.07784161658466},{"$f":"SUMIF('Tool time needed per product'!B:B,A10,'Tool time needed per product'!F:F)","v":113.4941448174545}]
["Tool 10",{"$f":"SUMIF('Tool time needed per product'!B:B,A11,'Tool time needed per product'!D:D)","v":106.44977549706971},{"$f":"SUMIF('Tool time needed per product'!B:B,A11,'Tool time needed per product'!E:E)","v":136.62992048269825},{"$f":"SUMIF('Tool time needed per product'!B:B,A11,'Tool time needed per product'!F:F)","v":113.08575735150912}]
["Tool 11",{"$f":"SUMIF('Tool time needed per product'!B:B,A12,'Tool time needed per product'!D:D)","v":113.42568202106463},{"$f":"SUMIF('Tool time needed per product'!B:B,A12,'Tool time needed per product'!E:E)","v":146.80141753779421},{"$f":"SUMIF('Tool time needed per product'!B:B,A12,'Tool time needed per product'!F:F)","v":128.43974773294661}]
["Tool 12",{"$f":"SUMIF('Tool time needed per product'!B:B,A13,'Tool time needed per product'!D:D)","v":15.292911471427136},{"$f":"SUMIF('Tool time needed per product'!B:B,A13,'Tool time needed per product'!E:E)","v":19.336436109980077},{"$f":"SUMIF('Tool time needed per product'!B:B,A13,'Tool time needed per product'!F:F)","v":16.054506623700789}]
["Tool 13",{"$f":"SUMIF('Tool time needed per product'!B:B,A14,'Tool time needed per product'!D:D)","v":12.778093035184945},{"$f":"SUMIF('Tool time needed per product'!B:B,A14,'Tool time needed per product'!E:E)","v":11.599772574729617},{"$f":"SUMIF('Tool time needed per product'!B:B,A14,'Tool time needed per product'!F:F)","v":11.433933384422856}]
["Tool 14",{"$f":"SUMIF('Tool time needed per product'!B:B,A15,'Tool time needed per product'!D:D)","v":46.393886320499654},{"$f":"SUMIF('Tool time needed per product'!B:B,A15,'Tool time needed per product'!E:E)","v":60.771230522884117},{"$f":"SUMIF('Tool time needed per product'!B:B,A15,'Tool time needed per product'!F:F)","v":49.622959445833054}]
["Tool 15",{"$f":"SUMIF('Tool time needed per product'!B:B,A16,'Tool time needed per product'!D:D)","v":55.513873991611973},{"$f":"SUMIF('Tool time needed per product'!B:B,A16,'Tool time needed per product'!E:E)","v":66.518810980811679},{"$f":"SUMIF('Tool time needed per product'!B:B,A16,'Tool time needed per product'!F:F)","v":56.680789085773227}]
["Tool 16",{"$f":"SUMIF('Tool time needed per product'!B:B,A17,'Tool time needed per product'!D:D)","v":15.528207541816553},{"$f":"SUMIF('Tool time needed per product'!B:B,A17,'Tool time needed per product'!E:E)","v":18.157517462107432},{"$f":"SUMIF('Tool time needed per product'!B:B,A17,'Tool time needed per product'!F:F)","v":15.659521626261522}]
["Tool 17",{"$f":"SUMIF('Tool time needed per product'!B:B,A18,'Tool time needed per product'!D:D)","v":28.633584706640487},{"$f":"SUMIF('Tool time needed per product'!B:B,A18,'Tool time needed per product'!E:E)","v":39.044249974949949},{"$f":"SUMIF('Tool time needed per product'!B:B,A18,'Tool time needed per product'!F:F)","v":30.537560586531324}]
["Tool 18",{"$f":"SUMIF('Tool time needed per product'!B:B,A19,'Tool time needed per product'!D:D)","v":191.7981647481578},{"$f":"SUMIF('Tool time needed per product'!B:B,A19,'Tool time needed per product'!E:E)","v":211.71168474146251},{"$f":"SUMIF('Tool time needed per product'!B:B,A19,'Tool time needed per product'!F:F)","v":187.94980039603135}]
["Tool 19",{"$f":"SUMIF('Tool time needed per product'!B:B,A20,'Tool time needed per product'!D:D)","v":63.721361823961004},{"$f":"SUMIF('Tool time needed per product'!B:B,A20,'Tool time needed per product'!E:E)","v":71.15822482461175},{"$f":"SUMIF('Tool time needed per product'!B:B,A20,'Tool time needed per product'!F:F)","v":62.799398372288678}]
["Tool 20",{"$f":"SUMIF('Tool time needed per product'!B:B,A21,'Tool time needed per product'!D:D)","v":43.378996386190018},{"$f":"SUMIF('Tool time needed per product'!B:B,A21,'Tool time needed per product'!E:E)","v":50.957560533043562},{"$f":"SUMIF('Tool time needed per product'!B:B,A21,'Tool time needed per product'!F:F)","v":43.84537759213368}]

{"sheet":"Hours per product per tool","index":8,"n_rows":516,"n_cols":4,"rows_kept":516,"cut":false,"hidden":false,"merged":[]}
["Tools"," Week1"," Week2"," Week3"]
["Tool 01",83.325460628761689,84.642178799472276,78.464097347363662]
["DP5007199",41.12634870992963,39.930023455824866,37.92361219702893]
["DP5908334",36.052586206896549,38.648510971786834,34.830015673981187]
["DP5383174",5.0006259780907669,5.3200312989045386,4.8134585289514868]
["DP5698799",1.0097580015612801,0.65558157689305241,0.79055425448868077]
["DA5685201",0.13614173228346457,8.8031496062992126E-2,0.10645669291338584]
["Tool 02",95.887573497224238,113.13295603420914,97.13585225691925]
["UV2189115",9.1485518292682926,11.947217987804878,9.7688262195121958]
["ZD2443045",8.396656534954408,12.438411854103345,9.6062689969604858]
["UV6411805",8.2211960635881915,8.4372066616199852,7.7788417865253603]
["UV4094667",7.7226307808946171,5.026042456406369,6.046626231993935]
["CP3651771",4.7291682208131292,6.2468854904886246,5.0807161506900407]
["SB6619702",4.1116616989567811,4.0893815201192245,3.8341281669150526]
["ST0044507",3.6282568122433747,3.8505039193729003,3.4880179171332584]
["UV2535805",3.5946078431372546,4.6651960784313724,3.8259803921568629]
["UV3633599",3.3108521207489492,3.3341994650363014,3.1051967902178066]
["VE8168353",3.1363428571428571,3.9628952380952382,3.2913523809523815]
["UV6241191",2.7786259541984735,4.4815267175572524,3.3378244274809163]
["SL4542202",2.6421112804878053,4.2225228658536587,3.1568597560975613]
["UV8505006",2.5032604526275413,3.4571921749136938,2.7545838128116609]
["ST1444632",2.4758454106280192,3.9603864734299514,2.9599033816425124]
["VE8166035",2.2778069846038305,2.7220428088621857,2.3227187382651149]
["UV046672",2.2346985210466439,3.1279863481228669,2.4772468714448235]
["NU2703355",1.8127313940309786,3.0881752927842845,2.2488477521722703]
["UV5379200",1.6391733029958286,1.2201365187713311,1.3502844141069399]
["UV2213161",1.5938697318007662,1.2008812260536399,1.3189272030651342]
["UV3942188",1.5846468401486988,1.1453531598513012,1.2903345724907063]
["UV2452537",1.5687662097072992,1.3640607632456465,1.3775472397184143]
["UV0787788",1.4178705793829949,1.6673062452972158,1.4340105342362679]
["ST086120",1.2102602791399473,1.7918521312712183,1.3843455299886835]
["NU3708683",1.0369224894998093,1.7010691103474611,1.2583046964490263]
["ST0904669",0.96906448005963475,0.84211703317182263,0.85083861349235934]
["UV3595016",0.93277654046028213,1.4853006681514478,1.1122865627319971]
["AP3728500",0.90710238005289001,0.54760105780128443,0.69199093313184734]
["ST5444150",0.81977611940298512,0.58208955223880599,0.66309701492537321]
["UV8538779",0.80064589665653507,0.96808510638297873,0.82139057750759881]
["AP4223947",0.71765154403354936,0.466374380480366,0.56153259626382013]
["UV0787562",0.6939589665653495,0.92215045592705158,0.74779635258358668]
["ST3795473",0.64077669902912626,0.65873786407766999,0.60679611650485432]
["SL1814144",0.59126506024096392,0.78851656626506028,0.63825301204819274]
["UV0008455",0.56729041916167666,0.9531062874251498,0.69816616766467066]
["AP3951566",0.48725637181409298,0.33279610194902548,0.38834332833583213]
["NU3827246",0.45666542888971406,0.58989974006683998,0.48514667656888227]
["SL1205692",0.43447885196374625,0.58077794561933538,0.46982628398791548]
["VE8096041",0.40987887963663894,0.26472369417108249,0.3198334595003785]
["UV4926151",0.39984621299500195,0.23490965013456364,0.30188389081122646]
["ST3859207",0.3657965451055662,0.46510556621881005,0.38525911708253358]
["ST3078513",0.32066996574038825,0.4216216216216217,0.34343357441948991]
["UV5473062",0.28428357089272316,0.32768192048012001,0.28477119279819957]
["UV2985514",0.26039083051484402,0.20518602029312288,0.21984216459977451]
["ST1661696",0.25864128406121684,0.30425531914893617,0.26155281821575216]
["UV579433",0.20419367136866184,0.21014105985512774,0.19329012581014107]
["UV5677822",0.19388516032811334,0.13959731543624163,0.1575316927665921]
["UV5416692",0.15729709605361131,0.24393149664929265,0.18488458674609085]
["ST0248243",0.15189681335356603,0.15534901365705614,0.14351289833080424]
["SL1739082",0.14896867838044309,0.20011459129106188,0.16138273491214666]
["UV5815295",0.12434358589647412,8.7771942985746434E-2,0.10045011252813203]
["UV4787798",0.12122342409548675,0.17601641178664679,0.13722491607609102]
["AO0414069",0.11331836887392444,9.5323606434717545E-2,9.82416760194538E-2]
["ST5622830",0.11267978803936411,0.11956850870552613,0.10825132475397427]
["UV1106642",0.10324384787472037,0.16286353467561521,0.12263236390753171]
["ST5866857",9.3033878949371915E-2,0.13707651313285116,0.10590026646364674]
["SB4985987",6.2839879154078557E-2,6.333081570996979E-2,5.8912386706948643E-2]
["ST5775560",5.3643122676579932E-2,5.2193308550185877E-2,4.9293680297397766E-2]
["NU4893598",4.1198930889652541E-2,4.7651775486827037E-2,4.1695303550973659E-2]
["UV4105152",3.298731257208766E-2,3.7485582468281431E-2,3.298731257208766E-2]
["AP4745289",3.2886163280950557E-2,5.4311996933691077E-2,3.9862016098121886E-2]
["UV6937295",2.7225130890052355E-2,4.1810022438294688E-2,3.2086761406133132E-2]
["VE8008533",7.7525158404770783E-3,9.2061125605665296E-3,8.2370480805068966E-3]
["SB3338674",6.3438438438438447E-3,6.8318318318318317E-3,6.3438438438438447E-3]
["SL2223216",3.8820455393803661E-3,2.9115341545352747E-3,3.3967898469578197E-3]
["Tool 03",4.7403474773515972,6.3077726815396709,5.1139535656542456]
["UV562824",1.1466473509933777,1.6395281456953641,1.2865480132450331]
["UV5956413",0.82505002000800332,1.1860744297719088,0.92805122048819544]
["UV5947578",0.8170821413976298,1.0577441765427054,0.86861463015937879]
["UV5362907",0.65346737792367671,0.38621255642183011,0.49450143619203946]
["CT3389630",0.43085410706988148,0.70711074785451566,0.52329382917858602]
["DP2404504",0.30808943089430896,0.52158536585365856,0.38101626016260165]
["UV5813627",0.21397180762852405,0.35787728026533999,0.26247927031509122]
["VE5219409",0.19350544574425171,0.21972569584509885,0.19245663574021785]
["UV2805946",0.14318840579710146,0.22608695652173913,0.17010351966873707]
["FR3966167",4.3297252289758534E-3,2.7060782681099086E-3,3.2472939217318905E-3]
["UV5689814",4.1616646658663463E-3,3.1212484993997603E-3,3.6414565826330533E-3]
["Tool 04",122.74030482642401,170.94405281735001,114.81820210973567]
["CC4945569",22.035603715170279,28.942680229986731,23.601813356921717]
["MP8026858",18.655259653794943,18.399067909454061,17.327563249001333]
["MP8104858",18.155951346655083,43.382276281494356,12.423979148566463]
["CT4394015",14.178161434977579,21.245964125560537,13.037892376681615]
["MP8061520",13.041898454746137,19.525827814569535,15.010551876379692]
["MP8004078",8.6487134757959012,5.7726122982991717,6.8344962930658522]
["CC3609599",8.4456375838926174,17.155928411633109,9.6089485458612973]
["CC5387633",6.8475533807829185,5.3382117437722423,5.7447508896797155]
["CM5947011",6.8275456919060051,4.2026544821583993,5.241296779808529]
["CC5805891",1.3140814558058926,0.82348353552859621,1.0149913344887347]
["CT0686710",1.0853159041394336,1.6477995642701526,1.2592156862745099]
["MP8109471",1.0678772157371379,1.5203199308257673,1.1948984003458711]
["FR066151",0.79025254762959685,1.3529906956136466,0.98320779796189628]
["CM2364748",0.63836168307967778,0.56387645478961501,0.5644583706356312]
["UV5494145",0.24457724656927843,0.17264276228419656,0.19738822487826474]
["ME8876987",0.20330147697654213,0.14908774978279757,0.16659426585577758]
["CT5982395",0.16052986079928155,0.17337224966322407,0.15585990121239338]
["AB4133650",0.15423728813559323,0.19018733273862623,0.16003568242640501]
["AB6803301",0.14729907773386036,0.24207290294246819,0.17870004391743524]
["CC6069687",7.4686825053995681E-2,0.12354211663066955,9.1533477321814258E-2]
["AB1305109",2.3459507042253525E-2,1.9454225352112678E-2,2.0026408450704226E-2]
["Tool 05",112.8398995117183,116.66119561377944,107.1431314608422]
["AS0125536",62.838237671786587,58.335004042037191,56.782780921584482]
["MC5625753",19.836483155299916,20.216762530813476,18.708463434675433]
["AS1143091",7.8368794326241131,9.150197005516155,7.8962962962962964]
["ZD173254",7.4225122349102772,11.789070146818924,8.8370309951060371]
["DA2128864",4.1041831097079715,4.4612470402525659,3.9913180741910024]
["BC6306450",3.8333867093674945,2.6187349879903925,3.055884707766213]
["NU2754771",3.7820015515903802,5.7899922420480996,4.4083010085337468]
["ZD1471989",1.3873517786561265,2.19201581027668,1.6463241106719366]
["ZD1446821",0.81029529130087796,0.69616919393455712,0.70861931364724662]
["IR539559",0.34466560509554145,0.53718152866242042,0.40573248407643314]
["AB3534415",0.26771004942339371,0.4197693574958814,0.3158978583196046]
["IP453302",0.20202020202020202,0.30606060606060609,0.23434343434343435]
["MC5663542",0.17417271993543182,0.14899112187247779,0.15213882163034706]
["Tool 06",10.088939264703837,15.019403231782764,11.575105738729098]
["AL1492544",4.9448164513936099,8.4354180829367778,6.1400917743031957]
["AS6815735",2.5850523425433329,3.2929466277672903,2.7242663463188608]
["BC2509115",1.4846945778997942,1.7931880576527113,1.5221688400823612]
["BC2465775",0.5035756853396901,0.66272773710199218,0.53987740507406778]
["BC1086722",0.18654608096468564,0.24409991386735572,0.19953488372093023]
["BC1381899",0.18644972451790634,0.29523071625344355,0.22159090909090909]
["BC1638233",7.817371937639199E-2,0.12227171492204901,9.2427616926503336E-2]
["BC2965316",7.3823328785811743E-2,0.12170873124147341,8.9785129604365618E-2]
["AB2665756",3.6907815974003763E-2,4.1132204549341543E-2,3.6240807251582012E-2]
["BC5752252",8.8995379086085919E-3,1.067944549033031E-2,9.1220263563238074E-3]
["Tool 07",12.018551215218046,11.206386332649,10.882138049231855]
["MP8189416",5.9283716594157863,4.2716594157862025,4.8214729645742693]
["AB5677022",2.7566892725030829,2.2768033292231813,2.3683723797780516]
["UV2195087",1.2955465587044535,2.191093117408907,1.6004048582995953]
["UV4665563",0.6103819173811379,1.0418238503507404,0.75831644583008584]
["UV5555407",0.27553141970519784,0.45404189294026381,0.33523661753297129]
["CT823663",0.21841452063295069,0.16134036611852312,0.17928948184920881]
["AO855133",0.20672229949003246,0.20069541029207233,0.19065059496213879]
["AP0171319",0.20485212569316083,0.23308687615526802,0.2038508934072705]
["AO5342652",0.17974406991260924,0.11299937578027466,0.1389669163545568]
["SB0898923",0.156288532675709,0.12102342786683108,0.13084155363748459]
["AP3078837",0.13266542404473439,9.9347623485554523E-2,0.10964585274930103]
["AP5897782",3.3648481091134531E-2,2.4783013019218848E-2,2.7603843769373838E-2]
["AP5614262",9.824182603331278E-3,7.4182603331276993E-3,8.2202344231955583E-3]
["UV6252256",6.6573556797020483E-3,5.8504034761018009E-3,5.8504034761018009E-3]
["AP086256",1.6129032258064516E-3,2.4193548387096775E-3,1.8145161290322581E-3]
["AP4972828",1.600492459218221E-3,2.0006155740227762E-3,1.600492459218221E-3]
["Tool 08",108.59167962866469,120.73411859061646,105.63429584497982]
["CT3847465",33.980455120101141,26.184399494310998,28.374841972187106]
["ME8804901",14.139359267734553,23.996618357487922,17.50322908721078]
["CC5605066",13.864468678671063,16.755262490489475,12.92351001775298]
["CM2573429",7.9419083969465651,5.8043511450381686,6.4947073791348604]
["ME8183894",6.1784591991890521,8.0059047136340595,6.570172326406488]
["CL4179003",5.2201449637590605,6.8369407648087988,5.7201949512621848]
["ME8183059",4.066248746238716,5.4099297893681042,4.3853811434302914]
["ME8203838",3.4535122930255899,2.92646763672855,2.9991971901655798]
["ME8846873",2.7880339745191107,2.5714214339245567,2.5123157631776172]
["CM3509051",2.4331303906646373,3.019812278031456,2.5294266869609334]
["ME8294469",1.8533717723740286,2.9777137127099524,2.2213085986462775]
["CM2144500",1.7556090149404915,2.8001519371992911,2.0953405925550772]
["ME8004064",1.6426585797321203,1.4714935557240334,1.460980540813748]
["ME8219605",1.3592255125284738,2.1403442166540114,1.6102758795241709]
["ME8216708",1.1735205616850553,1.8196088264794383,1.3779087261785357]
["ME8009107",1.1269949494949496,1.3558080808080808,1.1532575757575758]
["ME8004536",0.97696374622356497,1.4119335347432023,1.1023162134944613]
["ME8182883",0.87416603962879358,0.74602457988462501,0.76134938550288433]
["ME8808939",0.64950968066381698,0.86034699522252955,0.69886849383957761]
["ME8144143",0.54142175332830944,0.58387339864355692,0.52444109520221049]
["ME8186457",0.44038028521391043,0.30182636977733301,0.35126344758568928]
["CM2146129",0.42221092757306228,0.67527318932655667,0.50480304955527322]
["ME8212034",0.3691478696741855,0.39130325814536338,0.35481203007518797]
["MC594145",0.33130193905817179,0.40037773860488546,0.33981364895492322]
["ME8082434",0.22871287128712869,0.32838283828382836,0.25742574257425743]
["ME8809588",0.20983731570920183,0.21347229283172345,0.19761057447890187]
["ME8254069",0.16484909967030181,0.20111590159776821,0.16979457266041084]
["ME81564",0.1376081424936387,0.17267175572519083,0.14389312977099236]
["ME8314847",0.12470647014738948,0.18576067949038222,0.14321758680989261]
["ME8115997",3.7142857142857144E-2,4.4770408163265309E-2,3.8137755102040816E-2]
["ME8007924",3.7142857142857144E-2,4.3984962406015037E-2,3.7794486215538853E-2]
["ME8227923",3.674911660777385E-2,5.610802624936901E-2,4.2655224634023221E-2]
["CM267912",2.9425228891149544E-2,3.9013224821973551E-2,3.1739572736520859E-2]
["CM350886",3.3020066040132081E-3,1.651003302006604E-3,2.3114046228092456E-3]
["Tool 09",106.90460110593268,138.07784161658466,113.4941448174545]
["SL0979997",21.375137111517368,28.828153564899452,23.221755027422304]
["CP2759269",18.318181818181817,20.423966942148763,18.041528925619836]
["AF4955974",14.374653465346535,19.072673267326735,15.4790099009901]
["ST1025440",11.347286821705426,15.919961240310078,12.594379844961241]
["MT458935",7.1448412698412698,9.6829365079365068,7.7845238095238098]
["AF4224863",6.3271157167530223,8.8440414507772012,7.0096718480138174]
["MT0524796",4.6938524590163935,7.2379098360655734,5.495696721311476]
["UV0185671",4.6523517382413084,4.0621676891615541,4.0914110429447854]
["UV251396",3.7978927203065136,5.3917624521072796,4.2436781609195409]
["UV2198207",3.1792746113989638,4.5017271157167533,3.547495682210708]
["UV3287428",2.7660678642714571,4.3930139720558881,3.2928143712574851]
["SS0108",2.52,2.8200000000000003,2.4849999999999999]
["UV1585237",1.3869980879541108,0.89980879541108993,1.0837476099426389]
["UV5762734",1.2565862708719853,1.6690166975881262,1.3530612244897962]
["SL6949404",0.94717668488160289,0.89034608378870672,0.85956284153005469]
["UV2285856",0.7554973821989529,0.53542757417102971,0.61029668411867366]
["AB0975463",0.70427698574338082,1.1729124236252546,0.86313645621181267]
["AF2797300",0.42044609665427513,0.39144981412639407,0.3817843866171004]
["UV5311573",0.35430327868852463,0.55942622950819676,0.42090163934426228]
["ST0249290",0.18732638888888889,0.27309027777777778,0.21215277777777777]
["UV5685234",0.18317025440313114,0.16281800391389434,0.16281800391389434]
["AB6883086",0.17129963898916969,0.28393501805054155,0.21119133574007221]
["SL0454342",4.0864440078585466E-2,6.1296660117878196E-2,4.8526522593320236E-2]
["Tool 10",106.44977549706971,136.62992048269825,113.08575735150912]
["RT3164824",60.966281192939746,87.557334144856981,68.551856360316492]
["NU1816428",8.9029339853300744,9.893826405867971,8.7527506112469435]
["AB0329160",7.1152607855763037,7.5338055376690276,7.287701223438507]
["AB2092362",7.0507664009809936,8.5938687921520547,7.2619865113427355]
["VE8109961",3.6333541147132173,4.0045511221945143,3.5579800498753116]
["SB6883672",3.0910553410553412,1.781853281853282,2.320592020592021]
["AB4302436",3.0483333333333338,3.3066666666666671,2.9616666666666664]
["AB1018910",2.365547263681592,1.9677860696517415,2.0389303482587064]
["AB0635046",2.0162776412776413,1.7535626535626536,1.7703316953316952]
["AB3839653",1.9183428209993676,1.6782416192283367,1.6889310562934854]
["AB2569538",1.8116336633663366,3.0167079207920793,2.2170792079207922]
["SB699340",1.5465086483023702,2.0903267136450991,1.6822549647661755]
["SB1429502",1.3837089504185449,2.0433354797166774,1.5804249839021249]
["NU3608271",0.77760736196319014,0.64282208588957057,0.66834355828220859]
["MC4291921",0.34845360824742272,0.3945231958762887,0.34594072164948453]
["MR0869382",0.16528117359413205,0.1128361858190709,0.13190709046454768]
["NU5785654",0.12789539227895394,9.3897882938978841E-2,0.10523038605230386]
["FR0679719",8.74766355140187E-2,5.1028037383177571E-2,6.5607476635514014E-2]
["AB0513704",6.5552855407047389E-2,7.6609963547995139E-2,6.6342648845686511E-2]
["OX5859021",1.1311373523927906E-2,1.9390926041019267E-2,1.4543194530764452E-2]
["CM2981742",9.6355775169857938E-3,1.2847436689314392E-2,1.0438542310067944E-2]
["CT5387974",6.5573770491803279E-3,4.0983606557377051E-3,4.9180327868852463E-3]
["Tool 11",113.42568202106463,146.80141753779421,128.43974773294661]
["FR009628",15.626136907611297,24.73671613212063,18.568405935854475]
["FR2815273",15.595672848311937,23.918021873514029,18.196909177365669]
["UV3281153",11.949053926206243,12.357994323557238,11.347634815515612]
["FR5969812",10.004265632573921,17.656180319922445,20.575036354823073]
["FR0362571",8.6677048394825107,10.644801149976043,8.9617153809295651]
["FR378786",6.9985250737463129,5.9516224188790563,6.0871189773844643]
["MC4244977",6.9499290780141845,10.170118203309693,7.8965011820330977]
["GF67655",4.3652888680131516,6.1379051197745422,4.8513386566463126]
["CT2727204",3.364029484029484,2.4511547911547913,2.7482063882063885]
["ME8164351",2.6752895752895753,2.2273166023166024,2.3057432432432434]
["FR3576193",2.2133460438512871,3.4699714013346044,2.6154909437559581]
["FR0919209",2.1019683149303892,1.3936149783965435,1.6569851176188191]
["FR5992952",2.0819971195391265,2.3809409505520884,2.0763802208353339]
["FR4624850",1.8225,1.18625,1.4268750000000001]
["FR5796610",1.6942924528301888,1.9346698113207548,1.6887735849056604]
["NU3927324",1.6449616122840691,2.6417946257197698,1.9712092130518235]
["FR5342502",1.4368421052631579,1.7079685194294147,1.4611411706837187]
["FR0614261",1.4085904129093498,0.94646416706217373,1.1161366872330329]
["MC3543546",1.2876660341555977,0.87016129032258061,1.0224857685009487]
["FR1415438",1.241642788920726,1.5005253104106973,1.2733046800382044]
["FR5979463",1.1897008337420305,1.0373222167729279,1.0462481608631684]
["FR5935871",1.1561863173216886,1.6399805919456574,1.2911693352741387]
["FR0667973",1.0564878048780488,1.1592195121951221,1.0323902439024391]
["CT2899279",1.0211221122112213,1.1522866572371522,1.0119283356907121]
["FR5384444",0.92639296187683284,1.3673509286412511,1.0579178885630498]
["FR4965335",0.80745341614906829,1.1484472049689443,0.90310559006211177]
["CT4625235",0.7754716981132076,1.2069182389937108,0.91257861635220128]
["FR5744950",0.51028037383177571,0.59916379734382696,0.51539596655189368]
["CT588550",0.45496849248666993,0.27852641783809984,0.3484730974309258]
["FR2948803",0.41478599221789886,0.44450389105058363,0.40087548638132298]
["FR0622263",0.34049140049140048,0.50019656019656022,0.38776412776412778]
["FR317601",0.32122093023255816,0.39491279069767443,0.33255813953488372]
["FR5454864",0.28474414155906264,0.32764227642276422,0.28474414155906264]
["FR5684287",0.27093810444874278,0.26025145067698263,0.24830754352030948]
["FR5894727",0.22141119221411193,0.3656447688564477,0.26948905109489052]
["FR2795111",0.1047064531780689,0.11795245026686074,0.10407569141193596]
["FR5664727",0.10300715990453461,0.10673031026252983,9.8042959427207643E-2]
["FR3659141",9.3833652007648191E-2,0.12863288718929256,0.10253346080305928]
["FR0935436",7.2879731672256823E-2,0.1171058936272161,8.7829420220412083E-2]
["FR4539511",5.1380952380952381E-2,5.3238095238095237E-2,4.8904761904761909E-2]
["FR4526775",5.0872230080150876E-2,3.9839698255539839E-2,4.2904290429042903E-2]
["FR0061274",4.5239246012566459E-2,4.3354277428709523E-2,4.1469308844852587E-2]
["FR5682241",1.2345679012345678E-2,1.5432098765432098E-2,1.2962962962962963E-2]
["FR5608301",1.0058027079303675E-2,1.2572533849129593E-2,1.0686653771760155E-2]
["Tool 12",15.292911471427136,19.336436109980077,16.054506623700789]
["MC3717873",6.7467948717948714,10.640064102564102,7.9993589743589748]
["CC0084549",2.3629620441577774,1.5834780451500867,1.8698585958819154]
["CT4696984",2.0555007400098666,2.5102121361618153,2.1193142575234338]
["CT5424793",0.82179487179487187,0.71314102564102566,0.72083333333333344]
["AS0105077",0.67271592611083375,0.75319520718921618,0.66395406889665509]
["IR5796915",0.63913470993117005,0.68163716814159292,0.61580629301868239]
["CC5603244",0.58151093439363821,0.82606858846918485,0.65]
["CT5745914",0.50762210162802168,0.53744449925999016,0.48774050320670942]
["CC5877145",0.41508545949962844,0.58672281397077031,0.46274461233589304]
["CC4774419",0.33688137279283764,0.35498632181049494,0.32297935836856506]
["CT5745169",6.4824367477278322E-2,8.4622942765905179E-2,6.9295013510194056E-2]
["IR6327281",4.3225E-2,2.86E-2,3.4125000000000003E-2]
["CP5891290",4.2284177060405971E-2,3.4653949620934217E-2,3.6243580337490831E-2]
["CC5835642",2.5748947759346372E-3,1.6093092349591482E-3,2.2530329289428075E-3]
["Tool 13",12.778093035184945,11.599772574729617,11.433933384422856]
["CC5844379",4.4612565445026187,3.2397905759162304,3.6392670157068068]
["CT1422602",2.5377342773844234,3.1187005414410662,2.6249062890462311]
["AS0888075",2.1366965012205044,1.3534174125305127,1.6569975589910497]
["CC3979402",1.5887713588283159,1.7347436940602114,1.5485760781122864]
["CT0911438",0.7531914893617021,0.79946808510638301,0.72446808510638305]
["CC4941594",0.71078753076292045,0.5641509433962264,0.60094339622641513]
["AP853615",0.26879900949236485,0.35839867932315311,0.29026000825423032]
["AS5378181",0.23204973926995587,0.37492980344965904,0.27950260730044124]
["MC3428427",8.8806584362139923E-2,5.6172839506172842E-2,6.9012345679012349E-2]
["Tool 14",46.393886320499654,60.771230522884117,49.622959445833054]
["GF5885097",20.011115916955021,26.615700692041521,21.577638408304498]
["DP087138",16.603489361702131,23.865787234042553,18.677957446808513]
["GF5886834",2.863041594454073,1.9133882149046795,2.2631715771230505]
["GF1438930",1.7322390572390574,1.4406144781144781,1.4925925925925927]
["FR6818423",1.6329065300896288,2.2038412291933422,1.7749466495945367]
["GF0149565",1.0821229050279328,1.752513966480447,1.3033519553072626]
["GF5892823",0.60786281890422422,0.9275616896695944,0.70736093684650769]
["GF5747120",0.59298245614035083,0.6447154471544716,0.57685066324347456]
["GF4305823",0.48227628149435275,0.48340573414422239,0.45178105994787143]
["GF586901",0.27873070325900512,0.32667238421955408,0.28151801029159518]
["GF0013491",0.22808941374947284,0.27469422184732184,0.23357233234921976]
["GF1349895",9.2697594501718217E-2,0.11447594501718213,9.6606529209621997E-2]
["GF5598636",7.6138828633405639E-2,7.5574837310195236E-2,7.1062906724511932E-2]
["GF5942175",4.2312633832976447E-2,6.8479657387580301E-2,5.1220556745182014E-2]
["GF368849",2.6553672316384183E-2,1.6384180790960452E-2,2.0903954802259886E-2]
["GF3811858",1.8579471632741446E-2,1.6327414465136424E-2,1.6890428757037678E-2]
["GF498873",1.3996554694229113E-2,2.0155038759689926E-2,1.6236003445305774E-2]
["AO8517171",8.7505258729490953E-3,1.093815734118637E-2,9.2974337400084147E-3]
["Tool 15",55.513873991611973,66.518810980811679,56.680789085773227]
["DP1792938",7.6925522252497727,10.966167120799273,8.6141235240690275]
["NU0449734",6.7642970341860993,8.8783789902648866,7.2422685080371298]
["CT54540",5.3006939780613385,5.6033579583613164,5.0865010073875085]
["CT2921184",3.9,4.8218023255813955,4.0465116279069768]
["CC2566445",3.7691586699397459,3.8115152867663471,3.5417094398571747]
["UV5313868",2.8633872416891286,3.8427672955974841,3.1025381850853551]
["CC5949597",2.6715381145692376,2.9752819124943617,2.6293188994136218]
["DP2403779",2.6182932364956879,2.3371084884248754,2.3253064003631416]
["ST5905549",2.2940136054421769,2.4425850340136055,2.2091156462585038]
["AP0202155",1.6213285133303208,1.7208992318120198,1.5590600994125623]
["AP5647883",1.5256392849060874,1.7559855170853134,1.5265218375198009]
["UV252791",1.4326289479663712,1.9341967734605772,1.5572824358100432]
["CL1528731",1.1995309358945723,1.4260218896582533,1.2198570471297745]
["NU290431",0.92931726907630519,1.5755466309683177,1.1497545738509594]
["NU0913559",0.90122338015405523,1.3011780697779793,1.0163797009515179]
["ST269903",0.89362088535754824,1.3419069239500567,1.030261066969353]
["AO2105290",0.84391127206880945,0.5387732005432323,0.65617926663648707]
["AO5834357",0.82860690900880563,0.68566267780537371,0.71266651614359899]
["FR0905418",0.79393802307170325,1.0485862926939606,0.8527482470029405]
["SB6851891",0.7422776911076443,1.1496322710051261,0.871205705371072]
["UV5924094",0.72451759364358681,0.70681044267877413,0.66962542565266747]
["SB6782689",0.64604284103720411,0.76211950394588501,0.65425028184892897]
["FR2345868",0.63447498873366381,0.38226678684091936,0.48361874718341602]
["UV091154",0.55030674846625771,0.39286525789593274,0.44603499204726199]
["FR0696557",0.53765073693613219,0.91766413577489958,0.66799910674408225]
["UV250174",0.49102077283895468,0.53167299530935896,0.47679249497431314]
["FR5671746",0.28837105086264847,0.44595563522294418,0.33818059601165135]
["UV1394884",0.25090260753287275,0.26046356139959886,0.23873412079340317]
["FR1379592",0.23778371161548734,0.20249221183800623,0.20712060525144638]
["SL035245",0.22143992732228027,0.14260731319554848,0.17272314331137861]
["UV3728968",0.18475828111011638,0.24469561324977618,0.19872426141450314]
["UV1187156",0.14841376228775693,0.14579982126899019,0.13766756032171582]
["FR3998413",0.14593623709025594,0.23145487202514595,0.17366412213740459]
["CC5859307",0.13519303726846688,0.12968087480473109,0.1241687123409953]
["UV5928329",9.0261496844003614E-2,0.13978809738503156,0.10608656447249776]
["AF5847200",8.9836212699124979E-2,0.10850347767556653,9.2169620821180173E-2]
["AL2661736",8.4502923976608191E-2,9.4152046783625737E-2,8.3333333333333329E-2]
["BC3857293",8.1903485254691696E-2,8.7131367292225204E-2,7.8708668453976768E-2]
["FR5371365",6.6161501922641933E-2,5.2929201538113549E-2,5.6163763854331604E-2]
["NU2694528",4.7966214714380978E-2,7.1082462769504334E-2,5.4901089130917985E-2]
["UV0002089",4.168925022583559E-2,4.7854561878952123E-2,4.168925022583559E-2]
["CC6514546",2.4500454132606722E-2,3.660308810172571E-2,2.804268846503179E-2]
["FR1615194",2.4494892167990921E-2,1.682179341657208E-2,1.9477866061293984E-2]
["FR141742",2.4400723654455E-2,3.4984170058796928E-2,2.7340569877883313E-2]
["NU1662490",2.4209109266322641E-2,2.5667489342607135E-2,2.3334081220551941E-2]
["UV2636450",2.3869234214061803E-2,4.1043439319301392E-2,2.9982086878638604E-2]
["CT3513686",2.2719019518837952E-2,2.5669541534271451E-2,2.2423967317294596E-2]
["SB0191101",2.2172351885098744E-2,1.3420107719928187E-2,1.6921005385996411E-2]
["NU0799419",1.9254937163375223E-2,2.1880610412926393E-2,1.9254937163375223E-2]
["MT4603768",1.9113388282468256E-2,1.2163065270661617E-2,1.4769436400089106E-2]
["SB2162364",1.5882352941176472E-2,2.5588235294117648E-2,1.9117647058823531E-2]
["FR4897160",8.1669284271931788E-3,9.6253085034776753E-3,8.4586044424500798E-3]
["Tool 16",15.528207541816553,18.157517462107432,15.659521626261522]
["UV1121941",4.3201080607476641,6.6114339953271024,5.0346524532710282]
["UV133670",3.2416423144360023,2.7927966101694919,2.8351548801870252]
["SL6923987",1.6934887813462385,1.7443906731192258,1.6052207068485116]
["CT1344126",1.5853797746231524,1.2419727791599591,1.3327235474901216]
["UV0924680",1.4018970588235293,2.0710147058823529,1.6014852941176472]
["CP3782517",1.0176796385366564,0.89262498178108152,0.89698294709226056]
["AP242884",1.0050356571095911,1.2971619851549994,1.0665259787512735]
["UV0167578",0.35750953358756232,0.51042827808741564,0.40060134936931652]
["UV0831317",0.3265294117647059,0.2540735294117647,0.27376470588235297]
["SL0973907",0.13507473516180526,0.20883761427949502,0.1584675663909447]
["AB4952945",0.12862393413701853,0.13072625698324022,0.12117024404586887]
["UV5951712",0.1259711916193802,0.18384984722828462,0.14299432562199912]
["UV4289343",4.5947130129983936E-2,5.0124141959982473E-2,4.480794508543888E-2]
["CT1427436",4.1426692004092977E-2,4.8457827802952783E-2,4.1806753398625933E-2]
["UV3533088",4.0117560617193238E-2,2.941954445260838E-2,3.2858192505510656E-2]
["UV0432519",2.5229826353421862E-2,4.1543849409017945E-2,3.0731066686122865E-2]
["SB585933",1.1699811293366237E-2,1.9248076643925097E-2,1.4341704166061838E-2]
["UV6238373",1.0248175182481752E-2,1.4043795620437956E-2,1.1197080291970803E-2]
["AO0324556",8.3309059131954563E-3,4.7334692688610546E-3,6.2481794348965914E-3]
["OX5851901",6.2673484295105919E-3,1.0635500365230095E-2,7.7867056245434626E-3]
["Tool 17",28.633584706640487,39.044249974949949,30.537560586531324]
["AF2334989",23.007166886061139,32.435161620593831,24.850592365072401]
["DP0098702",1.4871617647058823,1.9171176470588234,1.5770147058823532]
["AP352983",1.1534572922719351,0.99124055781522369,1.0076699593259733]
["UV4917026",1.1363529411764706,1.6110441176470589,1.2686470588235297]
["DP4769417",0.31129432365387422,0.25836859769444043,0.26804319276229388]
["FR5931113",0.27347503275585966,0.38040471684379096,0.30205270053865196]
["SL04371",0.27067504383401519,0.37096727060198714,0.29669783752191703]
["UV631601",0.20269123884744769,0.28083954951001905,0.22341670323241189]
["VE8207633",0.15767326732673267,0.13836633663366338,0.13893418753640072]
["UV5366748",0.13364309568752722,0.10967039349499057,0.11457819079425004]
["UV2781330",0.1329976649153532,0.16506129597197899,0.13830998248686516]
["UV0436753",0.11155933695173831,9.9545254510781875E-2,9.8973155346926814E-2]
["UV495822",8.8541362174802699E-2,0.11305173925752704,9.3481438175971945E-2]
["CP5915175",8.3067699956133945E-2,9.0100891943266564E-2,8.0786664717063902E-2]
["UV0685993",5.6669572798605058E-2,4.7035745422842196E-2,4.8735832606800353E-2]
["NU5305035",1.8419515045281918E-2,2.3546596552731523E-2,1.9558866491381829E-2]
["UV0122500",5.5278592375366574E-3,8.0058651026392955E-3,6.2903225806451614E-3]
["GF1114780",3.2108092401569085E-3,4.7217782943483949E-3,3.7774226354787156E-3]
["Tool 18",191.7981647481578,211.71168474146251,187.94980039603135]
["RM56355",54.701281163434906,33.894529085872577,42.087499999999999]
["CC4618183",45.348039914468998,71.878510334996434,53.925445473984325]
["CT593521",26.508973010865759,32.959305993690855,27.584787942516652]
["CT3676279",18.516767748840529,19.090938280413845,17.559043881555475]
["RT2887016",11.371040723981901,16.676923076923078,12.936199095022626]
["DP4764853",8.5869018512050292,9.3479217603911984,8.3580509954593083]
["RT2524952",3.4915586690017513,2.6209457092819615,2.8854991243432577]
["UV2374219",2.9396232996163234,2.3419951168468782,2.4880013951866062]
["RM5699820",2.6636458333333333,2.0515625000000002,2.2239930555555558]
["CT3251740",2.5329061309317629,2.7909248354693457,2.4797713889851059]
["CT5885641",1.6012082444918267,1.2902985074626867,1.361904761904762]
["RM4667709",1.5362394957983194,1.9663865546218486,1.6231792717086835]
["CT2356543",1.4548603746907034,1.6919759632378935,1.4631318487097913]
["RM2364622",1.1809439943642128,1.1433955618175413,1.0875308207115182]
["FR3467978",1.1353851565247979,1.1239535701723531,1.0562785789658811]
["RM0095773",0.98560027758501045,1.20617626648161,1.0171755725190839]
["AO4874959",0.9796251301631379,1.3527941686914267,1.0779937521693856]
["RM4695168",0.78157519600855307,1.2031717747683535,0.91407697790449038]
["UV4173990",0.76167997223186401,0.59923637625824366,0.64120097188476222]
["RC146190",0.64094707520891359,1.0714136490250696,0.78669916434540388]
["UV3439245",0.63680895731280618,0.90335899230230932,0.71095171448565431]
["RM6463347",0.60559859154929585,0.846830985915493,0.671056338028169]
["RM5986206",0.56004980434009244,0.49807897545357527,0.49669156883671295]
["CT2976643",0.5013761467889909,0.79174311926605512,0.59495412844036699]
["CT5594793",0.47660614525139666,0.74395949720670396,0.56194134078212299]
["UV385351",0.39370383397819203,0.56289131199437215,0.44171649665845936]
["RT2601597",0.28098245614035089,0.41554385964912277,0.32112280701754387]
["FR457233",0.15317899101589497,0.22325501036627507,0.17384243261921217]
["CT5829315",0.15184145913714486,0.11809891266222378,0.12721851981760784]
["RM4934415",0.10321100917431193,8.8990825688073399E-2,9.0366972477064225E-2]
["RM5456028",7.4930555555555556E-2,4.7847222222222228E-2,5.8229166666666672E-2]
["DP638679",4.2748355832467985E-2,2.7898926964347526E-2,3.374870197300104E-2]
["RC4928508",3.0264072272411398E-2,5.0138985406532319E-2,3.7039610840861714E-2]
["RM5696783",1.7062788222774034E-2,2.4902447676481022E-2,1.9368570415040795E-2]
["RM12722",1.6250000000000001E-2,2.5277777777777777E-2,1.8958333333333334E-2]
["UV1723988",1.2967581047381545E-2,7.4100463127894549E-3,9.72568578553616E-3]
["AB617476",7.2347826086956524E-3,1.1304347826086957E-2,8.5913043478260866E-3]
["RM4669200",7.1748878923766817E-3,1.1659192825112109E-2,8.5201793721973087E-3]
["FR1452826",3.7129596572652627E-3,5.1053195287397357E-3,4.1770796144234203E-3]
["RM1193363",3.6581076327822722E-3,5.0298979950756245E-3,4.1153710868800566E-3]
["Tool 19",63.721361823961004,71.15822482461175,62.799398372288678]
["CT2882108",14.413788056206089,12.323741217798595,12.56501756440281]
["MC4997628",13.481349980491613,17.326950838860711,14.274131876706983]
["CC4329116",11.453538220612705,8.6793481452481167,9.5004208671821484]
["CC5872620",9.2923152035934002,14.112000781173714,10.781837711161019]
["CC2575",6.1185955659732398,7.92074421330208,6.5031741380994239]
["CT4983245",1.6275430359937402,1.555575117370892,1.4900919405320814]
["CT4766693",1.5212224938875305,2.3069437652811735,1.7636772616136922]
["CT1693771",1.3644858900497998,1.8035738697392834,1.4664192949907235]
["CM5946003",1.2785491115016598,1.07609841827768,1.1071958601835579]
["CT5869387",0.91510228051287079,1.3493686992267788,1.0442497797788002]
["MC5823622",0.53818092909535453,0.76550611246943767,0.60200488997555013]
["CC6146771",0.2822259299244283,0.29740897045833742,0.27036019236431447]
["CC5671451",0.27088644832320063,0.28886056089429302,0.26107079819572465]
["FR2492515",0.25348542458808621,0.21634980988593155,0.22078580481622306]
["CT1195860",0.16916243654822335,0.27347715736040606,0.20342639593908629]
["CT5802839",0.14900226088666077,0.19219502604934632,0.1580752973557456]
["CC642531",0.13604947967798939,9.2784213626546236E-2,0.10835460435892402]
["CM5648071",0.10376486778728007,0.16472033815000492,0.1234444116779711]
["UV120727",0.10078508341511286,0.12668302257114819,0.10550539744847891]
["Z00307730",5.7307993730407521E-2,6.2529388714733555E-2,5.5779780564263318E-2]
["CT4998062",5.309247987433733E-2,4.658354604358924E-2,4.6838798350677405E-2]
["FR3597468",4.7621373449252713E-2,8.0892839699130609E-2,5.8923512747875356E-2]
["FR219333",1.8111847233047547E-2,1.2285658612626657E-2,1.4438815276695247E-2]
["IR1385574",1.6989289574530806E-2,1.9160852903606172E-2,1.6861550555173431E-2]
["CC5951749",1.2602820211515865E-2,1.3875832354093225E-2,1.2348217783000392E-2]
["CT5587547",1.2105469515781219E-2,1.0066653597333856E-2,1.0448931582042737E-2]
["FR4374057",1.0571176643479965E-2,1.273635740178309E-2,1.0825903791515627E-2]
["CT4485707",7.4146917100993224E-3,8.0538892713147812E-3,7.1590126856131376E-3]
["CC5505924",7.3950568850529629E-3,1.0455080423695568E-2,8.2875637504903881E-3]
["MC4993575",2.0265003897116133E-3,2.5331254871395169E-3,2.1531566640685894E-3]
["FR4954051",2.0265003897116133E-3,1.7731878409976616E-3,1.7731878409976616E-3]
["UV588115",1.0211094747177222E-3,5.1055473735886112E-4,7.6583210603829168E-4]
["FR3359591",1.014832162373146E-3,1.3953942232630759E-3,1.1416861826697893E-3]
["FR5404360",1.014832162373146E-3,1.6491022638563625E-3,1.2685402029664326E-3]
["CT5312249",1.0131514856307842E-3,1.3930832927423285E-3,1.1397954213346324E-3]
["Tool 20",43.378996386190018,50.957560533043562,43.84537759213368]
["CT3866790",11.181616770616481,11.771570316925871,10.70886820187577]
["CT4972454",8.1497796043602424,7.3218985283714897,7.2582916207171957]
["CT0314214",7.2262209744207402,12.149796312169491,8.8956018975857791]
["CC0921636",3.7448373798988768,2.7723332296538503,3.0779305742548573]
["CC2965217",3.6953610079715649,4.4042603040648007,3.7625941126207034]
["CT3327591",2.805320681522018,4.6433007073801571,3.421422600302181]
["CC5803851",1.8663953856400484,3.1616579046888975,2.3078531385887624]
["CC5798817",1.0893493849407594,0.7295175588582623,0.86188837210449365]
["CC2454697",0.73995729055970128,0.56059879779422306,0.61376045631473874]
["CT6445143",0.73775131939274208,1.0912674270153608,0.84337904114057838]
["CC0189122",0.5952197569446197,0.70500473433662736,0.60414805329878907]
["CT1153413",0.50469773415079489,0.77306613009158065,0.58842867368432006]
["CC2936183",0.49250867564279927,0.40615548784676181,0.42290078281861698]
["CC5646794",0.27423374414570151,0.20773288422081349,0.22748561489157229]
["CT2748008",8.812559179207842E-2,6.5143495621161174E-2,7.2418403761595404E-2]
["CT5668919",8.1489846357005832E-2,7.738249523014061E-2,7.4425202418797659E-2]
["CT5306052",3.9646020833873814E-2,3.8324486806078022E-2,3.6507377517858805E-2]
["CT5819298",3.3250018538769521E-2,4.1024898495596228E-2,3.4573402361208101E-2]
["CT5932817",2.2023675876014559E-2,2.3513999807474189E-2,2.1195718136314764E-2]
["CT5783436",4.4601773438108045E-3,5.451327864657649E-3,4.6253690972852778E-3]
["CT6358073",4.1224600294675886E-3,4.452256831824996E-3,3.9575616282888854E-3]
["CT6438604",1.3175160072517579E-3,1.976274010877637E-3,1.4822055081582278E-3]
["CC092903",1.3113692046569079E-3,2.1309749575674753E-3,1.6392115058211348E-3]
["#N/A",{"$error":"#N/A"},{"$error":"#N/A"},{"$error":"#N/A"}]
[0,{"$error":"#N/A"},{"$error":"#N/A"},{"$error":"#N/A"}]
["סכום כולל",{"$error":"#N/A"},{"$error":"#N/A"},{"$error":"#N/A"}]

{"sheet":"Tools loading","index":9,"n_rows":21,"n_cols":19,"rows_kept":21,"cut":false,"hidden":false,"merged":[]}
[{"$f":"'Tool time needed per product'!B1","v":"Tool"},{"$f":"'Tool time needed per product'!D1","v":"Week1"},{"$f":"'Tool time needed per product'!E1","v":"Week2"},{"$f":"'Tool time needed per product'!F1","v":"Week3"},null,null,null,null,{"$f":"\"Balance result for \" & TimeBucketName","v":"Balance result for Week1"}]
["Tool 01",{"$f":"'Sum of needed tool time'!B2/'Tools avail'!B3","v":0.73714339179448007},{"$f":"'Sum of needed tool time'!C2/'Tools avail'!C3","v":0.74879181343020751},{"$f":"'Sum of needed tool time'!D2/'Tools avail'!D3","v":0.69413706706546974},null,null,null,null,0.73714339179448007]
["Tool2",{"$f":"'Sum of needed tool time'!B3/'Tools avail'!B4","v":0.47563280504575517},{"$f":"'Sum of needed tool time'!C3/'Tools avail'!C4","v":0.56117537715381527},{"$f":"'Sum of needed tool time'!D3/'Tools avail'!D4","v":0.48182466397281376},null,null,null,null,0.47563280504575517]
["Tool 03",{"$f":"'Sum of needed tool time'!B4/'Tools avail'!B5","v":5.0951998065293908E-2},{"$f":"'Sum of needed tool time'!C4/'Tools avail'!C5","v":6.7799591275043772E-2},{"$f":"'Sum of needed tool time'!D4/'Tools avail'!D5","v":5.4967732519219187E-2},null,null,null,null,5.0951998065293908E-2]
["Tool 04",{"$f":"'Sum of needed tool time'!B5/'Tools avail'!B6","v":1.2409640151776167},{"$f":"'Sum of needed tool time'!C5/'Tools avail'!C6","v":1.7283272878859912},{"$f":"'Sum of needed tool time'!D5/'Tools avail'!D6","v":1.1608677142123074},null,null,null,null,0.7648133830933922,null,null,null,null,null,null,null,null,null,"This is the first result sheet:"]
["Tool 05",{"$f":"'Sum of needed tool time'!B6/'Tools avail'!B7","v":0.99824454168219889},{"$f":"'Sum of needed tool time'!C6/'Tools avail'!C7","v":1.0320498533896758},{"$f":"'Sum of needed tool time'!D6/'Tools avail'!D7","v":0.94784776149518679},null,null,null,null,0.99824454168219889]
["Tool 06",{"$f":"'Sum of needed tool time'!B7/'Tools avail'!B8","v":0.10490128394954522},{"$f":"'Sum of needed tool time'!C7/'Tools avail'!C8","v":0.15616653464076649},{"$f":"'Sum of needed tool time'!D7/'Tools avail'!D8","v":0.12035392641250833},null,null,null,null,0.10490128394954522]
["Tool 07",{"$f":"'Sum of needed tool time'!B8/'Tools avail'!B9","v":0.13448165899597245},{"$f":"'Sum of needed tool time'!C8/'Tools avail'!C9","v":0.12539393462468074},{"$f":"'Sum of needed tool time'!D8/'Tools avail'!D9","v":0.12176575629439082},null,null,null,null,0.13448165899597245]
["Tool 08",{"$f":"'Sum of needed tool time'!B9/'Tools avail'!B10","v":0.62842407192514294},{"$f":"'Sum of needed tool time'!C9/'Tools avail'!C10","v":0.69869281591791943},{"$f":"'Sum of needed tool time'!D9/'Tools avail'!D10","v":0.6113095824362258},null,null,null,null,0.62842407192514294]
["Tool 09",{"$f":"'Sum of needed tool time'!B10/'Tools avail'!B11","v":0.9367781396050866},{"$f":"'Sum of needed tool time'!C10/'Tools avail'!C11","v":1.2099414080606095},{"$f":"'Sum of needed tool time'!D10/'Tools avail'!D11","v":0.9945206542870223},null,null,null,null,0.9367781396050866]
["Tool 10",{"$f":"'Sum of needed tool time'!B11/'Tools avail'!B12","v":0.91032422935201796},{"$f":"'Sum of needed tool time'!C11/'Tools avail'!C12","v":1.1684151186703402},{"$f":"'Sum of needed tool time'!D11/'Tools avail'!D12","v":0.96707301101387144},null,null,null,null,0.91032422935201796]
["Tool 11",{"$f":"'Sum of needed tool time'!B12/'Tools avail'!B13","v":1.2641793345613783},{"$f":"'Sum of needed tool time'!C12/'Tools avail'!C13","v":1.6361666514037843},{"$f":"'Sum of needed tool time'!D12/'Tools avail'!D13","v":1.4315177297334951},null,null,null,null,0.92336623677520224]
["Tool 12",{"$f":"'Sum of needed tool time'!B13/'Tools avail'!B14","v":0.16459722912311392},{"$f":"'Sum of needed tool time'!C13/'Tools avail'!C14","v":0.2081175851155197},{"$f":"'Sum of needed tool time'!D13/'Tools avail'!D14","v":0.17279425897004999},null,null,null,null,0.33178905750007931]
["Tool 13",{"$f":"'Sum of needed tool time'!B14/'Tools avail'!B15","v":0.17274047839640178},{"$f":"'Sum of needed tool time'!C14/'Tools avail'!C15","v":0.15681136914020391},{"$f":"'Sum of needed tool time'!D14/'Tools avail'!D15","v":0.15456947428221685},null,null,null,null,0.83901598444584058]
["Tool 14",{"$f":"'Sum of needed tool time'!B15/'Tools avail'!B16","v":0.4816500167329279},{"$f":"'Sum of needed tool time'!C15/'Tools avail'!C16","v":0.63091209897831457},{"$f":"'Sum of needed tool time'!D15/'Tools avail'!D16","v":0.51517346665700681},null,null,null,null,0.4816500167329279]
["Tool 15",{"$f":"'Sum of needed tool time'!B16/'Tools avail'!B17","v":0.63862065027996306},{"$f":"'Sum of needed tool time'!C16/'Tools avail'!C17","v":0.76521927348890451},{"$f":"'Sum of needed tool time'!D16/'Tools avail'!D17","v":0.65204461122290436},null,null,null,null,0.63862065027996306]
["Tool 16",{"$f":"'Sum of needed tool time'!B17/'Tools avail'!B18","v":0.1590624598841428},{"$f":"'Sum of needed tool time'!C17/'Tools avail'!C18","v":0.18599567175634329},{"$f":"'Sum of needed tool time'!D17/'Tools avail'!D18","v":0.16040756950049764},null,null,null,null,0.1590624598841428]
["Tool 17",{"$f":"'Sum of needed tool time'!B18/'Tools avail'!B19","v":0.28093231300764404},{"$f":"'Sum of needed tool time'!C18/'Tools avail'!C19","v":0.38307433622055492},{"$f":"'Sum of needed tool time'!D18/'Tools avail'!D19","v":0.2996127665145516},null,null,null,null,0.43198515389668901]
["Tool 18",{"$f":"'Sum of needed tool time'!B19/'Tools avail'!B20","v":1.6161270363390334},{"$f":"'Sum of needed tool time'!C19/'Tools avail'!C20","v":1.783922062386939},{"$f":"'Sum of needed tool time'!D19/'Tools avail'!D20","v":1.5837000019963356},null,null,null,null,1.260159793753489]
["Tool 19",{"$f":"'Sum of needed tool time'!B20/'Tools avail'!B21","v":0.54653183965616337},{"$f":"'Sum of needed tool time'!C20/'Tools avail'!C21","v":0.61031708059695178},{"$f":"'Sum of needed tool time'!D20/'Tools avail'!D21","v":0.53862425000466996},null,null,null,null,0.54653183965616337]
["Tool 20",{"$f":"'Sum of needed tool time'!B21/'Tools avail'!B22","v":0.37205737634545699},{"$f":"'Sum of needed tool time'!C21/'Tools avail'!C22","v":0.43705797405042679},{"$f":"'Sum of needed tool time'!D21/'Tools avail'!D22","v":0.37605748197988492},null,null,null,null,0.37205737634545699]

{"sheet":"What products need tool change","index":10,"n_rows":31,"n_cols":3,"rows_kept":31,"cut":false,"hidden":false,"merged":[]}
["Product","Main tool","New tool"]
["AB1305109","Tool 04","Tool 17"]
["AB4133650","Tool 04","Tool 17"]
["AB617476","Tool 18","Tool 13"]
["AB6803301","Tool 04","Tool 17"]
["AO4874959","Tool 18","Tool 13"]
["CC3609599","Tool 04","Tool 17"]
["CC4618183","Tool 18","Tool 13"]
["CC4945569","Tool 04","Tool 17"]
["CC5387633","Tool 04","Tool 17"]
["CC5805891","Tool 04","Tool 17"]
["CC6069687","Tool 04","Tool 17"]
["CT0686710","Tool 04","Tool 17"]
["CT2356543","Tool 18","Tool 13"]
["CT2727204","Tool 11","Tool 12"]
["CT2899279","Tool 11","Tool 12"]
["CT2976643","Tool 18","Tool 13"]
["CT4394015","Tool 04","Tool 17"]
["CT4625235","Tool 11","Tool 12"]
["CT5594793","Tool 18","Tool 13"]
["CT5829315","Tool 18","Tool 13"]
["CT588550","Tool 11","Tool 12"]
["DP638679","Tool 18","Tool 13"]
["FR1452826","Tool 18","Tool 13"]
["FR457233","Tool 18","Tool 13"]
["GF67655","Tool 11","Tool 12"]
["MC3543546","Tool 11","Tool 12"]
["MC4244977","Tool 11","Tool 12"]
["ME8164351","Tool 11","Tool 12"]
["NU3927324","Tool 11","Tool 12"]
["UV3281153","Tool 11","Tool 12"]

{"sheet":"Balanced Time Per Product","index":11,"n_rows":1500,"n_cols":8,"rows_kept":1500,"cut":false,"hidden":false,"merged":[]}
[{"$f":"Orders!A2","v":"Product"},"Tool","UPH","Balanced column"]
[{"$f":"Orders!A3","v":"AB0329160"},{"$f":"VLOOKUP(A2,'Product-tool'!A:E,5,0)","v":"Tool 10"},{"$f":"VLOOKUP(A2&B2,'Standard output'!A:D,4,0)","v":1553},{"$f":"INDEX(Orders!A:D,ROW()+1,FindCol(\"orders\",2,TimeBucketName))/$C2","v":7.1152607855763037}]
[{"$f":"Orders!A4","v":"AB0513704"},{"$f":"VLOOKUP(A3,'Product-tool'!A:E,5,0)","v":"Tool 10"},{"$f":"VLOOKUP(A3&B3,'Standard output'!A:D,4,0)","v":1646},{"$f":"INDEX(Orders!A:D,ROW()+1,FindCol(\"orders\",2,TimeBucketName))/$C3","v":6.5552855407047389E-2}]
[{"$f":"Orders!A5","v":"AB0635046"},{"$f":"VLOOKUP(A4,'Product-tool'!A:E,5,0)","v":"Tool 10"},{"$f":"VLOOKUP(A4&B4,'Standard output'!A:D,4,0)","v":1628},{"$f":"INDEX(Orders!A:D,ROW()+1,FindCol(\"orders\",2,TimeBucketName))/$C4","v":2.0162776412776413}]
[{"$f":"Orders!A6","v":"AB0975463"},{"$f":"VLOOKUP(A5,'Product-tool'!A:E,5,0)","v":"Tool 09"},{"$f":"VLOOKUP(A5&B5,'Standard output'!A:D,4,0)","v":491},{"$f":"INDEX(Orders!A:D,ROW()+1,FindCol(\"orders\",2,TimeBucketName))/$C5","v":0.70427698574338082}]
[{"$f":"Orders!A7","v":"AB1018910"},{"$f":"VLOOKUP(A6,'Product-tool'!A:E,5,0)","v":"Tool 10"},{"$f":"VLOOKUP(A6&B6,'Standard output'!A:D,4,0)","v":1608},{"$f":"INDEX(Orders!A:D,ROW()+1,FindCol(\"orders\",2,TimeBucketName))/$C6","v":2.365547263681592}]
[{"$f":"Orders!A8","v":"AB1305109"},{"$f":"VLOOKUP(A7,'Product-tool'!A:E,5,0)","v":"Tool 17"},{"$f":"VLOOKUP(A7&B7,'Standard output'!A:D,4,0)","v":6879},{"$f":"INDEX(Orders!A:D,ROW()+1,FindCol(\"orders\",2,TimeBucketName))/$C7","v":7.7482192179095808E-3}]
[{"$f":"Orders!A9","v":"AB2092362"},{"$f":"VLOOKUP(A8,'Product-tool'!A:E,5,0)","v":"Tool 10"},{"$f":"VLOOKUP(A8&B8,'Standard output'!A:D,4,0)","v":1631},{"$f":"INDEX(Orders!A:D,ROW()+1,FindCol(\"orders\",2,TimeBucketName))/$C8","v":7.0507664009809936}]
[{"$f":"Orders!A10","v":"AB2569538"},{"$f":"VLOOKUP(A9,'Product-tool'!A:E,5,0)","v":"Tool 10"},{"$f":"VLOOKUP(A9&B9,'Standard output'!A:D,4,0)","v":1616},{"$f":"INDEX(Orders!A:D,ROW()+1,FindCol(\"orders\",2,TimeBucketName))/$C9","v":1.8116336633663366}]
[{"$f":"Orders!A11","v":"AB2665756"},{"$f":"VLOOKUP(A10,'Product-tool'!A:E,5,0)","v":"Tool 06"},{"$f":"VLOOKUP(A10&B10,'Standard output'!A:D,4,0)","v":5847},{"$f":"INDEX(Orders!A:D,ROW()+1,FindCol(\"orders\",2,TimeBucketName))/$C10","v":3.6907815974003763E-2}]
[{"$f":"Orders!A12","v":"AB3534415"},{"$f":"VLOOKUP(A11,'Product-tool'!A:E,5,0)","v":"Tool 05"},{"$f":"VLOOKUP(A11&B11,'Standard output'!A:D,4,0)","v":1214},{"$f":"INDEX(Orders!A:D,ROW()+1,FindCol(\"orders\",2,TimeBucketName))/$C11","v":0.26771004942339371}]
[{"$f":"Orders!A13","v":"AB3839653"},{"$f":"VLOOKUP(A12,'Product-tool'!A:E,5,0)","v":"Tool 10"},{"$f":"VLOOKUP(A12&B12,'Standard output'!A:D,4,0)","v":1581},{"$f":"INDEX(Orders!A:D,ROW()+1,FindCol(\"orders\",2,TimeBucketName))/$C12","v":1.9183428209993676}]
[{"$f":"Orders!A14","v":"AB4133650"},{"$f":"VLOOKUP(A13,'Product-tool'!A:E,5,0)","v":"Tool 17"},{"$f":"VLOOKUP(A13&B13,'Standard output'!A:D,4,0)","v":6871},{"$f":"INDEX(Orders!A:D,ROW()+1,FindCol(\"orders\",2,TimeBucketName))/$C13","v":5.0327463251346238E-2}]
[{"$f":"Orders!A15","v":"AB4302436"},{"$f":"VLOOKUP(A14,'Product-tool'!A:E,5,0)","v":"Tool 10"},{"$f":"VLOOKUP(A14&B14,'Standard output'!A:D,4,0)","v":1560},{"$f":"INDEX(Orders!A:D,ROW()+1,FindCol(\"orders\",2,TimeBucketName))/$C14","v":3.0483333333333338}]
[{"$f":"Orders!A16","v":"AB4952945"},{"$f":"VLOOKUP(A15,'Product-tool'!A:E,5,0)","v":"Tool 16"},{"$f":"VLOOKUP(A15&B15,'Standard output'!A:D,4,0)","v":6802},{"$f":"INDEX(Orders!A:D,ROW()+1,FindCol(\"orders\",2,TimeBucketName))/$C15","v":0.12862393413701853}]
[{"$f":"Orders!A17","v":"AB5677022"},{"$f":"VLOOKUP(A16,'Product-tool'!A:E,5,0)","v":"Tool 07"},{"$f":"VLOOKUP(A16&B16,'Standard output'!A:D,4,0)","v":6488},{"$f":"INDEX(Orders!A:D,ROW()+1,FindCol(\"orders\",2,TimeBucketName))/$C16","v":2.7566892725030829}]
[{"$f":"Orders!A18","v":"AB617476"},{"$f":"VLOOKUP(A17,'Product-tool'!A:E,5,0)","v":"Tool 13"},{"$f":"VLOOKUP(A17&B17,'Standard output'!A:D,4,0)","v":2460},{"$f":"INDEX(Orders!A:D,ROW()+1,FindCol(\"orders\",2,TimeBucketName))/$C17","v":8.4552845528455284E-3}]
[{"$f":"Orders!A19","v":"AB6803301"},{"$f":"VLOOKUP(A18,'Product-tool'!A:E,5,0)","v":"Tool 17"},{"$f":"VLOOKUP(A18&B18,'Standard output'!A:D,4,0)","v":6822},{"$f":"INDEX(Orders!A:D,ROW()+1,FindCol(\"orders\",2,TimeBucketName))/$C18","v":4.916446789797714E-2}]
[{"$f":"Orders!A20","v":"AB6883086"},{"$f":"VLOOKUP(A19,'Product-tool'!A:E,5,0)","v":"Tool 09"},{"$f":"VLOOKUP(A19&B19,'Standard output'!A:D,4,0)","v":554},{"$f":"INDEX(Orders!A:D,ROW()+1,FindCol(\"orders\",2,TimeBucketName))/$C19","v":0.17129963898916969}]
[{"$f":"Orders!A21","v":"AF2334989"},{"$f":"VLOOKUP(A20,'Product-tool'!A:E,5,0)","v":"Tool 17"},{"$f":"VLOOKUP(A20&B20,'Standard output'!A:D,4,0)","v":6837},{"$f":"INDEX(Orders!A:D,ROW()+1,FindCol(\"orders\",2,TimeBucketName))/$C20","v":23.007166886061139}]
[{"$f":"Orders!A22","v":"AF2797300"},{"$f":"VLOOKUP(A21,'Product-tool'!A:E,5,0)","v":"Tool 09"},{"$f":"VLOOKUP(A21&B21,'Standard output'!A:D,4,0)","v":538},{"$f":"INDEX(Orders!A:D,ROW()+1,FindCol(\"orders\",2,TimeBucketName))/$C21","v":0.42044609665427513}]
[{"$f":"Orders!A23","v":"AF4224863"},{"$f":"VLOOKUP(A22,'Product-tool'!A:E,5,0)","v":"Tool 09"},{"$f":"VLOOKUP(A22&B22,'Standard output'!A:D,4,0)","v":579},{"$f":"INDEX(Orders!A:D,ROW()+1,FindCol(\"orders\",2,TimeBucketName))/$C22","v":6.3271157167530223}]
[{"$f":"Orders!A24","v":"AF4955974"},{"$f":"VLOOKUP(A23,'Product-tool'!A:E,5,0)","v":"Tool 09"},{"$f":"VLOOKUP(A23&B23,'Standard output'!A:D,4,0)","v":505},{"$f":"INDEX(Orders!A:D,ROW()+1,FindCol(\"orders\",2,TimeBucketName))/$C23","v":14.374653465346535}]
[{"$f":"Orders!A25","v":"AF5847200"},{"$f":"VLOOKUP(A24,'Product-tool'!A:E,5,0)","v":"Tool 15"},{"$f":"VLOOKUP(A24&B24,'Standard output'!A:D,4,0)","v":4457},{"$f":"INDEX(Orders!A:D,ROW()+1,FindCol(\"orders\",2,TimeBucketName))/$C24","v":8.9836212699124979E-2}]
[{"$f":"Orders!A26","v":"AL1492544"},{"$f":"VLOOKUP(A25,'Product-tool'!A:E,5,0)","v":"Tool 06"},{"$f":"VLOOKUP(A25&B25,'Standard output'!A:D,4,0)","v":5884},{"$f":"INDEX(Orders!A:D,ROW()+1,FindCol(\"orders\",2,TimeBucketName))/$C25","v":4.9448164513936099}]
[{"$f":"Orders!A27","v":"AL2661736"},{"$f":"VLOOKUP(A26,'Product-tool'!A:E,5,0)","v":"Tool 15"},{"$f":"VLOOKUP(A26&B26,'Standard output'!A:D,4,0)","v":4446},{"$f":"INDEX(Orders!A:D,ROW()+1,FindCol(\"orders\",2,TimeBucketName))/$C26","v":8.4502923976608191E-2}]
[{"$f":"Orders!A28","v":"AO0324556"},{"$f":"VLOOKUP(A27,'Product-tool'!A:E,5,0)","v":"Tool 16"},{"$f":"VLOOKUP(A27&B27,'Standard output'!A:D,4,0)","v":6866},{"$f":"INDEX(Orders!A:D,ROW()+1,FindCol(\"orders\",2,TimeBucketName))/$C27","v":8.3309059131954563E-3}]
[{"$f":"Orders!A29","v":"AO0414069"},{"$f":"VLOOKUP(A28,'Product-tool'!A:E,5,0)","v":"Tool 02"},{"$f":"VLOOKUP(A28&B28,'Standard output'!A:D,4,0)","v":2673},{"$f":"INDEX(Orders!A:D,ROW()+1,FindCol(\"orders\",2,TimeBucketName))/$C28","v":0.11331836887392444}]
[{"$f":"Orders!A30","v":"AO2105290"},{"$f":"VLOOKUP(A29,'Product-tool'!A:E,5,0)","v":"Tool 15"},{"$f":"VLOOKUP(A29&B29,'Standard output'!A:D,4,0)","v":4418},{"$f":"INDEX(Orders!A:D,ROW()+1,FindCol(\"orders\",2,TimeBucketName))/$C29","v":0.84391127206880945}]
[{"$f":"Orders!A31","v":"AO4874959"},{"$f":"VLOOKUP(A30,'Product-tool'!A:E,5,0)","v":"Tool 13"},{"$f":"VLOOKUP(A30&B30,'Standard output'!A:D,4,0)","v":2405},{"$f":"INDEX(Orders!A:D,ROW()+1,FindCol(\"orders\",2,TimeBucketName))/$C30","v":1.1735135135135135}]
[{"$f":"Orders!A32","v":"AO5342652"},{"$f":"VLOOKUP(A31,'Product-tool'!A:E,5,0)","v":"Tool 07"},{"$f":"VLOOKUP(A31&B31,'Standard output'!A:D,4,0)","v":6408},{"$f":"INDEX(Orders!A:D,ROW()+1,FindCol(\"orders\",2,TimeBucketName))/$C31","v":0.17974406991260924}]
[{"$f":"Orders!A33","v":"AO5834357"},{"$f":"VLOOKUP(A32,'Product-tool'!A:E,5,0)","v":"Tool 15"},{"$f":"VLOOKUP(A32&B32,'Standard output'!A:D,4,0)","v":4429},{"$f":"INDEX(Orders!A:D,ROW()+1,FindCol(\"orders\",2,TimeBucketName))/$C32","v":0.82860690900880563}]
[{"$f":"Orders!A34","v":"AO8517171"},{"$f":"VLOOKUP(A33,'Product-tool'!A:E,5,0)","v":"Tool 14"},{"$f":"VLOOKUP(A33&B33,'Standard output'!A:D,4,0)","v":2377},{"$f":"INDEX(Orders!A:D,ROW()+1,FindCol(\"orders\",2,TimeBucketName))/$C33","v":8.7505258729490953E-3}]
[{"$f":"Orders!A35","v":"AO855133"},{"$f":"VLOOKUP(A34,'Product-tool'!A:E,5,0)","v":"Tool 07"},{"$f":"VLOOKUP(A34&B34,'Standard output'!A:D,4,0)","v":6471},{"$f":"INDEX(Orders!A:D,ROW()+1,FindCol(\"orders\",2,TimeBucketName))/$C34","v":0.20672229949003246}]
[{"$f":"Orders!A36","v":"AP0171319"},{"$f":"VLOOKUP(A35,'Product-tool'!A:E,5,0)","v":"Tool 07"},{"$f":"VLOOKUP(A35&B35,'Standard output'!A:D,4,0)","v":6492},{"$f":"INDEX(Orders!A:D,ROW()+1,FindCol(\"orders\",2,TimeBucketName))/$C35","v":0.20485212569316083}]
[{"$f":"Orders!A37","v":"AP0202155"},{"$f":"VLOOKUP(A36,'Product-tool'!A:E,5,0)","v":"Tool 15"},{"$f":"VLOOKUP(A36&B36,'Standard output'!A:D,4,0)","v":4426},{"$f":"INDEX(Orders!A:D,ROW()+1,FindCol(\"orders\",2,TimeBucketName))/$C36","v":1.6213285133303208}]
[{"$f":"Orders!A38","v":"AP086256"},{"$f":"VLOOKUP(A37,'Product-tool'!A:E,5,0)","v":"Tool 07"},{"$f":"VLOOKUP(A37&B37,'Standard output'!A:D,4,0)","v":6448},{"$f":"INDEX(Orders!A:D,ROW()+1,FindCol(\"orders\",2,TimeBucketName))/$C37","v":1.6129032258064516E-3}]
[{"$f":"Orders!A39","v":"AP242884"},{"$f":"VLOOKUP(A38,'Product-tool'!A:E,5,0)","v":"Tool 16"},{"$f":"VLOOKUP(A38&B38,'Standard output'!A:D,4,0)","v":6871},{"$f":"INDEX(Orders!A:D,ROW()+1,FindCol(\"orders\",2,TimeBucketName))/$C38","v":1.0050356571095911}]
[{"$f":"Orders!A40","v":"AP3078837"},{"$f":"VLOOKUP(A39,'Product-tool'!A:E,5,0)","v":"Tool 07"},{"$f":"VLOOKUP(A39&B39,'Standard output'!A:D,4,0)","v":6438},{"$f":"INDEX(Orders!A:D,ROW()+1,FindCol(\"orders\",2,TimeBucketName))/$C39","v":0.13266542404473439}]
[{"$f":"Orders!A41","v":"AP352983"},{"$f":"VLOOKUP(A40,'Product-tool'!A:E,5,0)","v":"Tool 17"},{"$f":"VLOOKUP(A40&B40,'Standard output'!A:D,4,0)","v":6884},{"$f":"INDEX(Orders!A:D,ROW()+1,FindCol(\"orders\",2,TimeBucketName))/$C40","v":1.1534572922719351}]
[{"$f":"Orders!A42","v":"AP3728500"},{"$f":"VLOOKUP(A41,'Product-tool'!A:E,5,0)","v":"Tool 02"},{"$f":"VLOOKUP(A41&B41,'Standard output'!A:D,4,0)","v":2647},{"$f":"INDEX(Orders!A:D,ROW()+1,FindCol(\"orders\",2,TimeBucketName))/$C41","v":0.90710238005289001}]
[{"$f":"Orders!A43","v":"AP3951566"},{"$f":"VLOOKUP(A42,'Product-tool'!A:E,5,0)","v":"Tool 02"},{"$f":"VLOOKUP(A42&B42,'Standard output'!A:D,4,0)","v":2668},{"$f":"INDEX(Orders!A:D,ROW()+1,FindCol(\"orders\",2,TimeBucketName))/$C42","v":0.48725637181409298}]
[{"$f":"Orders!A44","v":"AP4223947"},{"$f":"VLOOKUP(A43,'Product-tool'!A:E,5,0)","v":"Tool 02"},{"$f":"VLOOKUP(A43&B43,'Standard output'!A:D,4,0)","v":2623},{"$f":"INDEX(Orders!A:D,ROW()+1,FindCol(\"orders\",2,TimeBucketName))/$C43","v":0.71765154403354936}]
[{"$f":"Orders!A45","v":"AP4745289"},{"$f":"VLOOKUP(A44,'Product-tool'!A:E,5,0)","v":"Tool 02"},{"$f":"VLOOKUP(A44&B44,'Standard output'!A:D,4,0)","v":2609},{"$f":"INDEX(Orders!A:D,ROW()+1,FindCol(\"orders\",2,TimeBucketName))/$C44","v":3.2886163280950557E-2}]
[{"$f":"Orders!A46","v":"AP4972828"},{"$f":"VLOOKUP(A45,'Product-tool'!A:E,5,0)","v":"Tool 07"},{"$f":"VLOOKUP(A45&B45,'Standard output'!A:D,4,0)","v":6498},{"$f":"INDEX(Orders!A:D,ROW()+1,FindCol(\"orders\",2,TimeBucketName))/$C45","v":1.600492459218221E-3}]
[{"$f":"Orders!A47","v":"AP5614262"},{"$f":"VLOOKUP(A46,'Product-tool'!A:E,5,0)","v":"Tool 07"},{"$f":"VLOOKUP(A46&B46,'Standard output'!A:D,4,0)","v":6484},{"$f":"INDEX(Orders!A:D,ROW()+1,FindCol(\"orders\",2,TimeBucketName))/$C46","v":9.824182603331278E-3}]
[{"$f":"Orders!A48","v":"AP5647883"},{"$f":"VLOOKUP(A47,'Product-tool'!A:E,5,0)","v":"Tool 15"},{"$f":"VLOOKUP(A47&B47,'Standard output'!A:D,4,0)","v":4419},{"$f":"INDEX(Orders!A:D,ROW()+1,FindCol(\"orders\",2,TimeBucketName))/$C47","v":1.5256392849060874}]
[{"$f":"Orders!A49","v":"AP5897782"},{"$f":"VLOOKUP(A48,'Product-tool'!A:E,5,0)","v":"Tool 07"},{"$f":"VLOOKUP(A48&B48,'Standard output'!A:D,4,0)","v":6452},{"$f":"INDEX(Orders!A:D,ROW()+1,FindCol(\"orders\",2,TimeBucketName))/$C48","v":3.3648481091134531E-2}]
[{"$f":"Orders!A50","v":"AP853615"},{"$f":"VLOOKUP(A49,'Product-tool'!A:E,5,0)","v":"Tool 13"},{"$f":"VLOOKUP(A49&B49,'Standard output'!A:D,4,0)","v":2423},{"$f":"INDEX(Orders!A:D,ROW()+1,FindCol(\"orders\",2,TimeBucketName))/$C49","v":0.26879900949236485}]
[{"$f":"Orders!A51","v":"AS0105077"},{"$f":"VLOOKUP(A50,'Product-tool'!A:E,5,0)","v":"Tool 12"},{"$f":"VLOOKUP(A50&B50,'Standard output'!A:D,4,0)","v":4006},{"$f":"INDEX(Orders!A:D,ROW()+1,FindCol(\"orders\",2,TimeBucketName))/$C50","v":0.67271592611083375}]
[{"$f":"Orders!A52","v":"AS0125536"},{"$f":"VLOOKUP(A51,'Product-tool'!A:E,5,0)","v":"Tool 05"},{"$f":"VLOOKUP(A51&B51,'Standard output'!A:D,4,0)","v":1237},{"$f":"INDEX(Orders!A:D,ROW()+1,FindCol(\"orders\",2,TimeBucketName))/$C51","v":62.838237671786587}]
[{"$f":"Orders!A53","v":"AS0888075"},{"$f":"VLOOKUP(A52,'Product-tool'!A:E,5,0)","v":"Tool 13"},{"$f":"VLOOKUP(A52&B52,'Standard output'!A:D,4,0)","v":2458},{"$f":"INDEX(Orders!A:D,ROW()+1,FindCol(\"orders\",2,TimeBucketName))/$C52","v":2.1366965012205044}]
[{"$f":"Orders!A54","v":"AS1143091"},{"$f":"VLOOKUP(A53,'Product-tool'!A:E,5,0)","v":"Tool 05"},{"$f":"VLOOKUP(A53&B53,'Standard output'!A:D,4,0)","v":1269},{"$f":"INDEX(Orders!A:D,ROW()+1,FindCol(\"orders\",2,TimeBucketName))/$C53","v":7.8368794326241131}]
[{"$f":"Orders!A55","v":"AS5378181"},{"$f":"VLOOKUP(A54,'Product-tool'!A:E,5,0)","v":"Tool 13"},{"$f":"VLOOKUP(A54&B54,'Standard output'!A:D,4,0)","v":2493},{"$f":"INDEX(Orders!A:D,ROW()+1,FindCol(\"orders\",2,TimeBucketName))/$C54","v":0.23204973926995587}]
[{"$f":"Orders!A56","v":"AS6815735"},{"$f":"VLOOKUP(A55,'Product-tool'!A:E,5,0)","v":"Tool 06"},{"$f":"VLOOKUP(A55&B55,'Standard output'!A:D,4,0)","v":5827},{"$f":"INDEX(Orders!A:D,ROW()+1,FindCol(\"orders\",2,TimeBucketName))/$C55","v":2.5850523425433329}]
[{"$f":"Orders!A57","v":"BC1086722"},{"$f":"VLOOKUP(A56,'Product-tool'!A:E,5,0)","v":"Tool 06"},{"$f":"VLOOKUP(A56&B56,'Standard output'!A:D,4,0)","v":5805},{"$f":"INDEX(Orders!A:D,ROW()+1,FindCol(\"orders\",2,TimeBucketName))/$C56","v":0.18654608096468564}]
[{"$f":"Orders!A58","v":"BC1381899"},{"$f":"VLOOKUP(A57,'Product-tool'!A:E,5,0)","v":"Tool 06"},{"$f":"VLOOKUP(A57&B57,'Standard output'!A:D,4,0)","v":5808},{"$f":"INDEX(Orders!A:D,ROW()+1,FindCol(\"orders\",2,TimeBucketName))/$C57","v":0.18644972451790634}]
[{"$f":"Orders!A59","v":"BC1638233"},{"$f":"VLOOKUP(A58,'Product-tool'!A:E,5,0)","v":"Tool 06"},{"$f":"VLOOKUP(A58&B58,'Standard output'!A:D,4,0)","v":5837},{"$f":"INDEX(Orders!A:D,ROW()+1,FindCol(\"orders\",2,TimeBucketName))/$C58","v":7.817371937639199E-2}]
[{"$f":"Orders!A60","v":"BC2465775"},{"$f":"VLOOKUP(A59,'Product-tool'!A:E,5,0)","v":"Tool 06"},{"$f":"VLOOKUP(A59&B59,'Standard output'!A:D,4,0)","v":5873},{"$f":"INDEX(Orders!A:D,ROW()+1,FindCol(\"orders\",2,TimeBucketName))/$C59","v":0.5035756853396901}]
[{"$f":"Orders!A61","v":"BC2509115"},{"$f":"VLOOKUP(A60,'Product-tool'!A:E,5,0)","v":"Tool 06"},{"$f":"VLOOKUP(A60&B60,'Standard output'!A:D,4,0)","v":5828},{"$f":"INDEX(Orders!A:D,ROW()+1,FindCol(\"orders\",2,TimeBucketName))/$C60","v":1.4846945778997942}]
[{"$f":"Orders!A62","v":"BC2965316"},{"$f":"VLOOKUP(A61,'Product-tool'!A:E,5,0)","v":"Tool 06"},{"$f":"VLOOKUP(A61&B61,'Standard output'!A:D,4,0)","v":5864},{"$f":"INDEX(Orders!A:D,ROW()+1,FindCol(\"orders\",2,TimeBucketName))/$C61","v":7.3823328785811743E-2}]
[{"$f":"Orders!A63","v":"BC3857293"},{"$f":"VLOOKUP(A62,'Product-tool'!A:E,5,0)","v":"Tool 15"},{"$f":"VLOOKUP(A62&B62,'Standard output'!A:D,4,0)","v":4476},{"$f":"INDEX(Orders!A:D,ROW()+1,FindCol(\"orders\",2,TimeBucketName))/$C62","v":8.1903485254691696E-2}]
[{"$f":"Orders!A64","v":"BC5752252"},{"$f":"VLOOKUP(A63,'Product-tool'!A:E,5,0)","v":"Tool 06"},{"$f":"VLOOKUP(A63&B63,'Standard output'!A:D,4,0)","v":5843},{"$f":"INDEX(Orders!A:D,ROW()+1,FindCol(\"orders\",2,TimeBucketName))/$C63","v":8.8995379086085919E-3}]
[{"$f":"Orders!A65","v":"BC6306450"},{"$f":"VLOOKUP(A64,'Product-tool'!A:E,5,0)","v":"Tool 05"},{"$f":"VLOOKUP(A64&B64,'Standard output'!A:D,4,0)","v":1249},{"$f":"INDEX(Orders!A:D,ROW()+1,FindCol(\"orders\",2,TimeBucketName))/$C64","v":3.8333867093674945}]
[{"$f":"Orders!A66","v":"CC0084549"},{"$f":"VLOOKUP(A65,'Product-tool'!A:E,5,0)","v":"Tool 12"},{"$f":"VLOOKUP(A65&B65,'Standard output'!A:D,4,0)","v":4031},{"$f":"INDEX(Orders!A:D,ROW()+1,FindCol(\"orders\",2,TimeBucketName))/$C65","v":2.3629620441577774}]
[{"$f":"Orders!A67","v":"CC0189122"},{"$f":"VLOOKUP(A66,'Product-tool'!A:E,5,0)","v":"Tool 20"},{"$f":"VLOOKUP(A66&B66,'Standard output'!A:D,4,0)","v":7862.6422349005379},{"$f":"INDEX(Orders!A:D,ROW()+1,FindCol(\"orders\",2,TimeBucketName))/$C66","v":0.5952197569446197}]
[{"$f":"Orders!A68","v":"CC0921636"},{"$f":"VLOOKUP(A67,'Product-tool'!A:E,5,0)","v":"Tool 20"},{"$f":"VLOOKUP(A67&B67,'Standard output'!A:D,4,0)","v":7933.6422349005379},{"$f":"INDEX(Orders!A:D,ROW()+1,FindCol(\"orders\",2,TimeBucketName))/$C67","v":3.7448373798988768}]
[{"$f":"Orders!A69","v":"CC092903"},{"$f":"VLOOKUP(A68,'Product-tool'!A:E,5,0)","v":"Tool 20"},{"$f":"VLOOKUP(A68&B68,'Standard output'!A:D,4,0)","v":7930.6422349005379},{"$f":"INDEX(Orders!A:D,ROW()+1,FindCol(\"orders\",2,TimeBucketName))/$C68","v":1.3113692046569079E-3}]
[{"$f":"Orders!A70","v":"CC2454697"},{"$f":"VLOOKUP(A69,'Product-tool'!A:E,5,0)","v":"Tool 20"},{"$f":"VLOOKUP(A69&B69,'Standard output'!A:D,4,0)","v":7849.6422349005379},{"$f":"INDEX(Orders!A:D,ROW()+1,FindCol(\"orders\",2,TimeBucketName))/$C69","v":0.73995729055970128}]
[{"$f":"Orders!A71","v":"CC2566445"},{"$f":"VLOOKUP(A70,'Product-tool'!A:E,5,0)","v":"Tool 15"},{"$f":"VLOOKUP(A70&B70,'Standard output'!A:D,4,0)","v":4481},{"$f":"INDEX(Orders!A:D,ROW()+1,FindCol(\"orders\",2,TimeBucketName))/$C70","v":3.7691586699397459}]
[{"$f":"Orders!A72","v":"CC2575"},{"$f":"VLOOKUP(A71,'Product-tool'!A:E,5,0)","v":"Tool 19"},{"$f":"VLOOKUP(A71&B71,'Standard output'!A:D,4,0)","v":10239},{"$f":"INDEX(Orders!A:D,ROW()+1,FindCol(\"orders\",2,TimeBucketName))/$C71","v":6.1185955659732398}]
[{"$f":"Orders!A73","v":"CC2936183"},{"$f":"VLOOKUP(A72,'Product-tool'!A:E,5,0)","v":"Tool 20"},{"$f":"VLOOKUP(A72&B72,'Standard output'!A:D,4,0)","v":7918.6422349005379},{"$f":"INDEX(Orders!A:D,ROW()+1,FindCol(\"orders\",2,TimeBucketName))/$C72","v":0.49250867564279927}]
[{"$f":"Orders!A74","v":"CC2965217"},{"$f":"VLOOKUP(A73,'Product-tool'!A:E,5,0)","v":"Tool 20"},{"$f":"VLOOKUP(A73&B73,'Standard output'!A:D,4,0)","v":7927.6422349005379},{"$f":"INDEX(Orders!A:D,ROW()+1,FindCol(\"orders\",2,TimeBucketName))/$C73","v":3.6953610079715649}]
[{"$f":"Orders!A75","v":"CC3609599"},{"$f":"VLOOKUP(A74,'Product-tool'!A:E,5,0)","v":"Tool 17"},{"$f":"VLOOKUP(A74&B74,'Standard output'!A:D,4,0)","v":6859},{"$f":"INDEX(Orders!A:D,ROW()+1,FindCol(\"orders\",2,TimeBucketName))/$C74","v":2.7520046654031201}]
[{"$f":"Orders!A76","v":"CC3979402"},{"$f":"VLOOKUP(A75,'Product-tool'!A:E,5,0)","v":"Tool 13"},{"$f":"VLOOKUP(A75&B75,'Standard output'!A:D,4,0)","v":2458},{"$f":"INDEX(Orders!A:D,ROW()+1,FindCol(\"orders\",2,TimeBucketName))/$C75","v":1.5887713588283159}]
[{"$f":"Orders!A77","v":"CC4329116"},{"$f":"VLOOKUP(A76,'Product-tool'!A:E,5,0)","v":"Tool 19"},{"$f":"VLOOKUP(A76&B76,'Standard output'!A:D,4,0)","v":10217},{"$f":"INDEX(Orders!A:D,ROW()+1,FindCol(\"orders\",2,TimeBucketName))/$C76","v":11.453538220612705}]
[{"$f":"Orders!A78","v":"CC4618183"},{"$f":"VLOOKUP(A77,'Product-tool'!A:E,5,0)","v":"Tool 13"},{"$f":"VLOOKUP(A77&B77,'Standard output'!A:D,4,0)","v":2401},{"$f":"INDEX(Orders!A:D,ROW()+1,FindCol(\"orders\",2,TimeBucketName))/$C77","v":52.997334443981678}]
[{"$f":"Orders!A79","v":"CC4774419"},{"$f":"VLOOKUP(A78,'Product-tool'!A:E,5,0)","v":"Tool 12"},{"$f":"VLOOKUP(A78&B78,'Standard output'!A:D,4,0)","v":4021},{"$f":"INDEX(Orders!A:D,ROW()+1,FindCol(\"orders\",2,TimeBucketName))/$C78","v":0.33688137279283764}]
[{"$f":"Orders!A80","v":"CC4941594"},{"$f":"VLOOKUP(A79,'Product-tool'!A:E,5,0)","v":"Tool 13"},{"$f":"VLOOKUP(A79&B79,'Standard output'!A:D,4,0)","v":2438},{"$f":"INDEX(Orders!A:D,ROW()+1,FindCol(\"orders\",2,TimeBucketName))/$C79","v":0.71078753076292045}]
[{"$f":"Orders!A81","v":"CC4945569"},{"$f":"VLOOKUP(A80,'Product-tool'!A:E,5,0)","v":"Tool 17"},{"$f":"VLOOKUP(A80&B80,'Standard output'!A:D,4,0)","v":6888},{"$f":"INDEX(Orders!A:D,ROW()+1,FindCol(\"orders\",2,TimeBucketName))/$C80","v":7.2332317073170733}]
[{"$f":"Orders!A82","v":"CC5387633"},{"$f":"VLOOKUP(A81,'Product-tool'!A:E,5,0)","v":"Tool 17"},{"$f":"VLOOKUP(A81&B81,'Standard output'!A:D,4,0)","v":6863},{"$f":"INDEX(Orders!A:D,ROW()+1,FindCol(\"orders\",2,TimeBucketName))/$C81","v":2.2429404050706689}]
[{"$f":"Orders!A83","v":"CC5505924"},{"$f":"VLOOKUP(A82,'Product-tool'!A:E,5,0)","v":"Tool 19"},{"$f":"VLOOKUP(A82&B82,'Standard output'!A:D,4,0)","v":10196},{"$f":"INDEX(Orders!A:D,ROW()+1,FindCol(\"orders\",2,TimeBucketName))/$C82","v":7.3950568850529629E-3}]
[{"$f":"Orders!A84","v":"CC5603244"},{"$f":"VLOOKUP(A83,'Product-tool'!A:E,5,0)","v":"Tool 12"},{"$f":"VLOOKUP(A83&B83,'Standard output'!A:D,4,0)","v":4024},{"$f":"INDEX(Orders!A:D,ROW()+1,FindCol(\"orders\",2,TimeBucketName))/$C83","v":0.58151093439363821}]
[{"$f":"Orders!A85","v":"CC5605066"},{"$f":"VLOOKUP(A84,'Product-tool'!A:E,5,0)","v":"Tool 08"},{"$f":"VLOOKUP(A84&B84,'Standard output'!A:D,4,0)","v":3943},{"$f":"INDEX(Orders!A:D,ROW()+1,FindCol(\"orders\",2,TimeBucketName))/$C84","v":13.864468678671063}]
[{"$f":"Orders!A86","v":"CC5646794"},{"$f":"VLOOKUP(A85,'Product-tool'!A:E,5,0)","v":"Tool 20"},{"$f":"VLOOKUP(A85&B85,'Standard output'!A:D,4,0)","v":7897.6422349005379},{"$f":"INDEX(Orders!A:D,ROW()+1,FindCol(\"orders\",2,TimeBucketName))/$C85","v":0.27423374414570151}]
[{"$f":"Orders!A87","v":"CC5671451"},{"$f":"VLOOKUP(A86,'Product-tool'!A:E,5,0)","v":"Tool 19"},{"$f":"VLOOKUP(A86&B86,'Standard output'!A:D,4,0)","v":10198},{"$f":"INDEX(Orders!A:D,ROW()+1,FindCol(\"orders\",2,TimeBucketName))/$C86","v":0.27088644832320063}]
[{"$f":"Orders!A88","v":"CC5798817"},{"$f":"VLOOKUP(A87,'Product-tool'!A:E,5,0)","v":"Tool 20"},{"$f":"VLOOKUP(A87&B87,'Standard output'!A:D,4,0)","v":7915.6422349005379},{"$f":"INDEX(Orders!A:D,ROW()+1,FindCol(\"orders\",2,TimeBucketName))/$C87","v":1.0893493849407594}]
[{"$f":"Orders!A89","v":"CC5805891"},{"$f":"VLOOKUP(A88,'Product-tool'!A:E,5,0)","v":"Tool 17"},{"$f":"VLOOKUP(A88&B88,'Standard output'!A:D,4,0)","v":6844},{"$f":"INDEX(Orders!A:D,ROW()+1,FindCol(\"orders\",2,TimeBucketName))/$C88","v":0.44314728229105788}]
[{"$f":"Orders!A90","v":"CC5803851"},{"$f":"VLOOKUP(A89,'Product-tool'!A:E,5,0)","v":"Tool 20"},{"$f":"VLOOKUP(A89&B89,'Standard output'!A:D,4,0)","v":7859.6422349005379},{"$f":"INDEX(Orders!A:D,ROW()+1,FindCol(\"orders\",2,TimeBucketName))/$C89","v":1.8663953856400484}]
[{"$f":"Orders!A91","v":"CC5835642"},{"$f":"VLOOKUP(A90,'Product-tool'!A:E,5,0)","v":"Tool 12"},{"$f":"VLOOKUP(A90&B90,'Standard output'!A:D,4,0)","v":4039},{"$f":"INDEX(Orders!A:D,ROW()+1,FindCol(\"orders\",2,TimeBucketName))/$C90","v":2.5748947759346372E-3}]
[{"$f":"Orders!A92","v":"CC5844379"},{"$f":"VLOOKUP(A91,'Product-tool'!A:E,5,0)","v":"Tool 13"},{"$f":"VLOOKUP(A91&B91,'Standard output'!A:D,4,0)","v":2483},{"$f":"INDEX(Orders!A:D,ROW()+1,FindCol(\"orders\",2,TimeBucketName))/$C91","v":4.4612565445026187}]
[{"$f":"Orders!A93","v":"CC5859307"},{"$f":"VLOOKUP(A92,'Product-tool'!A:E,5,0)","v":"Tool 15"},{"$f":"VLOOKUP(A92&B92,'Standard output'!A:D,4,0)","v":4481},{"$f":"INDEX(Orders!A:D,ROW()+1,FindCol(\"orders\",2,TimeBucketName))/$C92","v":0.13519303726846688}]
[{"$f":"Orders!A94","v":"CC5877145"},{"$f":"VLOOKUP(A93,'Product-tool'!A:E,5,0)","v":"Tool 12"},{"$f":"VLOOKUP(A93&B93,'Standard output'!A:D,4,0)","v":4037},{"$f":"INDEX(Orders!A:D,ROW()+1,FindCol(\"orders\",2,TimeBucketName))/$C93","v":0.41508545949962844}]
[{"$f":"Orders!A95","v":"CC5872620"},{"$f":"VLOOKUP(A94,'Product-tool'!A:E,5,0)","v":"Tool 19"},{"$f":"VLOOKUP(A94&B94,'Standard output'!A:D,4,0)","v":10241},{"$f":"INDEX(Orders!A:D,ROW()+1,FindCol(\"orders\",2,TimeBucketName))/$C94","v":9.2923152035934002}]
[{"$f":"Orders!A96","v":"CC5949597"},{"$f":"VLOOKUP(A95,'Product-tool'!A:E,5,0)","v":"Tool 15"},{"$f":"VLOOKUP(A95&B95,'Standard output'!A:D,4,0)","v":4434},{"$f":"INDEX(Orders!A:D,ROW()+1,FindCol(\"orders\",2,TimeBucketName))/$C95","v":2.6715381145692376}]
[{"$f":"Orders!A97","v":"CC5951749"},{"$f":"VLOOKUP(A96,'Product-tool'!A:E,5,0)","v":"Tool 19"},{"$f":"VLOOKUP(A96&B96,'Standard output'!A:D,4,0)","v":10212},{"$f":"INDEX(Orders!A:D,ROW()+1,FindCol(\"orders\",2,TimeBucketName))/$C96","v":1.2602820211515865E-2}]
[{"$f":"Orders!A98","v":"CC6069687"},{"$f":"VLOOKUP(A97,'Product-tool'!A:E,5,0)","v":"Tool 17"},{"$f":"VLOOKUP(A97&B97,'Standard output'!A:D,4,0)","v":6837},{"$f":"INDEX(Orders!A:D,ROW()+1,FindCol(\"orders\",2,TimeBucketName))/$C97","v":2.528886938715811E-2}]
[{"$f":"Orders!A99","v":"CC6146771"},{"$f":"VLOOKUP(A98,'Product-tool'!A:E,5,0)","v":"Tool 19"},{"$f":"VLOOKUP(A98&B98,'Standard output'!A:D,4,0)","v":10189},{"$f":"INDEX(Orders!A:D,ROW()+1,FindCol(\"orders\",2,TimeBucketName))/$C98","v":0.2822259299244283}]
[{"$f":"Orders!A100","v":"CC642531"},{"$f":"VLOOKUP(A99,'Product-tool'!A:E,5,0)","v":"Tool 19"},{"$f":"VLOOKUP(A99&B99,'Standard output'!A:D,4,0)","v":10186},{"$f":"INDEX(Orders!A:D,ROW()+1,FindCol(\"orders\",2,TimeBucketName))/$C99","v":0.13604947967798939}]
[{"$f":"Orders!A101","v":"CC6514546"},{"$f":"VLOOKUP(A100,'Product-tool'!A:E,5,0)","v":"Tool 15"},{"$f":"VLOOKUP(A100&B100,'Standard output'!A:D,4,0)","v":4404},{"$f":"INDEX(Orders!A:D,ROW()+1,FindCol(\"orders\",2,TimeBucketName))/$C100","v":2.4500454132606722E-2}]
[{"$f":"Orders!A102","v":"CL1528731"},{"$f":"VLOOKUP(A101,'Product-tool'!A:E,5,0)","v":"Tool 15"},{"$f":"VLOOKUP(A101&B101,'Standard output'!A:D,4,0)","v":4477},{"$f":"INDEX(Orders!A:D,ROW()+1,FindCol(\"orders\",2,TimeBucketName))/$C101","v":1.1995309358945723}]
[{"$f":"Orders!A103","v":"CL4179003"},{"$f":"VLOOKUP(A102,'Product-tool'!A:E,5,0)","v":"Tool 08"},{"$f":"VLOOKUP(A102&B102,'Standard output'!A:D,4,0)","v":4001},{"$f":"INDEX(Orders!A:D,ROW()+1,FindCol(\"orders\",2,TimeBucketName))/$C102","v":5.2201449637590605}]
[{"$f":"Orders!A104","v":"CM2146129"},{"$f":"VLOOKUP(A103,'Product-tool'!A:E,5,0)","v":"Tool 08"},{"$f":"VLOOKUP(A103&B103,'Standard output'!A:D,4,0)","v":3935},{"$f":"INDEX(Orders!A:D,ROW()+1,FindCol(\"orders\",2,TimeBucketName))/$C103","v":0.42221092757306228}]
[{"$f":"Orders!A105","v":"CM2144500"},{"$f":"VLOOKUP(A104,'Product-tool'!A:E,5,0)","v":"Tool 08"},{"$f":"VLOOKUP(A104&B104,'Standard output'!A:D,4,0)","v":3949},{"$f":"INDEX(Orders!A:D,ROW()+1,FindCol(\"orders\",2,TimeBucketName))/$C104","v":1.7556090149404915}]
[{"$f":"Orders!A106","v":"CM2364748"},{"$f":"VLOOKUP(A105,'Product-tool'!A:E,5,0)","v":"Tool 04"},{"$f":"VLOOKUP(A105&B105,'Standard output'!A:D,4,0)","v":2234},{"$f":"INDEX(Orders!A:D,ROW()+1,FindCol(\"orders\",2,TimeBucketName))/$C105","v":0.63836168307967778}]
[{"$f":"Orders!A107","v":"CM2573429"},{"$f":"VLOOKUP(A106,'Product-tool'!A:E,5,0)","v":"Tool 08"},{"$f":"VLOOKUP(A106&B106,'Standard output'!A:D,4,0)","v":3930},{"$f":"INDEX(Orders!A:D,ROW()+1,FindCol(\"orders\",2,TimeBucketName))/$C106","v":7.9419083969465651}]
[{"$f":"Orders!A108","v":"CM267912"},{"$f":"VLOOKUP(A107,'Product-tool'!A:E,5,0)","v":"Tool 08"},{"$f":"VLOOKUP(A107&B107,'Standard output'!A:D,4,0)","v":3932},{"$f":"INDEX(Orders!A:D,ROW()+1,FindCol(\"orders\",2,TimeBucketName))/$C107","v":2.9425228891149544E-2}]
[{"$f":"Orders!A109","v":"CM2981742"},{"$f":"VLOOKUP(A108,'Product-tool'!A:E,5,0)","v":"Tool 10"},{"$f":"VLOOKUP(A108&B108,'Standard output'!A:D,4,0)","v":1619},{"$f":"INDEX(Orders!A:D,ROW()+1,FindCol(\"orders\",2,TimeBucketName))/$C108","v":9.6355775169857938E-3}]
[{"$f":"Orders!A110","v":"CM350886"},{"$f":"VLOOKUP(A109,'Product-tool'!A:E,5,0)","v":"Tool 08"},{"$f":"VLOOKUP(A109&B109,'Standard output'!A:D,4,0)","v":3937},{"$f":"INDEX(Orders!A:D,ROW()+1,FindCol(\"orders\",2,TimeBucketName))/$C109","v":3.3020066040132081E-3}]
[{"$f":"Orders!A111","v":"CM3509051"},{"$f":"VLOOKUP(A110,'Product-tool'!A:E,5,0)","v":"Tool 08"},{"$f":"VLOOKUP(A110&B110,'Standard output'!A:D,4,0)","v":3942},{"$f":"INDEX(Orders!A:D,ROW()+1,FindCol(\"orders\",2,TimeBucketName))/$C110","v":2.4331303906646373}]
[{"$f":"Orders!A112","v":"CM5648071"},{"$f":"VLOOKUP(A111,'Product-tool'!A:E,5,0)","v":"Tool 19"},{"$f":"VLOOKUP(A111&B111,'Standard output'!A:D,4,0)","v":10173},{"$f":"INDEX(Orders!A:D,ROW()+1,FindCol(\"orders\",2,TimeBucketName))/$C111","v":0.10376486778728007}]
[{"$f":"Orders!A113","v":"CM5946003"},{"$f":"VLOOKUP(A112,'Product-tool'!A:E,5,0)","v":"Tool 19"},{"$f":"VLOOKUP(A112&B112,'Standard output'!A:D,4,0)","v":10242},{"$f":"INDEX(Orders!A:D,ROW()+1,FindCol(\"orders\",2,TimeBucketName))/$C112","v":1.2785491115016598}]
[{"$f":"Orders!A114","v":"CM5947011"},{"$f":"VLOOKUP(A113,'Product-tool'!A:E,5,0)","v":"Tool 04"},{"$f":"VLOOKUP(A113&B113,'Standard output'!A:D,4,0)","v":2298},{"$f":"INDEX(Orders!A:D,ROW()+1,FindCol(\"orders\",2,TimeBucketName))/$C113","v":6.8275456919060051}]
[{"$f":"Orders!A115","v":"CP2759269"},{"$f":"VLOOKUP(A114,'Product-tool'!A:E,5,0)","v":"Tool 09"},{"$f":"VLOOKUP(A114&B114,'Standard output'!A:D,4,0)","v":484},{"$f":"INDEX(Orders!A:D,ROW()+1,FindCol(\"orders\",2,TimeBucketName))/$C114","v":18.318181818181817}]
[{"$f":"Orders!A116","v":"CP3651771"},{"$f":"VLOOKUP(A115,'Product-tool'!A:E,5,0)","v":"Tool 02"},{"$f":"VLOOKUP(A115&B115,'Standard output'!A:D,4,0)","v":2681},{"$f":"INDEX(Orders!A:D,ROW()+1,FindCol(\"orders\",2,TimeBucketName))/$C115","v":4.7291682208131292}]
[{"$f":"Orders!A117","v":"CP3782517"},{"$f":"VLOOKUP(A116,'Product-tool'!A:E,5,0)","v":"Tool 16"},{"$f":"VLOOKUP(A116&B116,'Standard output'!A:D,4,0)","v":6861},{"$f":"INDEX(Orders!A:D,ROW()+1,FindCol(\"orders\",2,TimeBucketName))/$C116","v":1.0176796385366564}]
[{"$f":"Orders!A118","v":"CP5891290"},{"$f":"VLOOKUP(A117,'Product-tool'!A:E,5,0)","v":"Tool 12"},{"$f":"VLOOKUP(A117&B117,'Standard output'!A:D,4,0)","v":4089},{"$f":"INDEX(Orders!A:D,ROW()+1,FindCol(\"orders\",2,TimeBucketName))/$C117","v":4.2284177060405971E-2}]
[{"$f":"Orders!A119","v":"CP5915175"},{"$f":"VLOOKUP(A118,'Product-tool'!A:E,5,0)","v":"Tool 17"},{"$f":"VLOOKUP(A118&B118,'Standard output'!A:D,4,0)","v":6839},{"$f":"INDEX(Orders!A:D,ROW()+1,FindCol(\"orders\",2,TimeBucketName))/$C118","v":8.3067699956133945E-2}]
[{"$f":"Orders!A120","v":"CT0314214"},{"$f":"VLOOKUP(A119,'Product-tool'!A:E,5,0)","v":"Tool 20"},{"$f":"VLOOKUP(A119&B119,'Standard output'!A:D,4,0)","v":7870.6422349005379},{"$f":"INDEX(Orders!A:D,ROW()+1,FindCol(\"orders\",2,TimeBucketName))/$C119","v":7.2262209744207402}]
[{"$f":"Orders!A121","v":"CT0686710"},{"$f":"VLOOKUP(A120,'Product-tool'!A:E,5,0)","v":"Tool 17"},{"$f":"VLOOKUP(A120&B120,'Standard output'!A:D,4,0)","v":6884},{"$f":"INDEX(Orders!A:D,ROW()+1,FindCol(\"orders\",2,TimeBucketName))/$C120","v":0.36182452062754217}]
[{"$f":"Orders!A122","v":"CT0911438"},{"$f":"VLOOKUP(A121,'Product-tool'!A:E,5,0)","v":"Tool 13"},{"$f":"VLOOKUP(A121&B121,'Standard output'!A:D,4,0)","v":2444},{"$f":"INDEX(Orders!A:D,ROW()+1,FindCol(\"orders\",2,TimeBucketName))/$C121","v":0.7531914893617021}]
[{"$f":"Orders!A123","v":"CT1153413"},{"$f":"VLOOKUP(A122,'Product-tool'!A:E,5,0)","v":"Tool 20"},{"$f":"VLOOKUP(A122&B122,'Standard output'!A:D,4,0)","v":7871.6422349005379},{"$f":"INDEX(Orders!A:D,ROW()+1,FindCol(\"orders\",2,TimeBucketName))/$C122","v":0.50469773415079489}]
[{"$f":"Orders!A124","v":"CT1195860"},{"$f":"VLOOKUP(A123,'Product-tool'!A:E,5,0)","v":"Tool 19"},{"$f":"VLOOKUP(A123&B123,'Standard output'!A:D,4,0)","v":10244},{"$f":"INDEX(Orders!A:D,ROW()+1,FindCol(\"orders\",2,TimeBucketName))/$C123","v":0.16916243654822335}]
[{"$f":"Orders!A125","v":"CT1344126"},{"$f":"VLOOKUP(A124,'Product-tool'!A:E,5,0)","v":"Tool 16"},{"$f":"VLOOKUP(A124&B124,'Standard output'!A:D,4,0)","v":6833},{"$f":"INDEX(Orders!A:D,ROW()+1,FindCol(\"orders\",2,TimeBucketName))/$C124","v":1.5853797746231524}]
[{"$f":"Orders!A126","v":"CT1427436"},{"$f":"VLOOKUP(A125,'Product-tool'!A:E,5,0)","v":"Tool 16"},{"$f":"VLOOKUP(A125&B125,'Standard output'!A:D,4,0)","v":6841},{"$f":"INDEX(Orders!A:D,ROW()+1,FindCol(\"orders\",2,TimeBucketName))/$C125","v":4.1426692004092977E-2}]
[{"$f":"Orders!A127","v":"CT1422602"},{"$f":"VLOOKUP(A126,'Product-tool'!A:E,5,0)","v":"Tool 13"},{"$f":"VLOOKUP(A126&B126,'Standard output'!A:D,4,0)","v":2401},{"$f":"INDEX(Orders!A:D,ROW()+1,FindCol(\"orders\",2,TimeBucketName))/$C126","v":2.5377342773844234}]
[{"$f":"Orders!A128","v":"CT1693771"},{"$f":"VLOOKUP(A127,'Product-tool'!A:E,5,0)","v":"Tool 19"},{"$f":"VLOOKUP(A127&B127,'Standard output'!A:D,4,0)","v":10241},{"$f":"INDEX(Orders!A:D,ROW()+1,FindCol(\"orders\",2,TimeBucketName))/$C127","v":1.3644858900497998}]
[{"$f":"Orders!A129","v":"CT2356543"},{"$f":"VLOOKUP(A128,'Product-tool'!A:E,5,0)","v":"Tool 13"},{"$f":"VLOOKUP(A128&B128,'Standard output'!A:D,4,0)","v":2434},{"$f":"INDEX(Orders!A:D,ROW()+1,FindCol(\"orders\",2,TimeBucketName))/$C128","v":1.690961380443714}]
[{"$f":"Orders!A130","v":"CT2727204"},{"$f":"VLOOKUP(A129,'Product-tool'!A:E,5,0)","v":"Tool 12"},{"$f":"VLOOKUP(A129&B129,'Standard output'!A:D,4,0)","v":4023},{"$f":"INDEX(Orders!A:D,ROW()+1,FindCol(\"orders\",2,TimeBucketName))/$C129","v":1.7016654238130748}]
[{"$f":"Orders!A131","v":"CT2748008"},{"$f":"VLOOKUP(A130,'Product-tool'!A:E,5,0)","v":"Tool 20"},{"$f":"VLOOKUP(A130&B130,'Standard output'!A:D,4,0)","v":7862.6422349005379},{"$f":"INDEX(Orders!A:D,ROW()+1,FindCol(\"orders\",2,TimeBucketName))/$C130","v":8.812559179207842E-2}]
[{"$f":"Orders!A132","v":"CT2882108"},{"$f":"VLOOKUP(A131,'Product-tool'!A:E,5,0)","v":"Tool 19"},{"$f":"VLOOKUP(A131&B131,'Standard output'!A:D,4,0)","v":10248},{"$f":"INDEX(Orders!A:D,ROW()+1,FindCol(\"orders\",2,TimeBucketName))/$C131","v":14.413788056206089}]
[{"$f":"Orders!A133","v":"CT2899279"},{"$f":"VLOOKUP(A132,'Product-tool'!A:E,5,0)","v":"Tool 12"},{"$f":"VLOOKUP(A132&B132,'Standard output'!A:D,4,0)","v":4085},{"$f":"INDEX(Orders!A:D,ROW()+1,FindCol(\"orders\",2,TimeBucketName))/$C132","v":0.53018359853121177}]
[{"$f":"Orders!A134","v":"CT2921184"},{"$f":"VLOOKUP(A133,'Product-tool'!A:E,5,0)","v":"Tool 15"},{"$f":"VLOOKUP(A133&B133,'Standard output'!A:D,4,0)","v":4472},{"$f":"INDEX(Orders!A:D,ROW()+1,FindCol(\"orders\",2,TimeBucketName))/$C133","v":3.9}]
[{"$f":"Orders!A135","v":"CT2976643"},{"$f":"VLOOKUP(A134,'Product-tool'!A:E,5,0)","v":"Tool 13"},{"$f":"VLOOKUP(A134&B134,'Standard output'!A:D,4,0)","v":2493},{"$f":"INDEX(Orders!A:D,ROW()+1,FindCol(\"orders\",2,TimeBucketName))/$C134","v":0.56995587645407142}]
[{"$f":"Orders!A136","v":"CT3251740"},{"$f":"VLOOKUP(A135,'Product-tool'!A:E,5,0)","v":"Tool 18"},{"$f":"VLOOKUP(A135&B135,'Standard output'!A:D,4,0)","v":2887},{"$f":"INDEX(Orders!A:D,ROW()+1,FindCol(\"orders\",2,TimeBucketName))/$C135","v":2.5329061309317629}]
[{"$f":"Orders!A137","v":"CT3327591"},{"$f":"VLOOKUP(A136,'Product-tool'!A:E,5,0)","v":"Tool 20"},{"$f":"VLOOKUP(A136&B136,'Standard output'!A:D,4,0)","v":7931.6422349005379},{"$f":"INDEX(Orders!A:D,ROW()+1,FindCol(\"orders\",2,TimeBucketName))/$C136","v":2.805320681522018}]
[{"$f":"Orders!A138","v":"CT3389630"},{"$f":"VLOOKUP(A137,'Product-tool'!A:E,5,0)","v":"Tool 03"},{"$f":"VLOOKUP(A137&B137,'Standard output'!A:D,4,0)","v":2447},{"$f":"INDEX(Orders!A:D,ROW()+1,FindCol(\"orders\",2,TimeBucketName))/$C137","v":0.43085410706988148}]
[{"$f":"Orders!A139","v":"CT3513686"},{"$f":"VLOOKUP(A138,'Product-tool'!A:E,5,0)","v":"Tool 15"},{"$f":"VLOOKUP(A138&B138,'Standard output'!A:D,4,0)","v":4406},{"$f":"INDEX(Orders!A:D,ROW()+1,FindCol(\"orders\",2,TimeBucketName))/$C138","v":2.2719019518837952E-2}]
[{"$f":"Orders!A140","v":"CT3676279"},{"$f":"VLOOKUP(A139,'Product-tool'!A:E,5,0)","v":"Tool 18"},{"$f":"VLOOKUP(A139&B139,'Standard output'!A:D,4,0)","v":2803},{"$f":"INDEX(Orders!A:D,ROW()+1,FindCol(\"orders\",2,TimeBucketName))/$C139","v":18.516767748840529}]
[{"$f":"Orders!A141","v":"CT3847465"},{"$f":"VLOOKUP(A140,'Product-tool'!A:E,5,0)","v":"Tool 08"},{"$f":"VLOOKUP(A140&B140,'Standard output'!A:D,4,0)","v":3955},{"$f":"INDEX(Orders!A:D,ROW()+1,FindCol(\"orders\",2,TimeBucketName))/$C140","v":33.980455120101141}]
[{"$f":"Orders!A142","v":"CT3866790"},{"$f":"VLOOKUP(A141,'Product-tool'!A:E,5,0)","v":"Tool 20"},{"$f":"VLOOKUP(A141&B141,'Standard output'!A:D,4,0)","v":7941.6422349005379},{"$f":"INDEX(Orders!A:D,ROW()+1,FindCol(\"orders\",2,TimeBucketName))/$C141","v":11.181616770616481}]
[{"$f":"Orders!A143","v":"CT4394015"},{"$f":"VLOOKUP(A142,'Product-tool'!A:E,5,0)","v":"Tool 17"},{"$f":"VLOOKUP(A142&B142,'Standard output'!A:D,4,0)","v":6893},{"$f":"INDEX(Orders!A:D,ROW()+1,FindCol(\"orders\",2,TimeBucketName))/$C142","v":4.5868707384302914}]
[{"$f":"Orders!A144","v":"CT4485707"},{"$f":"VLOOKUP(A143,'Product-tool'!A:E,5,0)","v":"Tool 19"},{"$f":"VLOOKUP(A143&B143,'Standard output'!A:D,4,0)","v":10169},{"$f":"INDEX(Orders!A:D,ROW()+1,FindCol(\"orders\",2,TimeBucketName))/$C143","v":7.4146917100993224E-3}]
[{"$f":"Orders!A145","v":"CT4625235"},{"$f":"VLOOKUP(A144,'Product-tool'!A:E,5,0)","v":"Tool 12"},{"$f":"VLOOKUP(A144&B144,'Standard output'!A:D,4,0)","v":4029},{"$f":"INDEX(Orders!A:D,ROW()+1,FindCol(\"orders\",2,TimeBucketName))/$C144","v":0.39784065524944157}]
[{"$f":"Orders!A146","v":"CT4696984"},{"$f":"VLOOKUP(A145,'Product-tool'!A:E,5,0)","v":"Tool 12"},{"$f":"VLOOKUP(A145&B145,'Standard output'!A:D,4,0)","v":4054},{"$f":"INDEX(Orders!A:D,ROW()+1,FindCol(\"orders\",2,TimeBucketName))/$C145","v":2.0555007400098666}]
[{"$f":"Orders!A147","v":"CT4766693"},{"$f":"VLOOKUP(A146,'Product-tool'!A:E,5,0)","v":"Tool 19"},{"$f":"VLOOKUP(A146&B146,'Standard output'!A:D,4,0)","v":10225},{"$f":"INDEX(Orders!A:D,ROW()+1,FindCol(\"orders\",2,TimeBucketName))/$C146","v":1.5212224938875305}]
[{"$f":"Orders!A148","v":"CT4972454"},{"$f":"VLOOKUP(A147,'Product-tool'!A:E,5,0)","v":"Tool 20"},{"$f":"VLOOKUP(A147&B147,'Standard output'!A:D,4,0)","v":7868.6422349005379},{"$f":"INDEX(Orders!A:D,ROW()+1,FindCol(\"orders\",2,TimeBucketName))/$C147","v":8.1497796043602424}]
[{"$f":"Orders!A149","v":"CT4983245"},{"$f":"VLOOKUP(A148,'Product-tool'!A:E,5,0)","v":"Tool 19"},{"$f":"VLOOKUP(A148&B148,'Standard output'!A:D,4,0)","v":10224},{"$f":"INDEX(Orders!A:D,ROW()+1,FindCol(\"orders\",2,TimeBucketName))/$C148","v":1.6275430359937402}]
[{"$f":"Orders!A150","v":"CT4998062"},{"$f":"VLOOKUP(A149,'Product-tool'!A:E,5,0)","v":"Tool 19"},{"$f":"VLOOKUP(A149&B149,'Standard output'!A:D,4,0)","v":10186},{"$f":"INDEX(Orders!A:D,ROW()+1,FindCol(\"orders\",2,TimeBucketName))/$C149","v":5.309247987433733E-2}]
[{"$f":"Orders!A151","v":"CT5306052"},{"$f":"VLOOKUP(A150,'Product-tool'!A:E,5,0)","v":"Tool 20"},{"$f":"VLOOKUP(A150&B150,'Standard output'!A:D,4,0)","v":7869.6422349005379},{"$f":"INDEX(Orders!A:D,ROW()+1,FindCol(\"orders\",2,TimeBucketName))/$C150","v":3.9646020833873814E-2}]
[{"$f":"Orders!A152","v":"CT5312249"},{"$f":"VLOOKUP(A151,'Product-tool'!A:E,5,0)","v":"Tool 19"},{"$f":"VLOOKUP(A151&B151,'Standard output'!A:D,4,0)","v":10265},{"$f":"INDEX(Orders!A:D,ROW()+1,FindCol(\"orders\",2,TimeBucketName))/$C151","v":1.0131514856307842E-3}]
[{"$f":"Orders!A153","v":"CT5387974"},{"$f":"VLOOKUP(A152,'Product-tool'!A:E,5,0)","v":"Tool 10"},{"$f":"VLOOKUP(A152&B152,'Standard output'!A:D,4,0)","v":1586},{"$f":"INDEX(Orders!A:D,ROW()+1,FindCol(\"orders\",2,TimeBucketName))/$C152","v":6.5573770491803279E-3}]
[{"$f":"Orders!A154","v":"CT5424793"},{"$f":"VLOOKUP(A153,'Product-tool'!A:E,5,0)","v":"Tool 12"},{"$f":"VLOOKUP(A153&B153,'Standard output'!A:D,4,0)","v":4056},{"$f":"INDEX(Orders!A:D,ROW()+1,FindCol(\"orders\",2,TimeBucketName))/$C153","v":0.82179487179487187}]
[{"$f":"Orders!A155","v":"CT54540"},{"$f":"VLOOKUP(A154,'Product-tool'!A:E,5,0)","v":"Tool 15"},{"$f":"VLOOKUP(A154&B154,'Standard output'!A:D,4,0)","v":4467},{"$f":"INDEX(Orders!A:D,ROW()+1,FindCol(\"orders\",2,TimeBucketName))/$C154","v":5.3006939780613385}]
[{"$f":"Orders!A156","v":"CT5587547"},{"$f":"VLOOKUP(A155,'Product-tool'!A:E,5,0)","v":"Tool 19"},{"$f":"VLOOKUP(A155&B155,'Standard output'!A:D,4,0)","v":10202},{"$f":"INDEX(Orders!A:D,ROW()+1,FindCol(\"orders\",2,TimeBucketName))/$C155","v":1.2105469515781219E-2}]
[{"$f":"Orders!A157","v":"CT5594793"},{"$f":"VLOOKUP(A156,'Product-tool'!A:E,5,0)","v":"Tool 13"},{"$f":"VLOOKUP(A156&B156,'Standard output'!A:D,4,0)","v":2474},{"$f":"INDEX(Orders!A:D,ROW()+1,FindCol(\"orders\",2,TimeBucketName))/$C156","v":0.55173807599029911}]
[{"$f":"Orders!A158","v":"CT5668919"},{"$f":"VLOOKUP(A157,'Product-tool'!A:E,5,0)","v":"Tool 20"},{"$f":"VLOOKUP(A157&B157,'Standard output'!A:D,4,0)","v":7912.6422349005379},{"$f":"INDEX(Orders!A:D,ROW()+1,FindCol(\"orders\",2,TimeBucketName))/$C157","v":8.1489846357005832E-2}]
[{"$f":"Orders!A159","v":"CT5745169"},{"$f":"VLOOKUP(A158,'Product-tool'!A:E,5,0)","v":"Tool 12"},{"$f":"VLOOKUP(A158&B158,'Standard output'!A:D,4,0)","v":4071},{"$f":"INDEX(Orders!A:D,ROW()+1,FindCol(\"orders\",2,TimeBucketName))/$C158","v":6.4824367477278322E-2}]
[{"$f":"Orders!A160","v":"CT5745914"},{"$f":"VLOOKUP(A159,'Product-tool'!A:E,5,0)","v":"Tool 12"},{"$f":"VLOOKUP(A159&B159,'Standard output'!A:D,4,0)","v":4054},{"$f":"INDEX(Orders!A:D,ROW()+1,FindCol(\"orders\",2,TimeBucketName))/$C159","v":0.50762210162802168}]
[{"$f":"Orders!A161","v":"CT5783436"},{"$f":"VLOOKUP(A160,'Product-tool'!A:E,5,0)","v":"Tool 20"},{"$f":"VLOOKUP(A160&B160,'Standard output'!A:D,4,0)","v":7869.6422349005379},{"$f":"INDEX(Orders!A:D,ROW()+1,FindCol(\"orders\",2,TimeBucketName))/$C160","v":4.4601773438108045E-3}]
[{"$f":"Orders!A162","v":"CT5802839"},{"$f":"VLOOKUP(A161,'Product-tool'!A:E,5,0)","v":"Tool 19"},{"$f":"VLOOKUP(A161&B161,'Standard output'!A:D,4,0)","v":10173},{"$f":"INDEX(Orders!A:D,ROW()+1,FindCol(\"orders\",2,TimeBucketName))/$C161","v":0.14900226088666077}]
[{"$f":"Orders!A163","v":"CT5819298"},{"$f":"VLOOKUP(A162,'Product-tool'!A:E,5,0)","v":"Tool 20"},{"$f":"VLOOKUP(A162&B162,'Standard output'!A:D,4,0)","v":7858.6422349005379},{"$f":"INDEX(Orders!A:D,ROW()+1,FindCol(\"orders\",2,TimeBucketName))/$C162","v":3.3250018538769521E-2}]
[{"$f":"Orders!A164","v":"CT5829315"},{"$f":"VLOOKUP(A163,'Product-tool'!A:E,5,0)","v":"Tool 13"},{"$f":"VLOOKUP(A163&B163,'Standard output'!A:D,4,0)","v":2436},{"$f":"INDEX(Orders!A:D,ROW()+1,FindCol(\"orders\",2,TimeBucketName))/$C163","v":0.17770935960591133}]
[{"$f":"Orders!A165","v":"CT5869387"},{"$f":"VLOOKUP(A164,'Product-tool'!A:E,5,0)","v":"Tool 19"},{"$f":"VLOOKUP(A164&B164,'Standard output'!A:D,4,0)","v":10217},{"$f":"INDEX(Orders!A:D,ROW()+1,FindCol(\"orders\",2,TimeBucketName))/$C164","v":0.91510228051287079}]
[{"$f":"Orders!A166","v":"CT588550"},{"$f":"VLOOKUP(A165,'Product-tool'!A:E,5,0)","v":"Tool 12"},{"$f":"VLOOKUP(A165&B165,'Standard output'!A:D,4,0)","v":4000},{"$f":"INDEX(Orders!A:D,ROW()+1,FindCol(\"orders\",2,TimeBucketName))/$C165","v":0.23465}]
[{"$f":"Orders!A167","v":"CT5885641"},{"$f":"VLOOKUP(A166,'Product-tool'!A:E,5,0)","v":"Tool 18"},{"$f":"VLOOKUP(A166&B166,'Standard output'!A:D,4,0)","v":2814},{"$f":"INDEX(Orders!A:D,ROW()+1,FindCol(\"orders\",2,TimeBucketName))/$C166","v":1.6012082444918267}]
[{"$f":"Orders!A168","v":"CT593521"},{"$f":"VLOOKUP(A167,'Product-tool'!A:E,5,0)","v":"Tool 18"},{"$f":"VLOOKUP(A167&B167,'Standard output'!A:D,4,0)","v":2853},{"$f":"INDEX(Orders!A:D,ROW()+1,FindCol(\"orders\",2,TimeBucketName))/$C167","v":26.508973010865759}]
[{"$f":"Orders!A169","v":"CT5932817"},{"$f":"VLOOKUP(A168,'Product-tool'!A:E,5,0)","v":"Tool 20"},{"$f":"VLOOKUP(A168&B168,'Standard output'!A:D,4,0)","v":7850.6422349005379},{"$f":"INDEX(Orders!A:D,ROW()+1,FindCol(\"orders\",2,TimeBucketName))/$C168","v":2.2023675876014559E-2}]
[{"$f":"Orders!A170","v":"CT5982395"},{"$f":"VLOOKUP(A169,'Product-tool'!A:E,5,0)","v":"Tool 04"},{"$f":"VLOOKUP(A169&B169,'Standard output'!A:D,4,0)","v":2227},{"$f":"INDEX(Orders!A:D,ROW()+1,FindCol(\"orders\",2,TimeBucketName))/$C169","v":0.16052986079928155}]
[{"$f":"Orders!A171","v":"CT6358073"},{"$f":"VLOOKUP(A170,'Product-tool'!A:E,5,0)","v":"Tool 20"},{"$f":"VLOOKUP(A170&B170,'Standard output'!A:D,4,0)","v":7883.6422349005379},{"$f":"INDEX(Orders!A:D,ROW()+1,FindCol(\"orders\",2,TimeBucketName))/$C170","v":4.1224600294675886E-3}]
[{"$f":"Orders!A172","v":"CT6438604"},{"$f":"VLOOKUP(A171,'Product-tool'!A:E,5,0)","v":"Tool 20"},{"$f":"VLOOKUP(A171&B171,'Standard output'!A:D,4,0)","v":7893.6422349005379},{"$f":"INDEX(Orders!A:D,ROW()+1,FindCol(\"orders\",2,TimeBucketName))/$C171","v":1.3175160072517579E-3}]
[{"$f":"Orders!A173","v":"CT6445143"},{"$f":"VLOOKUP(A172,'Product-tool'!A:E,5,0)","v":"Tool 20"},{"$f":"VLOOKUP(A172&B172,'Standard output'!A:D,4,0)","v":7913.6422349005379},{"$f":"INDEX(Orders!A:D,ROW()+1,FindCol(\"orders\",2,TimeBucketName))/$C172","v":0.73775131939274208}]
[{"$f":"Orders!A174","v":"CT823663"},{"$f":"VLOOKUP(A173,'Product-tool'!A:E,5,0)","v":"Tool 07"},{"$f":"VLOOKUP(A173&B173,'Standard output'!A:D,4,0)","v":6446},{"$f":"INDEX(Orders!A:D,ROW()+1,FindCol(\"orders\",2,TimeBucketName))/$C173","v":0.21841452063295069}]
[{"$f":"Orders!A175","v":"DA2128864"},{"$f":"VLOOKUP(A174,'Product-tool'!A:E,5,0)","v":"Tool 05"},{"$f":"VLOOKUP(A174&B174,'Standard output'!A:D,4,0)","v":1267},{"$f":"INDEX(Orders!A:D,ROW()+1,FindCol(\"orders\",2,TimeBucketName))/$C174","v":4.1041831097079715}]
[{"$f":"Orders!A176","v":"DA5685201"},{"$f":"VLOOKUP(A175,'Product-tool'!A:E,5,0)","v":"Tool 01"},{"$f":"VLOOKUP(A175&B175,'Standard output'!A:D,4,0)","v":1270},{"$f":"INDEX(Orders!A:D,ROW()+1,FindCol(\"orders\",2,TimeBucketName))/$C175","v":0.13614173228346457}]
[{"$f":"Orders!A177","v":"DP0098702"},{"$f":"VLOOKUP(A176,'Product-tool'!A:E,5,0)","v":"Tool 17"},{"$f":"VLOOKUP(A176&B176,'Standard output'!A:D,4,0)","v":6800},{"$f":"INDEX(Orders!A:D,ROW()+1,FindCol(\"orders\",2,TimeBucketName))/$C176","v":1.4871617647058823}]
[{"$f":"Orders!A178","v":"DP087138"},{"$f":"VLOOKUP(A177,'Product-tool'!A:E,5,0)","v":"Tool 14"},{"$f":"VLOOKUP(A177&B177,'Standard output'!A:D,4,0)","v":2350},{"$f":"INDEX(Orders!A:D,ROW()+1,FindCol(\"orders\",2,TimeBucketName))/$C177","v":16.603489361702131}]
[{"$f":"Orders!A179","v":"DP1792938"},{"$f":"VLOOKUP(A178,'Product-tool'!A:E,5,0)","v":"Tool 15"},{"$f":"VLOOKUP(A178&B178,'Standard output'!A:D,4,0)","v":4404},{"$f":"INDEX(Orders!A:D,ROW()+1,FindCol(\"orders\",2,TimeBucketName))/$C178","v":7.6925522252497727}]
[{"$f":"Orders!A180","v":"DP2403779"},{"$f":"VLOOKUP(A179,'Product-tool'!A:E,5,0)","v":"Tool 15"},{"$f":"VLOOKUP(A179&B179,'Standard output'!A:D,4,0)","v":4406},{"$f":"INDEX(Orders!A:D,ROW()+1,FindCol(\"orders\",2,TimeBucketName))/$C179","v":2.6182932364956879}]
[{"$f":"Orders!A181","v":"DP2404504"},{"$f":"VLOOKUP(A180,'Product-tool'!A:E,5,0)","v":"Tool 03"},{"$f":"VLOOKUP(A180&B180,'Standard output'!A:D,4,0)","v":2460},{"$f":"INDEX(Orders!A:D,ROW()+1,FindCol(\"orders\",2,TimeBucketName))/$C180","v":0.30808943089430896}]
[{"$f":"Orders!A182","v":"DP4769417"},{"$f":"VLOOKUP(A181,'Product-tool'!A:E,5,0)","v":"Tool 17"},{"$f":"VLOOKUP(A181&B181,'Standard output'!A:D,4,0)","v":6853},{"$f":"INDEX(Orders!A:D,ROW()+1,FindCol(\"orders\",2,TimeBucketName))/$C181","v":0.31129432365387422}]
[{"$f":"Orders!A183","v":"DP4764853"},{"$f":"VLOOKUP(A182,'Product-tool'!A:E,5,0)","v":"Tool 18"},{"$f":"VLOOKUP(A182&B182,'Standard output'!A:D,4,0)","v":2863},{"$f":"INDEX(Orders!A:D,ROW()+1,FindCol(\"orders\",2,TimeBucketName))/$C182","v":8.5869018512050292}]
[{"$f":"Orders!A184","v":"DP5007199"},{"$f":"VLOOKUP(A183,'Product-tool'!A:E,5,0)","v":"Tool 01"},{"$f":"VLOOKUP(A183&B183,'Standard output'!A:D,4,0)","v":1279},{"$f":"INDEX(Orders!A:D,ROW()+1,FindCol(\"orders\",2,TimeBucketName))/$C183","v":41.12634870992963}]
[{"$f":"Orders!A185","v":"DP5383174"},{"$f":"VLOOKUP(A184,'Product-tool'!A:E,5,0)","v":"Tool 01"},{"$f":"VLOOKUP(A184&B184,'Standard output'!A:D,4,0)","v":1278},{"$f":"INDEX(Orders!A:D,ROW()+1,FindCol(\"orders\",2,TimeBucketName))/$C184","v":5.0006259780907669}]
[{"$f":"Orders!A186","v":"DP5698799"},{"$f":"VLOOKUP(A185,'Product-tool'!A:E,5,0)","v":"Tool 01"},{"$f":"VLOOKUP(A185&B185,'Standard output'!A:D,4,0)","v":1281},{"$f":"INDEX(Orders!A:D,ROW()+1,FindCol(\"orders\",2,TimeBucketName))/$C185","v":1.0097580015612801}]
[{"$f":"Orders!A187","v":"DP5908334"},{"$f":"VLOOKUP(A186,'Product-tool'!A:E,5,0)","v":"Tool 01"},{"$f":"VLOOKUP(A186&B186,'Standard output'!A:D,4,0)","v":1276},{"$f":"INDEX(Orders!A:D,ROW()+1,FindCol(\"orders\",2,TimeBucketName))/$C186","v":36.052586206896549}]
[{"$f":"Orders!A188","v":"DP638679"},{"$f":"VLOOKUP(A187,'Product-tool'!A:E,5,0)","v":"Tool 13"},{"$f":"VLOOKUP(A187&B187,'Standard output'!A:D,4,0)","v":2495},{"$f":"INDEX(Orders!A:D,ROW()+1,FindCol(\"orders\",2,TimeBucketName))/$C187","v":4.9498997995991986E-2}]
[{"$f":"Orders!A189","v":"FR0061274"},{"$f":"VLOOKUP(A188,'Product-tool'!A:E,5,0)","v":"Tool 11"},{"$f":"VLOOKUP(A188&B188,'Standard output'!A:D,4,0)","v":2069},{"$f":"INDEX(Orders!A:D,ROW()+1,FindCol(\"orders\",2,TimeBucketName))/$C188","v":4.5239246012566459E-2}]
[{"$f":"Orders!A190","v":"FR009628"},{"$f":"VLOOKUP(A189,'Product-tool'!A:E,5,0)","v":"Tool 11"},{"$f":"VLOOKUP(A189&B189,'Standard output'!A:D,4,0)","v":2089},{"$f":"INDEX(Orders!A:D,ROW()+1,FindCol(\"orders\",2,TimeBucketName))/$C189","v":15.626136907611297}]
[{"$f":"Orders!A191","v":"FR0362571"},{"$f":"VLOOKUP(A190,'Product-tool'!A:E,5,0)","v":"Tool 11"},{"$f":"VLOOKUP(A190&B190,'Standard output'!A:D,4,0)","v":2087},{"$f":"INDEX(Orders!A:D,ROW()+1,FindCol(\"orders\",2,TimeBucketName))/$C190","v":8.6677048394825107}]
[{"$f":"Orders!A192","v":"FR0614261"},{"$f":"VLOOKUP(A191,'Product-tool'!A:E,5,0)","v":"Tool 11"},{"$f":"VLOOKUP(A191&B191,'Standard output'!A:D,4,0)","v":2107},{"$f":"INDEX(Orders!A:D,ROW()+1,FindCol(\"orders\",2,TimeBucketName))/$C191","v":1.4085904129093498}]
[{"$f":"Orders!A193","v":"FR0622263"},{"$f":"VLOOKUP(A192,'Product-tool'!A:E,5,0)","v":"Tool 11"},{"$f":"VLOOKUP(A192&B192,'Standard output'!A:D,4,0)","v":2035},{"$f":"INDEX(Orders!A:D,ROW()+1,FindCol(\"orders\",2,TimeBucketName))/$C192","v":0.34049140049140048}]
[{"$f":"Orders!A194","v":"FR066151"},{"$f":"VLOOKUP(A193,'Product-tool'!A:E,5,0)","v":"Tool 04"},{"$f":"VLOOKUP(A193&B193,'Standard output'!A:D,4,0)","v":2257},{"$f":"INDEX(Orders!A:D,ROW()+1,FindCol(\"orders\",2,TimeBucketName))/$C193","v":0.79025254762959685}]
[{"$f":"Orders!A195","v":"FR0667973"},{"$f":"VLOOKUP(A194,'Product-tool'!A:E,5,0)","v":"Tool 11"},{"$f":"VLOOKUP(A194&B194,'Standard output'!A:D,4,0)","v":2050},{"$f":"INDEX(Orders!A:D,ROW()+1,FindCol(\"orders\",2,TimeBucketName))/$C194","v":1.0564878048780488}]
[{"$f":"Orders!A196","v":"FR0679719"},{"$f":"VLOOKUP(A195,'Product-tool'!A:E,5,0)","v":"Tool 10"},{"$f":"VLOOKUP(A195&B195,'Standard output'!A:D,4,0)","v":1605},{"$f":"INDEX(Orders!A:D,ROW()+1,FindCol(\"orders\",2,TimeBucketName))/$C195","v":8.74766355140187E-2}]
[{"$f":"Orders!A197","v":"FR0696557"},{"$f":"VLOOKUP(A196,'Product-tool'!A:E,5,0)","v":"Tool 15"},{"$f":"VLOOKUP(A196&B196,'Standard output'!A:D,4,0)","v":4478},{"$f":"INDEX(Orders!A:D,ROW()+1,FindCol(\"orders\",2,TimeBucketName))/$C196","v":0.53765073693613219}]
[{"$f":"Orders!A198","v":"FR0905418"},{"$f":"VLOOKUP(A197,'Product-tool'!A:E,5,0)","v":"Tool 15"},{"$f":"VLOOKUP(A197&B197,'Standard output'!A:D,4,0)","v":4421},{"$f":"INDEX(Orders!A:D,ROW()+1,FindCol(\"orders\",2,TimeBucketName))/$C197","v":0.79393802307170325}]
[{"$f":"Orders!A199","v":"FR0919209"},{"$f":"VLOOKUP(A198,'Product-tool'!A:E,5,0)","v":"Tool 11"},{"$f":"VLOOKUP(A198&B198,'Standard output'!A:D,4,0)","v":2083},{"$f":"INDEX(Orders!A:D,ROW()+1,FindCol(\"orders\",2,TimeBucketName))/$C198","v":2.1019683149303892}]
[{"$f":"Orders!A200","v":"FR0935436"},{"$f":"VLOOKUP(A199,'Product-tool'!A:E,5,0)","v":"Tool 11"},{"$f":"VLOOKUP(A199&B199,'Standard output'!A:D,4,0)","v":2087},{"$f":"INDEX(Orders!A:D,ROW()+1,FindCol(\"orders\",2,TimeBucketName))/$C199","v":7.2879731672256823E-2}]
[{"$f":"Orders!A201","v":"FR1379592"},{"$f":"VLOOKUP(A200,'Product-tool'!A:E,5,0)","v":"Tool 15"},{"$f":"VLOOKUP(A200&B200,'Standard output'!A:D,4,0)","v":4494},{"$f":"INDEX(Orders!A:D,ROW()+1,FindCol(\"orders\",2,TimeBucketName))/$C200","v":0.23778371161548734}]
[{"$f":"Orders!A202","v":"FR141742"},{"$f":"VLOOKUP(A201,'Product-tool'!A:E,5,0)","v":"Tool 15"},{"$f":"VLOOKUP(A201&B201,'Standard output'!A:D,4,0)","v":4422},{"$f":"INDEX(Orders!A:D,ROW()+1,FindCol(\"orders\",2,TimeBucketName))/$C201","v":2.4400723654455E-2}]
[{"$f":"Orders!A203","v":"FR1415438"},{"$f":"VLOOKUP(A202,'Product-tool'!A:E,5,0)","v":"Tool 11"},{"$f":"VLOOKUP(A202&B202,'Standard output'!A:D,4,0)","v":2094},{"$f":"INDEX(Orders!A:D,ROW()+1,FindCol(\"orders\",2,TimeBucketName))/$C202","v":1.241642788920726}]
[{"$f":"Orders!A204","v":"FR1452826"},{"$f":"VLOOKUP(A203,'Product-tool'!A:E,5,0)","v":"Tool 13"},{"$f":"VLOOKUP(A203&B203,'Standard output'!A:D,4,0)","v":2444},{"$f":"INDEX(Orders!A:D,ROW()+1,FindCol(\"orders\",2,TimeBucketName))/$C203","v":4.2553191489361703E-3}]
[{"$f":"Orders!A205","v":"FR1615194"},{"$f":"VLOOKUP(A204,'Product-tool'!A:E,5,0)","v":"Tool 15"},{"$f":"VLOOKUP(A204&B204,'Standard output'!A:D,4,0)","v":4405},{"$f":"INDEX(Orders!A:D,ROW()+1,FindCol(\"orders\",2,TimeBucketName))/$C204","v":2.4494892167990921E-2}]
[{"$f":"Orders!A206","v":"FR219333"},{"$f":"VLOOKUP(A205,'Product-tool'!A:E,5,0)","v":"Tool 19"},{"$f":"VLOOKUP(A205&B205,'Standard output'!A:D,4,0)","v":10264},{"$f":"INDEX(Orders!A:D,ROW()+1,FindCol(\"orders\",2,TimeBucketName))/$C205","v":1.8111847233047547E-2}]
[{"$f":"Orders!A207","v":"FR2345868"},{"$f":"VLOOKUP(A206,'Product-tool'!A:E,5,0)","v":"Tool 15"},{"$f":"VLOOKUP(A206&B206,'Standard output'!A:D,4,0)","v":4438},{"$f":"INDEX(Orders!A:D,ROW()+1,FindCol(\"orders\",2,TimeBucketName))/$C206","v":0.63447498873366381}]
[{"$f":"Orders!A208","v":"FR2492515"},{"$f":"VLOOKUP(A207,'Product-tool'!A:E,5,0)","v":"Tool 19"},{"$f":"VLOOKUP(A207&B207,'Standard output'!A:D,4,0)","v":10257},{"$f":"INDEX(Orders!A:D,ROW()+1,FindCol(\"orders\",2,TimeBucketName))/$C207","v":0.25348542458808621}]
[{"$f":"Orders!A209","v":"FR2795111"},{"$f":"VLOOKUP(A208,'Product-tool'!A:E,5,0)","v":"Tool 11"},{"$f":"VLOOKUP(A208&B208,'Standard output'!A:D,4,0)","v":2061},{"$f":"INDEX(Orders!A:D,ROW()+1,FindCol(\"orders\",2,TimeBucketName))/$C208","v":0.1047064531780689}]
[{"$f":"Orders!A210","v":"FR2815273"},{"$f":"VLOOKUP(A209,'Product-tool'!A:E,5,0)","v":"Tool 11"},{"$f":"VLOOKUP(A209&B209,'Standard output'!A:D,4,0)","v":2103},{"$f":"INDEX(Orders!A:D,ROW()+1,FindCol(\"orders\",2,TimeBucketName))/$C209","v":15.595672848311937}]
[{"$f":"Orders!A211","v":"FR2948803"},{"$f":"VLOOKUP(A210,'Product-tool'!A:E,5,0)","v":"Tool 11"},{"$f":"VLOOKUP(A210&B210,'Standard output'!A:D,4,0)","v":2056},{"$f":"INDEX(Orders!A:D,ROW()+1,FindCol(\"orders\",2,TimeBucketName))/$C210","v":0.41478599221789886}]
[{"$f":"Orders!A212","v":"FR317601"},{"$f":"VLOOKUP(A211,'Product-tool'!A:E,5,0)","v":"Tool 11"},{"$f":"VLOOKUP(A211&B211,'Standard output'!A:D,4,0)","v":2064},{"$f":"INDEX(Orders!A:D,ROW()+1,FindCol(\"orders\",2,TimeBucketName))/$C211","v":0.32122093023255816}]
[{"$f":"Orders!A213","v":"FR3359591"},{"$f":"VLOOKUP(A212,'Product-tool'!A:E,5,0)","v":"Tool 19"},{"$f":"VLOOKUP(A212&B212,'Standard output'!A:D,4,0)","v":10248},{"$f":"INDEX(Orders!A:D,ROW()+1,FindCol(\"orders\",2,TimeBucketName))/$C212","v":1.014832162373146E-3}]
[{"$f":"Orders!A214","v":"FR3467978"},{"$f":"VLOOKUP(A213,'Product-tool'!A:E,5,0)","v":"Tool 18"},{"$f":"VLOOKUP(A213&B213,'Standard output'!A:D,4,0)","v":2843},{"$f":"INDEX(Orders!A:D,ROW()+1,FindCol(\"orders\",2,TimeBucketName))/$C213","v":1.1353851565247979}]
[{"$f":"Orders!A215","v":"FR3576193"},{"$f":"VLOOKUP(A214,'Product-tool'!A:E,5,0)","v":"Tool 11"},{"$f":"VLOOKUP(A214&B214,'Standard output'!A:D,4,0)","v":2098},{"$f":"INDEX(Orders!A:D,ROW()+1,FindCol(\"orders\",2,TimeBucketName))/$C214","v":2.2133460438512871}]
[{"$f":"Orders!A216","v":"FR3597468"},{"$f":"VLOOKUP(A215,'Product-tool'!A:E,5,0)","v":"Tool 19"},{"$f":"VLOOKUP(A215&B215,'Standard output'!A:D,4,0)","v":10237},{"$f":"INDEX(Orders!A:D,ROW()+1,FindCol(\"orders\",2,TimeBucketName))/$C215","v":4.7621373449252713E-2}]
[{"$f":"Orders!A217","v":"FR3659141"},{"$f":"VLOOKUP(A216,'Product-tool'!A:E,5,0)","v":"Tool 11"},{"$f":"VLOOKUP(A216&B216,'Standard output'!A:D,4,0)","v":2092},{"$f":"INDEX(Orders!A:D,ROW()+1,FindCol(\"orders\",2,TimeBucketName))/$C216","v":9.3833652007648191E-2}]
[{"$f":"Orders!A218","v":"FR378786"},{"$f":"VLOOKUP(A217,'Product-tool'!A:E,5,0)","v":"Tool 11"},{"$f":"VLOOKUP(A217&B217,'Standard output'!A:D,4,0)","v":2034},{"$f":"INDEX(Orders!A:D,ROW()+1,FindCol(\"orders\",2,TimeBucketName))/$C217","v":6.9985250737463129}]
[{"$f":"Orders!A219","v":"FR3966167"},{"$f":"VLOOKUP(A218,'Product-tool'!A:E,5,0)","v":"Tool 03"},{"$f":"VLOOKUP(A218&B218,'Standard output'!A:D,4,0)","v":2402},{"$f":"INDEX(Orders!A:D,ROW()+1,FindCol(\"orders\",2,TimeBucketName))/$C218","v":4.3297252289758534E-3}]
[{"$f":"Orders!A220","v":"FR3998413"},{"$f":"VLOOKUP(A219,'Product-tool'!A:E,5,0)","v":"Tool 15"},{"$f":"VLOOKUP(A219&B219,'Standard output'!A:D,4,0)","v":4454},{"$f":"INDEX(Orders!A:D,ROW()+1,FindCol(\"orders\",2,TimeBucketName))/$C219","v":0.14593623709025594}]
[{"$f":"Orders!A221","v":"FR4374057"},{"$f":"VLOOKUP(A220,'Product-tool'!A:E,5,0)","v":"Tool 19"},{"$f":"VLOOKUP(A220&B220,'Standard output'!A:D,4,0)","v":10207},{"$f":"INDEX(Orders!A:D,ROW()+1,FindCol(\"orders\",2,TimeBucketName))/$C220","v":1.0571176643479965E-2}]
[{"$f":"Orders!A222","v":"FR4526775"},{"$f":"VLOOKUP(A221,'Product-tool'!A:E,5,0)","v":"Tool 11"},{"$f":"VLOOKUP(A221&B221,'Standard output'!A:D,4,0)","v":2121},{"$f":"INDEX(Orders!A:D,ROW()+1,FindCol(\"orders\",2,TimeBucketName))/$C221","v":5.0872230080150876E-2}]
[{"$f":"Orders!A223","v":"FR4539511"},{"$f":"VLOOKUP(A222,'Product-tool'!A:E,5,0)","v":"Tool 11"},{"$f":"VLOOKUP(A222&B222,'Standard output'!A:D,4,0)","v":2100},{"$f":"INDEX(Orders!A:D,ROW()+1,FindCol(\"orders\",2,TimeBucketName))/$C222","v":5.1380952380952381E-2}]
[{"$f":"Orders!A224","v":"FR457233"},{"$f":"VLOOKUP(A223,'Product-tool'!A:E,5,0)","v":"Tool 13"},{"$f":"VLOOKUP(A223&B223,'Standard output'!A:D,4,0)","v":2439},{"$f":"INDEX(Orders!A:D,ROW()+1,FindCol(\"orders\",2,TimeBucketName))/$C223","v":0.18175481754817549}]
[{"$f":"Orders!A225","v":"FR4624850"},{"$f":"VLOOKUP(A224,'Product-tool'!A:E,5,0)","v":"Tool 11"},{"$f":"VLOOKUP(A224&B224,'Standard output'!A:D,4,0)","v":2080},{"$f":"INDEX(Orders!A:D,ROW()+1,FindCol(\"orders\",2,TimeBucketName))/$C224","v":1.8225}]
[{"$f":"Orders!A226","v":"FR4897160"},{"$f":"VLOOKUP(A225,'Product-tool'!A:E,5,0)","v":"Tool 15"},{"$f":"VLOOKUP(A225&B225,'Standard output'!A:D,4,0)","v":4457},{"$f":"INDEX(Orders!A:D,ROW()+1,FindCol(\"orders\",2,TimeBucketName))/$C225","v":8.1669284271931788E-3}]
[{"$f":"Orders!A227","v":"FR4954051"},{"$f":"VLOOKUP(A226,'Product-tool'!A:E,5,0)","v":"Tool 19"},{"$f":"VLOOKUP(A226&B226,'Standard output'!A:D,4,0)","v":10264},{"$f":"INDEX(Orders!A:D,ROW()+1,FindCol(\"orders\",2,TimeBucketName))/$C226","v":2.0265003897116133E-3}]
[{"$f":"Orders!A228","v":"FR4965335"},{"$f":"VLOOKUP(A227,'Product-tool'!A:E,5,0)","v":"Tool 11"},{"$f":"VLOOKUP(A227&B227,'Standard output'!A:D,4,0)","v":2093},{"$f":"INDEX(Orders!A:D,ROW()+1,FindCol(\"orders\",2,TimeBucketName))/$C227","v":0.80745341614906829}]
[{"$f":"Orders!A229","v":"FR5342502"},{"$f":"VLOOKUP(A228,'Product-tool'!A:E,5,0)","v":"Tool 11"},{"$f":"VLOOKUP(A228&B228,'Standard output'!A:D,4,0)","v":2033},{"$f":"INDEX(Orders!A:D,ROW()+1,FindCol(\"orders\",2,TimeBucketName))/$C228","v":1.4368421052631579}]
[{"$f":"Orders!A230","v":"FR5371365"},{"$f":"VLOOKUP(A229,'Product-tool'!A:E,5,0)","v":"Tool 15"},{"$f":"VLOOKUP(A229&B229,'Standard output'!A:D,4,0)","v":4421},{"$f":"INDEX(Orders!A:D,ROW()+1,FindCol(\"orders\",2,TimeBucketName))/$C229","v":6.6161501922641933E-2}]
[{"$f":"Orders!A231","v":"FR5384444"},{"$f":"VLOOKUP(A230,'Product-tool'!A:E,5,0)","v":"Tool 11"},{"$f":"VLOOKUP(A230&B230,'Standard output'!A:D,4,0)","v":2046},{"$f":"INDEX(Orders!A:D,ROW()+1,FindCol(\"orders\",2,TimeBucketName))/$C230","v":0.92639296187683284}]
[{"$f":"Orders!A232","v":"FR5404360"},{"$f":"VLOOKUP(A231,'Product-tool'!A:E,5,0)","v":"Tool 19"},{"$f":"VLOOKUP(A231&B231,'Standard output'!A:D,4,0)","v":10248},{"$f":"INDEX(Orders!A:D,ROW()+1,FindCol(\"orders\",2,TimeBucketName))/$C231","v":1.014832162373146E-3}]
[{"$f":"Orders!A233","v":"FR5454864"},{"$f":"VLOOKUP(A232,'Product-tool'!A:E,5,0)","v":"Tool 11"},{"$f":"VLOOKUP(A232&B232,'Standard output'!A:D,4,0)","v":2091},{"$f":"INDEX(Orders!A:D,ROW()+1,FindCol(\"orders\",2,TimeBucketName))/$C232","v":0.28474414155906264}]
[{"$f":"Orders!A234","v":"FR5608301"},{"$f":"VLOOKUP(A233,'Product-tool'!A:E,5,0)","v":"Tool 11"},{"$f":"VLOOKUP(A233&B233,'Standard output'!A:D,4,0)","v":2068},{"$f":"INDEX(Orders!A:D,ROW()+1,FindCol(\"orders\",2,TimeBucketName))/$C233","v":1.0058027079303675E-2}]
[{"$f":"Orders!A235","v":"FR5664727"},{"$f":"VLOOKUP(A234,'Product-tool'!A:E,5,0)","v":"Tool 11"},{"$f":"VLOOKUP(A234&B234,'Standard output'!A:D,4,0)","v":2095},{"$f":"INDEX(Orders!A:D,ROW()+1,FindCol(\"orders\",2,TimeBucketName))/$C234","v":0.10300715990453461}]
[{"$f":"Orders!A236","v":"FR5671746"},{"$f":"VLOOKUP(A235,'Product-tool'!A:E,5,0)","v":"Tool 15"},{"$f":"VLOOKUP(A235&B235,'Standard output'!A:D,4,0)","v":4463},{"$f":"INDEX(Orders!A:D,ROW()+1,FindCol(\"orders\",2,TimeBucketName))/$C235","v":0.28837105086264847}]
[{"$f":"Orders!A237","v":"FR5682241"},{"$f":"VLOOKUP(A236,'Product-tool'!A:E,5,0)","v":"Tool 11"},{"$f":"VLOOKUP(A236&B236,'Standard output'!A:D,4,0)","v":2106},{"$f":"INDEX(Orders!A:D,ROW()+1,FindCol(\"orders\",2,TimeBucketName))/$C236","v":1.2345679012345678E-2}]
[{"$f":"Orders!A238","v":"FR5684287"},{"$f":"VLOOKUP(A237,'Product-tool'!A:E,5,0)","v":"Tool 11"},{"$f":"VLOOKUP(A237&B237,'Standard output'!A:D,4,0)","v":2068},{"$f":"INDEX(Orders!A:D,ROW()+1,FindCol(\"orders\",2,TimeBucketName))/$C237","v":0.27093810444874278}]
[{"$f":"Orders!A239","v":"FR5744950"},{"$f":"VLOOKUP(A238,'Product-tool'!A:E,5,0)","v":"Tool 11"},{"$f":"VLOOKUP(A238&B238,'Standard output'!A:D,4,0)","v":2033},{"$f":"INDEX(Orders!A:D,ROW()+1,FindCol(\"orders\",2,TimeBucketName))/$C238","v":0.51028037383177571}]
[{"$f":"Orders!A240","v":"FR5796610"},{"$f":"VLOOKUP(A239,'Product-tool'!A:E,5,0)","v":"Tool 11"},{"$f":"VLOOKUP(A239&B239,'Standard output'!A:D,4,0)","v":2120},{"$f":"INDEX(Orders!A:D,ROW()+1,FindCol(\"orders\",2,TimeBucketName))/$C239","v":1.6942924528301888}]
[{"$f":"Orders!A241","v":"FR5894727"},{"$f":"VLOOKUP(A240,'Product-tool'!A:E,5,0)","v":"Tool 11"},{"$f":"VLOOKUP(A240&B240,'Standard output'!A:D,4,0)","v":2055},{"$f":"INDEX(Orders!A:D,ROW()+1,FindCol(\"orders\",2,TimeBucketName))/$C240","v":0.22141119221411193}]
[{"$f":"Orders!A242","v":"FR5931113"},{"$f":"VLOOKUP(A241,'Product-tool'!A:E,5,0)","v":"Tool 17"},{"$f":"VLOOKUP(A241&B241,'Standard output'!A:D,4,0)","v":6869},{"$f":"INDEX(Orders!A:D,ROW()+1,FindCol(\"orders\",2,TimeBucketName))/$C241","v":0.27347503275585966}]
[{"$f":"Orders!A243","v":"FR5935871"},{"$f":"VLOOKUP(A242,'Product-tool'!A:E,5,0)","v":"Tool 11"},{"$f":"VLOOKUP(A242&B242,'Standard output'!A:D,4,0)","v":2061},{"$f":"INDEX(Orders!A:D,ROW()+1,FindCol(\"orders\",2,TimeBucketName))/$C242","v":1.1561863173216886}]
[{"$f":"Orders!A244","v":"FR5969812"},{"$f":"VLOOKUP(A243,'Product-tool'!A:E,5,0)","v":"Tool 11"},{"$f":"VLOOKUP(A243&B243,'Standard output'!A:D,4,0)","v":2063},{"$f":"INDEX(Orders!A:D,ROW()+1,FindCol(\"orders\",2,TimeBucketName))/$C243","v":10.004265632573921}]
[{"$f":"Orders!A245","v":"FR5979463"},{"$f":"VLOOKUP(A244,'Product-tool'!A:E,5,0)","v":"Tool 11"},{"$f":"VLOOKUP(A244&B244,'Standard output'!A:D,4,0)","v":2039},{"$f":"INDEX(Orders!A:D,ROW()+1,FindCol(\"orders\",2,TimeBucketName))/$C244","v":1.1897008337420305}]
[{"$f":"Orders!A246","v":"FR5992952"},{"$f":"VLOOKUP(A245,'Product-tool'!A:E,5,0)","v":"Tool 11"},{"$f":"VLOOKUP(A245&B245,'Standard output'!A:D,4,0)","v":2083},{"$f":"INDEX(Orders!A:D,ROW()+1,FindCol(\"orders\",2,TimeBucketName))/$C245","v":2.0819971195391265}]
[{"$f":"Orders!A247","v":"FR6818423"},{"$f":"VLOOKUP(A246,'Product-tool'!A:E,5,0)","v":"Tool 14"},{"$f":"VLOOKUP(A246&B246,'Standard output'!A:D,4,0)","v":2343},{"$f":"INDEX(Orders!A:D,ROW()+1,FindCol(\"orders\",2,TimeBucketName))/$C246","v":1.6329065300896288}]
[{"$f":"Orders!A248","v":"GF0013491"},{"$f":"VLOOKUP(A247,'Product-tool'!A:E,5,0)","v":"Tool 14"},{"$f":"VLOOKUP(A247&B247,'Standard output'!A:D,4,0)","v":2371},{"$f":"INDEX(Orders!A:D,ROW()+1,FindCol(\"orders\",2,TimeBucketName))/$C247","v":0.22808941374947284}]
[{"$f":"Orders!A249","v":"GF0149565"},{"$f":"VLOOKUP(A248,'Product-tool'!A:E,5,0)","v":"Tool 14"},{"$f":"VLOOKUP(A248&B248,'Standard output'!A:D,4,0)","v":2327},{"$f":"INDEX(Orders!A:D,ROW()+1,FindCol(\"orders\",2,TimeBucketName))/$C248","v":1.0821229050279328}]
[{"$f":"Orders!A250","v":"GF1114780"},{"$f":"VLOOKUP(A249,'Product-tool'!A:E,5,0)","v":"Tool 17"},{"$f":"VLOOKUP(A249&B249,'Standard output'!A:D,4,0)","v":6883},{"$f":"INDEX(Orders!A:D,ROW()+1,FindCol(\"orders\",2,TimeBucketName))/$C249","v":3.2108092401569085E-3}]
[{"$f":"Orders!A251","v":"GF1349895"},{"$f":"VLOOKUP(A250,'Product-tool'!A:E,5,0)","v":"Tool 14"},{"$f":"VLOOKUP(A250&B250,'Standard output'!A:D,4,0)","v":2328},{"$f":"INDEX(Orders!A:D,ROW()+1,FindCol(\"orders\",2,TimeBucketName))/$C250","v":9.2697594501718217E-2}]
[{"$f":"Orders!A252","v":"GF1438930"},{"$f":"VLOOKUP(A251,'Product-tool'!A:E,5,0)","v":"Tool 14"},{"$f":"VLOOKUP(A251&B251,'Standard output'!A:D,4,0)","v":2376},{"$f":"INDEX(Orders!A:D,ROW()+1,FindCol(\"orders\",2,TimeBucketName))/$C251","v":1.7322390572390574}]
[{"$f":"Orders!A253","v":"GF368849"},{"$f":"VLOOKUP(A252,'Product-tool'!A:E,5,0)","v":"Tool 14"},{"$f":"VLOOKUP(A252&B252,'Standard output'!A:D,4,0)","v":2301},{"$f":"INDEX(Orders!A:D,ROW()+1,FindCol(\"orders\",2,TimeBucketName))/$C252","v":2.6553672316384183E-2}]
[{"$f":"Orders!A254","v":"GF3811858"},{"$f":"VLOOKUP(A253,'Product-tool'!A:E,5,0)","v":"Tool 14"},{"$f":"VLOOKUP(A253&B253,'Standard output'!A:D,4,0)","v":2309},{"$f":"INDEX(Orders!A:D,ROW()+1,FindCol(\"orders\",2,TimeBucketName))/$C253","v":1.8579471632741446E-2}]
[{"$f":"Orders!A255","v":"GF4305823"},{"$f":"VLOOKUP(A254,'Product-tool'!A:E,5,0)","v":"Tool 14"},{"$f":"VLOOKUP(A254&B254,'Standard output'!A:D,4,0)","v":2302},{"$f":"INDEX(Orders!A:D,ROW()+1,FindCol(\"orders\",2,TimeBucketName))/$C254","v":0.48227628149435275}]
[{"$f":"Orders!A256","v":"GF498873"},{"$f":"VLOOKUP(A255,'Product-tool'!A:E,5,0)","v":"Tool 14"},{"$f":"VLOOKUP(A255&B255,'Standard output'!A:D,4,0)","v":2322},{"$f":"INDEX(Orders!A:D,ROW()+1,FindCol(\"orders\",2,TimeBucketName))/$C255","v":1.3996554694229113E-2}]
[{"$f":"Orders!A257","v":"GF5598636"},{"$f":"VLOOKUP(A256,'Product-tool'!A:E,5,0)","v":"Tool 14"},{"$f":"VLOOKUP(A256&B256,'Standard output'!A:D,4,0)","v":2305},{"$f":"INDEX(Orders!A:D,ROW()+1,FindCol(\"orders\",2,TimeBucketName))/$C256","v":7.6138828633405639E-2}]
[{"$f":"Orders!A258","v":"GF5747120"},{"$f":"VLOOKUP(A257,'Product-tool'!A:E,5,0)","v":"Tool 14"},{"$f":"VLOOKUP(A257&B257,'Standard output'!A:D,4,0)","v":2337},{"$f":"INDEX(Orders!A:D,ROW()+1,FindCol(\"orders\",2,TimeBucketName))/$C257","v":0.59298245614035083}]
[{"$f":"Orders!A259","v":"GF586901"},{"$f":"VLOOKUP(A258,'Product-tool'!A:E,5,0)","v":"Tool 14"},{"$f":"VLOOKUP(A258&B258,'Standard output'!A:D,4,0)","v":2332},{"$f":"INDEX(Orders!A:D,ROW()+1,FindCol(\"orders\",2,TimeBucketName))/$C258","v":0.27873070325900512}]
[{"$f":"Orders!A260","v":"GF5886834"},{"$f":"VLOOKUP(A259,'Product-tool'!A:E,5,0)","v":"Tool 14"},{"$f":"VLOOKUP(A259&B259,'Standard output'!A:D,4,0)","v":2308},{"$f":"INDEX(Orders!A:D,ROW()+1,FindCol(\"orders\",2,TimeBucketName))/$C259","v":2.863041594454073}]
[{"$f":"Orders!A261","v":"GF5885097"},{"$f":"VLOOKUP(A260,'Product-tool'!A:E,5,0)","v":"Tool 14"},{"$f":"VLOOKUP(A260&B260,'Standard output'!A:D,4,0)","v":2312},{"$f":"INDEX(Orders!A:D,ROW()+1,FindCol(\"orders\",2,TimeBucketName))/$C260","v":20.011115916955021}]
[{"$f":"Orders!A262","v":"GF5892823"},{"$f":"VLOOKUP(A261,'Product-tool'!A:E,5,0)","v":"Tool 14"},{"$f":"VLOOKUP(A261&B261,'Standard output'!A:D,4,0)","v":2391},{"$f":"INDEX(Orders!A:D,ROW()+1,FindCol(\"orders\",2,TimeBucketName))/$C261","v":0.60786281890422422}]
[{"$f":"Orders!A263","v":"GF5942175"},{"$f":"VLOOKUP(A262,'Product-tool'!A:E,5,0)","v":"Tool 14"},{"$f":"VLOOKUP(A262&B262,'Standard output'!A:D,4,0)","v":2335},{"$f":"INDEX(Orders!A:D,ROW()+1,FindCol(\"orders\",2,TimeBucketName))/$C262","v":4.2312633832976447E-2}]
[{"$f":"Orders!A264","v":"GF67655"},{"$f":"VLOOKUP(A263,'Product-tool'!A:E,5,0)","v":"Tool 12"},{"$f":"VLOOKUP(A263&B263,'Standard output'!A:D,4,0)","v":4067},{"$f":"INDEX(Orders!A:D,ROW()+1,FindCol(\"orders\",2,TimeBucketName))/$C263","v":2.2851487582985004}]
[{"$f":"Orders!A265","v":"IP453302"},{"$f":"VLOOKUP(A264,'Product-tool'!A:E,5,0)","v":"Tool 05"},{"$f":"VLOOKUP(A264&B264,'Standard output'!A:D,4,0)","v":1287},{"$f":"INDEX(Orders!A:D,ROW()+1,FindCol(\"orders\",2,TimeBucketName))/$C264","v":0.20202020202020202}]
[{"$f":"Orders!A266","v":"IR1385574"},{"$f":"VLOOKUP(A265,'Product-tool'!A:E,5,0)","v":"Tool 19"},{"$f":"VLOOKUP(A265&B265,'Standard output'!A:D,4,0)","v":10177},{"$f":"INDEX(Orders!A:D,ROW()+1,FindCol(\"orders\",2,TimeBucketName))/$C265","v":1.6989289574530806E-2}]
[{"$f":"Orders!A267","v":"IR539559"},{"$f":"VLOOKUP(A266,'Product-tool'!A:E,5,0)","v":"Tool 05"},{"$f":"VLOOKUP(A266&B266,'Standard output'!A:D,4,0)","v":1256},{"$f":"INDEX(Orders!A:D,ROW()+1,FindCol(\"orders\",2,TimeBucketName))/$C266","v":0.34466560509554145}]
[{"$f":"Orders!A268","v":"IR5796915"},{"$f":"VLOOKUP(A267,'Product-tool'!A:E,5,0)","v":"Tool 12"},{"$f":"VLOOKUP(A267&B267,'Standard output'!A:D,4,0)","v":4068},{"$f":"INDEX(Orders!A:D,ROW()+1,FindCol(\"orders\",2,TimeBucketName))/$C267","v":0.63913470993117005}]
[{"$f":"Orders!A269","v":"IR6327281"},{"$f":"VLOOKUP(A268,'Product-tool'!A:E,5,0)","v":"Tool 12"},{"$f":"VLOOKUP(A268&B268,'Standard output'!A:D,4,0)","v":4000},{"$f":"INDEX(Orders!A:D,ROW()+1,FindCol(\"orders\",2,TimeBucketName))/$C268","v":4.3225E-2}]
[{"$f":"Orders!A270","v":"MC3428427"},{"$f":"VLOOKUP(A269,'Product-tool'!A:E,5,0)","v":"Tool 13"},{"$f":"VLOOKUP(A269&B269,'Standard output'!A:D,4,0)","v":2430},{"$f":"INDEX(Orders!A:D,ROW()+1,FindCol(\"orders\",2,TimeBucketName))/$C269","v":8.8806584362139923E-2}]
[{"$f":"Orders!A271","v":"MC3543546"},{"$f":"VLOOKUP(A270,'Product-tool'!A:E,5,0)","v":"Tool 12"},{"$f":"VLOOKUP(A270&B270,'Standard output'!A:D,4,0)","v":4044},{"$f":"INDEX(Orders!A:D,ROW()+1,FindCol(\"orders\",2,TimeBucketName))/$C270","v":0.67121661721068249}]
[{"$f":"Orders!A272","v":"MC3717873"},{"$f":"VLOOKUP(A271,'Product-tool'!A:E,5,0)","v":"Tool 12"},{"$f":"VLOOKUP(A271&B271,'Standard output'!A:D,4,0)","v":4056},{"$f":"INDEX(Orders!A:D,ROW()+1,FindCol(\"orders\",2,TimeBucketName))/$C271","v":6.7467948717948714}]
[{"$f":"Orders!A273","v":"MC4244977"},{"$f":"VLOOKUP(A272,'Product-tool'!A:E,5,0)","v":"Tool 12"},{"$f":"VLOOKUP(A272&B272,'Standard output'!A:D,4,0)","v":4088},{"$f":"INDEX(Orders!A:D,ROW()+1,FindCol(\"orders\",2,TimeBucketName))/$C272","v":3.5956702544031311}]
[{"$f":"Orders!A274","v":"MC4291921"},{"$f":"VLOOKUP(A273,'Product-tool'!A:E,5,0)","v":"Tool 10"},{"$f":"VLOOKUP(A273&B273,'Standard output'!A:D,4,0)","v":1552},{"$f":"INDEX(Orders!A:D,ROW()+1,FindCol(\"orders\",2,TimeBucketName))/$C273","v":0.34845360824742272}]
[{"$f":"Orders!A275","v":"MC4993575"},{"$f":"VLOOKUP(A274,'Product-tool'!A:E,5,0)","v":"Tool 19"},{"$f":"VLOOKUP(A274&B274,'Standard output'!A:D,4,0)","v":10264},{"$f":"INDEX(Orders!A:D,ROW()+1,FindCol(\"orders\",2,TimeBucketName))/$C274","v":2.0265003897116133E-3}]
[{"$f":"Orders!A276","v":"MC4997628"},{"$f":"VLOOKUP(A275,'Product-tool'!A:E,5,0)","v":"Tool 19"},{"$f":"VLOOKUP(A275&B275,'Standard output'!A:D,4,0)","v":10252},{"$f":"INDEX(Orders!A:D,ROW()+1,FindCol(\"orders\",2,TimeBucketName))/$C275","v":13.481349980491613}]
[{"$f":"Orders!A277","v":"MC5625753"},{"$f":"VLOOKUP(A276,'Product-tool'!A:E,5,0)","v":"Tool 05"},{"$f":"VLOOKUP(A276&B276,'Standard output'!A:D,4,0)","v":1217},{"$f":"INDEX(Orders!A:D,ROW()+1,FindCol(\"orders\",2,TimeBucketName))/$C276","v":19.836483155299916}]
[{"$f":"Orders!A278","v":"MC5663542"},{"$f":"VLOOKUP(A277,'Product-tool'!A:E,5,0)","v":"Tool 05"},{"$f":"VLOOKUP(A277&B277,'Standard output'!A:D,4,0)","v":1239},{"$f":"INDEX(Orders!A:D,ROW()+1,FindCol(\"orders\",2,TimeBucketName))/$C277","v":0.17417271993543182}]
[{"$f":"Orders!A279","v":"MC5823622"},{"$f":"VLOOKUP(A278,'Product-tool'!A:E,5,0)","v":"Tool 19"},{"$f":"VLOOKUP(A278&B278,'Standard output'!A:D,4,0)","v":10225},{"$f":"INDEX(Orders!A:D,ROW()+1,FindCol(\"orders\",2,TimeBucketName))/$C278","v":0.53818092909535453}]
[{"$f":"Orders!A280","v":"MC594145"},{"$f":"VLOOKUP(A279,'Product-tool'!A:E,5,0)","v":"Tool 08"},{"$f":"VLOOKUP(A279&B279,'Standard output'!A:D,4,0)","v":3971},{"$f":"INDEX(Orders!A:D,ROW()+1,FindCol(\"orders\",2,TimeBucketName))/$C279","v":0.33130193905817179}]
[{"$f":"Orders!A281","v":"ME8004536"},{"$f":"VLOOKUP(A280,'Product-tool'!A:E,5,0)","v":"Tool 08"},{"$f":"VLOOKUP(A280&B280,'Standard output'!A:D,4,0)","v":3972},{"$f":"INDEX(Orders!A:D,ROW()+1,FindCol(\"orders\",2,TimeBucketName))/$C280","v":0.97696374622356497}]
[{"$f":"Orders!A282","v":"ME8004064"},{"$f":"VLOOKUP(A281,'Product-tool'!A:E,5,0)","v":"Tool 08"},{"$f":"VLOOKUP(A281&B281,'Standard output'!A:D,4,0)","v":3957},{"$f":"INDEX(Orders!A:D,ROW()+1,FindCol(\"orders\",2,TimeBucketName))/$C281","v":1.6426585797321203}]
[{"$f":"Orders!A283","v":"ME8009107"},{"$f":"VLOOKUP(A282,'Product-tool'!A:E,5,0)","v":"Tool 08"},{"$f":"VLOOKUP(A282&B282,'Standard output'!A:D,4,0)","v":3960},{"$f":"INDEX(Orders!A:D,ROW()+1,FindCol(\"orders\",2,TimeBucketName))/$C282","v":1.1269949494949496}]
[{"$f":"Orders!A284","v":"ME8007924"},{"$f":"VLOOKUP(A283,'Product-tool'!A:E,5,0)","v":"Tool 08"},{"$f":"VLOOKUP(A283&B283,'Standard output'!A:D,4,0)","v":3990},{"$f":"INDEX(Orders!A:D,ROW()+1,FindCol(\"orders\",2,TimeBucketName))/$C283","v":3.7142857142857144E-2}]
[{"$f":"Orders!A285","v":"ME8082434"},{"$f":"VLOOKUP(A284,'Product-tool'!A:E,5,0)","v":"Tool 08"},{"$f":"VLOOKUP(A284&B284,'Standard output'!A:D,4,0)","v":3939},{"$f":"INDEX(Orders!A:D,ROW()+1,FindCol(\"orders\",2,TimeBucketName))/$C284","v":0.22871287128712869}]
[{"$f":"Orders!A286","v":"ME8115997"},{"$f":"VLOOKUP(A285,'Product-tool'!A:E,5,0)","v":"Tool 08"},{"$f":"VLOOKUP(A285&B285,'Standard output'!A:D,4,0)","v":3920},{"$f":"INDEX(Orders!A:D,ROW()+1,FindCol(\"orders\",2,TimeBucketName))/$C285","v":3.7142857142857144E-2}]
[{"$f":"Orders!A287","v":"ME8144143"},{"$f":"VLOOKUP(A286,'Product-tool'!A:E,5,0)","v":"Tool 08"},{"$f":"VLOOKUP(A286&B286,'Standard output'!A:D,4,0)","v":3981},{"$f":"INDEX(Orders!A:D,ROW()+1,FindCol(\"orders\",2,TimeBucketName))/$C286","v":0.54142175332830944}]
[{"$f":"Orders!A288","v":"ME81564"},{"$f":"VLOOKUP(A287,'Product-tool'!A:E,5,0)","v":"Tool 08"},{"$f":"VLOOKUP(A287&B287,'Standard output'!A:D,4,0)","v":3930},{"$f":"INDEX(Orders!A:D,ROW()+1,FindCol(\"orders\",2,TimeBucketName))/$C287","v":0.1376081424936387}]
[{"$f":"Orders!A289","v":"ME8164351"},{"$f":"VLOOKUP(A288,'Product-tool'!A:E,5,0)","v":"Tool 12"},{"$f":"VLOOKUP(A288&B288,'Standard output'!A:D,4,0)","v":4020},{"$f":"INDEX(Orders!A:D,ROW()+1,FindCol(\"orders\",2,TimeBucketName))/$C288","v":1.378905472636816}]
[{"$f":"Orders!A290","v":"ME8183059"},{"$f":"VLOOKUP(A289,'Product-tool'!A:E,5,0)","v":"Tool 08"},{"$f":"VLOOKUP(A289&B289,'Standard output'!A:D,4,0)","v":3988},{"$f":"INDEX(Orders!A:D,ROW()+1,FindCol(\"orders\",2,TimeBucketName))/$C289","v":4.066248746238716}]
[{"$f":"Orders!A291","v":"ME8182883"},{"$f":"VLOOKUP(A290,'Product-tool'!A:E,5,0)","v":"Tool 08"},{"$f":"VLOOKUP(A290&B290,'Standard output'!A:D,4,0)","v":3987},{"$f":"INDEX(Orders!A:D,ROW()+1,FindCol(\"orders\",2,TimeBucketName))/$C290","v":0.87416603962879358}]
[{"$f":"Orders!A292","v":"ME8186457"},{"$f":"VLOOKUP(A291,'Product-tool'!A:E,5,0)","v":"Tool 08"},{"$f":"VLOOKUP(A291&B291,'Standard output'!A:D,4,0)","v":3997},{"$f":"INDEX(Orders!A:D,ROW()+1,FindCol(\"orders\",2,TimeBucketName))/$C291","v":0.44038028521391043}]
[{"$f":"Orders!A293","v":"ME8183894"},{"$f":"VLOOKUP(A292,'Product-tool'!A:E,5,0)","v":"Tool 08"},{"$f":"VLOOKUP(A292&B292,'Standard output'!A:D,4,0)","v":3946},{"$f":"INDEX(Orders!A:D,ROW()+1,FindCol(\"orders\",2,TimeBucketName))/$C292","v":6.1784591991890521}]
[{"$f":"Orders!A294","v":"ME8203838"},{"$f":"VLOOKUP(A293,'Product-tool'!A:E,5,0)","v":"Tool 08"},{"$f":"VLOOKUP(A293&B293,'Standard output'!A:D,4,0)","v":3986},{"$f":"INDEX(Orders!A:D,ROW()+1,FindCol(\"orders\",2,TimeBucketName))/$C293","v":3.4535122930255899}]
[{"$f":"Orders!A295","v":"ME8216708"},{"$f":"VLOOKUP(A294,'Product-tool'!A:E,5,0)","v":"Tool 08"},{"$f":"VLOOKUP(A294&B294,'Standard output'!A:D,4,0)","v":3988},{"$f":"INDEX(Orders!A:D,ROW()+1,FindCol(\"orders\",2,TimeBucketName))/$C294","v":1.1735205616850553},null,null,null,"ME8294469"]
[{"$f":"Orders!A296","v":"ME8212034"},{"$f":"VLOOKUP(A295,'Product-tool'!A:E,5,0)","v":"Tool 08"},{"$f":"VLOOKUP(A295&B295,'Standard output'!A:D,4,0)","v":3990},{"$f":"INDEX(Orders!A:D,ROW()+1,FindCol(\"orders\",2,TimeBucketName))/$C295","v":0.3691478696741855}]
[{"$f":"Orders!A297","v":"ME8219605"},{"$f":"VLOOKUP(A296,'Product-tool'!A:E,5,0)","v":"Tool 08"},{"$f":"VLOOKUP(A296&B296,'Standard output'!A:D,4,0)","v":3951},{"$f":"INDEX(Orders!A:D,ROW()+1,FindCol(\"orders\",2,TimeBucketName))/$C296","v":1.3592255125284738}]
[{"$f":"Orders!A298","v":"ME8227923"},{"$f":"VLOOKUP(A297,'Product-tool'!A:E,5,0)","v":"Tool 08"},{"$f":"VLOOKUP(A297&B297,'Standard output'!A:D,4,0)","v":3962},{"$f":"INDEX(Orders!A:D,ROW()+1,FindCol(\"orders\",2,TimeBucketName))/$C297","v":3.674911660777385E-2}]
[{"$f":"Orders!A299","v":"ME8254069"},{"$f":"VLOOKUP(A298,'Product-tool'!A:E,5,0)","v":"Tool 08"},{"$f":"VLOOKUP(A298&B298,'Standard output'!A:D,4,0)","v":3943},{"$f":"INDEX(Orders!A:D,ROW()+1,FindCol(\"orders\",2,TimeBucketName))/$C298","v":0.16484909967030181}]
[{"$f":"Orders!A300","v":"ME8294469"},{"$f":"VLOOKUP(A299,'Product-tool'!A:E,5,0)","v":"Tool 08"},{"$f":"VLOOKUP(A299&B299,'Standard output'!A:D,4,0)","v":3989},{"$f":"INDEX(Orders!A:D,ROW()+1,FindCol(\"orders\",2,TimeBucketName))/$C299","v":1.8533717723740286}]
[{"$f":"Orders!A301","v":"ME8314847"},{"$f":"VLOOKUP(A300,'Product-tool'!A:E,5,0)","v":"Tool 08"},{"$f":"VLOOKUP(A300&B300,'Standard output'!A:D,4,0)","v":4003},{"$f":"INDEX(Orders!A:D,ROW()+1,FindCol(\"orders\",2,TimeBucketName))/$C300","v":0.12470647014738948}]
[{"$f":"Orders!A302","v":"ME8808939"},{"$f":"VLOOKUP(A301,'Product-tool'!A:E,5,0)","v":"Tool 08"},{"$f":"VLOOKUP(A301&B301,'Standard output'!A:D,4,0)","v":3977},{"$f":"INDEX(Orders!A:D,ROW()+1,FindCol(\"orders\",2,TimeBucketName))/$C301","v":0.64950968066381698}]
[{"$f":"Orders!A303","v":"ME8804901"},{"$f":"VLOOKUP(A302,'Product-tool'!A:E,5,0)","v":"Tool 08"},{"$f":"VLOOKUP(A302&B302,'Standard output'!A:D,4,0)","v":3933},{"$f":"INDEX(Orders!A:D,ROW()+1,FindCol(\"orders\",2,TimeBucketName))/$C302","v":14.139359267734553}]
[{"$f":"Orders!A304","v":"ME8809588"},{"$f":"VLOOKUP(A303,'Product-tool'!A:E,5,0)","v":"Tool 08"},{"$f":"VLOOKUP(A303&B303,'Standard output'!A:D,4,0)","v":3934},{"$f":"INDEX(Orders!A:D,ROW()+1,FindCol(\"orders\",2,TimeBucketName))/$C303","v":0.20983731570920183}]
[{"$f":"Orders!A305","v":"ME8846873"},{"$f":"VLOOKUP(A304,'Product-tool'!A:E,5,0)","v":"Tool 08"},{"$f":"VLOOKUP(A304&B304,'Standard output'!A:D,4,0)","v":4003},{"$f":"INDEX(Orders!A:D,ROW()+1,FindCol(\"orders\",2,TimeBucketName))/$C304","v":2.7880339745191107}]
[{"$f":"Orders!A306","v":"ME8876987"},{"$f":"VLOOKUP(A305,'Product-tool'!A:E,5,0)","v":"Tool 04"},{"$f":"VLOOKUP(A305&B305,'Standard output'!A:D,4,0)","v":2302},{"$f":"INDEX(Orders!A:D,ROW()+1,FindCol(\"orders\",2,TimeBucketName))/$C305","v":0.20330147697654213}]
[{"$f":"Orders!A307","v":"MP8004078"},{"$f":"VLOOKUP(A306,'Product-tool'!A:E,5,0)","v":"Tool 04"},{"$f":"VLOOKUP(A306&B306,'Standard output'!A:D,4,0)","v":2293},{"$f":"INDEX(Orders!A:D,ROW()+1,FindCol(\"orders\",2,TimeBucketName))/$C306","v":8.6487134757959012}]
[{"$f":"Orders!A308","v":"MP8026858"},{"$f":"VLOOKUP(A307,'Product-tool'!A:E,5,0)","v":"Tool 04"},{"$f":"VLOOKUP(A307&B307,'Standard output'!A:D,4,0)","v":2253},{"$f":"INDEX(Orders!A:D,ROW()+1,FindCol(\"orders\",2,TimeBucketName))/$C307","v":18.655259653794943}]
[{"$f":"Orders!A309","v":"MP8061520"},{"$f":"VLOOKUP(A308,'Product-tool'!A:E,5,0)","v":"Tool 04"},{"$f":"VLOOKUP(A308&B308,'Standard output'!A:D,4,0)","v":2265},{"$f":"INDEX(Orders!A:D,ROW()+1,FindCol(\"orders\",2,TimeBucketName))/$C308","v":13.041898454746137}]
[{"$f":"Orders!A310","v":"MP8104858"},{"$f":"VLOOKUP(A309,'Product-tool'!A:E,5,0)","v":"Tool 04"},{"$f":"VLOOKUP(A309&B309,'Standard output'!A:D,4,0)","v":2302},{"$f":"INDEX(Orders!A:D,ROW()+1,FindCol(\"orders\",2,TimeBucketName))/$C309","v":18.155951346655083}]
[{"$f":"Orders!A311","v":"MP8109471"},{"$f":"VLOOKUP(A310,'Product-tool'!A:E,5,0)","v":"Tool 04"},{"$f":"VLOOKUP(A310&B310,'Standard output'!A:D,4,0)","v":2313},{"$f":"INDEX(Orders!A:D,ROW()+1,FindCol(\"orders\",2,TimeBucketName))/$C310","v":1.0678772157371379}]
[{"$f":"Orders!A312","v":"MP8189416"},{"$f":"VLOOKUP(A311,'Product-tool'!A:E,5,0)","v":"Tool 07"},{"$f":"VLOOKUP(A311&B311,'Standard output'!A:D,4,0)","v":6436},{"$f":"INDEX(Orders!A:D,ROW()+1,FindCol(\"orders\",2,TimeBucketName))/$C311","v":5.9283716594157863}]
[{"$f":"Orders!A313","v":"MR0869382"},{"$f":"VLOOKUP(A312,'Product-tool'!A:E,5,0)","v":"Tool 10"},{"$f":"VLOOKUP(A312&B312,'Standard output'!A:D,4,0)","v":1636},{"$f":"INDEX(Orders!A:D,ROW()+1,FindCol(\"orders\",2,TimeBucketName))/$C312","v":0.16528117359413205}]
[{"$f":"Orders!A314","v":"MT0524796"},{"$f":"VLOOKUP(A313,'Product-tool'!A:E,5,0)","v":"Tool 09"},{"$f":"VLOOKUP(A313&B313,'Standard output'!A:D,4,0)","v":488},{"$f":"INDEX(Orders!A:D,ROW()+1,FindCol(\"orders\",2,TimeBucketName))/$C313","v":4.6938524590163935}]
[{"$f":"Orders!A315","v":"MT458935"},{"$f":"VLOOKUP(A314,'Product-tool'!A:E,5,0)","v":"Tool 09"},{"$f":"VLOOKUP(A314&B314,'Standard output'!A:D,4,0)","v":504},{"$f":"INDEX(Orders!A:D,ROW()+1,FindCol(\"orders\",2,TimeBucketName))/$C314","v":7.1448412698412698}]
[{"$f":"Orders!A316","v":"MT4603768"},{"$f":"VLOOKUP(A315,'Product-tool'!A:E,5,0)","v":"Tool 15"},{"$f":"VLOOKUP(A315&B315,'Standard output'!A:D,4,0)","v":4489},{"$f":"INDEX(Orders!A:D,ROW()+1,FindCol(\"orders\",2,TimeBucketName))/$C315","v":1.9113388282468256E-2}]
[{"$f":"Orders!A317","v":"NU0449734"},{"$f":"VLOOKUP(A316,'Product-tool'!A:E,5,0)","v":"Tool 15"},{"$f":"VLOOKUP(A316&B316,'Standard output'!A:D,4,0)","v":4417},{"$f":"INDEX(Orders!A:D,ROW()+1,FindCol(\"orders\",2,TimeBucketName))/$C316","v":6.7642970341860993}]
[{"$f":"Orders!A318","v":"NU0799419"},{"$f":"VLOOKUP(A317,'Product-tool'!A:E,5,0)","v":"Tool 15"},{"$f":"VLOOKUP(A317&B317,'Standard output'!A:D,4,0)","v":4456},{"$f":"INDEX(Orders!A:D,ROW()+1,FindCol(\"orders\",2,TimeBucketName))/$C317","v":1.9254937163375223E-2}]
[{"$f":"Orders!A319","v":"NU0913559"},{"$f":"VLOOKUP(A318,'Product-tool'!A:E,5,0)","v":"Tool 15"},{"$f":"VLOOKUP(A318&B318,'Standard output'!A:D,4,0)","v":4414},{"$f":"INDEX(Orders!A:D,ROW()+1,FindCol(\"orders\",2,TimeBucketName))/$C318","v":0.90122338015405523}]
[{"$f":"Orders!A320","v":"NU1662490"},{"$f":"VLOOKUP(A319,'Product-tool'!A:E,5,0)","v":"Tool 15"},{"$f":"VLOOKUP(A319&B319,'Standard output'!A:D,4,0)","v":4457},{"$f":"INDEX(Orders!A:D,ROW()+1,FindCol(\"orders\",2,TimeBucketName))/$C319","v":2.4209109266322641E-2}]
[{"$f":"Orders!A321","v":"NU1816428"},{"$f":"VLOOKUP(A320,'Product-tool'!A:E,5,0)","v":"Tool 10"},{"$f":"VLOOKUP(A320&B320,'Standard output'!A:D,4,0)","v":1636},{"$f":"INDEX(Orders!A:D,ROW()+1,FindCol(\"orders\",2,TimeBucketName))/$C320","v":8.9029339853300744}]
[{"$f":"Orders!A322","v":"NU2694528"},{"$f":"VLOOKUP(A321,'Product-tool'!A:E,5,0)","v":"Tool 15"},{"$f":"VLOOKUP(A321&B321,'Standard output'!A:D,4,0)","v":4499},{"$f":"INDEX(Orders!A:D,ROW()+1,FindCol(\"orders\",2,TimeBucketName))/$C321","v":4.7966214714380978E-2}]
[{"$f":"Orders!A323","v":"NU2703355"},{"$f":"VLOOKUP(A322,'Product-tool'!A:E,5,0)","v":"Tool 02"},{"$f":"VLOOKUP(A322&B322,'Standard output'!A:D,4,0)","v":2647},{"$f":"INDEX(Orders!A:D,ROW()+1,FindCol(\"orders\",2,TimeBucketName))/$C322","v":1.8127313940309786}]
[{"$f":"Orders!A324","v":"NU2754771"},{"$f":"VLOOKUP(A323,'Product-tool'!A:E,5,0)","v":"Tool 05"},{"$f":"VLOOKUP(A323&B323,'Standard output'!A:D,4,0)","v":1289},{"$f":"INDEX(Orders!A:D,ROW()+1,FindCol(\"orders\",2,TimeBucketName))/$C323","v":3.7820015515903802}]
[{"$f":"Orders!A325","v":"NU290431"},{"$f":"VLOOKUP(A324,'Product-tool'!A:E,5,0)","v":"Tool 15"},{"$f":"VLOOKUP(A324&B324,'Standard output'!A:D,4,0)","v":4482},{"$f":"INDEX(Orders!A:D,ROW()+1,FindCol(\"orders\",2,TimeBucketName))/$C324","v":0.92931726907630519}]
[{"$f":"Orders!A326","v":"NU3608271"},{"$f":"VLOOKUP(A325,'Product-tool'!A:E,5,0)","v":"Tool 10"},{"$f":"VLOOKUP(A325&B325,'Standard output'!A:D,4,0)","v":1630},{"$f":"INDEX(Orders!A:D,ROW()+1,FindCol(\"orders\",2,TimeBucketName))/$C325","v":0.77760736196319014}]
[{"$f":"Orders!A327","v":"NU3708683"},{"$f":"VLOOKUP(A326,'Product-tool'!A:E,5,0)","v":"Tool 02"},{"$f":"VLOOKUP(A326&B326,'Standard output'!A:D,4,0)","v":2619},{"$f":"INDEX(Orders!A:D,ROW()+1,FindCol(\"orders\",2,TimeBucketName))/$C326","v":1.0369224894998093}]
[{"$f":"Orders!A328","v":"NU3827246"},{"$f":"VLOOKUP(A327,'Product-tool'!A:E,5,0)","v":"Tool 02"},{"$f":"VLOOKUP(A327&B327,'Standard output'!A:D,4,0)","v":2693},{"$f":"INDEX(Orders!A:D,ROW()+1,FindCol(\"orders\",2,TimeBucketName))/$C327","v":0.45666542888971406}]
[{"$f":"Orders!A329","v":"NU3927324"},{"$f":"VLOOKUP(A328,'Product-tool'!A:E,5,0)","v":"Tool 12"},{"$f":"VLOOKUP(A328&B328,'Standard output'!A:D,4,0)","v":4003},{"$f":"INDEX(Orders!A:D,ROW()+1,FindCol(\"orders\",2,TimeBucketName))/$C328","v":0.85638271296527602}]
[{"$f":"Orders!A330","v":"NU4893598"},{"$f":"VLOOKUP(A329,'Product-tool'!A:E,5,0)","v":"Tool 02"},{"$f":"VLOOKUP(A329&B329,'Standard output'!A:D,4,0)","v":2619},{"$f":"INDEX(Orders!A:D,ROW()+1,FindCol(\"orders\",2,TimeBucketName))/$C329","v":4.1198930889652541E-2}]
[{"$f":"Orders!A331","v":"NU5305035"},{"$f":"VLOOKUP(A330,'Product-tool'!A:E,5,0)","v":"Tool 17"},{"$f":"VLOOKUP(A330&B330,'Standard output'!A:D,4,0)","v":6846},{"$f":"INDEX(Orders!A:D,ROW()+1,FindCol(\"orders\",2,TimeBucketName))/$C330","v":1.8419515045281918E-2}]
[{"$f":"Orders!A332","v":"NU5785654"},{"$f":"VLOOKUP(A331,'Product-tool'!A:E,5,0)","v":"Tool 10"},{"$f":"VLOOKUP(A331&B331,'Standard output'!A:D,4,0)","v":1606},{"$f":"INDEX(Orders!A:D,ROW()+1,FindCol(\"orders\",2,TimeBucketName))/$C331","v":0.12789539227895394}]
[{"$f":"Orders!A333","v":"OX5859021"},{"$f":"VLOOKUP(A332,'Product-tool'!A:E,5,0)","v":"Tool 10"},{"$f":"VLOOKUP(A332&B332,'Standard output'!A:D,4,0)","v":1609},{"$f":"INDEX(Orders!A:D,ROW()+1,FindCol(\"orders\",2,TimeBucketName))/$C332","v":1.1311373523927906E-2}]
[{"$f":"Orders!A334","v":"OX5851901"},{"$f":"VLOOKUP(A333,'Product-tool'!A:E,5,0)","v":"Tool 16"},{"$f":"VLOOKUP(A333&B333,'Standard output'!A:D,4,0)","v":6845},{"$f":"INDEX(Orders!A:D,ROW()+1,FindCol(\"orders\",2,TimeBucketName))/$C333","v":6.2673484295105919E-3}]
[{"$f":"Orders!A335","v":"RC146190"},{"$f":"VLOOKUP(A334,'Product-tool'!A:E,5,0)","v":"Tool 18"},{"$f":"VLOOKUP(A334&B334,'Standard output'!A:D,4,0)","v":2872},{"$f":"INDEX(Orders!A:D,ROW()+1,FindCol(\"orders\",2,TimeBucketName))/$C334","v":0.64094707520891359}]
[{"$f":"Orders!A336","v":"RC4928508"},{"$f":"VLOOKUP(A335,'Product-tool'!A:E,5,0)","v":"Tool 18"},{"$f":"VLOOKUP(A335&B335,'Standard output'!A:D,4,0)","v":2878},{"$f":"INDEX(Orders!A:D,ROW()+1,FindCol(\"orders\",2,TimeBucketName))/$C335","v":3.0264072272411398E-2}]
[{"$f":"Orders!A337","v":"RM0095773"},{"$f":"VLOOKUP(A336,'Product-tool'!A:E,5,0)","v":"Tool 18"},{"$f":"VLOOKUP(A336&B336,'Standard output'!A:D,4,0)","v":2882},{"$f":"INDEX(Orders!A:D,ROW()+1,FindCol(\"orders\",2,TimeBucketName))/$C336","v":0.98560027758501045}]
[{"$f":"Orders!A338","v":"RM1193363"},{"$f":"VLOOKUP(A337,'Product-tool'!A:E,5,0)","v":"Tool 18"},{"$f":"VLOOKUP(A337&B337,'Standard output'!A:D,4,0)","v":2843},{"$f":"INDEX(Orders!A:D,ROW()+1,FindCol(\"orders\",2,TimeBucketName))/$C337","v":3.6581076327822722E-3}]
[{"$f":"Orders!A339","v":"RM12722"},{"$f":"VLOOKUP(A338,'Product-tool'!A:E,5,0)","v":"Tool 18"},{"$f":"VLOOKUP(A338&B338,'Standard output'!A:D,4,0)","v":2880},{"$f":"INDEX(Orders!A:D,ROW()+1,FindCol(\"orders\",2,TimeBucketName))/$C338","v":1.6250000000000001E-2}]
[{"$f":"Orders!A340","v":"RM2364622"},{"$f":"VLOOKUP(A339,'Product-tool'!A:E,5,0)","v":"Tool 18"},{"$f":"VLOOKUP(A339&B339,'Standard output'!A:D,4,0)","v":2839},{"$f":"INDEX(Orders!A:D,ROW()+1,FindCol(\"orders\",2,TimeBucketName))/$C339","v":1.1809439943642128}]
[{"$f":"Orders!A341","v":"RM4669200"},{"$f":"VLOOKUP(A340,'Product-tool'!A:E,5,0)","v":"Tool 18"},{"$f":"VLOOKUP(A340&B340,'Standard output'!A:D,4,0)","v":2899},{"$f":"INDEX(Orders!A:D,ROW()+1,FindCol(\"orders\",2,TimeBucketName))/$C340","v":7.1748878923766817E-3}]
[{"$f":"Orders!A342","v":"RM4667709"},{"$f":"VLOOKUP(A341,'Product-tool'!A:E,5,0)","v":"Tool 18"},{"$f":"VLOOKUP(A341&B341,'Standard output'!A:D,4,0)","v":2856},{"$f":"INDEX(Orders!A:D,ROW()+1,FindCol(\"orders\",2,TimeBucketName))/$C341","v":1.5362394957983194}]
[{"$f":"Orders!A343","v":"RM4695168"},{"$f":"VLOOKUP(A342,'Product-tool'!A:E,5,0)","v":"Tool 18"},{"$f":"VLOOKUP(A342&B342,'Standard output'!A:D,4,0)","v":2806},{"$f":"INDEX(Orders!A:D,ROW()+1,FindCol(\"orders\",2,TimeBucketName))/$C342","v":0.78157519600855307}]
[{"$f":"Orders!A344","v":"RM4934415"},{"$f":"VLOOKUP(A343,'Product-tool'!A:E,5,0)","v":"Tool 18"},{"$f":"VLOOKUP(A343&B343,'Standard output'!A:D,4,0)","v":2834},{"$f":"INDEX(Orders!A:D,ROW()+1,FindCol(\"orders\",2,TimeBucketName))/$C343","v":0.10321100917431193}]
[{"$f":"Orders!A345","v":"RM5456028"},{"$f":"VLOOKUP(A344,'Product-tool'!A:E,5,0)","v":"Tool 18"},{"$f":"VLOOKUP(A344&B344,'Standard output'!A:D,4,0)","v":2880},{"$f":"INDEX(Orders!A:D,ROW()+1,FindCol(\"orders\",2,TimeBucketName))/$C344","v":7.4930555555555556E-2}]
[{"$f":"Orders!A346","v":"RM56355"},{"$f":"VLOOKUP(A345,'Product-tool'!A:E,5,0)","v":"Tool 18"},{"$f":"VLOOKUP(A345&B345,'Standard output'!A:D,4,0)","v":2888},{"$f":"INDEX(Orders!A:D,ROW()+1,FindCol(\"orders\",2,TimeBucketName))/$C345","v":54.701281163434906}]
[{"$f":"Orders!A347","v":"RM5696783"},{"$f":"VLOOKUP(A346,'Product-tool'!A:E,5,0)","v":"Tool 18"},{"$f":"VLOOKUP(A346&B346,'Standard output'!A:D,4,0)","v":2819},{"$f":"INDEX(Orders!A:D,ROW()+1,FindCol(\"orders\",2,TimeBucketName))/$C346","v":1.7062788222774034E-2}]
[{"$f":"Orders!A348","v":"RM5699820"},{"$f":"VLOOKUP(A347,'Product-tool'!A:E,5,0)","v":"Tool 18"},{"$f":"VLOOKUP(A347&B347,'Standard output'!A:D,4,0)","v":2880},{"$f":"INDEX(Orders!A:D,ROW()+1,FindCol(\"orders\",2,TimeBucketName))/$C347","v":2.6636458333333333}]
[{"$f":"Orders!A349","v":"RM5986206"},{"$f":"VLOOKUP(A348,'Product-tool'!A:E,5,0)","v":"Tool 18"},{"$f":"VLOOKUP(A348&B348,'Standard output'!A:D,4,0)","v":2811},{"$f":"INDEX(Orders!A:D,ROW()+1,FindCol(\"orders\",2,TimeBucketName))/$C348","v":0.56004980434009244}]
[{"$f":"Orders!A350","v":"RM6463347"},{"$f":"VLOOKUP(A349,'Product-tool'!A:E,5,0)","v":"Tool 18"},{"$f":"VLOOKUP(A349&B349,'Standard output'!A:D,4,0)","v":2840},{"$f":"INDEX(Orders!A:D,ROW()+1,FindCol(\"orders\",2,TimeBucketName))/$C349","v":0.60559859154929585}]
[{"$f":"Orders!A351","v":"RT2524952"},{"$f":"VLOOKUP(A350,'Product-tool'!A:E,5,0)","v":"Tool 18"},{"$f":"VLOOKUP(A350&B350,'Standard output'!A:D,4,0)","v":2855},{"$f":"INDEX(Orders!A:D,ROW()+1,FindCol(\"orders\",2,TimeBucketName))/$C350","v":3.4915586690017513}]
[{"$f":"Orders!A352","v":"RT2601597"},{"$f":"VLOOKUP(A351,'Product-tool'!A:E,5,0)","v":"Tool 18"},{"$f":"VLOOKUP(A351&B351,'Standard output'!A:D,4,0)","v":2850},{"$f":"INDEX(Orders!A:D,ROW()+1,FindCol(\"orders\",2,TimeBucketName))/$C351","v":0.28098245614035089}]
[{"$f":"Orders!A353","v":"RT2887016"},{"$f":"VLOOKUP(A352,'Product-tool'!A:E,5,0)","v":"Tool 18"},{"$f":"VLOOKUP(A352&B352,'Standard output'!A:D,4,0)","v":2873},{"$f":"INDEX(Orders!A:D,ROW()+1,FindCol(\"orders\",2,TimeBucketName))/$C352","v":11.371040723981901}]
[{"$f":"Orders!A354","v":"RT3164824"},{"$f":"VLOOKUP(A353,'Product-tool'!A:E,5,0)","v":"Tool 10"},{"$f":"VLOOKUP(A353&B353,'Standard output'!A:D,4,0)","v":1643},{"$f":"INDEX(Orders!A:D,ROW()+1,FindCol(\"orders\",2,TimeBucketName))/$C353","v":60.966281192939746}]
[{"$f":"Orders!A355","v":"SB0191101"},{"$f":"VLOOKUP(A354,'Product-tool'!A:E,5,0)","v":"Tool 15"},{"$f":"VLOOKUP(A354&B354,'Standard output'!A:D,4,0)","v":4456},{"$f":"INDEX(Orders!A:D,ROW()+1,FindCol(\"orders\",2,TimeBucketName))/$C354","v":2.2172351885098744E-2}]
[{"$f":"Orders!A356","v":"SB0898923"},{"$f":"VLOOKUP(A355,'Product-tool'!A:E,5,0)","v":"Tool 07"},{"$f":"VLOOKUP(A355&B355,'Standard output'!A:D,4,0)","v":6488},{"$f":"INDEX(Orders!A:D,ROW()+1,FindCol(\"orders\",2,TimeBucketName))/$C355","v":0.156288532675709}]
[{"$f":"Orders!A357","v":"SB1429502"},{"$f":"VLOOKUP(A356,'Product-tool'!A:E,5,0)","v":"Tool 10"},{"$f":"VLOOKUP(A356&B356,'Standard output'!A:D,4,0)","v":1553},{"$f":"INDEX(Orders!A:D,ROW()+1,FindCol(\"orders\",2,TimeBucketName))/$C356","v":1.3837089504185449}]
[{"$f":"Orders!A358","v":"SB2162364"},{"$f":"VLOOKUP(A357,'Product-tool'!A:E,5,0)","v":"Tool 15"},{"$f":"VLOOKUP(A357&B357,'Standard output'!A:D,4,0)","v":4420},{"$f":"INDEX(Orders!A:D,ROW()+1,FindCol(\"orders\",2,TimeBucketName))/$C357","v":1.5882352941176472E-2}]
[{"$f":"Orders!A359","v":"SB3338674"},{"$f":"VLOOKUP(A358,'Product-tool'!A:E,5,0)","v":"Tool 02"},{"$f":"VLOOKUP(A358&B358,'Standard output'!A:D,4,0)","v":2664},{"$f":"INDEX(Orders!A:D,ROW()+1,FindCol(\"orders\",2,TimeBucketName))/$C358","v":6.3438438438438447E-3}]
[{"$f":"Orders!A360","v":"SB4985987"},{"$f":"VLOOKUP(A359,'Product-tool'!A:E,5,0)","v":"Tool 02"},{"$f":"VLOOKUP(A359&B359,'Standard output'!A:D,4,0)","v":2648},{"$f":"INDEX(Orders!A:D,ROW()+1,FindCol(\"orders\",2,TimeBucketName))/$C359","v":6.2839879154078557E-2}]
[{"$f":"Orders!A361","v":"SB585933"},{"$f":"VLOOKUP(A360,'Product-tool'!A:E,5,0)","v":"Tool 16"},{"$f":"VLOOKUP(A360&B360,'Standard output'!A:D,4,0)","v":6889},{"$f":"INDEX(Orders!A:D,ROW()+1,FindCol(\"orders\",2,TimeBucketName))/$C360","v":1.1699811293366237E-2}]
[{"$f":"Orders!A362","v":"SB6619702"},{"$f":"VLOOKUP(A361,'Product-tool'!A:E,5,0)","v":"Tool 02"},{"$f":"VLOOKUP(A361&B361,'Standard output'!A:D,4,0)","v":2684},{"$f":"INDEX(Orders!A:D,ROW()+1,FindCol(\"orders\",2,TimeBucketName))/$C361","v":4.1116616989567811}]
[{"$f":"Orders!A363","v":"SB6782689"},{"$f":"VLOOKUP(A362,'Product-tool'!A:E,5,0)","v":"Tool 15"},{"$f":"VLOOKUP(A362&B362,'Standard output'!A:D,4,0)","v":4435},{"$f":"INDEX(Orders!A:D,ROW()+1,FindCol(\"orders\",2,TimeBucketName))/$C362","v":0.64604284103720411}]
[{"$f":"Orders!A364","v":"SB6851891"},{"$f":"VLOOKUP(A363,'Product-tool'!A:E,5,0)","v":"Tool 15"},{"$f":"VLOOKUP(A363&B363,'Standard output'!A:D,4,0)","v":4487},{"$f":"INDEX(Orders!A:D,ROW()+1,FindCol(\"orders\",2,TimeBucketName))/$C363","v":0.7422776911076443}]
[{"$f":"Orders!A365","v":"SB6883672"},{"$f":"VLOOKUP(A364,'Product-tool'!A:E,5,0)","v":"Tool 10"},{"$f":"VLOOKUP(A364&B364,'Standard output'!A:D,4,0)","v":1554},{"$f":"INDEX(Orders!A:D,ROW()+1,FindCol(\"orders\",2,TimeBucketName))/$C364","v":3.0910553410553412}]
[{"$f":"Orders!A366","v":"SB699340"},{"$f":"VLOOKUP(A365,'Product-tool'!A:E,5,0)","v":"Tool 10"},{"$f":"VLOOKUP(A365&B365,'Standard output'!A:D,4,0)","v":1561},{"$f":"INDEX(Orders!A:D,ROW()+1,FindCol(\"orders\",2,TimeBucketName))/$C365","v":1.5465086483023702}]
[{"$f":"Orders!A367","v":"SL035245"},{"$f":"VLOOKUP(A366,'Product-tool'!A:E,5,0)","v":"Tool 15"},{"$f":"VLOOKUP(A366&B366,'Standard output'!A:D,4,0)","v":4403},{"$f":"INDEX(Orders!A:D,ROW()+1,FindCol(\"orders\",2,TimeBucketName))/$C366","v":0.22143992732228027}]
[{"$f":"Orders!A368","v":"SL04371"},{"$f":"VLOOKUP(A367,'Product-tool'!A:E,5,0)","v":"Tool 17"},{"$f":"VLOOKUP(A367&B367,'Standard output'!A:D,4,0)","v":6844},{"$f":"INDEX(Orders!A:D,ROW()+1,FindCol(\"orders\",2,TimeBucketName))/$C367","v":0.27067504383401519}]
[{"$f":"Orders!A369","v":"SL0454342"},{"$f":"VLOOKUP(A368,'Product-tool'!A:E,5,0)","v":"Tool 09"},{"$f":"VLOOKUP(A368&B368,'Standard output'!A:D,4,0)","v":509},{"$f":"INDEX(Orders!A:D,ROW()+1,FindCol(\"orders\",2,TimeBucketName))/$C368","v":4.0864440078585466E-2}]
[{"$f":"Orders!A370","v":"SL0979997"},{"$f":"VLOOKUP(A369,'Product-tool'!A:E,5,0)","v":"Tool 09"},{"$f":"VLOOKUP(A369&B369,'Standard output'!A:D,4,0)","v":547},{"$f":"INDEX(Orders!A:D,ROW()+1,FindCol(\"orders\",2,TimeBucketName))/$C369","v":21.375137111517368}]
[{"$f":"Orders!A371","v":"SL0973907"},{"$f":"VLOOKUP(A370,'Product-tool'!A:E,5,0)","v":"Tool 16"},{"$f":"VLOOKUP(A370&B370,'Standard output'!A:D,4,0)","v":6891},{"$f":"INDEX(Orders!A:D,ROW()+1,FindCol(\"orders\",2,TimeBucketName))/$C370","v":0.13507473516180526}]
[{"$f":"Orders!A372","v":"SL1205692"},{"$f":"VLOOKUP(A371,'Product-tool'!A:E,5,0)","v":"Tool 02"},{"$f":"VLOOKUP(A371&B371,'Standard output'!A:D,4,0)","v":2648},{"$f":"INDEX(Orders!A:D,ROW()+1,FindCol(\"orders\",2,TimeBucketName))/$C371","v":0.43447885196374625}]
[{"$f":"Orders!A373","v":"SL1739082"},{"$f":"VLOOKUP(A372,'Product-tool'!A:E,5,0)","v":"Tool 02"},{"$f":"VLOOKUP(A372&B372,'Standard output'!A:D,4,0)","v":2618},{"$f":"INDEX(Orders!A:D,ROW()+1,FindCol(\"orders\",2,TimeBucketName))/$C372","v":0.14896867838044309}]
[{"$f":"Orders!A374","v":"SL1814144"},{"$f":"VLOOKUP(A373,'Product-tool'!A:E,5,0)","v":"Tool 02"},{"$f":"VLOOKUP(A373&B373,'Standard output'!A:D,4,0)","v":2656},{"$f":"INDEX(Orders!A:D,ROW()+1,FindCol(\"orders\",2,TimeBucketName))/$C373","v":0.59126506024096392}]
[{"$f":"Orders!A375","v":"SL2223216"},{"$f":"VLOOKUP(A374,'Product-tool'!A:E,5,0)","v":"Tool 02"},{"$f":"VLOOKUP(A374&B374,'Standard output'!A:D,4,0)","v":2679},{"$f":"INDEX(Orders!A:D,ROW()+1,FindCol(\"orders\",2,TimeBucketName))/$C374","v":3.8820455393803661E-3}]
[{"$f":"Orders!A376","v":"SL4542202"},{"$f":"VLOOKUP(A375,'Product-tool'!A:E,5,0)","v":"Tool 02"},{"$f":"VLOOKUP(A375&B375,'Standard output'!A:D,4,0)","v":2624},{"$f":"INDEX(Orders!A:D,ROW()+1,FindCol(\"orders\",2,TimeBucketName))/$C375","v":2.6421112804878053}]
[{"$f":"Orders!A377","v":"SL6923987"},{"$f":"VLOOKUP(A376,'Product-tool'!A:E,5,0)","v":"Tool 16"},{"$f":"VLOOKUP(A376&B376,'Standard output'!A:D,4,0)","v":6819},{"$f":"INDEX(Orders!A:D,ROW()+1,FindCol(\"orders\",2,TimeBucketName))/$C376","v":1.6934887813462385}]
[{"$f":"Orders!A378","v":"SL6949404"},{"$f":"VLOOKUP(A377,'Product-tool'!A:E,5,0)","v":"Tool 09"},{"$f":"VLOOKUP(A377&B377,'Standard output'!A:D,4,0)","v":549},{"$f":"INDEX(Orders!A:D,ROW()+1,FindCol(\"orders\",2,TimeBucketName))/$C377","v":0.94717668488160289}]
[{"$f":"Orders!A379","v":"SS0108"},{"$f":"VLOOKUP(A378,'Product-tool'!A:E,5,0)","v":"Tool 09"},{"$f":"VLOOKUP(A378&B378,'Standard output'!A:D,4,0)","v":520},{"$f":"INDEX(Orders!A:D,ROW()+1,FindCol(\"orders\",2,TimeBucketName))/$C378","v":2.52}]
[{"$f":"Orders!A380","v":"ST0044507"},{"$f":"VLOOKUP(A379,'Product-tool'!A:E,5,0)","v":"Tool 02"},{"$f":"VLOOKUP(A379&B379,'Standard output'!A:D,4,0)","v":2679},{"$f":"INDEX(Orders!A:D,ROW()+1,FindCol(\"orders\",2,TimeBucketName))/$C379","v":3.6282568122433747}]
[{"$f":"Orders!A381","v":"ST0248243"},{"$f":"VLOOKUP(A380,'Product-tool'!A:E,5,0)","v":"Tool 02"},{"$f":"VLOOKUP(A380&B380,'Standard output'!A:D,4,0)","v":2636},{"$f":"INDEX(Orders!A:D,ROW()+1,FindCol(\"orders\",2,TimeBucketName))/$C380","v":0.15189681335356603}]
[{"$f":"Orders!A382","v":"ST0249290"},{"$f":"VLOOKUP(A381,'Product-tool'!A:E,5,0)","v":"Tool 09"},{"$f":"VLOOKUP(A381&B381,'Standard output'!A:D,4,0)","v":576},{"$f":"INDEX(Orders!A:D,ROW()+1,FindCol(\"orders\",2,TimeBucketName))/$C381","v":0.18732638888888889}]
[{"$f":"Orders!A383","v":"ST086120"},{"$f":"VLOOKUP(A382,'Product-tool'!A:E,5,0)","v":"Tool 02"},{"$f":"VLOOKUP(A382&B382,'Standard output'!A:D,4,0)","v":2651},{"$f":"INDEX(Orders!A:D,ROW()+1,FindCol(\"orders\",2,TimeBucketName))/$C382","v":1.2102602791399473}]
[{"$f":"Orders!A384","v":"ST0904669"},{"$f":"VLOOKUP(A383,'Product-tool'!A:E,5,0)","v":"Tool 02"},{"$f":"VLOOKUP(A383&B383,'Standard output'!A:D,4,0)","v":2683},{"$f":"INDEX(Orders!A:D,ROW()+1,FindCol(\"orders\",2,TimeBucketName))/$C383","v":0.96906448005963475}]
[{"$f":"Orders!A385","v":"ST1025440"},{"$f":"VLOOKUP(A384,'Product-tool'!A:E,5,0)","v":"Tool 09"},{"$f":"VLOOKUP(A384&B384,'Standard output'!A:D,4,0)","v":516},{"$f":"INDEX(Orders!A:D,ROW()+1,FindCol(\"orders\",2,TimeBucketName))/$C384","v":11.347286821705426}]
[{"$f":"Orders!A386","v":"ST1444632"},{"$f":"VLOOKUP(A385,'Product-tool'!A:E,5,0)","v":"Tool 02"},{"$f":"VLOOKUP(A385&B385,'Standard output'!A:D,4,0)","v":2691},{"$f":"INDEX(Orders!A:D,ROW()+1,FindCol(\"orders\",2,TimeBucketName))/$C385","v":2.4758454106280192}]
[{"$f":"Orders!A387","v":"ST1661696"},{"$f":"VLOOKUP(A386,'Product-tool'!A:E,5,0)","v":"Tool 02"},{"$f":"VLOOKUP(A386&B386,'Standard output'!A:D,4,0)","v":2679},{"$f":"INDEX(Orders!A:D,ROW()+1,FindCol(\"orders\",2,TimeBucketName))/$C386","v":0.25864128406121684}]
[{"$f":"Orders!A388","v":"ST269903"},{"$f":"VLOOKUP(A387,'Product-tool'!A:E,5,0)","v":"Tool 15"},{"$f":"VLOOKUP(A387&B387,'Standard output'!A:D,4,0)","v":4405},{"$f":"INDEX(Orders!A:D,ROW()+1,FindCol(\"orders\",2,TimeBucketName))/$C387","v":0.89362088535754824}]
[{"$f":"Orders!A389","v":"ST3078513"},{"$f":"VLOOKUP(A388,'Product-tool'!A:E,5,0)","v":"Tool 02"},{"$f":"VLOOKUP(A388&B388,'Standard output'!A:D,4,0)","v":2627},{"$f":"INDEX(Orders!A:D,ROW()+1,FindCol(\"orders\",2,TimeBucketName))/$C388","v":0.32066996574038825}]
[{"$f":"Orders!A390","v":"ST3795473"},{"$f":"VLOOKUP(A389,'Product-tool'!A:E,5,0)","v":"Tool 02"},{"$f":"VLOOKUP(A389&B389,'Standard output'!A:D,4,0)","v":2678},{"$f":"INDEX(Orders!A:D,ROW()+1,FindCol(\"orders\",2,TimeBucketName))/$C389","v":0.64077669902912626}]
[{"$f":"Orders!A391","v":"ST3859207"},{"$f":"VLOOKUP(A390,'Product-tool'!A:E,5,0)","v":"Tool 02"},{"$f":"VLOOKUP(A390&B390,'Standard output'!A:D,4,0)","v":2605},{"$f":"INDEX(Orders!A:D,ROW()+1,FindCol(\"orders\",2,TimeBucketName))/$C390","v":0.3657965451055662}]
[{"$f":"Orders!A392","v":"ST5444150"},{"$f":"VLOOKUP(A391,'Product-tool'!A:E,5,0)","v":"Tool 02"},{"$f":"VLOOKUP(A391&B391,'Standard output'!A:D,4,0)","v":2680},{"$f":"INDEX(Orders!A:D,ROW()+1,FindCol(\"orders\",2,TimeBucketName))/$C391","v":0.81977611940298512}]
[{"$f":"Orders!A393","v":"ST5622830"},{"$f":"VLOOKUP(A392,'Product-tool'!A:E,5,0)","v":"Tool 02"},{"$f":"VLOOKUP(A392&B392,'Standard output'!A:D,4,0)","v":2642},{"$f":"INDEX(Orders!A:D,ROW()+1,FindCol(\"orders\",2,TimeBucketName))/$C392","v":0.11267978803936411}]
[{"$f":"Orders!A394","v":"ST5775560"},{"$f":"VLOOKUP(A393,'Product-tool'!A:E,5,0)","v":"Tool 02"},{"$f":"VLOOKUP(A393&B393,'Standard output'!A:D,4,0)","v":2690},{"$f":"INDEX(Orders!A:D,ROW()+1,FindCol(\"orders\",2,TimeBucketName))/$C393","v":5.3643122676579932E-2}]
[{"$f":"Orders!A395","v":"ST5866857"},{"$f":"VLOOKUP(A394,'Product-tool'!A:E,5,0)","v":"Tool 02"},{"$f":"VLOOKUP(A394&B394,'Standard output'!A:D,4,0)","v":2627},{"$f":"INDEX(Orders!A:D,ROW()+1,FindCol(\"orders\",2,TimeBucketName))/$C394","v":9.3033878949371915E-2}]
[{"$f":"Orders!A396","v":"ST5905549"},{"$f":"VLOOKUP(A395,'Product-tool'!A:E,5,0)","v":"Tool 15"},{"$f":"VLOOKUP(A395&B395,'Standard output'!A:D,4,0)","v":4410},{"$f":"INDEX(Orders!A:D,ROW()+1,FindCol(\"orders\",2,TimeBucketName))/$C395","v":2.2940136054421769}]
[{"$f":"Orders!A397","v":"UV0008455"},{"$f":"VLOOKUP(A396,'Product-tool'!A:E,5,0)","v":"Tool 02"},{"$f":"VLOOKUP(A396&B396,'Standard output'!A:D,4,0)","v":2672},{"$f":"INDEX(Orders!A:D,ROW()+1,FindCol(\"orders\",2,TimeBucketName))/$C396","v":0.56729041916167666}]
[{"$f":"Orders!A398","v":"UV0002089"},{"$f":"VLOOKUP(A397,'Product-tool'!A:E,5,0)","v":"Tool 15"},{"$f":"VLOOKUP(A397&B397,'Standard output'!A:D,4,0)","v":4428},{"$f":"INDEX(Orders!A:D,ROW()+1,FindCol(\"orders\",2,TimeBucketName))/$C397","v":4.168925022583559E-2}]
[{"$f":"Orders!A399","v":"UV0122500"},{"$f":"VLOOKUP(A398,'Product-tool'!A:E,5,0)","v":"Tool 17"},{"$f":"VLOOKUP(A398&B398,'Standard output'!A:D,4,0)","v":6820},{"$f":"INDEX(Orders!A:D,ROW()+1,FindCol(\"orders\",2,TimeBucketName))/$C398","v":5.5278592375366574E-3}]
[{"$f":"Orders!A400","v":"UV0167578"},{"$f":"VLOOKUP(A399,'Product-tool'!A:E,5,0)","v":"Tool 16"},{"$f":"VLOOKUP(A399&B399,'Standard output'!A:D,4,0)","v":6818},{"$f":"INDEX(Orders!A:D,ROW()+1,FindCol(\"orders\",2,TimeBucketName))/$C399","v":0.35750953358756232}]
[{"$f":"Orders!A401","v":"UV0185671"},{"$f":"VLOOKUP(A400,'Product-tool'!A:E,5,0)","v":"Tool 09"},{"$f":"VLOOKUP(A400&B400,'Standard output'!A:D,4,0)","v":489},{"$f":"INDEX(Orders!A:D,ROW()+1,FindCol(\"orders\",2,TimeBucketName))/$C400","v":4.6523517382413084}]
[{"$f":"Orders!A402","v":"UV0432519"},{"$f":"VLOOKUP(A401,'Product-tool'!A:E,5,0)","v":"Tool 16"},{"$f":"VLOOKUP(A401&B401,'Standard output'!A:D,4,0)","v":6853},{"$f":"INDEX(Orders!A:D,ROW()+1,FindCol(\"orders\",2,TimeBucketName))/$C401","v":2.5229826353421862E-2}]
[{"$f":"Orders!A403","v":"UV0436753"},{"$f":"VLOOKUP(A402,'Product-tool'!A:E,5,0)","v":"Tool 17"},{"$f":"VLOOKUP(A402&B402,'Standard output'!A:D,4,0)","v":6817},{"$f":"INDEX(Orders!A:D,ROW()+1,FindCol(\"orders\",2,TimeBucketName))/$C402","v":0.11155933695173831}]
[{"$f":"Orders!A404","v":"UV046672"},{"$f":"VLOOKUP(A403,'Product-tool'!A:E,5,0)","v":"Tool 02"},{"$f":"VLOOKUP(A403&B403,'Standard output'!A:D,4,0)","v":2637},{"$f":"INDEX(Orders!A:D,ROW()+1,FindCol(\"orders\",2,TimeBucketName))/$C403","v":2.2346985210466439}]
[{"$f":"Orders!A405","v":"UV0685993"},{"$f":"VLOOKUP(A404,'Product-tool'!A:E,5,0)","v":"Tool 17"},{"$f":"VLOOKUP(A404&B404,'Standard output'!A:D,4,0)","v":6882},{"$f":"INDEX(Orders!A:D,ROW()+1,FindCol(\"orders\",2,TimeBucketName))/$C404","v":5.6669572798605058E-2}]
[{"$f":"Orders!A406","v":"UV0787788"},{"$f":"VLOOKUP(A405,'Product-tool'!A:E,5,0)","v":"Tool 02"},{"$f":"VLOOKUP(A405&B405,'Standard output'!A:D,4,0)","v":2658},{"$f":"INDEX(Orders!A:D,ROW()+1,FindCol(\"orders\",2,TimeBucketName))/$C405","v":1.4178705793829949}]
[{"$f":"Orders!A407","v":"UV0787562"},{"$f":"VLOOKUP(A406,'Product-tool'!A:E,5,0)","v":"Tool 02"},{"$f":"VLOOKUP(A406&B406,'Standard output'!A:D,4,0)","v":2632},{"$f":"INDEX(Orders!A:D,ROW()+1,FindCol(\"orders\",2,TimeBucketName))/$C406","v":0.6939589665653495}]
[{"$f":"Orders!A408","v":"UV0831317"},{"$f":"VLOOKUP(A407,'Product-tool'!A:E,5,0)","v":"Tool 16"},{"$f":"VLOOKUP(A407&B407,'Standard output'!A:D,4,0)","v":6800},{"$f":"INDEX(Orders!A:D,ROW()+1,FindCol(\"orders\",2,TimeBucketName))/$C407","v":0.3265294117647059}]
[{"$f":"Orders!A409","v":"UV091154"},{"$f":"VLOOKUP(A408,'Product-tool'!A:E,5,0)","v":"Tool 15"},{"$f":"VLOOKUP(A408&B408,'Standard output'!A:D,4,0)","v":4401},{"$f":"INDEX(Orders!A:D,ROW()+1,FindCol(\"orders\",2,TimeBucketName))/$C408","v":0.55030674846625771}]
[{"$f":"Orders!A410","v":"UV0924680"},{"$f":"VLOOKUP(A409,'Product-tool'!A:E,5,0)","v":"Tool 16"},{"$f":"VLOOKUP(A409&B409,'Standard output'!A:D,4,0)","v":6800},{"$f":"INDEX(Orders!A:D,ROW()+1,FindCol(\"orders\",2,TimeBucketName))/$C409","v":1.4018970588235293}]
[{"$f":"Orders!A411","v":"UV1106642"},{"$f":"VLOOKUP(A410,'Product-tool'!A:E,5,0)","v":"Tool 02"},{"$f":"VLOOKUP(A410&B410,'Standard output'!A:D,4,0)","v":2682},{"$f":"INDEX(Orders!A:D,ROW()+1,FindCol(\"orders\",2,TimeBucketName))/$C410","v":0.10324384787472037}]
[{"$f":"Orders!A412","v":"UV1121941"},{"$f":"VLOOKUP(A411,'Product-tool'!A:E,5,0)","v":"Tool 16"},{"$f":"VLOOKUP(A411&B411,'Standard output'!A:D,4,0)","v":6848},{"$f":"INDEX(Orders!A:D,ROW()+1,FindCol(\"orders\",2,TimeBucketName))/$C411","v":4.3201080607476641}]
[{"$f":"Orders!A413","v":"UV1187156"},{"$f":"VLOOKUP(A412,'Product-tool'!A:E,5,0)","v":"Tool 15"},{"$f":"VLOOKUP(A412&B412,'Standard output'!A:D,4,0)","v":4476},{"$f":"INDEX(Orders!A:D,ROW()+1,FindCol(\"orders\",2,TimeBucketName))/$C412","v":0.14841376228775693}]
[{"$f":"Orders!A414","v":"UV120727"},{"$f":"VLOOKUP(A413,'Product-tool'!A:E,5,0)","v":"Tool 19"},{"$f":"VLOOKUP(A413&B413,'Standard output'!A:D,4,0)","v":10190},{"$f":"INDEX(Orders!A:D,ROW()+1,FindCol(\"orders\",2,TimeBucketName))/$C413","v":0.10078508341511286}]
[{"$f":"Orders!A415","v":"UV133670"},{"$f":"VLOOKUP(A414,'Product-tool'!A:E,5,0)","v":"Tool 16"},{"$f":"VLOOKUP(A414&B414,'Standard output'!A:D,4,0)","v":6844},{"$f":"INDEX(Orders!A:D,ROW()+1,FindCol(\"orders\",2,TimeBucketName))/$C414","v":3.2416423144360023}]
[{"$f":"Orders!A416","v":"UV1394884"},{"$f":"VLOOKUP(A415,'Product-tool'!A:E,5,0)","v":"Tool 15"},{"$f":"VLOOKUP(A415&B415,'Standard output'!A:D,4,0)","v":4487},{"$f":"INDEX(Orders!A:D,ROW()+1,FindCol(\"orders\",2,TimeBucketName))/$C415","v":0.25090260753287275}]
[{"$f":"Orders!A417","v":"UV1585237"},{"$f":"VLOOKUP(A416,'Product-tool'!A:E,5,0)","v":"Tool 09"},{"$f":"VLOOKUP(A416&B416,'Standard output'!A:D,4,0)","v":523},{"$f":"INDEX(Orders!A:D,ROW()+1,FindCol(\"orders\",2,TimeBucketName))/$C416","v":1.3869980879541108}]
[{"$f":"Orders!A418","v":"UV1723988"},{"$f":"VLOOKUP(A417,'Product-tool'!A:E,5,0)","v":"Tool 18"},{"$f":"VLOOKUP(A417&B417,'Standard output'!A:D,4,0)","v":2807},{"$f":"INDEX(Orders!A:D,ROW()+1,FindCol(\"orders\",2,TimeBucketName))/$C417","v":1.2967581047381545E-2}]
[{"$f":"Orders!A419","v":"UV2189115"},{"$f":"VLOOKUP(A418,'Product-tool'!A:E,5,0)","v":"Tool 02"},{"$f":"VLOOKUP(A418&B418,'Standard output'!A:D,4,0)","v":2624},{"$f":"INDEX(Orders!A:D,ROW()+1,FindCol(\"orders\",2,TimeBucketName))/$C418","v":9.1485518292682926}]
[{"$f":"Orders!A420","v":"UV2195087"},{"$f":"VLOOKUP(A419,'Product-tool'!A:E,5,0)","v":"Tool 07"},{"$f":"VLOOKUP(A419&B419,'Standard output'!A:D,4,0)","v":6422},{"$f":"INDEX(Orders!A:D,ROW()+1,FindCol(\"orders\",2,TimeBucketName))/$C419","v":1.2955465587044535}]
[{"$f":"Orders!A421","v":"UV2198207"},{"$f":"VLOOKUP(A420,'Product-tool'!A:E,5,0)","v":"Tool 09"},{"$f":"VLOOKUP(A420&B420,'Standard output'!A:D,4,0)","v":579},{"$f":"INDEX(Orders!A:D,ROW()+1,FindCol(\"orders\",2,TimeBucketName))/$C420","v":3.1792746113989638}]
[{"$f":"Orders!A422","v":"UV2213161"},{"$f":"VLOOKUP(A421,'Product-tool'!A:E,5,0)","v":"Tool 02"},{"$f":"VLOOKUP(A421&B421,'Standard output'!A:D,4,0)","v":2610},{"$f":"INDEX(Orders!A:D,ROW()+1,FindCol(\"orders\",2,TimeBucketName))/$C421","v":1.5938697318007662}]
[{"$f":"Orders!A423","v":"UV2285856"},{"$f":"VLOOKUP(A422,'Product-tool'!A:E,5,0)","v":"Tool 09"},{"$f":"VLOOKUP(A422&B422,'Standard output'!A:D,4,0)","v":573},{"$f":"INDEX(Orders!A:D,ROW()+1,FindCol(\"orders\",2,TimeBucketName))/$C422","v":0.7554973821989529}]
[{"$f":"Orders!A424","v":"UV2374219"},{"$f":"VLOOKUP(A423,'Product-tool'!A:E,5,0)","v":"Tool 18"},{"$f":"VLOOKUP(A423&B423,'Standard output'!A:D,4,0)","v":2867},{"$f":"INDEX(Orders!A:D,ROW()+1,FindCol(\"orders\",2,TimeBucketName))/$C423","v":2.9396232996163234}]
[{"$f":"Orders!A425","v":"UV2452537"},{"$f":"VLOOKUP(A424,'Product-tool'!A:E,5,0)","v":"Tool 02"},{"$f":"VLOOKUP(A424&B424,'Standard output'!A:D,4,0)","v":2699},{"$f":"INDEX(Orders!A:D,ROW()+1,FindCol(\"orders\",2,TimeBucketName))/$C424","v":1.5687662097072992}]
[{"$f":"Orders!A426","v":"UV250174"},{"$f":"VLOOKUP(A425,'Product-tool'!A:E,5,0)","v":"Tool 15"},{"$f":"VLOOKUP(A425&B425,'Standard output'!A:D,4,0)","v":4477},{"$f":"INDEX(Orders!A:D,ROW()+1,FindCol(\"orders\",2,TimeBucketName))/$C425","v":0.49102077283895468}]
[{"$f":"Orders!A427","v":"UV251396"},{"$f":"VLOOKUP(A426,'Product-tool'!A:E,5,0)","v":"Tool 09"},{"$f":"VLOOKUP(A426&B426,'Standard output'!A:D,4,0)","v":522},{"$f":"INDEX(Orders!A:D,ROW()+1,FindCol(\"orders\",2,TimeBucketName))/$C426","v":3.7978927203065136}]
[{"$f":"Orders!A428","v":"UV252791"},{"$f":"VLOOKUP(A427,'Product-tool'!A:E,5,0)","v":"Tool 15"},{"$f":"VLOOKUP(A427&B427,'Standard output'!A:D,4,0)","v":4401},{"$f":"INDEX(Orders!A:D,ROW()+1,FindCol(\"orders\",2,TimeBucketName))/$C427","v":1.4326289479663712}]
[{"$f":"Orders!A429","v":"UV2535805"},{"$f":"VLOOKUP(A428,'Product-tool'!A:E,5,0)","v":"Tool 02"},{"$f":"VLOOKUP(A428&B428,'Standard output'!A:D,4,0)","v":2652},{"$f":"INDEX(Orders!A:D,ROW()+1,FindCol(\"orders\",2,TimeBucketName))/$C428","v":3.5946078431372546}]
[{"$f":"Orders!A430","v":"UV2636450"},{"$f":"VLOOKUP(A429,'Product-tool'!A:E,5,0)","v":"Tool 15"},{"$f":"VLOOKUP(A429&B429,'Standard output'!A:D,4,0)","v":4466},{"$f":"INDEX(Orders!A:D,ROW()+1,FindCol(\"orders\",2,TimeBucketName))/$C429","v":2.3869234214061803E-2}]
[{"$f":"Orders!A431","v":"UV2781330"},{"$f":"VLOOKUP(A430,'Product-tool'!A:E,5,0)","v":"Tool 17"},{"$f":"VLOOKUP(A430&B430,'Standard output'!A:D,4,0)","v":6852},{"$f":"INDEX(Orders!A:D,ROW()+1,FindCol(\"orders\",2,TimeBucketName))/$C430","v":0.1329976649153532}]
[{"$f":"Orders!A432","v":"UV2805946"},{"$f":"VLOOKUP(A431,'Product-tool'!A:E,5,0)","v":"Tool 03"},{"$f":"VLOOKUP(A431&B431,'Standard output'!A:D,4,0)","v":2415},{"$f":"INDEX(Orders!A:D,ROW()+1,FindCol(\"orders\",2,TimeBucketName))/$C431","v":0.14318840579710146}]
[{"$f":"Orders!A433","v":"UV2985514"},{"$f":"VLOOKUP(A432,'Product-tool'!A:E,5,0)","v":"Tool 02"},{"$f":"VLOOKUP(A432&B432,'Standard output'!A:D,4,0)","v":2661},{"$f":"INDEX(Orders!A:D,ROW()+1,FindCol(\"orders\",2,TimeBucketName))/$C432","v":0.26039083051484402}]
[{"$f":"Orders!A434","v":"UV3281153"},{"$f":"VLOOKUP(A433,'Product-tool'!A:E,5,0)","v":"Tool 12"},{"$f":"VLOOKUP(A433&B433,'Standard output'!A:D,4,0)","v":4005},{"$f":"INDEX(Orders!A:D,ROW()+1,FindCol(\"orders\",2,TimeBucketName))/$C433","v":6.3071910112359548}]
[{"$f":"Orders!A435","v":"UV3287428"},{"$f":"VLOOKUP(A434,'Product-tool'!A:E,5,0)","v":"Tool 09"},{"$f":"VLOOKUP(A434&B434,'Standard output'!A:D,4,0)","v":501},{"$f":"INDEX(Orders!A:D,ROW()+1,FindCol(\"orders\",2,TimeBucketName))/$C434","v":2.7660678642714571}]
[{"$f":"Orders!A436","v":"UV3439245"},{"$f":"VLOOKUP(A435,'Product-tool'!A:E,5,0)","v":"Tool 18"},{"$f":"VLOOKUP(A435&B435,'Standard output'!A:D,4,0)","v":2858},{"$f":"INDEX(Orders!A:D,ROW()+1,FindCol(\"orders\",2,TimeBucketName))/$C435","v":0.63680895731280618}]
[{"$f":"Orders!A437","v":"UV3533088"},{"$f":"VLOOKUP(A436,'Product-tool'!A:E,5,0)","v":"Tool 16"},{"$f":"VLOOKUP(A436&B436,'Standard output'!A:D,4,0)","v":6805},{"$f":"INDEX(Orders!A:D,ROW()+1,FindCol(\"orders\",2,TimeBucketName))/$C436","v":4.0117560617193238E-2}]
[{"$f":"Orders!A438","v":"UV3595016"},{"$f":"VLOOKUP(A437,'Product-tool'!A:E,5,0)","v":"Tool 02"},{"$f":"VLOOKUP(A437&B437,'Standard output'!A:D,4,0)","v":2694},{"$f":"INDEX(Orders!A:D,ROW()+1,FindCol(\"orders\",2,TimeBucketName))/$C437","v":0.93277654046028213}]
[{"$f":"Orders!A439","v":"UV3633599"},{"$f":"VLOOKUP(A438,'Product-tool'!A:E,5,0)","v":"Tool 02"},{"$f":"VLOOKUP(A438&B438,'Standard output'!A:D,4,0)","v":2617},{"$f":"INDEX(Orders!A:D,ROW()+1,FindCol(\"orders\",2,TimeBucketName))/$C438","v":3.3108521207489492}]
[{"$f":"Orders!A440","v":"UV3728968"},{"$f":"VLOOKUP(A439,'Product-tool'!A:E,5,0)","v":"Tool 15"},{"$f":"VLOOKUP(A439&B439,'Standard output'!A:D,4,0)","v":4468},{"$f":"INDEX(Orders!A:D,ROW()+1,FindCol(\"orders\",2,TimeBucketName))/$C439","v":0.18475828111011638}]
[{"$f":"Orders!A441","v":"UV385351"},{"$f":"VLOOKUP(A440,'Product-tool'!A:E,5,0)","v":"Tool 18"},{"$f":"VLOOKUP(A440&B440,'Standard output'!A:D,4,0)","v":2843},{"$f":"INDEX(Orders!A:D,ROW()+1,FindCol(\"orders\",2,TimeBucketName))/$C440","v":0.39370383397819203}]
[{"$f":"Orders!A442","v":"UV3942188"},{"$f":"VLOOKUP(A441,'Product-tool'!A:E,5,0)","v":"Tool 02"},{"$f":"VLOOKUP(A441&B441,'Standard output'!A:D,4,0)","v":2690},{"$f":"INDEX(Orders!A:D,ROW()+1,FindCol(\"orders\",2,TimeBucketName))/$C441","v":1.5846468401486988}]
[{"$f":"Orders!A443","v":"UV4094667"},{"$f":"VLOOKUP(A442,'Product-tool'!A:E,5,0)","v":"Tool 02"},{"$f":"VLOOKUP(A442&B442,'Standard output'!A:D,4,0)","v":2638},{"$f":"INDEX(Orders!A:D,ROW()+1,FindCol(\"orders\",2,TimeBucketName))/$C442","v":7.7226307808946171}]
[{"$f":"Orders!A444","v":"UV4105152"},{"$f":"VLOOKUP(A443,'Product-tool'!A:E,5,0)","v":"Tool 02"},{"$f":"VLOOKUP(A443&B443,'Standard output'!A:D,4,0)","v":2601},{"$f":"INDEX(Orders!A:D,ROW()+1,FindCol(\"orders\",2,TimeBucketName))/$C443","v":3.298731257208766E-2}]
[{"$f":"Orders!A445","v":"UV4173990"},{"$f":"VLOOKUP(A444,'Product-tool'!A:E,5,0)","v":"Tool 18"},{"$f":"VLOOKUP(A444&B444,'Standard output'!A:D,4,0)","v":2881},{"$f":"INDEX(Orders!A:D,ROW()+1,FindCol(\"orders\",2,TimeBucketName))/$C444","v":0.76167997223186401}]
[{"$f":"Orders!A446","v":"UV4289343"},{"$f":"VLOOKUP(A445,'Product-tool'!A:E,5,0)","v":"Tool 16"},{"$f":"VLOOKUP(A445&B445,'Standard output'!A:D,4,0)","v":6847},{"$f":"INDEX(Orders!A:D,ROW()+1,FindCol(\"orders\",2,TimeBucketName))/$C445","v":4.5947130129983936E-2}]
[{"$f":"Orders!A447","v":"UV4665563"},{"$f":"VLOOKUP(A446,'Product-tool'!A:E,5,0)","v":"Tool 07"},{"$f":"VLOOKUP(A446&B446,'Standard output'!A:D,4,0)","v":6415},{"$f":"INDEX(Orders!A:D,ROW()+1,FindCol(\"orders\",2,TimeBucketName))/$C446","v":0.6103819173811379}]
[{"$f":"Orders!A448","v":"UV4787798"},{"$f":"VLOOKUP(A447,'Product-tool'!A:E,5,0)","v":"Tool 02"},{"$f":"VLOOKUP(A447&B447,'Standard output'!A:D,4,0)","v":2681},{"$f":"INDEX(Orders!A:D,ROW()+1,FindCol(\"orders\",2,TimeBucketName))/$C447","v":0.12122342409548675}]
[{"$f":"Orders!A449","v":"UV4917026"},{"$f":"VLOOKUP(A448,'Product-tool'!A:E,5,0)","v":"Tool 17"},{"$f":"VLOOKUP(A448&B448,'Standard output'!A:D,4,0)","v":6800},{"$f":"INDEX(Orders!A:D,ROW()+1,FindCol(\"orders\",2,TimeBucketName))/$C448","v":1.1363529411764706}]
[{"$f":"Orders!A450","v":"UV4926151"},{"$f":"VLOOKUP(A449,'Product-tool'!A:E,5,0)","v":"Tool 02"},{"$f":"VLOOKUP(A449&B449,'Standard output'!A:D,4,0)","v":2601},{"$f":"INDEX(Orders!A:D,ROW()+1,FindCol(\"orders\",2,TimeBucketName))/$C449","v":0.39984621299500195}]
[{"$f":"Orders!A451","v":"UV495822"},{"$f":"VLOOKUP(A450,'Product-tool'!A:E,5,0)","v":"Tool 17"},{"$f":"VLOOKUP(A450&B450,'Standard output'!A:D,4,0)","v":6842},{"$f":"INDEX(Orders!A:D,ROW()+1,FindCol(\"orders\",2,TimeBucketName))/$C450","v":8.8541362174802699E-2}]
[{"$f":"Orders!A452","v":"UV5313868"},{"$f":"VLOOKUP(A451,'Product-tool'!A:E,5,0)","v":"Tool 15"},{"$f":"VLOOKUP(A451&B451,'Standard output'!A:D,4,0)","v":4452},{"$f":"INDEX(Orders!A:D,ROW()+1,FindCol(\"orders\",2,TimeBucketName))/$C451","v":2.8633872416891286}]
[{"$f":"Orders!A453","v":"UV5311573"},{"$f":"VLOOKUP(A452,'Product-tool'!A:E,5,0)","v":"Tool 09"},{"$f":"VLOOKUP(A452&B452,'Standard output'!A:D,4,0)","v":488},{"$f":"INDEX(Orders!A:D,ROW()+1,FindCol(\"orders\",2,TimeBucketName))/$C452","v":0.35430327868852463}]
[{"$f":"Orders!A454","v":"UV5362907"},{"$f":"VLOOKUP(A453,'Product-tool'!A:E,5,0)","v":"Tool 03"},{"$f":"VLOOKUP(A453&B453,'Standard output'!A:D,4,0)","v":2437},{"$f":"INDEX(Orders!A:D,ROW()+1,FindCol(\"orders\",2,TimeBucketName))/$C453","v":0.65346737792367671}]
[{"$f":"Orders!A455","v":"UV5366748"},{"$f":"VLOOKUP(A454,'Product-tool'!A:E,5,0)","v":"Tool 17"},{"$f":"VLOOKUP(A454&B454,'Standard output'!A:D,4,0)","v":6887},{"$f":"INDEX(Orders!A:D,ROW()+1,FindCol(\"orders\",2,TimeBucketName))/$C454","v":0.13364309568752722}]
[{"$f":"Orders!A456","v":"UV5379200"},{"$f":"VLOOKUP(A455,'Product-tool'!A:E,5,0)","v":"Tool 02"},{"$f":"VLOOKUP(A455&B455,'Standard output'!A:D,4,0)","v":2637},{"$f":"INDEX(Orders!A:D,ROW()+1,FindCol(\"orders\",2,TimeBucketName))/$C455","v":1.6391733029958286}]
[{"$f":"Orders!A457","v":"UV5416692"},{"$f":"VLOOKUP(A456,'Product-tool'!A:E,5,0)","v":"Tool 02"},{"$f":"VLOOKUP(A456&B456,'Standard output'!A:D,4,0)","v":2686},{"$f":"INDEX(Orders!A:D,ROW()+1,FindCol(\"orders\",2,TimeBucketName))/$C456","v":0.15729709605361131}]
[{"$f":"Orders!A458","v":"UV5473062"},{"$f":"VLOOKUP(A457,'Product-tool'!A:E,5,0)","v":"Tool 02"},{"$f":"VLOOKUP(A457&B457,'Standard output'!A:D,4,0)","v":2666},{"$f":"INDEX(Orders!A:D,ROW()+1,FindCol(\"orders\",2,TimeBucketName))/$C457","v":0.28428357089272316}]
[{"$f":"Orders!A459","v":"UV5494145"},{"$f":"VLOOKUP(A458,'Product-tool'!A:E,5,0)","v":"Tool 04"},{"$f":"VLOOKUP(A458&B458,'Standard output'!A:D,4,0)","v":2259},{"$f":"INDEX(Orders!A:D,ROW()+1,FindCol(\"orders\",2,TimeBucketName))/$C458","v":0.24457724656927843}]
[{"$f":"Orders!A460","v":"UV5555407"},{"$f":"VLOOKUP(A459,'Product-tool'!A:E,5,0)","v":"Tool 07"},{"$f":"VLOOKUP(A459&B459,'Standard output'!A:D,4,0)","v":6445},{"$f":"INDEX(Orders!A:D,ROW()+1,FindCol(\"orders\",2,TimeBucketName))/$C459","v":0.27553141970519784}]
[{"$f":"Orders!A461","v":"UV562824"},{"$f":"VLOOKUP(A460,'Product-tool'!A:E,5,0)","v":"Tool 03"},{"$f":"VLOOKUP(A460&B460,'Standard output'!A:D,4,0)","v":2416},{"$f":"INDEX(Orders!A:D,ROW()+1,FindCol(\"orders\",2,TimeBucketName))/$C460","v":1.1466473509933777}]
[{"$f":"Orders!A462","v":"UV5677822"},{"$f":"VLOOKUP(A461,'Product-tool'!A:E,5,0)","v":"Tool 02"},{"$f":"VLOOKUP(A461&B461,'Standard output'!A:D,4,0)","v":2682},{"$f":"INDEX(Orders!A:D,ROW()+1,FindCol(\"orders\",2,TimeBucketName))/$C461","v":0.19388516032811334}]
[{"$f":"Orders!A463","v":"UV5685234"},{"$f":"VLOOKUP(A462,'Product-tool'!A:E,5,0)","v":"Tool 09"},{"$f":"VLOOKUP(A462&B462,'Standard output'!A:D,4,0)","v":511},{"$f":"INDEX(Orders!A:D,ROW()+1,FindCol(\"orders\",2,TimeBucketName))/$C462","v":0.18317025440313114}]
[{"$f":"Orders!A464","v":"UV5689814"},{"$f":"VLOOKUP(A463,'Product-tool'!A:E,5,0)","v":"Tool 03"},{"$f":"VLOOKUP(A463&B463,'Standard output'!A:D,4,0)","v":2499},{"$f":"INDEX(Orders!A:D,ROW()+1,FindCol(\"orders\",2,TimeBucketName))/$C463","v":4.1616646658663463E-3}]
[{"$f":"Orders!A465","v":"UV5762734"},{"$f":"VLOOKUP(A464,'Product-tool'!A:E,5,0)","v":"Tool 09"},{"$f":"VLOOKUP(A464&B464,'Standard output'!A:D,4,0)","v":539},{"$f":"INDEX(Orders!A:D,ROW()+1,FindCol(\"orders\",2,TimeBucketName))/$C464","v":1.2565862708719853}]
[{"$f":"Orders!A466","v":"UV579433"},{"$f":"VLOOKUP(A465,'Product-tool'!A:E,5,0)","v":"Tool 02"},{"$f":"VLOOKUP(A465&B465,'Standard output'!A:D,4,0)","v":2623},{"$f":"INDEX(Orders!A:D,ROW()+1,FindCol(\"orders\",2,TimeBucketName))/$C465","v":0.20419367136866184}]
[{"$f":"Orders!A467","v":"UV5815295"},{"$f":"VLOOKUP(A466,'Product-tool'!A:E,5,0)","v":"Tool 02"},{"$f":"VLOOKUP(A466&B466,'Standard output'!A:D,4,0)","v":2666},{"$f":"INDEX(Orders!A:D,ROW()+1,FindCol(\"orders\",2,TimeBucketName))/$C466","v":0.12434358589647412}]
[{"$f":"Orders!A468","v":"UV5813627"},{"$f":"VLOOKUP(A467,'Product-tool'!A:E,5,0)","v":"Tool 03"},{"$f":"VLOOKUP(A467&B467,'Standard output'!A:D,4,0)","v":2412},{"$f":"INDEX(Orders!A:D,ROW()+1,FindCol(\"orders\",2,TimeBucketName))/$C467","v":0.21397180762852405}]
[{"$f":"Orders!A469","v":"UV588115"},{"$f":"VLOOKUP(A468,'Product-tool'!A:E,5,0)","v":"Tool 19"},{"$f":"VLOOKUP(A468&B468,'Standard output'!A:D,4,0)","v":10185},{"$f":"INDEX(Orders!A:D,ROW()+1,FindCol(\"orders\",2,TimeBucketName))/$C468","v":1.0211094747177222E-3}]
[{"$f":"Orders!A470","v":"UV5924094"},{"$f":"VLOOKUP(A469,'Product-tool'!A:E,5,0)","v":"Tool 15"},{"$f":"VLOOKUP(A469&B469,'Standard output'!A:D,4,0)","v":4405},{"$f":"INDEX(Orders!A:D,ROW()+1,FindCol(\"orders\",2,TimeBucketName))/$C469","v":0.72451759364358681}]
[{"$f":"Orders!A471","v":"UV5928329"},{"$f":"VLOOKUP(A470,'Product-tool'!A:E,5,0)","v":"Tool 15"},{"$f":"VLOOKUP(A470&B470,'Standard output'!A:D,4,0)","v":4436},{"$f":"INDEX(Orders!A:D,ROW()+1,FindCol(\"orders\",2,TimeBucketName))/$C470","v":9.0261496844003614E-2}]
[{"$f":"Orders!A472","v":"UV5947578"},{"$f":"VLOOKUP(A471,'Product-tool'!A:E,5,0)","v":"Tool 03"},{"$f":"VLOOKUP(A471&B471,'Standard output'!A:D,4,0)","v":2447},{"$f":"INDEX(Orders!A:D,ROW()+1,FindCol(\"orders\",2,TimeBucketName))/$C471","v":0.8170821413976298}]
[{"$f":"Orders!A473","v":"UV5956413"},{"$f":"VLOOKUP(A472,'Product-tool'!A:E,5,0)","v":"Tool 03"},{"$f":"VLOOKUP(A472&B472,'Standard output'!A:D,4,0)","v":2499},{"$f":"INDEX(Orders!A:D,ROW()+1,FindCol(\"orders\",2,TimeBucketName))/$C472","v":0.82505002000800332}]
[{"$f":"Orders!A474","v":"UV5951712"},{"$f":"VLOOKUP(A473,'Product-tool'!A:E,5,0)","v":"Tool 16"},{"$f":"VLOOKUP(A473&B473,'Standard output'!A:D,4,0)","v":6873},{"$f":"INDEX(Orders!A:D,ROW()+1,FindCol(\"orders\",2,TimeBucketName))/$C473","v":0.1259711916193802}]
[{"$f":"Orders!A475","v":"UV6238373"},{"$f":"VLOOKUP(A474,'Product-tool'!A:E,5,0)","v":"Tool 16"},{"$f":"VLOOKUP(A474&B474,'Standard output'!A:D,4,0)","v":6850},{"$f":"INDEX(Orders!A:D,ROW()+1,FindCol(\"orders\",2,TimeBucketName))/$C474","v":1.0248175182481752E-2}]
[{"$f":"Orders!A476","v":"UV6241191"},{"$f":"VLOOKUP(A475,'Product-tool'!A:E,5,0)","v":"Tool 02"},{"$f":"VLOOKUP(A475&B475,'Standard output'!A:D,4,0)","v":2620},{"$f":"INDEX(Orders!A:D,ROW()+1,FindCol(\"orders\",2,TimeBucketName))/$C475","v":2.7786259541984735}]
[{"$f":"Orders!A477","v":"UV6252256"},{"$f":"VLOOKUP(A476,'Product-tool'!A:E,5,0)","v":"Tool 07"},{"$f":"VLOOKUP(A476&B476,'Standard output'!A:D,4,0)","v":6444},{"$f":"INDEX(Orders!A:D,ROW()+1,FindCol(\"orders\",2,TimeBucketName))/$C476","v":6.6573556797020483E-3}]
[{"$f":"Orders!A478","v":"UV631601"},{"$f":"VLOOKUP(A477,'Product-tool'!A:E,5,0)","v":"Tool 17"},{"$f":"VLOOKUP(A477&B477,'Standard output'!A:D,4,0)","v":6837},{"$f":"INDEX(Orders!A:D,ROW()+1,FindCol(\"orders\",2,TimeBucketName))/$C477","v":0.20269123884744769}]
[{"$f":"Orders!A479","v":"UV6411805"},{"$f":"VLOOKUP(A478,'Product-tool'!A:E,5,0)","v":"Tool 02"},{"$f":"VLOOKUP(A478&B478,'Standard output'!A:D,4,0)","v":2642},{"$f":"INDEX(Orders!A:D,ROW()+1,FindCol(\"orders\",2,TimeBucketName))/$C478","v":8.2211960635881915}]
[{"$f":"Orders!A480","v":"UV6937295"},{"$f":"VLOOKUP(A479,'Product-tool'!A:E,5,0)","v":"Tool 02"},{"$f":"VLOOKUP(A479&B479,'Standard output'!A:D,4,0)","v":2674},{"$f":"INDEX(Orders!A:D,ROW()+1,FindCol(\"orders\",2,TimeBucketName))/$C479","v":2.7225130890052355E-2}]
[{"$f":"Orders!A481","v":"UV8505006"},{"$f":"VLOOKUP(A480,'Product-tool'!A:E,5,0)","v":"Tool 02"},{"$f":"VLOOKUP(A480&B480,'Standard output'!A:D,4,0)","v":2607},{"$f":"INDEX(Orders!A:D,ROW()+1,FindCol(\"orders\",2,TimeBucketName))/$C480","v":2.5032604526275413}]
[{"$f":"Orders!A482","v":"UV8538779"},{"$f":"VLOOKUP(A481,'Product-tool'!A:E,5,0)","v":"Tool 02"},{"$f":"VLOOKUP(A481&B481,'Standard output'!A:D,4,0)","v":2632},{"$f":"INDEX(Orders!A:D,ROW()+1,FindCol(\"orders\",2,TimeBucketName))/$C481","v":0.80064589665653507}]
[{"$f":"Orders!A483","v":"VE8008533"},{"$f":"VLOOKUP(A482,'Product-tool'!A:E,5,0)","v":"Tool 02"},{"$f":"VLOOKUP(A482&B482,'Standard output'!A:D,4,0)","v":2683},{"$f":"INDEX(Orders!A:D,ROW()+1,FindCol(\"orders\",2,TimeBucketName))/$C482","v":7.7525158404770783E-3}]
[{"$f":"Orders!A484","v":"VE8096041"},{"$f":"VLOOKUP(A483,'Product-tool'!A:E,5,0)","v":"Tool 02"},{"$f":"VLOOKUP(A483&B483,'Standard output'!A:D,4,0)","v":2642},{"$f":"INDEX(Orders!A:D,ROW()+1,FindCol(\"orders\",2,TimeBucketName))/$C483","v":0.40987887963663894}]
[{"$f":"Orders!A485","v":"VE8166035"},{"$f":"VLOOKUP(A484,'Product-tool'!A:E,5,0)","v":"Tool 02"},{"$f":"VLOOKUP(A484&B484,'Standard output'!A:D,4,0)","v":2663},{"$f":"INDEX(Orders!A:D,ROW()+1,FindCol(\"orders\",2,TimeBucketName))/$C484","v":2.2778069846038305}]
[{"$f":"Orders!A486","v":"VE8168353"},{"$f":"VLOOKUP(A485,'Product-tool'!A:E,5,0)","v":"Tool 02"},{"$f":"VLOOKUP(A485&B485,'Standard output'!A:D,4,0)","v":2625},{"$f":"INDEX(Orders!A:D,ROW()+1,FindCol(\"orders\",2,TimeBucketName))/$C485","v":3.1363428571428571}]
[{"$f":"Orders!A487","v":"VE8207633"},{"$f":"VLOOKUP(A486,'Product-tool'!A:E,5,0)","v":"Tool 17"},{"$f":"VLOOKUP(A486&B486,'Standard output'!A:D,4,0)","v":6868},{"$f":"INDEX(Orders!A:D,ROW()+1,FindCol(\"orders\",2,TimeBucketName))/$C486","v":0.15767326732673267}]
[{"$f":"Orders!A488","v":"Z00307730"},{"$f":"VLOOKUP(A487,'Product-tool'!A:E,5,0)","v":"Tool 19"},{"$f":"VLOOKUP(A487&B487,'Standard output'!A:D,4,0)","v":10208},{"$f":"INDEX(Orders!A:D,ROW()+1,FindCol(\"orders\",2,TimeBucketName))/$C487","v":5.7307993730407521E-2}]
[{"$f":"Orders!A489","v":"ZD1446821"},{"$f":"VLOOKUP(A488,'Product-tool'!A:E,5,0)","v":"Tool 05"},{"$f":"VLOOKUP(A488&B488,'Standard output'!A:D,4,0)","v":1253},{"$f":"INDEX(Orders!A:D,ROW()+1,FindCol(\"orders\",2,TimeBucketName))/$C488","v":0.81029529130087796}]
[{"$f":"Orders!A490","v":"ZD1471989"},{"$f":"VLOOKUP(A489,'Product-tool'!A:E,5,0)","v":"Tool 05"},{"$f":"VLOOKUP(A489&B489,'Standard output'!A:D,4,0)","v":1265},{"$f":"INDEX(Orders!A:D,ROW()+1,FindCol(\"orders\",2,TimeBucketName))/$C489","v":1.3873517786561265}]
[{"$f":"Orders!A491","v":"ZD173254"},{"$f":"VLOOKUP(A490,'Product-tool'!A:E,5,0)","v":"Tool 05"},{"$f":"VLOOKUP(A490&B490,'Standard output'!A:D,4,0)","v":1226},{"$f":"INDEX(Orders!A:D,ROW()+1,FindCol(\"orders\",2,TimeBucketName))/$C490","v":7.4225122349102772}]
[{"$f":"Orders!A492","v":"ZD2443045"},{"$f":"VLOOKUP(A491,'Product-tool'!A:E,5,0)","v":"Tool 02"},{"$f":"VLOOKUP(A491&B491,'Standard output'!A:D,4,0)","v":2632},{"$f":"INDEX(Orders!A:D,ROW()+1,FindCol(\"orders\",2,TimeBucketName))/$C491","v":8.396656534954408}]
[{"$f":"Orders!A493","v":"VE8109961"},{"$f":"VLOOKUP(A492,'Product-tool'!A:E,5,0)","v":"Tool 10"},{"$f":"VLOOKUP(A492&B492,'Standard output'!A:D,4,0)","v":1604},{"$f":"INDEX(Orders!A:D,ROW()+1,FindCol(\"orders\",2,TimeBucketName))/$C492","v":3.6333541147132173}]
[{"$f":"Orders!A494","v":"VE5219409"},{"$f":"VLOOKUP(A493,'Product-tool'!A:E,5,0)","v":"Tool 03"},{"$f":"VLOOKUP(A493&B493,'Standard output'!A:D,4,0)","v":2479},{"$f":"INDEX(Orders!A:D,ROW()+1,FindCol(\"orders\",2,TimeBucketName))/$C493","v":0.19350544574425171}]
[{"$f":"Orders!A495","v":0},{"$f":"VLOOKUP(A494,'Product-tool'!A:E,5,0)","v":{"$error":"#N/A"}},{"$f":"VLOOKUP(A494&B494,'Standard output'!A:D,4,0)","v":{"$error":"#N/A"}},{"$f":"INDEX(Orders!A:D,ROW()+1,FindCol(\"orders\",2,TimeBucketName))/$C494","v":{"$error":"#N/A"}}]
[{"$f":"Orders!A496","v":0},{"$f":"VLOOKUP(A495,'Product-tool'!A:E,5,0)","v":{"$error":"#N/A"}},{"$f":"VLOOKUP(A495&B495,'Standard output'!A:D,4,0)","v":{"$error":"#N/A"}},{"$f":"INDEX(Orders!A:D,ROW()+1,FindCol(\"orders\",2,TimeBucketName))/$C495","v":{"$error":"#N/A"}}]
[{"$f":"Orders!A497","v":0},{"$f":"VLOOKUP(A496,'Product-tool'!A:E,5,0)","v":{"$error":"#N/A"}},{"$f":"VLOOKUP(A496&B496,'Standard output'!A:D,4,0)","v":{"$error":"#N/A"}},{"$f":"INDEX(Orders!A:D,ROW()+1,FindCol(\"orders\",2,TimeBucketName))/$C496","v":{"$error":"#N/A"}}]
[{"$f":"Orders!A498","v":0},{"$f":"VLOOKUP(A497,'Product-tool'!A:E,5,0)","v":{"$error":"#N/A"}},{"$f":"VLOOKUP(A497&B497,'Standard output'!A:D,4,0)","v":{"$error":"#N/A"}},{"$f":"INDEX(Orders!A:D,ROW()+1,FindCol(\"orders\",2,TimeBucketName))/$C497","v":{"$error":"#N/A"}}]
[{"$f":"Orders!A499","v":0},{"$f":"VLOOKUP(A498,'Product-tool'!A:E,5,0)","v":{"$error":"#N/A"}},{"$f":"VLOOKUP(A498&B498,'Standard output'!A:D,4,0)","v":{"$error":"#N/A"}},{"$f":"INDEX(Orders!A:D,ROW()+1,FindCol(\"orders\",2,TimeBucketName))/$C498","v":{"$error":"#N/A"}}]
[{"$f":"Orders!A500","v":0},{"$f":"VLOOKUP(A499,'Product-tool'!A:E,5,0)","v":{"$error":"#N/A"}},{"$f":"VLOOKUP(A499&B499,'Standard output'!A:D,4,0)","v":{"$error":"#N/A"}},{"$f":"INDEX(Orders!A:D,ROW()+1,FindCol(\"orders\",2,TimeBucketName))/$C499","v":{"$error":"#N/A"}}]
[{"$f":"Orders!A501","v":0},{"$f":"VLOOKUP(A500,'Product-tool'!A:E,5,0)","v":{"$error":"#N/A"}},{"$f":"VLOOKUP(A500&B500,'Standard output'!A:D,4,0)","v":{"$error":"#N/A"}},{"$f":"INDEX(Orders!A:D,ROW()+1,FindCol(\"orders\",2,TimeBucketName))/$C500","v":{"$error":"#N/A"}}]
[{"$f":"Orders!A502","v":0},{"$f":"VLOOKUP(A501,'Product-tool'!A:E,5,0)","v":{"$error":"#N/A"}},{"$f":"VLOOKUP(A501&B501,'Standard output'!A:D,4,0)","v":{"$error":"#N/A"}},{"$f":"INDEX(Orders!A:D,ROW()+1,FindCol(\"orders\",2,TimeBucketName))/$C501","v":{"$error":"#N/A"}}]
[{"$f":"Orders!A503","v":0},{"$f":"VLOOKUP(A502,'Product-tool'!A:E,5,0)","v":{"$error":"#N/A"}},{"$f":"VLOOKUP(A502&B502,'Standard output'!A:D,4,0)","v":{"$error":"#N/A"}},{"$f":"INDEX(Orders!A:D,ROW()+1,FindCol(\"orders\",2,TimeBucketName))/$C502","v":{"$error":"#N/A"}}]
[{"$f":"Orders!A504","v":0},{"$f":"VLOOKUP(A503,'Product-tool'!A:E,5,0)","v":{"$error":"#N/A"}},{"$f":"VLOOKUP(A503&B503,'Standard output'!A:D,4,0)","v":{"$error":"#N/A"}},{"$f":"INDEX(Orders!A:D,ROW()+1,FindCol(\"orders\",2,TimeBucketName))/$C503","v":{"$error":"#N/A"}}]
[{"$f":"Orders!A505","v":0},{"$f":"VLOOKUP(A504,'Product-tool'!A:E,5,0)","v":{"$error":"#N/A"}},{"$f":"VLOOKUP(A504&B504,'Standard output'!A:D,4,0)","v":{"$error":"#N/A"}},{"$f":"INDEX(Orders!A:D,ROW()+1,FindCol(\"orders\",2,TimeBucketName))/$C504","v":{"$error":"#N/A"}}]
[{"$f":"Orders!A506","v":0},{"$f":"VLOOKUP(A505,'Product-tool'!A:E,5,0)","v":{"$error":"#N/A"}},{"$f":"VLOOKUP(A505&B505,'Standard output'!A:D,4,0)","v":{"$error":"#N/A"}},{"$f":"INDEX(Orders!A:D,ROW()+1,FindCol(\"orders\",2,TimeBucketName))/$C505","v":{"$error":"#N/A"}}]
[{"$f":"Orders!A507","v":0},{"$f":"VLOOKUP(A506,'Product-tool'!A:E,5,0)","v":{"$error":"#N/A"}},{"$f":"VLOOKUP(A506&B506,'Standard output'!A:D,4,0)","v":{"$error":"#N/A"}},{"$f":"INDEX(Orders!A:D,ROW()+1,FindCol(\"orders\",2,TimeBucketName))/$C506","v":{"$error":"#N/A"}}]
[{"$f":"Orders!A508","v":0},{"$f":"VLOOKUP(A507,'Product-tool'!A:E,5,0)","v":{"$error":"#N/A"}},{"$f":"VLOOKUP(A507&B507,'Standard output'!A:D,4,0)","v":{"$error":"#N/A"}},{"$f":"INDEX(Orders!A:D,ROW()+1,FindCol(\"orders\",2,TimeBucketName))/$C507","v":{"$error":"#N/A"}}]
[{"$f":"Orders!A509","v":0},{"$f":"VLOOKUP(A508,'Product-tool'!A:E,5,0)","v":{"$error":"#N/A"}},{"$f":"VLOOKUP(A508&B508,'Standard output'!A:D,4,0)","v":{"$error":"#N/A"}},{"$f":"INDEX(Orders!A:D,ROW()+1,FindCol(\"orders\",2,TimeBucketName))/$C508","v":{"$error":"#N/A"}}]
[{"$f":"Orders!A510","v":0},{"$f":"VLOOKUP(A509,'Product-tool'!A:E,5,0)","v":{"$error":"#N/A"}},{"$f":"VLOOKUP(A509&B509,'Standard output'!A:D,4,0)","v":{"$error":"#N/A"}},{"$f":"INDEX(Orders!A:D,ROW()+1,FindCol(\"orders\",2,TimeBucketName))/$C509","v":{"$error":"#N/A"}}]
[{"$f":"Orders!A511","v":0},{"$f":"VLOOKUP(A510,'Product-tool'!A:E,5,0)","v":{"$error":"#N/A"}},{"$f":"VLOOKUP(A510&B510,'Standard output'!A:D,4,0)","v":{"$error":"#N/A"}},{"$f":"INDEX(Orders!A:D,ROW()+1,FindCol(\"orders\",2,TimeBucketName))/$C510","v":{"$error":"#N/A"}}]
[{"$f":"Orders!A512","v":0},{"$f":"VLOOKUP(A511,'Product-tool'!A:E,5,0)","v":{"$error":"#N/A"}},{"$f":"VLOOKUP(A511&B511,'Standard output'!A:D,4,0)","v":{"$error":"#N/A"}},{"$f":"INDEX(Orders!A:D,ROW()+1,FindCol(\"orders\",2,TimeBucketName))/$C511","v":{"$error":"#N/A"}}]
[{"$f":"Orders!A513","v":0},{"$f":"VLOOKUP(A512,'Product-tool'!A:E,5,0)","v":{"$error":"#N/A"}},{"$f":"VLOOKUP(A512&B512,'Standard output'!A:D,4,0)","v":{"$error":"#N/A"}},{"$f":"INDEX(Orders!A:D,ROW()+1,FindCol(\"orders\",2,TimeBucketName))/$C512","v":{"$error":"#N/A"}}]
[{"$f":"Orders!A514","v":0},{"$f":"VLOOKUP(A513,'Product-tool'!A:E,5,0)","v":{"$error":"#N/A"}},{"$f":"VLOOKUP(A513&B513,'Standard output'!A:D,4,0)","v":{"$error":"#N/A"}},{"$f":"INDEX(Orders!A:D,ROW()+1,FindCol(\"orders\",2,TimeBucketName))/$C513","v":{"$error":"#N/A"}}]
[{"$f":"Orders!A515","v":0},{"$f":"VLOOKUP(A514,'Product-tool'!A:E,5,0)","v":{"$error":"#N/A"}},{"$f":"VLOOKUP(A514&B514,'Standard output'!A:D,4,0)","v":{"$error":"#N/A"}},{"$f":"INDEX(Orders!A:D,ROW()+1,FindCol(\"orders\",2,TimeBucketName))/$C514","v":{"$error":"#N/A"}}]
[{"$f":"Orders!A516","v":0},{"$f":"VLOOKUP(A515,'Product-tool'!A:E,5,0)","v":{"$error":"#N/A"}},{"$f":"VLOOKUP(A515&B515,'Standard output'!A:D,4,0)","v":{"$error":"#N/A"}},{"$f":"INDEX(Orders!A:D,ROW()+1,FindCol(\"orders\",2,TimeBucketName))/$C515","v":{"$error":"#N/A"}}]
[{"$f":"Orders!A517","v":0},{"$f":"VLOOKUP(A516,'Product-tool'!A:E,5,0)","v":{"$error":"#N/A"}},{"$f":"VLOOKUP(A516&B516,'Standard output'!A:D,4,0)","v":{"$error":"#N/A"}},{"$f":"INDEX(Orders!A:D,ROW()+1,FindCol(\"orders\",2,TimeBucketName))/$C516","v":{"$error":"#N/A"}}]
[{"$f":"Orders!A518","v":0},{"$f":"VLOOKUP(A517,'Product-tool'!A:E,5,0)","v":{"$error":"#N/A"}},{"$f":"VLOOKUP(A517&B517,'Standard output'!A:D,4,0)","v":{"$error":"#N/A"}},{"$f":"INDEX(Orders!A:D,ROW()+1,FindCol(\"orders\",2,TimeBucketName))/$C517","v":{"$error":"#N/A"}}]
[{"$f":"Orders!A519","v":0},{"$f":"VLOOKUP(A518,'Product-tool'!A:E,5,0)","v":{"$error":"#N/A"}},{"$f":"VLOOKUP(A518&B518,'Standard output'!A:D,4,0)","v":{"$error":"#N/A"}},{"$f":"INDEX(Orders!A:D,ROW()+1,FindCol(\"orders\",2,TimeBucketName))/$C518","v":{"$error":"#N/A"}}]
[{"$f":"Orders!A520","v":0},{"$f":"VLOOKUP(A519,'Product-tool'!A:E,5,0)","v":{"$error":"#N/A"}},{"$f":"VLOOKUP(A519&B519,'Standard output'!A:D,4,0)","v":{"$error":"#N/A"}},{"$f":"INDEX(Orders!A:D,ROW()+1,FindCol(\"orders\",2,TimeBucketName))/$C519","v":{"$error":"#N/A"}}]
[{"$f":"Orders!A521","v":0},{"$f":"VLOOKUP(A520,'Product-tool'!A:E,5,0)","v":{"$error":"#N/A"}},{"$f":"VLOOKUP(A520&B520,'Standard output'!A:D,4,0)","v":{"$error":"#N/A"}},{"$f":"INDEX(Orders!A:D,ROW()+1,FindCol(\"orders\",2,TimeBucketName))/$C520","v":{"$error":"#N/A"}}]
[{"$f":"Orders!A522","v":0},{"$f":"VLOOKUP(A521,'Product-tool'!A:E,5,0)","v":{"$error":"#N/A"}},{"$f":"VLOOKUP(A521&B521,'Standard output'!A:D,4,0)","v":{"$error":"#N/A"}},{"$f":"INDEX(Orders!A:D,ROW()+1,FindCol(\"orders\",2,TimeBucketName))/$C521","v":{"$error":"#N/A"}}]
[{"$f":"Orders!A523","v":0},{"$f":"VLOOKUP(A522,'Product-tool'!A:E,5,0)","v":{"$error":"#N/A"}},{"$f":"VLOOKUP(A522&B522,'Standard output'!A:D,4,0)","v":{"$error":"#N/A"}},{"$f":"INDEX(Orders!A:D,ROW()+1,FindCol(\"orders\",2,TimeBucketName))/$C522","v":{"$error":"#N/A"}}]
[{"$f":"Orders!A524","v":0},{"$f":"VLOOKUP(A523,'Product-tool'!A:E,5,0)","v":{"$error":"#N/A"}},{"$f":"VLOOKUP(A523&B523,'Standard output'!A:D,4,0)","v":{"$error":"#N/A"}},{"$f":"INDEX(Orders!A:D,ROW()+1,FindCol(\"orders\",2,TimeBucketName))/$C523","v":{"$error":"#N/A"}}]
[{"$f":"Orders!A525","v":0},{"$f":"VLOOKUP(A524,'Product-tool'!A:E,5,0)","v":{"$error":"#N/A"}},{"$f":"VLOOKUP(A524&B524,'Standard output'!A:D,4,0)","v":{"$error":"#N/A"}},{"$f":"INDEX(Orders!A:D,ROW()+1,FindCol(\"orders\",2,TimeBucketName))/$C524","v":{"$error":"#N/A"}}]
[{"$f":"Orders!A526","v":0},{"$f":"VLOOKUP(A525,'Product-tool'!A:E,5,0)","v":{"$error":"#N/A"}},{"$f":"VLOOKUP(A525&B525,'Standard output'!A:D,4,0)","v":{"$error":"#N/A"}},{"$f":"INDEX(Orders!A:D,ROW()+1,FindCol(\"orders\",2,TimeBucketName))/$C525","v":{"$error":"#N/A"}}]
[{"$f":"Orders!A527","v":0},{"$f":"VLOOKUP(A526,'Product-tool'!A:E,5,0)","v":{"$error":"#N/A"}},{"$f":"VLOOKUP(A526&B526,'Standard output'!A:D,4,0)","v":{"$error":"#N/A"}},{"$f":"INDEX(Orders!A:D,ROW()+1,FindCol(\"orders\",2,TimeBucketName))/$C526","v":{"$error":"#N/A"}}]
[{"$f":"Orders!A528","v":0},{"$f":"VLOOKUP(A527,'Product-tool'!A:E,5,0)","v":{"$error":"#N/A"}},{"$f":"VLOOKUP(A527&B527,'Standard output'!A:D,4,0)","v":{"$error":"#N/A"}},{"$f":"INDEX(Orders!A:D,ROW()+1,FindCol(\"orders\",2,TimeBucketName))/$C527","v":{"$error":"#N/A"}}]
[{"$f":"Orders!A529","v":0},{"$f":"VLOOKUP(A528,'Product-tool'!A:E,5,0)","v":{"$error":"#N/A"}},{"$f":"VLOOKUP(A528&B528,'Standard output'!A:D,4,0)","v":{"$error":"#N/A"}},{"$f":"INDEX(Orders!A:D,ROW()+1,FindCol(\"orders\",2,TimeBucketName))/$C528","v":{"$error":"#N/A"}}]
[{"$f":"Orders!A530","v":0},{"$f":"VLOOKUP(A529,'Product-tool'!A:E,5,0)","v":{"$error":"#N/A"}},{"$f":"VLOOKUP(A529&B529,'Standard output'!A:D,4,0)","v":{"$error":"#N/A"}},{"$f":"INDEX(Orders!A:D,ROW()+1,FindCol(\"orders\",2,TimeBucketName))/$C529","v":{"$error":"#N/A"}}]
[{"$f":"Orders!A531","v":0},{"$f":"VLOOKUP(A530,'Product-tool'!A:E,5,0)","v":{"$error":"#N/A"}},{"$f":"VLOOKUP(A530&B530,'Standard output'!A:D,4,0)","v":{"$error":"#N/A"}},{"$f":"INDEX(Orders!A:D,ROW()+1,FindCol(\"orders\",2,TimeBucketName))/$C530","v":{"$error":"#N/A"}}]
[{"$f":"Orders!A532","v":0},{"$f":"VLOOKUP(A531,'Product-tool'!A:E,5,0)","v":{"$error":"#N/A"}},{"$f":"VLOOKUP(A531&B531,'Standard output'!A:D,4,0)","v":{"$error":"#N/A"}},{"$f":"INDEX(Orders!A:D,ROW()+1,FindCol(\"orders\",2,TimeBucketName))/$C531","v":{"$error":"#N/A"}}]
[{"$f":"Orders!A533","v":0},{"$f":"VLOOKUP(A532,'Product-tool'!A:E,5,0)","v":{"$error":"#N/A"}},{"$f":"VLOOKUP(A532&B532,'Standard output'!A:D,4,0)","v":{"$error":"#N/A"}},{"$f":"INDEX(Orders!A:D,ROW()+1,FindCol(\"orders\",2,TimeBucketName))/$C532","v":{"$error":"#N/A"}}]
[{"$f":"Orders!A534","v":0},{"$f":"VLOOKUP(A533,'Product-tool'!A:E,5,0)","v":{"$error":"#N/A"}},{"$f":"VLOOKUP(A533&B533,'Standard output'!A:D,4,0)","v":{"$error":"#N/A"}},{"$f":"INDEX(Orders!A:D,ROW()+1,FindCol(\"orders\",2,TimeBucketName))/$C533","v":{"$error":"#N/A"}}]
[{"$f":"Orders!A535","v":0},{"$f":"VLOOKUP(A534,'Product-tool'!A:E,5,0)","v":{"$error":"#N/A"}},{"$f":"VLOOKUP(A534&B534,'Standard output'!A:D,4,0)","v":{"$error":"#N/A"}},{"$f":"INDEX(Orders!A:D,ROW()+1,FindCol(\"orders\",2,TimeBucketName))/$C534","v":{"$error":"#N/A"}}]
[{"$f":"Orders!A536","v":0},{"$f":"VLOOKUP(A535,'Product-tool'!A:E,5,0)","v":{"$error":"#N/A"}},{"$f":"VLOOKUP(A535&B535,'Standard output'!A:D,4,0)","v":{"$error":"#N/A"}},{"$f":"INDEX(Orders!A:D,ROW()+1,FindCol(\"orders\",2,TimeBucketName))/$C535","v":{"$error":"#N/A"}}]
[{"$f":"Orders!A537","v":0},{"$f":"VLOOKUP(A536,'Product-tool'!A:E,5,0)","v":{"$error":"#N/A"}},{"$f":"VLOOKUP(A536&B536,'Standard output'!A:D,4,0)","v":{"$error":"#N/A"}},{"$f":"INDEX(Orders!A:D,ROW()+1,FindCol(\"orders\",2,TimeBucketName))/$C536","v":{"$error":"#N/A"}}]
[{"$f":"Orders!A538","v":0},{"$f":"VLOOKUP(A537,'Product-tool'!A:E,5,0)","v":{"$error":"#N/A"}},{"$f":"VLOOKUP(A537&B537,'Standard output'!A:D,4,0)","v":{"$error":"#N/A"}},{"$f":"INDEX(Orders!A:D,ROW()+1,FindCol(\"orders\",2,TimeBucketName))/$C537","v":{"$error":"#N/A"}}]
[{"$f":"Orders!A539","v":0},{"$f":"VLOOKUP(A538,'Product-tool'!A:E,5,0)","v":{"$error":"#N/A"}},{"$f":"VLOOKUP(A538&B538,'Standard output'!A:D,4,0)","v":{"$error":"#N/A"}},{"$f":"INDEX(Orders!A:D,ROW()+1,FindCol(\"orders\",2,TimeBucketName))/$C538","v":{"$error":"#N/A"}}]
[{"$f":"Orders!A540","v":0},{"$f":"VLOOKUP(A539,'Product-tool'!A:E,5,0)","v":{"$error":"#N/A"}},{"$f":"VLOOKUP(A539&B539,'Standard output'!A:D,4,0)","v":{"$error":"#N/A"}},{"$f":"INDEX(Orders!A:D,ROW()+1,FindCol(\"orders\",2,TimeBucketName))/$C539","v":{"$error":"#N/A"}}]
[{"$f":"Orders!A541","v":0},{"$f":"VLOOKUP(A540,'Product-tool'!A:E,5,0)","v":{"$error":"#N/A"}},{"$f":"VLOOKUP(A540&B540,'Standard output'!A:D,4,0)","v":{"$error":"#N/A"}},{"$f":"INDEX(Orders!A:D,ROW()+1,FindCol(\"orders\",2,TimeBucketName))/$C540","v":{"$error":"#N/A"}}]
[{"$f":"Orders!A542","v":0},{"$f":"VLOOKUP(A541,'Product-tool'!A:E,5,0)","v":{"$error":"#N/A"}},{"$f":"VLOOKUP(A541&B541,'Standard output'!A:D,4,0)","v":{"$error":"#N/A"}},{"$f":"INDEX(Orders!A:D,ROW()+1,FindCol(\"orders\",2,TimeBucketName))/$C541","v":{"$error":"#N/A"}}]
[{"$f":"Orders!A543","v":0},{"$f":"VLOOKUP(A542,'Product-tool'!A:E,5,0)","v":{"$error":"#N/A"}},{"$f":"VLOOKUP(A542&B542,'Standard output'!A:D,4,0)","v":{"$error":"#N/A"}},{"$f":"INDEX(Orders!A:D,ROW()+1,FindCol(\"orders\",2,TimeBucketName))/$C542","v":{"$error":"#N/A"}}]
[{"$f":"Orders!A544","v":0},{"$f":"VLOOKUP(A543,'Product-tool'!A:E,5,0)","v":{"$error":"#N/A"}},{"$f":"VLOOKUP(A543&B543,'Standard output'!A:D,4,0)","v":{"$error":"#N/A"}},{"$f":"INDEX(Orders!A:D,ROW()+1,FindCol(\"orders\",2,TimeBucketName))/$C543","v":{"$error":"#N/A"}}]
[{"$f":"Orders!A545","v":0},{"$f":"VLOOKUP(A544,'Product-tool'!A:E,5,0)","v":{"$error":"#N/A"}},{"$f":"VLOOKUP(A544&B544,'Standard output'!A:D,4,0)","v":{"$error":"#N/A"}},{"$f":"INDEX(Orders!A:D,ROW()+1,FindCol(\"orders\",2,TimeBucketName))/$C544","v":{"$error":"#N/A"}}]
[{"$f":"Orders!A546","v":0},{"$f":"VLOOKUP(A545,'Product-tool'!A:E,5,0)","v":{"$error":"#N/A"}},{"$f":"VLOOKUP(A545&B545,'Standard output'!A:D,4,0)","v":{"$error":"#N/A"}},{"$f":"INDEX(Orders!A:D,ROW()+1,FindCol(\"orders\",2,TimeBucketName))/$C545","v":{"$error":"#N/A"}}]
[{"$f":"Orders!A547","v":0},{"$f":"VLOOKUP(A546,'Product-tool'!A:E,5,0)","v":{"$error":"#N/A"}},{"$f":"VLOOKUP(A546&B546,'Standard output'!A:D,4,0)","v":{"$error":"#N/A"}},{"$f":"INDEX(Orders!A:D,ROW()+1,FindCol(\"orders\",2,TimeBucketName))/$C546","v":{"$error":"#N/A"}}]
[{"$f":"Orders!A548","v":0},{"$f":"VLOOKUP(A547,'Product-tool'!A:E,5,0)","v":{"$error":"#N/A"}},{"$f":"VLOOKUP(A547&B547,'Standard output'!A:D,4,0)","v":{"$error":"#N/A"}},{"$f":"INDEX(Orders!A:D,ROW()+1,FindCol(\"orders\",2,TimeBucketName))/$C547","v":{"$error":"#N/A"}}]
[{"$f":"Orders!A549","v":0},{"$f":"VLOOKUP(A548,'Product-tool'!A:E,5,0)","v":{"$error":"#N/A"}},{"$f":"VLOOKUP(A548&B548,'Standard output'!A:D,4,0)","v":{"$error":"#N/A"}},{"$f":"INDEX(Orders!A:D,ROW()+1,FindCol(\"orders\",2,TimeBucketName))/$C548","v":{"$error":"#N/A"}}]
[{"$f":"Orders!A550","v":0},{"$f":"VLOOKUP(A549,'Product-tool'!A:E,5,0)","v":{"$error":"#N/A"}},{"$f":"VLOOKUP(A549&B549,'Standard output'!A:D,4,0)","v":{"$error":"#N/A"}},{"$f":"INDEX(Orders!A:D,ROW()+1,FindCol(\"orders\",2,TimeBucketName))/$C549","v":{"$error":"#N/A"}}]
[{"$f":"Orders!A551","v":0},{"$f":"VLOOKUP(A550,'Product-tool'!A:E,5,0)","v":{"$error":"#N/A"}},{"$f":"VLOOKUP(A550&B550,'Standard output'!A:D,4,0)","v":{"$error":"#N/A"}},{"$f":"INDEX(Orders!A:D,ROW()+1,FindCol(\"orders\",2,TimeBucketName))/$C550","v":{"$error":"#N/A"}}]
[{"$f":"Orders!A552","v":0},{"$f":"VLOOKUP(A551,'Product-tool'!A:E,5,0)","v":{"$error":"#N/A"}},{"$f":"VLOOKUP(A551&B551,'Standard output'!A:D,4,0)","v":{"$error":"#N/A"}},{"$f":"INDEX(Orders!A:D,ROW()+1,FindCol(\"orders\",2,TimeBucketName))/$C551","v":{"$error":"#N/A"}}]
[{"$f":"Orders!A553","v":0},{"$f":"VLOOKUP(A552,'Product-tool'!A:E,5,0)","v":{"$error":"#N/A"}},{"$f":"VLOOKUP(A552&B552,'Standard output'!A:D,4,0)","v":{"$error":"#N/A"}},{"$f":"INDEX(Orders!A:D,ROW()+1,FindCol(\"orders\",2,TimeBucketName))/$C552","v":{"$error":"#N/A"}}]
[{"$f":"Orders!A554","v":0},{"$f":"VLOOKUP(A553,'Product-tool'!A:E,5,0)","v":{"$error":"#N/A"}},{"$f":"VLOOKUP(A553&B553,'Standard output'!A:D,4,0)","v":{"$error":"#N/A"}},{"$f":"INDEX(Orders!A:D,ROW()+1,FindCol(\"orders\",2,TimeBucketName))/$C553","v":{"$error":"#N/A"}}]
[{"$f":"Orders!A555","v":0},{"$f":"VLOOKUP(A554,'Product-tool'!A:E,5,0)","v":{"$error":"#N/A"}},{"$f":"VLOOKUP(A554&B554,'Standard output'!A:D,4,0)","v":{"$error":"#N/A"}},{"$f":"INDEX(Orders!A:D,ROW()+1,FindCol(\"orders\",2,TimeBucketName))/$C554","v":{"$error":"#N/A"}}]
[{"$f":"Orders!A556","v":0},{"$f":"VLOOKUP(A555,'Product-tool'!A:E,5,0)","v":{"$error":"#N/A"}},{"$f":"VLOOKUP(A555&B555,'Standard output'!A:D,4,0)","v":{"$error":"#N/A"}},{"$f":"INDEX(Orders!A:D,ROW()+1,FindCol(\"orders\",2,TimeBucketName))/$C555","v":{"$error":"#N/A"}}]
[{"$f":"Orders!A557","v":0},{"$f":"VLOOKUP(A556,'Product-tool'!A:E,5,0)","v":{"$error":"#N/A"}},{"$f":"VLOOKUP(A556&B556,'Standard output'!A:D,4,0)","v":{"$error":"#N/A"}},{"$f":"INDEX(Orders!A:D,ROW()+1,FindCol(\"orders\",2,TimeBucketName))/$C556","v":{"$error":"#N/A"}}]
[{"$f":"Orders!A558","v":0},{"$f":"VLOOKUP(A557,'Product-tool'!A:E,5,0)","v":{"$error":"#N/A"}},{"$f":"VLOOKUP(A557&B557,'Standard output'!A:D,4,0)","v":{"$error":"#N/A"}},{"$f":"INDEX(Orders!A:D,ROW()+1,FindCol(\"orders\",2,TimeBucketName))/$C557","v":{"$error":"#N/A"}}]
[{"$f":"Orders!A559","v":0},{"$f":"VLOOKUP(A558,'Product-tool'!A:E,5,0)","v":{"$error":"#N/A"}},{"$f":"VLOOKUP(A558&B558,'Standard output'!A:D,4,0)","v":{"$error":"#N/A"}},{"$f":"INDEX(Orders!A:D,ROW()+1,FindCol(\"orders\",2,TimeBucketName))/$C558","v":{"$error":"#N/A"}}]
[{"$f":"Orders!A560","v":0},{"$f":"VLOOKUP(A559,'Product-tool'!A:E,5,0)","v":{"$error":"#N/A"}},{"$f":"VLOOKUP(A559&B559,'Standard output'!A:D,4,0)","v":{"$error":"#N/A"}},{"$f":"INDEX(Orders!A:D,ROW()+1,FindCol(\"orders\",2,TimeBucketName))/$C559","v":{"$error":"#N/A"}}]
[{"$f":"Orders!A561","v":0},{"$f":"VLOOKUP(A560,'Product-tool'!A:E,5,0)","v":{"$error":"#N/A"}},{"$f":"VLOOKUP(A560&B560,'Standard output'!A:D,4,0)","v":{"$error":"#N/A"}},{"$f":"INDEX(Orders!A:D,ROW()+1,FindCol(\"orders\",2,TimeBucketName))/$C560","v":{"$error":"#N/A"}}]
[{"$f":"Orders!A562","v":0},{"$f":"VLOOKUP(A561,'Product-tool'!A:E,5,0)","v":{"$error":"#N/A"}},{"$f":"VLOOKUP(A561&B561,'Standard output'!A:D,4,0)","v":{"$error":"#N/A"}},{"$f":"INDEX(Orders!A:D,ROW()+1,FindCol(\"orders\",2,TimeBucketName))/$C561","v":{"$error":"#N/A"}}]
[{"$f":"Orders!A563","v":0},{"$f":"VLOOKUP(A562,'Product-tool'!A:E,5,0)","v":{"$error":"#N/A"}},{"$f":"VLOOKUP(A562&B562,'Standard output'!A:D,4,0)","v":{"$error":"#N/A"}},{"$f":"INDEX(Orders!A:D,ROW()+1,FindCol(\"orders\",2,TimeBucketName))/$C562","v":{"$error":"#N/A"}}]
[{"$f":"Orders!A564","v":0},{"$f":"VLOOKUP(A563,'Product-tool'!A:E,5,0)","v":{"$error":"#N/A"}},{"$f":"VLOOKUP(A563&B563,'Standard output'!A:D,4,0)","v":{"$error":"#N/A"}},{"$f":"INDEX(Orders!A:D,ROW()+1,FindCol(\"orders\",2,TimeBucketName))/$C563","v":{"$error":"#N/A"}}]
[{"$f":"Orders!A565","v":0},{"$f":"VLOOKUP(A564,'Product-tool'!A:E,5,0)","v":{"$error":"#N/A"}},{"$f":"VLOOKUP(A564&B564,'Standard output'!A:D,4,0)","v":{"$error":"#N/A"}},{"$f":"INDEX(Orders!A:D,ROW()+1,FindCol(\"orders\",2,TimeBucketName))/$C564","v":{"$error":"#N/A"}}]
[{"$f":"Orders!A566","v":0},{"$f":"VLOOKUP(A565,'Product-tool'!A:E,5,0)","v":{"$error":"#N/A"}},{"$f":"VLOOKUP(A565&B565,'Standard output'!A:D,4,0)","v":{"$error":"#N/A"}},{"$f":"INDEX(Orders!A:D,ROW()+1,FindCol(\"orders\",2,TimeBucketName))/$C565","v":{"$error":"#N/A"}}]
[{"$f":"Orders!A567","v":0},{"$f":"VLOOKUP(A566,'Product-tool'!A:E,5,0)","v":{"$error":"#N/A"}},{"$f":"VLOOKUP(A566&B566,'Standard output'!A:D,4,0)","v":{"$error":"#N/A"}},{"$f":"INDEX(Orders!A:D,ROW()+1,FindCol(\"orders\",2,TimeBucketName))/$C566","v":{"$error":"#N/A"}}]
[{"$f":"Orders!A568","v":0},{"$f":"VLOOKUP(A567,'Product-tool'!A:E,5,0)","v":{"$error":"#N/A"}},{"$f":"VLOOKUP(A567&B567,'Standard output'!A:D,4,0)","v":{"$error":"#N/A"}},{"$f":"INDEX(Orders!A:D,ROW()+1,FindCol(\"orders\",2,TimeBucketName))/$C567","v":{"$error":"#N/A"}}]
[{"$f":"Orders!A569","v":0},{"$f":"VLOOKUP(A568,'Product-tool'!A:E,5,0)","v":{"$error":"#N/A"}},{"$f":"VLOOKUP(A568&B568,'Standard output'!A:D,4,0)","v":{"$error":"#N/A"}},{"$f":"INDEX(Orders!A:D,ROW()+1,FindCol(\"orders\",2,TimeBucketName))/$C568","v":{"$error":"#N/A"}}]
[{"$f":"Orders!A570","v":0},{"$f":"VLOOKUP(A569,'Product-tool'!A:E,5,0)","v":{"$error":"#N/A"}},{"$f":"VLOOKUP(A569&B569,'Standard output'!A:D,4,0)","v":{"$error":"#N/A"}},{"$f":"INDEX(Orders!A:D,ROW()+1,FindCol(\"orders\",2,TimeBucketName))/$C569","v":{"$error":"#N/A"}}]
[{"$f":"Orders!A571","v":0},{"$f":"VLOOKUP(A570,'Product-tool'!A:E,5,0)","v":{"$error":"#N/A"}},{"$f":"VLOOKUP(A570&B570,'Standard output'!A:D,4,0)","v":{"$error":"#N/A"}},{"$f":"INDEX(Orders!A:D,ROW()+1,FindCol(\"orders\",2,TimeBucketName))/$C570","v":{"$error":"#N/A"}}]
[{"$f":"Orders!A572","v":0},{"$f":"VLOOKUP(A571,'Product-tool'!A:E,5,0)","v":{"$error":"#N/A"}},{"$f":"VLOOKUP(A571&B571,'Standard output'!A:D,4,0)","v":{"$error":"#N/A"}},{"$f":"INDEX(Orders!A:D,ROW()+1,FindCol(\"orders\",2,TimeBucketName))/$C571","v":{"$error":"#N/A"}}]
[{"$f":"Orders!A573","v":0},{"$f":"VLOOKUP(A572,'Product-tool'!A:E,5,0)","v":{"$error":"#N/A"}},{"$f":"VLOOKUP(A572&B572,'Standard output'!A:D,4,0)","v":{"$error":"#N/A"}},{"$f":"INDEX(Orders!A:D,ROW()+1,FindCol(\"orders\",2,TimeBucketName))/$C572","v":{"$error":"#N/A"}}]
[{"$f":"Orders!A574","v":0},{"$f":"VLOOKUP(A573,'Product-tool'!A:E,5,0)","v":{"$error":"#N/A"}},{"$f":"VLOOKUP(A573&B573,'Standard output'!A:D,4,0)","v":{"$error":"#N/A"}},{"$f":"INDEX(Orders!A:D,ROW()+1,FindCol(\"orders\",2,TimeBucketName))/$C573","v":{"$error":"#N/A"}}]
[{"$f":"Orders!A575","v":0},{"$f":"VLOOKUP(A574,'Product-tool'!A:E,5,0)","v":{"$error":"#N/A"}},{"$f":"VLOOKUP(A574&B574,'Standard output'!A:D,4,0)","v":{"$error":"#N/A"}},{"$f":"INDEX(Orders!A:D,ROW()+1,FindCol(\"orders\",2,TimeBucketName))/$C574","v":{"$error":"#N/A"}}]
[{"$f":"Orders!A576","v":0},{"$f":"VLOOKUP(A575,'Product-tool'!A:E,5,0)","v":{"$error":"#N/A"}},{"$f":"VLOOKUP(A575&B575,'Standard output'!A:D,4,0)","v":{"$error":"#N/A"}},{"$f":"INDEX(Orders!A:D,ROW()+1,FindCol(\"orders\",2,TimeBucketName))/$C575","v":{"$error":"#N/A"}}]
[{"$f":"Orders!A577","v":0},{"$f":"VLOOKUP(A576,'Product-tool'!A:E,5,0)","v":{"$error":"#N/A"}},{"$f":"VLOOKUP(A576&B576,'Standard output'!A:D,4,0)","v":{"$error":"#N/A"}},{"$f":"INDEX(Orders!A:D,ROW()+1,FindCol(\"orders\",2,TimeBucketName))/$C576","v":{"$error":"#N/A"}}]
[{"$f":"Orders!A578","v":0},{"$f":"VLOOKUP(A577,'Product-tool'!A:E,5,0)","v":{"$error":"#N/A"}},{"$f":"VLOOKUP(A577&B577,'Standard output'!A:D,4,0)","v":{"$error":"#N/A"}},{"$f":"INDEX(Orders!A:D,ROW()+1,FindCol(\"orders\",2,TimeBucketName))/$C577","v":{"$error":"#N/A"}}]
[{"$f":"Orders!A579","v":0},{"$f":"VLOOKUP(A578,'Product-tool'!A:E,5,0)","v":{"$error":"#N/A"}},{"$f":"VLOOKUP(A578&B578,'Standard output'!A:D,4,0)","v":{"$error":"#N/A"}},{"$f":"INDEX(Orders!A:D,ROW()+1,FindCol(\"orders\",2,TimeBucketName))/$C578","v":{"$error":"#N/A"}}]
[{"$f":"Orders!A580","v":0},{"$f":"VLOOKUP(A579,'Product-tool'!A:E,5,0)","v":{"$error":"#N/A"}},{"$f":"VLOOKUP(A579&B579,'Standard output'!A:D,4,0)","v":{"$error":"#N/A"}},{"$f":"INDEX(Orders!A:D,ROW()+1,FindCol(\"orders\",2,TimeBucketName))/$C579","v":{"$error":"#N/A"}}]
[{"$f":"Orders!A581","v":0},{"$f":"VLOOKUP(A580,'Product-tool'!A:E,5,0)","v":{"$error":"#N/A"}},{"$f":"VLOOKUP(A580&B580,'Standard output'!A:D,4,0)","v":{"$error":"#N/A"}},{"$f":"INDEX(Orders!A:D,ROW()+1,FindCol(\"orders\",2,TimeBucketName))/$C580","v":{"$error":"#N/A"}}]
[{"$f":"Orders!A582","v":0},{"$f":"VLOOKUP(A581,'Product-tool'!A:E,5,0)","v":{"$error":"#N/A"}},{"$f":"VLOOKUP(A581&B581,'Standard output'!A:D,4,0)","v":{"$error":"#N/A"}},{"$f":"INDEX(Orders!A:D,ROW()+1,FindCol(\"orders\",2,TimeBucketName))/$C581","v":{"$error":"#N/A"}}]
[{"$f":"Orders!A583","v":0},{"$f":"VLOOKUP(A582,'Product-tool'!A:E,5,0)","v":{"$error":"#N/A"}},{"$f":"VLOOKUP(A582&B582,'Standard output'!A:D,4,0)","v":{"$error":"#N/A"}},{"$f":"INDEX(Orders!A:D,ROW()+1,FindCol(\"orders\",2,TimeBucketName))/$C582","v":{"$error":"#N/A"}}]
[{"$f":"Orders!A584","v":0},{"$f":"VLOOKUP(A583,'Product-tool'!A:E,5,0)","v":{"$error":"#N/A"}},{"$f":"VLOOKUP(A583&B583,'Standard output'!A:D,4,0)","v":{"$error":"#N/A"}},{"$f":"INDEX(Orders!A:D,ROW()+1,FindCol(\"orders\",2,TimeBucketName))/$C583","v":{"$error":"#N/A"}}]
[{"$f":"Orders!A585","v":0},{"$f":"VLOOKUP(A584,'Product-tool'!A:E,5,0)","v":{"$error":"#N/A"}},{"$f":"VLOOKUP(A584&B584,'Standard output'!A:D,4,0)","v":{"$error":"#N/A"}},{"$f":"INDEX(Orders!A:D,ROW()+1,FindCol(\"orders\",2,TimeBucketName))/$C584","v":{"$error":"#N/A"}}]
[{"$f":"Orders!A586","v":0},{"$f":"VLOOKUP(A585,'Product-tool'!A:E,5,0)","v":{"$error":"#N/A"}},{"$f":"VLOOKUP(A585&B585,'Standard output'!A:D,4,0)","v":{"$error":"#N/A"}},{"$f":"INDEX(Orders!A:D,ROW()+1,FindCol(\"orders\",2,TimeBucketName))/$C585","v":{"$error":"#N/A"}}]
[{"$f":"Orders!A587","v":0},{"$f":"VLOOKUP(A586,'Product-tool'!A:E,5,0)","v":{"$error":"#N/A"}},{"$f":"VLOOKUP(A586&B586,'Standard output'!A:D,4,0)","v":{"$error":"#N/A"}},{"$f":"INDEX(Orders!A:D,ROW()+1,FindCol(\"orders\",2,TimeBucketName))/$C586","v":{"$error":"#N/A"}}]
[{"$f":"Orders!A588","v":0},{"$f":"VLOOKUP(A587,'Product-tool'!A:E,5,0)","v":{"$error":"#N/A"}},{"$f":"VLOOKUP(A587&B587,'Standard output'!A:D,4,0)","v":{"$error":"#N/A"}},{"$f":"INDEX(Orders!A:D,ROW()+1,FindCol(\"orders\",2,TimeBucketName))/$C587","v":{"$error":"#N/A"}}]
[{"$f":"Orders!A589","v":0},{"$f":"VLOOKUP(A588,'Product-tool'!A:E,5,0)","v":{"$error":"#N/A"}},{"$f":"VLOOKUP(A588&B588,'Standard output'!A:D,4,0)","v":{"$error":"#N/A"}},{"$f":"INDEX(Orders!A:D,ROW()+1,FindCol(\"orders\",2,TimeBucketName))/$C588","v":{"$error":"#N/A"}}]
[{"$f":"Orders!A590","v":0},{"$f":"VLOOKUP(A589,'Product-tool'!A:E,5,0)","v":{"$error":"#N/A"}},{"$f":"VLOOKUP(A589&B589,'Standard output'!A:D,4,0)","v":{"$error":"#N/A"}},{"$f":"INDEX(Orders!A:D,ROW()+1,FindCol(\"orders\",2,TimeBucketName))/$C589","v":{"$error":"#N/A"}}]
[{"$f":"Orders!A591","v":0},{"$f":"VLOOKUP(A590,'Product-tool'!A:E,5,0)","v":{"$error":"#N/A"}},{"$f":"VLOOKUP(A590&B590,'Standard output'!A:D,4,0)","v":{"$error":"#N/A"}},{"$f":"INDEX(Orders!A:D,ROW()+1,FindCol(\"orders\",2,TimeBucketName))/$C590","v":{"$error":"#N/A"}}]
[{"$f":"Orders!A592","v":0},{"$f":"VLOOKUP(A591,'Product-tool'!A:E,5,0)","v":{"$error":"#N/A"}},{"$f":"VLOOKUP(A591&B591,'Standard output'!A:D,4,0)","v":{"$error":"#N/A"}},{"$f":"INDEX(Orders!A:D,ROW()+1,FindCol(\"orders\",2,TimeBucketName))/$C591","v":{"$error":"#N/A"}}]
[{"$f":"Orders!A593","v":0},{"$f":"VLOOKUP(A592,'Product-tool'!A:E,5,0)","v":{"$error":"#N/A"}},{"$f":"VLOOKUP(A592&B592,'Standard output'!A:D,4,0)","v":{"$error":"#N/A"}},{"$f":"INDEX(Orders!A:D,ROW()+1,FindCol(\"orders\",2,TimeBucketName))/$C592","v":{"$error":"#N/A"}}]
[{"$f":"Orders!A594","v":0},{"$f":"VLOOKUP(A593,'Product-tool'!A:E,5,0)","v":{"$error":"#N/A"}},{"$f":"VLOOKUP(A593&B593,'Standard output'!A:D,4,0)","v":{"$error":"#N/A"}},{"$f":"INDEX(Orders!A:D,ROW()+1,FindCol(\"orders\",2,TimeBucketName))/$C593","v":{"$error":"#N/A"}}]
[{"$f":"Orders!A595","v":0},{"$f":"VLOOKUP(A594,'Product-tool'!A:E,5,0)","v":{"$error":"#N/A"}},{"$f":"VLOOKUP(A594&B594,'Standard output'!A:D,4,0)","v":{"$error":"#N/A"}},{"$f":"INDEX(Orders!A:D,ROW()+1,FindCol(\"orders\",2,TimeBucketName))/$C594","v":{"$error":"#N/A"}}]
[{"$f":"Orders!A596","v":0},{"$f":"VLOOKUP(A595,'Product-tool'!A:E,5,0)","v":{"$error":"#N/A"}},{"$f":"VLOOKUP(A595&B595,'Standard output'!A:D,4,0)","v":{"$error":"#N/A"}},{"$f":"INDEX(Orders!A:D,ROW()+1,FindCol(\"orders\",2,TimeBucketName))/$C595","v":{"$error":"#N/A"}}]
[{"$f":"Orders!A597","v":0},{"$f":"VLOOKUP(A596,'Product-tool'!A:E,5,0)","v":{"$error":"#N/A"}},{"$f":"VLOOKUP(A596&B596,'Standard output'!A:D,4,0)","v":{"$error":"#N/A"}},{"$f":"INDEX(Orders!A:D,ROW()+1,FindCol(\"orders\",2,TimeBucketName))/$C596","v":{"$error":"#N/A"}}]
[{"$f":"Orders!A598","v":0},{"$f":"VLOOKUP(A597,'Product-tool'!A:E,5,0)","v":{"$error":"#N/A"}},{"$f":"VLOOKUP(A597&B597,'Standard output'!A:D,4,0)","v":{"$error":"#N/A"}},{"$f":"INDEX(Orders!A:D,ROW()+1,FindCol(\"orders\",2,TimeBucketName))/$C597","v":{"$error":"#N/A"}}]
[{"$f":"Orders!A599","v":0},{"$f":"VLOOKUP(A598,'Product-tool'!A:E,5,0)","v":{"$error":"#N/A"}},{"$f":"VLOOKUP(A598&B598,'Standard output'!A:D,4,0)","v":{"$error":"#N/A"}},{"$f":"INDEX(Orders!A:D,ROW()+1,FindCol(\"orders\",2,TimeBucketName))/$C598","v":{"$error":"#N/A"}}]
[{"$f":"Orders!A600","v":0},{"$f":"VLOOKUP(A599,'Product-tool'!A:E,5,0)","v":{"$error":"#N/A"}},{"$f":"VLOOKUP(A599&B599,'Standard output'!A:D,4,0)","v":{"$error":"#N/A"}},{"$f":"INDEX(Orders!A:D,ROW()+1,FindCol(\"orders\",2,TimeBucketName))/$C599","v":{"$error":"#N/A"}}]
[{"$f":"Orders!A601","v":0},{"$f":"VLOOKUP(A600,'Product-tool'!A:E,5,0)","v":{"$error":"#N/A"}},{"$f":"VLOOKUP(A600&B600,'Standard output'!A:D,4,0)","v":{"$error":"#N/A"}},{"$f":"INDEX(Orders!A:D,ROW()+1,FindCol(\"orders\",2,TimeBucketName))/$C600","v":{"$error":"#N/A"}}]
[{"$f":"Orders!A602","v":0},{"$f":"VLOOKUP(A601,'Product-tool'!A:E,5,0)","v":{"$error":"#N/A"}},{"$f":"VLOOKUP(A601&B601,'Standard output'!A:D,4,0)","v":{"$error":"#N/A"}},{"$f":"INDEX(Orders!A:D,ROW()+1,FindCol(\"orders\",2,TimeBucketName))/$C601","v":{"$error":"#N/A"}}]
[{"$f":"Orders!A603","v":0},{"$f":"VLOOKUP(A602,'Product-tool'!A:E,5,0)","v":{"$error":"#N/A"}},{"$f":"VLOOKUP(A602&B602,'Standard output'!A:D,4,0)","v":{"$error":"#N/A"}},{"$f":"INDEX(Orders!A:D,ROW()+1,FindCol(\"orders\",2,TimeBucketName))/$C602","v":{"$error":"#N/A"}}]
[{"$f":"Orders!A604","v":0},{"$f":"VLOOKUP(A603,'Product-tool'!A:E,5,0)","v":{"$error":"#N/A"}},{"$f":"VLOOKUP(A603&B603,'Standard output'!A:D,4,0)","v":{"$error":"#N/A"}},{"$f":"INDEX(Orders!A:D,ROW()+1,FindCol(\"orders\",2,TimeBucketName))/$C603","v":{"$error":"#N/A"}}]
[{"$f":"Orders!A605","v":0},{"$f":"VLOOKUP(A604,'Product-tool'!A:E,5,0)","v":{"$error":"#N/A"}},{"$f":"VLOOKUP(A604&B604,'Standard output'!A:D,4,0)","v":{"$error":"#N/A"}},{"$f":"INDEX(Orders!A:D,ROW()+1,FindCol(\"orders\",2,TimeBucketName))/$C604","v":{"$error":"#N/A"}}]
[{"$f":"Orders!A606","v":0},{"$f":"VLOOKUP(A605,'Product-tool'!A:E,5,0)","v":{"$error":"#N/A"}},{"$f":"VLOOKUP(A605&B605,'Standard output'!A:D,4,0)","v":{"$error":"#N/A"}},{"$f":"INDEX(Orders!A:D,ROW()+1,FindCol(\"orders\",2,TimeBucketName))/$C605","v":{"$error":"#N/A"}}]
[{"$f":"Orders!A607","v":0},{"$f":"VLOOKUP(A606,'Product-tool'!A:E,5,0)","v":{"$error":"#N/A"}},{"$f":"VLOOKUP(A606&B606,'Standard output'!A:D,4,0)","v":{"$error":"#N/A"}},{"$f":"INDEX(Orders!A:D,ROW()+1,FindCol(\"orders\",2,TimeBucketName))/$C606","v":{"$error":"#N/A"}}]
[{"$f":"Orders!A608","v":0},{"$f":"VLOOKUP(A607,'Product-tool'!A:E,5,0)","v":{"$error":"#N/A"}},{"$f":"VLOOKUP(A607&B607,'Standard output'!A:D,4,0)","v":{"$error":"#N/A"}},{"$f":"INDEX(Orders!A:D,ROW()+1,FindCol(\"orders\",2,TimeBucketName))/$C607","v":{"$error":"#N/A"}}]
[{"$f":"Orders!A609","v":0},{"$f":"VLOOKUP(A608,'Product-tool'!A:E,5,0)","v":{"$error":"#N/A"}},{"$f":"VLOOKUP(A608&B608,'Standard output'!A:D,4,0)","v":{"$error":"#N/A"}},{"$f":"INDEX(Orders!A:D,ROW()+1,FindCol(\"orders\",2,TimeBucketName))/$C608","v":{"$error":"#N/A"}}]
[{"$f":"Orders!A610","v":0},{"$f":"VLOOKUP(A609,'Product-tool'!A:E,5,0)","v":{"$error":"#N/A"}},{"$f":"VLOOKUP(A609&B609,'Standard output'!A:D,4,0)","v":{"$error":"#N/A"}},{"$f":"INDEX(Orders!A:D,ROW()+1,FindCol(\"orders\",2,TimeBucketName))/$C609","v":{"$error":"#N/A"}}]
[{"$f":"Orders!A611","v":0},{"$f":"VLOOKUP(A610,'Product-tool'!A:E,5,0)","v":{"$error":"#N/A"}},{"$f":"VLOOKUP(A610&B610,'Standard output'!A:D,4,0)","v":{"$error":"#N/A"}},{"$f":"INDEX(Orders!A:D,ROW()+1,FindCol(\"orders\",2,TimeBucketName))/$C610","v":{"$error":"#N/A"}}]
[{"$f":"Orders!A612","v":0},{"$f":"VLOOKUP(A611,'Product-tool'!A:E,5,0)","v":{"$error":"#N/A"}},{"$f":"VLOOKUP(A611&B611,'Standard output'!A:D,4,0)","v":{"$error":"#N/A"}},{"$f":"INDEX(Orders!A:D,ROW()+1,FindCol(\"orders\",2,TimeBucketName))/$C611","v":{"$error":"#N/A"}}]
[{"$f":"Orders!A613","v":0},{"$f":"VLOOKUP(A612,'Product-tool'!A:E,5,0)","v":{"$error":"#N/A"}},{"$f":"VLOOKUP(A612&B612,'Standard output'!A:D,4,0)","v":{"$error":"#N/A"}},{"$f":"INDEX(Orders!A:D,ROW()+1,FindCol(\"orders\",2,TimeBucketName))/$C612","v":{"$error":"#N/A"}}]
[{"$f":"Orders!A614","v":0},{"$f":"VLOOKUP(A613,'Product-tool'!A:E,5,0)","v":{"$error":"#N/A"}},{"$f":"VLOOKUP(A613&B613,'Standard output'!A:D,4,0)","v":{"$error":"#N/A"}},{"$f":"INDEX(Orders!A:D,ROW()+1,FindCol(\"orders\",2,TimeBucketName))/$C613","v":{"$error":"#N/A"}}]
[{"$f":"Orders!A615","v":0},{"$f":"VLOOKUP(A614,'Product-tool'!A:E,5,0)","v":{"$error":"#N/A"}},{"$f":"VLOOKUP(A614&B614,'Standard output'!A:D,4,0)","v":{"$error":"#N/A"}},{"$f":"INDEX(Orders!A:D,ROW()+1,FindCol(\"orders\",2,TimeBucketName))/$C614","v":{"$error":"#N/A"}}]
[{"$f":"Orders!A616","v":0},{"$f":"VLOOKUP(A615,'Product-tool'!A:E,5,0)","v":{"$error":"#N/A"}},{"$f":"VLOOKUP(A615&B615,'Standard output'!A:D,4,0)","v":{"$error":"#N/A"}},{"$f":"INDEX(Orders!A:D,ROW()+1,FindCol(\"orders\",2,TimeBucketName))/$C615","v":{"$error":"#N/A"}}]
[{"$f":"Orders!A617","v":0},{"$f":"VLOOKUP(A616,'Product-tool'!A:E,5,0)","v":{"$error":"#N/A"}},{"$f":"VLOOKUP(A616&B616,'Standard output'!A:D,4,0)","v":{"$error":"#N/A"}},{"$f":"INDEX(Orders!A:D,ROW()+1,FindCol(\"orders\",2,TimeBucketName))/$C616","v":{"$error":"#N/A"}}]
[{"$f":"Orders!A618","v":0},{"$f":"VLOOKUP(A617,'Product-tool'!A:E,5,0)","v":{"$error":"#N/A"}},{"$f":"VLOOKUP(A617&B617,'Standard output'!A:D,4,0)","v":{"$error":"#N/A"}},{"$f":"INDEX(Orders!A:D,ROW()+1,FindCol(\"orders\",2,TimeBucketName))/$C617","v":{"$error":"#N/A"}}]
[{"$f":"Orders!A619","v":0},{"$f":"VLOOKUP(A618,'Product-tool'!A:E,5,0)","v":{"$error":"#N/A"}},{"$f":"VLOOKUP(A618&B618,'Standard output'!A:D,4,0)","v":{"$error":"#N/A"}},{"$f":"INDEX(Orders!A:D,ROW()+1,FindCol(\"orders\",2,TimeBucketName))/$C618","v":{"$error":"#N/A"}}]
[{"$f":"Orders!A620","v":0},{"$f":"VLOOKUP(A619,'Product-tool'!A:E,5,0)","v":{"$error":"#N/A"}},{"$f":"VLOOKUP(A619&B619,'Standard output'!A:D,4,0)","v":{"$error":"#N/A"}},{"$f":"INDEX(Orders!A:D,ROW()+1,FindCol(\"orders\",2,TimeBucketName))/$C619","v":{"$error":"#N/A"}}]
[{"$f":"Orders!A621","v":0},{"$f":"VLOOKUP(A620,'Product-tool'!A:E,5,0)","v":{"$error":"#N/A"}},{"$f":"VLOOKUP(A620&B620,'Standard output'!A:D,4,0)","v":{"$error":"#N/A"}},{"$f":"INDEX(Orders!A:D,ROW()+1,FindCol(\"orders\",2,TimeBucketName))/$C620","v":{"$error":"#N/A"}}]
[{"$f":"Orders!A622","v":0},{"$f":"VLOOKUP(A621,'Product-tool'!A:E,5,0)","v":{"$error":"#N/A"}},{"$f":"VLOOKUP(A621&B621,'Standard output'!A:D,4,0)","v":{"$error":"#N/A"}},{"$f":"INDEX(Orders!A:D,ROW()+1,FindCol(\"orders\",2,TimeBucketName))/$C621","v":{"$error":"#N/A"}}]
[{"$f":"Orders!A623","v":0},{"$f":"VLOOKUP(A622,'Product-tool'!A:E,5,0)","v":{"$error":"#N/A"}},{"$f":"VLOOKUP(A622&B622,'Standard output'!A:D,4,0)","v":{"$error":"#N/A"}},{"$f":"INDEX(Orders!A:D,ROW()+1,FindCol(\"orders\",2,TimeBucketName))/$C622","v":{"$error":"#N/A"}}]
[{"$f":"Orders!A624","v":0},{"$f":"VLOOKUP(A623,'Product-tool'!A:E,5,0)","v":{"$error":"#N/A"}},{"$f":"VLOOKUP(A623&B623,'Standard output'!A:D,4,0)","v":{"$error":"#N/A"}},{"$f":"INDEX(Orders!A:D,ROW()+1,FindCol(\"orders\",2,TimeBucketName))/$C623","v":{"$error":"#N/A"}}]
[{"$f":"Orders!A625","v":0},{"$f":"VLOOKUP(A624,'Product-tool'!A:E,5,0)","v":{"$error":"#N/A"}},{"$f":"VLOOKUP(A624&B624,'Standard output'!A:D,4,0)","v":{"$error":"#N/A"}},{"$f":"INDEX(Orders!A:D,ROW()+1,FindCol(\"orders\",2,TimeBucketName))/$C624","v":{"$error":"#N/A"}}]
[{"$f":"Orders!A626","v":0},{"$f":"VLOOKUP(A625,'Product-tool'!A:E,5,0)","v":{"$error":"#N/A"}},{"$f":"VLOOKUP(A625&B625,'Standard output'!A:D,4,0)","v":{"$error":"#N/A"}},{"$f":"INDEX(Orders!A:D,ROW()+1,FindCol(\"orders\",2,TimeBucketName))/$C625","v":{"$error":"#N/A"}}]
[{"$f":"Orders!A627","v":0},{"$f":"VLOOKUP(A626,'Product-tool'!A:E,5,0)","v":{"$error":"#N/A"}},{"$f":"VLOOKUP(A626&B626,'Standard output'!A:D,4,0)","v":{"$error":"#N/A"}},{"$f":"INDEX(Orders!A:D,ROW()+1,FindCol(\"orders\",2,TimeBucketName))/$C626","v":{"$error":"#N/A"}}]
[{"$f":"Orders!A628","v":0},{"$f":"VLOOKUP(A627,'Product-tool'!A:E,5,0)","v":{"$error":"#N/A"}},{"$f":"VLOOKUP(A627&B627,'Standard output'!A:D,4,0)","v":{"$error":"#N/A"}},{"$f":"INDEX(Orders!A:D,ROW()+1,FindCol(\"orders\",2,TimeBucketName))/$C627","v":{"$error":"#N/A"}}]
[{"$f":"Orders!A629","v":0},{"$f":"VLOOKUP(A628,'Product-tool'!A:E,5,0)","v":{"$error":"#N/A"}},{"$f":"VLOOKUP(A628&B628,'Standard output'!A:D,4,0)","v":{"$error":"#N/A"}},{"$f":"INDEX(Orders!A:D,ROW()+1,FindCol(\"orders\",2,TimeBucketName))/$C628","v":{"$error":"#N/A"}}]
[{"$f":"Orders!A630","v":0},{"$f":"VLOOKUP(A629,'Product-tool'!A:E,5,0)","v":{"$error":"#N/A"}},{"$f":"VLOOKUP(A629&B629,'Standard output'!A:D,4,0)","v":{"$error":"#N/A"}},{"$f":"INDEX(Orders!A:D,ROW()+1,FindCol(\"orders\",2,TimeBucketName))/$C629","v":{"$error":"#N/A"}}]
[{"$f":"Orders!A631","v":0},{"$f":"VLOOKUP(A630,'Product-tool'!A:E,5,0)","v":{"$error":"#N/A"}},{"$f":"VLOOKUP(A630&B630,'Standard output'!A:D,4,0)","v":{"$error":"#N/A"}},{"$f":"INDEX(Orders!A:D,ROW()+1,FindCol(\"orders\",2,TimeBucketName))/$C630","v":{"$error":"#N/A"}}]
[{"$f":"Orders!A632","v":0},{"$f":"VLOOKUP(A631,'Product-tool'!A:E,5,0)","v":{"$error":"#N/A"}},{"$f":"VLOOKUP(A631&B631,'Standard output'!A:D,4,0)","v":{"$error":"#N/A"}},{"$f":"INDEX(Orders!A:D,ROW()+1,FindCol(\"orders\",2,TimeBucketName))/$C631","v":{"$error":"#N/A"}}]
[{"$f":"Orders!A633","v":0},{"$f":"VLOOKUP(A632,'Product-tool'!A:E,5,0)","v":{"$error":"#N/A"}},{"$f":"VLOOKUP(A632&B632,'Standard output'!A:D,4,0)","v":{"$error":"#N/A"}},{"$f":"INDEX(Orders!A:D,ROW()+1,FindCol(\"orders\",2,TimeBucketName))/$C632","v":{"$error":"#N/A"}}]
[{"$f":"Orders!A634","v":0},{"$f":"VLOOKUP(A633,'Product-tool'!A:E,5,0)","v":{"$error":"#N/A"}},{"$f":"VLOOKUP(A633&B633,'Standard output'!A:D,4,0)","v":{"$error":"#N/A"}},{"$f":"INDEX(Orders!A:D,ROW()+1,FindCol(\"orders\",2,TimeBucketName))/$C633","v":{"$error":"#N/A"}}]
[{"$f":"Orders!A635","v":0},{"$f":"VLOOKUP(A634,'Product-tool'!A:E,5,0)","v":{"$error":"#N/A"}},{"$f":"VLOOKUP(A634&B634,'Standard output'!A:D,4,0)","v":{"$error":"#N/A"}},{"$f":"INDEX(Orders!A:D,ROW()+1,FindCol(\"orders\",2,TimeBucketName))/$C634","v":{"$error":"#N/A"}}]
[{"$f":"Orders!A636","v":0},{"$f":"VLOOKUP(A635,'Product-tool'!A:E,5,0)","v":{"$error":"#N/A"}},{"$f":"VLOOKUP(A635&B635,'Standard output'!A:D,4,0)","v":{"$error":"#N/A"}},{"$f":"INDEX(Orders!A:D,ROW()+1,FindCol(\"orders\",2,TimeBucketName))/$C635","v":{"$error":"#N/A"}}]
[{"$f":"Orders!A637","v":0},{"$f":"VLOOKUP(A636,'Product-tool'!A:E,5,0)","v":{"$error":"#N/A"}},{"$f":"VLOOKUP(A636&B636,'Standard output'!A:D,4,0)","v":{"$error":"#N/A"}},{"$f":"INDEX(Orders!A:D,ROW()+1,FindCol(\"orders\",2,TimeBucketName))/$C636","v":{"$error":"#N/A"}}]
[{"$f":"Orders!A638","v":0},{"$f":"VLOOKUP(A637,'Product-tool'!A:E,5,0)","v":{"$error":"#N/A"}},{"$f":"VLOOKUP(A637&B637,'Standard output'!A:D,4,0)","v":{"$error":"#N/A"}},{"$f":"INDEX(Orders!A:D,ROW()+1,FindCol(\"orders\",2,TimeBucketName))/$C637","v":{"$error":"#N/A"}}]
[{"$f":"Orders!A639","v":0},{"$f":"VLOOKUP(A638,'Product-tool'!A:E,5,0)","v":{"$error":"#N/A"}},{"$f":"VLOOKUP(A638&B638,'Standard output'!A:D,4,0)","v":{"$error":"#N/A"}},{"$f":"INDEX(Orders!A:D,ROW()+1,FindCol(\"orders\",2,TimeBucketName))/$C638","v":{"$error":"#N/A"}}]
[{"$f":"Orders!A640","v":0},{"$f":"VLOOKUP(A639,'Product-tool'!A:E,5,0)","v":{"$error":"#N/A"}},{"$f":"VLOOKUP(A639&B639,'Standard output'!A:D,4,0)","v":{"$error":"#N/A"}},{"$f":"INDEX(Orders!A:D,ROW()+1,FindCol(\"orders\",2,TimeBucketName))/$C639","v":{"$error":"#N/A"}}]
[{"$f":"Orders!A641","v":0},{"$f":"VLOOKUP(A640,'Product-tool'!A:E,5,0)","v":{"$error":"#N/A"}},{"$f":"VLOOKUP(A640&B640,'Standard output'!A:D,4,0)","v":{"$error":"#N/A"}},{"$f":"INDEX(Orders!A:D,ROW()+1,FindCol(\"orders\",2,TimeBucketName))/$C640","v":{"$error":"#N/A"}}]
[{"$f":"Orders!A642","v":0},{"$f":"VLOOKUP(A641,'Product-tool'!A:E,5,0)","v":{"$error":"#N/A"}},{"$f":"VLOOKUP(A641&B641,'Standard output'!A:D,4,0)","v":{"$error":"#N/A"}},{"$f":"INDEX(Orders!A:D,ROW()+1,FindCol(\"orders\",2,TimeBucketName))/$C641","v":{"$error":"#N/A"}}]
[{"$f":"Orders!A643","v":0},{"$f":"VLOOKUP(A642,'Product-tool'!A:E,5,0)","v":{"$error":"#N/A"}},{"$f":"VLOOKUP(A642&B642,'Standard output'!A:D,4,0)","v":{"$error":"#N/A"}},{"$f":"INDEX(Orders!A:D,ROW()+1,FindCol(\"orders\",2,TimeBucketName))/$C642","v":{"$error":"#N/A"}}]
[{"$f":"Orders!A644","v":0},{"$f":"VLOOKUP(A643,'Product-tool'!A:E,5,0)","v":{"$error":"#N/A"}},{"$f":"VLOOKUP(A643&B643,'Standard output'!A:D,4,0)","v":{"$error":"#N/A"}},{"$f":"INDEX(Orders!A:D,ROW()+1,FindCol(\"orders\",2,TimeBucketName))/$C643","v":{"$error":"#N/A"}}]
[{"$f":"Orders!A645","v":0},{"$f":"VLOOKUP(A644,'Product-tool'!A:E,5,0)","v":{"$error":"#N/A"}},{"$f":"VLOOKUP(A644&B644,'Standard output'!A:D,4,0)","v":{"$error":"#N/A"}},{"$f":"INDEX(Orders!A:D,ROW()+1,FindCol(\"orders\",2,TimeBucketName))/$C644","v":{"$error":"#N/A"}}]
[{"$f":"Orders!A646","v":0},{"$f":"VLOOKUP(A645,'Product-tool'!A:E,5,0)","v":{"$error":"#N/A"}},{"$f":"VLOOKUP(A645&B645,'Standard output'!A:D,4,0)","v":{"$error":"#N/A"}},{"$f":"INDEX(Orders!A:D,ROW()+1,FindCol(\"orders\",2,TimeBucketName))/$C645","v":{"$error":"#N/A"}}]
[{"$f":"Orders!A647","v":0},{"$f":"VLOOKUP(A646,'Product-tool'!A:E,5,0)","v":{"$error":"#N/A"}},{"$f":"VLOOKUP(A646&B646,'Standard output'!A:D,4,0)","v":{"$error":"#N/A"}},{"$f":"INDEX(Orders!A:D,ROW()+1,FindCol(\"orders\",2,TimeBucketName))/$C646","v":{"$error":"#N/A"}}]
[{"$f":"Orders!A648","v":0},{"$f":"VLOOKUP(A647,'Product-tool'!A:E,5,0)","v":{"$error":"#N/A"}},{"$f":"VLOOKUP(A647&B647,'Standard output'!A:D,4,0)","v":{"$error":"#N/A"}},{"$f":"INDEX(Orders!A:D,ROW()+1,FindCol(\"orders\",2,TimeBucketName))/$C647","v":{"$error":"#N/A"}}]
[{"$f":"Orders!A649","v":0},{"$f":"VLOOKUP(A648,'Product-tool'!A:E,5,0)","v":{"$error":"#N/A"}},{"$f":"VLOOKUP(A648&B648,'Standard output'!A:D,4,0)","v":{"$error":"#N/A"}},{"$f":"INDEX(Orders!A:D,ROW()+1,FindCol(\"orders\",2,TimeBucketName))/$C648","v":{"$error":"#N/A"}}]
[{"$f":"Orders!A650","v":0},{"$f":"VLOOKUP(A649,'Product-tool'!A:E,5,0)","v":{"$error":"#N/A"}},{"$f":"VLOOKUP(A649&B649,'Standard output'!A:D,4,0)","v":{"$error":"#N/A"}},{"$f":"INDEX(Orders!A:D,ROW()+1,FindCol(\"orders\",2,TimeBucketName))/$C649","v":{"$error":"#N/A"}}]
[{"$f":"Orders!A651","v":0},{"$f":"VLOOKUP(A650,'Product-tool'!A:E,5,0)","v":{"$error":"#N/A"}},{"$f":"VLOOKUP(A650&B650,'Standard output'!A:D,4,0)","v":{"$error":"#N/A"}},{"$f":"INDEX(Orders!A:D,ROW()+1,FindCol(\"orders\",2,TimeBucketName))/$C650","v":{"$error":"#N/A"}}]
[{"$f":"Orders!A652","v":0},{"$f":"VLOOKUP(A651,'Product-tool'!A:E,5,0)","v":{"$error":"#N/A"}},{"$f":"VLOOKUP(A651&B651,'Standard output'!A:D,4,0)","v":{"$error":"#N/A"}},{"$f":"INDEX(Orders!A:D,ROW()+1,FindCol(\"orders\",2,TimeBucketName))/$C651","v":{"$error":"#N/A"}}]
[{"$f":"Orders!A653","v":0},{"$f":"VLOOKUP(A652,'Product-tool'!A:E,5,0)","v":{"$error":"#N/A"}},{"$f":"VLOOKUP(A652&B652,'Standard output'!A:D,4,0)","v":{"$error":"#N/A"}},{"$f":"INDEX(Orders!A:D,ROW()+1,FindCol(\"orders\",2,TimeBucketName))/$C652","v":{"$error":"#N/A"}}]
[{"$f":"Orders!A654","v":0},{"$f":"VLOOKUP(A653,'Product-tool'!A:E,5,0)","v":{"$error":"#N/A"}},{"$f":"VLOOKUP(A653&B653,'Standard output'!A:D,4,0)","v":{"$error":"#N/A"}},{"$f":"INDEX(Orders!A:D,ROW()+1,FindCol(\"orders\",2,TimeBucketName))/$C653","v":{"$error":"#N/A"}}]
[{"$f":"Orders!A655","v":0},{"$f":"VLOOKUP(A654,'Product-tool'!A:E,5,0)","v":{"$error":"#N/A"}},{"$f":"VLOOKUP(A654&B654,'Standard output'!A:D,4,0)","v":{"$error":"#N/A"}},{"$f":"INDEX(Orders!A:D,ROW()+1,FindCol(\"orders\",2,TimeBucketName))/$C654","v":{"$error":"#N/A"}}]
[{"$f":"Orders!A656","v":0},{"$f":"VLOOKUP(A655,'Product-tool'!A:E,5,0)","v":{"$error":"#N/A"}},{"$f":"VLOOKUP(A655&B655,'Standard output'!A:D,4,0)","v":{"$error":"#N/A"}},{"$f":"INDEX(Orders!A:D,ROW()+1,FindCol(\"orders\",2,TimeBucketName))/$C655","v":{"$error":"#N/A"}}]
[{"$f":"Orders!A657","v":0},{"$f":"VLOOKUP(A656,'Product-tool'!A:E,5,0)","v":{"$error":"#N/A"}},{"$f":"VLOOKUP(A656&B656,'Standard output'!A:D,4,0)","v":{"$error":"#N/A"}},{"$f":"INDEX(Orders!A:D,ROW()+1,FindCol(\"orders\",2,TimeBucketName))/$C656","v":{"$error":"#N/A"}}]
[{"$f":"Orders!A658","v":0},{"$f":"VLOOKUP(A657,'Product-tool'!A:E,5,0)","v":{"$error":"#N/A"}},{"$f":"VLOOKUP(A657&B657,'Standard output'!A:D,4,0)","v":{"$error":"#N/A"}},{"$f":"INDEX(Orders!A:D,ROW()+1,FindCol(\"orders\",2,TimeBucketName))/$C657","v":{"$error":"#N/A"}}]
[{"$f":"Orders!A659","v":0},{"$f":"VLOOKUP(A658,'Product-tool'!A:E,5,0)","v":{"$error":"#N/A"}},{"$f":"VLOOKUP(A658&B658,'Standard output'!A:D,4,0)","v":{"$error":"#N/A"}},{"$f":"INDEX(Orders!A:D,ROW()+1,FindCol(\"orders\",2,TimeBucketName))/$C658","v":{"$error":"#N/A"}}]
[{"$f":"Orders!A660","v":0},{"$f":"VLOOKUP(A659,'Product-tool'!A:E,5,0)","v":{"$error":"#N/A"}},{"$f":"VLOOKUP(A659&B659,'Standard output'!A:D,4,0)","v":{"$error":"#N/A"}},{"$f":"INDEX(Orders!A:D,ROW()+1,FindCol(\"orders\",2,TimeBucketName))/$C659","v":{"$error":"#N/A"}}]
[{"$f":"Orders!A661","v":0},{"$f":"VLOOKUP(A660,'Product-tool'!A:E,5,0)","v":{"$error":"#N/A"}},{"$f":"VLOOKUP(A660&B660,'Standard output'!A:D,4,0)","v":{"$error":"#N/A"}},{"$f":"INDEX(Orders!A:D,ROW()+1,FindCol(\"orders\",2,TimeBucketName))/$C660","v":{"$error":"#N/A"}}]
[{"$f":"Orders!A662","v":0},{"$f":"VLOOKUP(A661,'Product-tool'!A:E,5,0)","v":{"$error":"#N/A"}},{"$f":"VLOOKUP(A661&B661,'Standard output'!A:D,4,0)","v":{"$error":"#N/A"}},{"$f":"INDEX(Orders!A:D,ROW()+1,FindCol(\"orders\",2,TimeBucketName))/$C661","v":{"$error":"#N/A"}}]
[{"$f":"Orders!A663","v":0},{"$f":"VLOOKUP(A662,'Product-tool'!A:E,5,0)","v":{"$error":"#N/A"}},{"$f":"VLOOKUP(A662&B662,'Standard output'!A:D,4,0)","v":{"$error":"#N/A"}},{"$f":"INDEX(Orders!A:D,ROW()+1,FindCol(\"orders\",2,TimeBucketName))/$C662","v":{"$error":"#N/A"}}]
[{"$f":"Orders!A664","v":0},{"$f":"VLOOKUP(A663,'Product-tool'!A:E,5,0)","v":{"$error":"#N/A"}},{"$f":"VLOOKUP(A663&B663,'Standard output'!A:D,4,0)","v":{"$error":"#N/A"}},{"$f":"INDEX(Orders!A:D,ROW()+1,FindCol(\"orders\",2,TimeBucketName))/$C663","v":{"$error":"#N/A"}}]
[{"$f":"Orders!A665","v":0},{"$f":"VLOOKUP(A664,'Product-tool'!A:E,5,0)","v":{"$error":"#N/A"}},{"$f":"VLOOKUP(A664&B664,'Standard output'!A:D,4,0)","v":{"$error":"#N/A"}},{"$f":"INDEX(Orders!A:D,ROW()+1,FindCol(\"orders\",2,TimeBucketName))/$C664","v":{"$error":"#N/A"}}]
[{"$f":"Orders!A666","v":0},{"$f":"VLOOKUP(A665,'Product-tool'!A:E,5,0)","v":{"$error":"#N/A"}},{"$f":"VLOOKUP(A665&B665,'Standard output'!A:D,4,0)","v":{"$error":"#N/A"}},{"$f":"INDEX(Orders!A:D,ROW()+1,FindCol(\"orders\",2,TimeBucketName))/$C665","v":{"$error":"#N/A"}}]
[{"$f":"Orders!A667","v":0},{"$f":"VLOOKUP(A666,'Product-tool'!A:E,5,0)","v":{"$error":"#N/A"}},{"$f":"VLOOKUP(A666&B666,'Standard output'!A:D,4,0)","v":{"$error":"#N/A"}},{"$f":"INDEX(Orders!A:D,ROW()+1,FindCol(\"orders\",2,TimeBucketName))/$C666","v":{"$error":"#N/A"}}]
[{"$f":"Orders!A668","v":0},{"$f":"VLOOKUP(A667,'Product-tool'!A:E,5,0)","v":{"$error":"#N/A"}},{"$f":"VLOOKUP(A667&B667,'Standard output'!A:D,4,0)","v":{"$error":"#N/A"}},{"$f":"INDEX(Orders!A:D,ROW()+1,FindCol(\"orders\",2,TimeBucketName))/$C667","v":{"$error":"#N/A"}}]
[{"$f":"Orders!A669","v":0},{"$f":"VLOOKUP(A668,'Product-tool'!A:E,5,0)","v":{"$error":"#N/A"}},{"$f":"VLOOKUP(A668&B668,'Standard output'!A:D,4,0)","v":{"$error":"#N/A"}},{"$f":"INDEX(Orders!A:D,ROW()+1,FindCol(\"orders\",2,TimeBucketName))/$C668","v":{"$error":"#N/A"}}]
[{"$f":"Orders!A670","v":0},{"$f":"VLOOKUP(A669,'Product-tool'!A:E,5,0)","v":{"$error":"#N/A"}},{"$f":"VLOOKUP(A669&B669,'Standard output'!A:D,4,0)","v":{"$error":"#N/A"}},{"$f":"INDEX(Orders!A:D,ROW()+1,FindCol(\"orders\",2,TimeBucketName))/$C669","v":{"$error":"#N/A"}}]
[{"$f":"Orders!A671","v":0},{"$f":"VLOOKUP(A670,'Product-tool'!A:E,5,0)","v":{"$error":"#N/A"}},{"$f":"VLOOKUP(A670&B670,'Standard output'!A:D,4,0)","v":{"$error":"#N/A"}},{"$f":"INDEX(Orders!A:D,ROW()+1,FindCol(\"orders\",2,TimeBucketName))/$C670","v":{"$error":"#N/A"}}]
[{"$f":"Orders!A672","v":0},{"$f":"VLOOKUP(A671,'Product-tool'!A:E,5,0)","v":{"$error":"#N/A"}},{"$f":"VLOOKUP(A671&B671,'Standard output'!A:D,4,0)","v":{"$error":"#N/A"}},{"$f":"INDEX(Orders!A:D,ROW()+1,FindCol(\"orders\",2,TimeBucketName))/$C671","v":{"$error":"#N/A"}}]
[{"$f":"Orders!A673","v":0},{"$f":"VLOOKUP(A672,'Product-tool'!A:E,5,0)","v":{"$error":"#N/A"}},{"$f":"VLOOKUP(A672&B672,'Standard output'!A:D,4,0)","v":{"$error":"#N/A"}},{"$f":"INDEX(Orders!A:D,ROW()+1,FindCol(\"orders\",2,TimeBucketName))/$C672","v":{"$error":"#N/A"}}]
[{"$f":"Orders!A674","v":0},{"$f":"VLOOKUP(A673,'Product-tool'!A:E,5,0)","v":{"$error":"#N/A"}},{"$f":"VLOOKUP(A673&B673,'Standard output'!A:D,4,0)","v":{"$error":"#N/A"}},{"$f":"INDEX(Orders!A:D,ROW()+1,FindCol(\"orders\",2,TimeBucketName))/$C673","v":{"$error":"#N/A"}}]
[{"$f":"Orders!A675","v":0},{"$f":"VLOOKUP(A674,'Product-tool'!A:E,5,0)","v":{"$error":"#N/A"}},{"$f":"VLOOKUP(A674&B674,'Standard output'!A:D,4,0)","v":{"$error":"#N/A"}},{"$f":"INDEX(Orders!A:D,ROW()+1,FindCol(\"orders\",2,TimeBucketName))/$C674","v":{"$error":"#N/A"}}]
[{"$f":"Orders!A676","v":0},{"$f":"VLOOKUP(A675,'Product-tool'!A:E,5,0)","v":{"$error":"#N/A"}},{"$f":"VLOOKUP(A675&B675,'Standard output'!A:D,4,0)","v":{"$error":"#N/A"}},{"$f":"INDEX(Orders!A:D,ROW()+1,FindCol(\"orders\",2,TimeBucketName))/$C675","v":{"$error":"#N/A"}}]
[{"$f":"Orders!A677","v":0},{"$f":"VLOOKUP(A676,'Product-tool'!A:E,5,0)","v":{"$error":"#N/A"}},{"$f":"VLOOKUP(A676&B676,'Standard output'!A:D,4,0)","v":{"$error":"#N/A"}},{"$f":"INDEX(Orders!A:D,ROW()+1,FindCol(\"orders\",2,TimeBucketName))/$C676","v":{"$error":"#N/A"}}]
[{"$f":"Orders!A678","v":0},{"$f":"VLOOKUP(A677,'Product-tool'!A:E,5,0)","v":{"$error":"#N/A"}},{"$f":"VLOOKUP(A677&B677,'Standard output'!A:D,4,0)","v":{"$error":"#N/A"}},{"$f":"INDEX(Orders!A:D,ROW()+1,FindCol(\"orders\",2,TimeBucketName))/$C677","v":{"$error":"#N/A"}}]
[{"$f":"Orders!A679","v":0},{"$f":"VLOOKUP(A678,'Product-tool'!A:E,5,0)","v":{"$error":"#N/A"}},{"$f":"VLOOKUP(A678&B678,'Standard output'!A:D,4,0)","v":{"$error":"#N/A"}},{"$f":"INDEX(Orders!A:D,ROW()+1,FindCol(\"orders\",2,TimeBucketName))/$C678","v":{"$error":"#N/A"}}]
[{"$f":"Orders!A680","v":0},{"$f":"VLOOKUP(A679,'Product-tool'!A:E,5,0)","v":{"$error":"#N/A"}},{"$f":"VLOOKUP(A679&B679,'Standard output'!A:D,4,0)","v":{"$error":"#N/A"}},{"$f":"INDEX(Orders!A:D,ROW()+1,FindCol(\"orders\",2,TimeBucketName))/$C679","v":{"$error":"#N/A"}}]
[{"$f":"Orders!A681","v":0},{"$f":"VLOOKUP(A680,'Product-tool'!A:E,5,0)","v":{"$error":"#N/A"}},{"$f":"VLOOKUP(A680&B680,'Standard output'!A:D,4,0)","v":{"$error":"#N/A"}},{"$f":"INDEX(Orders!A:D,ROW()+1,FindCol(\"orders\",2,TimeBucketName))/$C680","v":{"$error":"#N/A"}}]
[{"$f":"Orders!A682","v":0},{"$f":"VLOOKUP(A681,'Product-tool'!A:E,5,0)","v":{"$error":"#N/A"}},{"$f":"VLOOKUP(A681&B681,'Standard output'!A:D,4,0)","v":{"$error":"#N/A"}},{"$f":"INDEX(Orders!A:D,ROW()+1,FindCol(\"orders\",2,TimeBucketName))/$C681","v":{"$error":"#N/A"}}]
[{"$f":"Orders!A683","v":0},{"$f":"VLOOKUP(A682,'Product-tool'!A:E,5,0)","v":{"$error":"#N/A"}},{"$f":"VLOOKUP(A682&B682,'Standard output'!A:D,4,0)","v":{"$error":"#N/A"}},{"$f":"INDEX(Orders!A:D,ROW()+1,FindCol(\"orders\",2,TimeBucketName))/$C682","v":{"$error":"#N/A"}}]
[{"$f":"Orders!A684","v":0},{"$f":"VLOOKUP(A683,'Product-tool'!A:E,5,0)","v":{"$error":"#N/A"}},{"$f":"VLOOKUP(A683&B683,'Standard output'!A:D,4,0)","v":{"$error":"#N/A"}},{"$f":"INDEX(Orders!A:D,ROW()+1,FindCol(\"orders\",2,TimeBucketName))/$C683","v":{"$error":"#N/A"}}]
[{"$f":"Orders!A685","v":0},{"$f":"VLOOKUP(A684,'Product-tool'!A:E,5,0)","v":{"$error":"#N/A"}},{"$f":"VLOOKUP(A684&B684,'Standard output'!A:D,4,0)","v":{"$error":"#N/A"}},{"$f":"INDEX(Orders!A:D,ROW()+1,FindCol(\"orders\",2,TimeBucketName))/$C684","v":{"$error":"#N/A"}}]
[{"$f":"Orders!A686","v":0},{"$f":"VLOOKUP(A685,'Product-tool'!A:E,5,0)","v":{"$error":"#N/A"}},{"$f":"VLOOKUP(A685&B685,'Standard output'!A:D,4,0)","v":{"$error":"#N/A"}},{"$f":"INDEX(Orders!A:D,ROW()+1,FindCol(\"orders\",2,TimeBucketName))/$C685","v":{"$error":"#N/A"}}]
[{"$f":"Orders!A687","v":0},{"$f":"VLOOKUP(A686,'Product-tool'!A:E,5,0)","v":{"$error":"#N/A"}},{"$f":"VLOOKUP(A686&B686,'Standard output'!A:D,4,0)","v":{"$error":"#N/A"}},{"$f":"INDEX(Orders!A:D,ROW()+1,FindCol(\"orders\",2,TimeBucketName))/$C686","v":{"$error":"#N/A"}}]
[{"$f":"Orders!A688","v":0},{"$f":"VLOOKUP(A687,'Product-tool'!A:E,5,0)","v":{"$error":"#N/A"}},{"$f":"VLOOKUP(A687&B687,'Standard output'!A:D,4,0)","v":{"$error":"#N/A"}},{"$f":"INDEX(Orders!A:D,ROW()+1,FindCol(\"orders\",2,TimeBucketName))/$C687","v":{"$error":"#N/A"}}]
[{"$f":"Orders!A689","v":0},{"$f":"VLOOKUP(A688,'Product-tool'!A:E,5,0)","v":{"$error":"#N/A"}},{"$f":"VLOOKUP(A688&B688,'Standard output'!A:D,4,0)","v":{"$error":"#N/A"}},{"$f":"INDEX(Orders!A:D,ROW()+1,FindCol(\"orders\",2,TimeBucketName))/$C688","v":{"$error":"#N/A"}}]
[{"$f":"Orders!A690","v":0},{"$f":"VLOOKUP(A689,'Product-tool'!A:E,5,0)","v":{"$error":"#N/A"}},{"$f":"VLOOKUP(A689&B689,'Standard output'!A:D,4,0)","v":{"$error":"#N/A"}},{"$f":"INDEX(Orders!A:D,ROW()+1,FindCol(\"orders\",2,TimeBucketName))/$C689","v":{"$error":"#N/A"}}]
[{"$f":"Orders!A691","v":0},{"$f":"VLOOKUP(A690,'Product-tool'!A:E,5,0)","v":{"$error":"#N/A"}},{"$f":"VLOOKUP(A690&B690,'Standard output'!A:D,4,0)","v":{"$error":"#N/A"}},{"$f":"INDEX(Orders!A:D,ROW()+1,FindCol(\"orders\",2,TimeBucketName))/$C690","v":{"$error":"#N/A"}}]
[{"$f":"Orders!A692","v":0},{"$f":"VLOOKUP(A691,'Product-tool'!A:E,5,0)","v":{"$error":"#N/A"}},{"$f":"VLOOKUP(A691&B691,'Standard output'!A:D,4,0)","v":{"$error":"#N/A"}},{"$f":"INDEX(Orders!A:D,ROW()+1,FindCol(\"orders\",2,TimeBucketName))/$C691","v":{"$error":"#N/A"}}]
[{"$f":"Orders!A693","v":0},{"$f":"VLOOKUP(A692,'Product-tool'!A:E,5,0)","v":{"$error":"#N/A"}},{"$f":"VLOOKUP(A692&B692,'Standard output'!A:D,4,0)","v":{"$error":"#N/A"}},{"$f":"INDEX(Orders!A:D,ROW()+1,FindCol(\"orders\",2,TimeBucketName))/$C692","v":{"$error":"#N/A"}}]
[{"$f":"Orders!A694","v":0},{"$f":"VLOOKUP(A693,'Product-tool'!A:E,5,0)","v":{"$error":"#N/A"}},{"$f":"VLOOKUP(A693&B693,'Standard output'!A:D,4,0)","v":{"$error":"#N/A"}},{"$f":"INDEX(Orders!A:D,ROW()+1,FindCol(\"orders\",2,TimeBucketName))/$C693","v":{"$error":"#N/A"}}]
[{"$f":"Orders!A695","v":0},{"$f":"VLOOKUP(A694,'Product-tool'!A:E,5,0)","v":{"$error":"#N/A"}},{"$f":"VLOOKUP(A694&B694,'Standard output'!A:D,4,0)","v":{"$error":"#N/A"}},{"$f":"INDEX(Orders!A:D,ROW()+1,FindCol(\"orders\",2,TimeBucketName))/$C694","v":{"$error":"#N/A"}}]
[{"$f":"Orders!A696","v":0},{"$f":"VLOOKUP(A695,'Product-tool'!A:E,5,0)","v":{"$error":"#N/A"}},{"$f":"VLOOKUP(A695&B695,'Standard output'!A:D,4,0)","v":{"$error":"#N/A"}},{"$f":"INDEX(Orders!A:D,ROW()+1,FindCol(\"orders\",2,TimeBucketName))/$C695","v":{"$error":"#N/A"}}]
[{"$f":"Orders!A697","v":0},{"$f":"VLOOKUP(A696,'Product-tool'!A:E,5,0)","v":{"$error":"#N/A"}},{"$f":"VLOOKUP(A696&B696,'Standard output'!A:D,4,0)","v":{"$error":"#N/A"}},{"$f":"INDEX(Orders!A:D,ROW()+1,FindCol(\"orders\",2,TimeBucketName))/$C696","v":{"$error":"#N/A"}}]
[{"$f":"Orders!A698","v":0},{"$f":"VLOOKUP(A697,'Product-tool'!A:E,5,0)","v":{"$error":"#N/A"}},{"$f":"VLOOKUP(A697&B697,'Standard output'!A:D,4,0)","v":{"$error":"#N/A"}},{"$f":"INDEX(Orders!A:D,ROW()+1,FindCol(\"orders\",2,TimeBucketName))/$C697","v":{"$error":"#N/A"}}]
[{"$f":"Orders!A699","v":0},{"$f":"VLOOKUP(A698,'Product-tool'!A:E,5,0)","v":{"$error":"#N/A"}},{"$f":"VLOOKUP(A698&B698,'Standard output'!A:D,4,0)","v":{"$error":"#N/A"}},{"$f":"INDEX(Orders!A:D,ROW()+1,FindCol(\"orders\",2,TimeBucketName))/$C698","v":{"$error":"#N/A"}}]
[{"$f":"Orders!A700","v":0},{"$f":"VLOOKUP(A699,'Product-tool'!A:E,5,0)","v":{"$error":"#N/A"}},{"$f":"VLOOKUP(A699&B699,'Standard output'!A:D,4,0)","v":{"$error":"#N/A"}},{"$f":"INDEX(Orders!A:D,ROW()+1,FindCol(\"orders\",2,TimeBucketName))/$C699","v":{"$error":"#N/A"}}]
[{"$f":"Orders!A701","v":0},{"$f":"VLOOKUP(A700,'Product-tool'!A:E,5,0)","v":{"$error":"#N/A"}},{"$f":"VLOOKUP(A700&B700,'Standard output'!A:D,4,0)","v":{"$error":"#N/A"}},{"$f":"INDEX(Orders!A:D,ROW()+1,FindCol(\"orders\",2,TimeBucketName))/$C700","v":{"$error":"#N/A"}}]
[{"$f":"Orders!A702","v":0},{"$f":"VLOOKUP(A701,'Product-tool'!A:E,5,0)","v":{"$error":"#N/A"}},{"$f":"VLOOKUP(A701&B701,'Standard output'!A:D,4,0)","v":{"$error":"#N/A"}},{"$f":"INDEX(Orders!A:D,ROW()+1,FindCol(\"orders\",2,TimeBucketName))/$C701","v":{"$error":"#N/A"}}]
[{"$f":"Orders!A703","v":0},{"$f":"VLOOKUP(A702,'Product-tool'!A:E,5,0)","v":{"$error":"#N/A"}},{"$f":"VLOOKUP(A702&B702,'Standard output'!A:D,4,0)","v":{"$error":"#N/A"}},{"$f":"INDEX(Orders!A:D,ROW()+1,FindCol(\"orders\",2,TimeBucketName))/$C702","v":{"$error":"#N/A"}}]
[{"$f":"Orders!A704","v":0},{"$f":"VLOOKUP(A703,'Product-tool'!A:E,5,0)","v":{"$error":"#N/A"}},{"$f":"VLOOKUP(A703&B703,'Standard output'!A:D,4,0)","v":{"$error":"#N/A"}},{"$f":"INDEX(Orders!A:D,ROW()+1,FindCol(\"orders\",2,TimeBucketName))/$C703","v":{"$error":"#N/A"}}]
[{"$f":"Orders!A705","v":0},{"$f":"VLOOKUP(A704,'Product-tool'!A:E,5,0)","v":{"$error":"#N/A"}},{"$f":"VLOOKUP(A704&B704,'Standard output'!A:D,4,0)","v":{"$error":"#N/A"}},{"$f":"INDEX(Orders!A:D,ROW()+1,FindCol(\"orders\",2,TimeBucketName))/$C704","v":{"$error":"#N/A"}}]
[{"$f":"Orders!A706","v":0},{"$f":"VLOOKUP(A705,'Product-tool'!A:E,5,0)","v":{"$error":"#N/A"}},{"$f":"VLOOKUP(A705&B705,'Standard output'!A:D,4,0)","v":{"$error":"#N/A"}},{"$f":"INDEX(Orders!A:D,ROW()+1,FindCol(\"orders\",2,TimeBucketName))/$C705","v":{"$error":"#N/A"}}]
[{"$f":"Orders!A707","v":0},{"$f":"VLOOKUP(A706,'Product-tool'!A:E,5,0)","v":{"$error":"#N/A"}},{"$f":"VLOOKUP(A706&B706,'Standard output'!A:D,4,0)","v":{"$error":"#N/A"}},{"$f":"INDEX(Orders!A:D,ROW()+1,FindCol(\"orders\",2,TimeBucketName))/$C706","v":{"$error":"#N/A"}}]
[{"$f":"Orders!A708","v":0},{"$f":"VLOOKUP(A707,'Product-tool'!A:E,5,0)","v":{"$error":"#N/A"}},{"$f":"VLOOKUP(A707&B707,'Standard output'!A:D,4,0)","v":{"$error":"#N/A"}},{"$f":"INDEX(Orders!A:D,ROW()+1,FindCol(\"orders\",2,TimeBucketName))/$C707","v":{"$error":"#N/A"}}]
[{"$f":"Orders!A709","v":0},{"$f":"VLOOKUP(A708,'Product-tool'!A:E,5,0)","v":{"$error":"#N/A"}},{"$f":"VLOOKUP(A708&B708,'Standard output'!A:D,4,0)","v":{"$error":"#N/A"}},{"$f":"INDEX(Orders!A:D,ROW()+1,FindCol(\"orders\",2,TimeBucketName))/$C708","v":{"$error":"#N/A"}}]
[{"$f":"Orders!A710","v":0},{"$f":"VLOOKUP(A709,'Product-tool'!A:E,5,0)","v":{"$error":"#N/A"}},{"$f":"VLOOKUP(A709&B709,'Standard output'!A:D,4,0)","v":{"$error":"#N/A"}},{"$f":"INDEX(Orders!A:D,ROW()+1,FindCol(\"orders\",2,TimeBucketName))/$C709","v":{"$error":"#N/A"}}]
[{"$f":"Orders!A711","v":0},{"$f":"VLOOKUP(A710,'Product-tool'!A:E,5,0)","v":{"$error":"#N/A"}},{"$f":"VLOOKUP(A710&B710,'Standard output'!A:D,4,0)","v":{"$error":"#N/A"}},{"$f":"INDEX(Orders!A:D,ROW()+1,FindCol(\"orders\",2,TimeBucketName))/$C710","v":{"$error":"#N/A"}}]
[{"$f":"Orders!A712","v":0},{"$f":"VLOOKUP(A711,'Product-tool'!A:E,5,0)","v":{"$error":"#N/A"}},{"$f":"VLOOKUP(A711&B711,'Standard output'!A:D,4,0)","v":{"$error":"#N/A"}},{"$f":"INDEX(Orders!A:D,ROW()+1,FindCol(\"orders\",2,TimeBucketName))/$C711","v":{"$error":"#N/A"}}]
[{"$f":"Orders!A713","v":0},{"$f":"VLOOKUP(A712,'Product-tool'!A:E,5,0)","v":{"$error":"#N/A"}},{"$f":"VLOOKUP(A712&B712,'Standard output'!A:D,4,0)","v":{"$error":"#N/A"}},{"$f":"INDEX(Orders!A:D,ROW()+1,FindCol(\"orders\",2,TimeBucketName))/$C712","v":{"$error":"#N/A"}}]
[{"$f":"Orders!A714","v":0},{"$f":"VLOOKUP(A713,'Product-tool'!A:E,5,0)","v":{"$error":"#N/A"}},{"$f":"VLOOKUP(A713&B713,'Standard output'!A:D,4,0)","v":{"$error":"#N/A"}},{"$f":"INDEX(Orders!A:D,ROW()+1,FindCol(\"orders\",2,TimeBucketName))/$C713","v":{"$error":"#N/A"}}]
[{"$f":"Orders!A715","v":0},{"$f":"VLOOKUP(A714,'Product-tool'!A:E,5,0)","v":{"$error":"#N/A"}},{"$f":"VLOOKUP(A714&B714,'Standard output'!A:D,4,0)","v":{"$error":"#N/A"}},{"$f":"INDEX(Orders!A:D,ROW()+1,FindCol(\"orders\",2,TimeBucketName))/$C714","v":{"$error":"#N/A"}}]
[{"$f":"Orders!A716","v":0},{"$f":"VLOOKUP(A715,'Product-tool'!A:E,5,0)","v":{"$error":"#N/A"}},{"$f":"VLOOKUP(A715&B715,'Standard output'!A:D,4,0)","v":{"$error":"#N/A"}},{"$f":"INDEX(Orders!A:D,ROW()+1,FindCol(\"orders\",2,TimeBucketName))/$C715","v":{"$error":"#N/A"}}]
[{"$f":"Orders!A717","v":0},{"$f":"VLOOKUP(A716,'Product-tool'!A:E,5,0)","v":{"$error":"#N/A"}},{"$f":"VLOOKUP(A716&B716,'Standard output'!A:D,4,0)","v":{"$error":"#N/A"}},{"$f":"INDEX(Orders!A:D,ROW()+1,FindCol(\"orders\",2,TimeBucketName))/$C716","v":{"$error":"#N/A"}}]
[{"$f":"Orders!A718","v":0},{"$f":"VLOOKUP(A717,'Product-tool'!A:E,5,0)","v":{"$error":"#N/A"}},{"$f":"VLOOKUP(A717&B717,'Standard output'!A:D,4,0)","v":{"$error":"#N/A"}},{"$f":"INDEX(Orders!A:D,ROW()+1,FindCol(\"orders\",2,TimeBucketName))/$C717","v":{"$error":"#N/A"}}]
[{"$f":"Orders!A719","v":0},{"$f":"VLOOKUP(A718,'Product-tool'!A:E,5,0)","v":{"$error":"#N/A"}},{"$f":"VLOOKUP(A718&B718,'Standard output'!A:D,4,0)","v":{"$error":"#N/A"}},{"$f":"INDEX(Orders!A:D,ROW()+1,FindCol(\"orders\",2,TimeBucketName))/$C718","v":{"$error":"#N/A"}}]
[{"$f":"Orders!A720","v":0},{"$f":"VLOOKUP(A719,'Product-tool'!A:E,5,0)","v":{"$error":"#N/A"}},{"$f":"VLOOKUP(A719&B719,'Standard output'!A:D,4,0)","v":{"$error":"#N/A"}},{"$f":"INDEX(Orders!A:D,ROW()+1,FindCol(\"orders\",2,TimeBucketName))/$C719","v":{"$error":"#N/A"}}]
[{"$f":"Orders!A721","v":0},{"$f":"VLOOKUP(A720,'Product-tool'!A:E,5,0)","v":{"$error":"#N/A"}},{"$f":"VLOOKUP(A720&B720,'Standard output'!A:D,4,0)","v":{"$error":"#N/A"}},{"$f":"INDEX(Orders!A:D,ROW()+1,FindCol(\"orders\",2,TimeBucketName))/$C720","v":{"$error":"#N/A"}}]
[{"$f":"Orders!A722","v":0},{"$f":"VLOOKUP(A721,'Product-tool'!A:E,5,0)","v":{"$error":"#N/A"}},{"$f":"VLOOKUP(A721&B721,'Standard output'!A:D,4,0)","v":{"$error":"#N/A"}},{"$f":"INDEX(Orders!A:D,ROW()+1,FindCol(\"orders\",2,TimeBucketName))/$C721","v":{"$error":"#N/A"}}]
[{"$f":"Orders!A723","v":0},{"$f":"VLOOKUP(A722,'Product-tool'!A:E,5,0)","v":{"$error":"#N/A"}},{"$f":"VLOOKUP(A722&B722,'Standard output'!A:D,4,0)","v":{"$error":"#N/A"}},{"$f":"INDEX(Orders!A:D,ROW()+1,FindCol(\"orders\",2,TimeBucketName))/$C722","v":{"$error":"#N/A"}}]
[{"$f":"Orders!A724","v":0},{"$f":"VLOOKUP(A723,'Product-tool'!A:E,5,0)","v":{"$error":"#N/A"}},{"$f":"VLOOKUP(A723&B723,'Standard output'!A:D,4,0)","v":{"$error":"#N/A"}},{"$f":"INDEX(Orders!A:D,ROW()+1,FindCol(\"orders\",2,TimeBucketName))/$C723","v":{"$error":"#N/A"}}]
[{"$f":"Orders!A725","v":0},{"$f":"VLOOKUP(A724,'Product-tool'!A:E,5,0)","v":{"$error":"#N/A"}},{"$f":"VLOOKUP(A724&B724,'Standard output'!A:D,4,0)","v":{"$error":"#N/A"}},{"$f":"INDEX(Orders!A:D,ROW()+1,FindCol(\"orders\",2,TimeBucketName))/$C724","v":{"$error":"#N/A"}}]
[{"$f":"Orders!A726","v":0},{"$f":"VLOOKUP(A725,'Product-tool'!A:E,5,0)","v":{"$error":"#N/A"}},{"$f":"VLOOKUP(A725&B725,'Standard output'!A:D,4,0)","v":{"$error":"#N/A"}},{"$f":"INDEX(Orders!A:D,ROW()+1,FindCol(\"orders\",2,TimeBucketName))/$C725","v":{"$error":"#N/A"}}]
[{"$f":"Orders!A727","v":0},{"$f":"VLOOKUP(A726,'Product-tool'!A:E,5,0)","v":{"$error":"#N/A"}},{"$f":"VLOOKUP(A726&B726,'Standard output'!A:D,4,0)","v":{"$error":"#N/A"}},{"$f":"INDEX(Orders!A:D,ROW()+1,FindCol(\"orders\",2,TimeBucketName))/$C726","v":{"$error":"#N/A"}}]
[{"$f":"Orders!A728","v":0},{"$f":"VLOOKUP(A727,'Product-tool'!A:E,5,0)","v":{"$error":"#N/A"}},{"$f":"VLOOKUP(A727&B727,'Standard output'!A:D,4,0)","v":{"$error":"#N/A"}},{"$f":"INDEX(Orders!A:D,ROW()+1,FindCol(\"orders\",2,TimeBucketName))/$C727","v":{"$error":"#N/A"}}]
[{"$f":"Orders!A729","v":0},{"$f":"VLOOKUP(A728,'Product-tool'!A:E,5,0)","v":{"$error":"#N/A"}},{"$f":"VLOOKUP(A728&B728,'Standard output'!A:D,4,0)","v":{"$error":"#N/A"}},{"$f":"INDEX(Orders!A:D,ROW()+1,FindCol(\"orders\",2,TimeBucketName))/$C728","v":{"$error":"#N/A"}}]
[{"$f":"Orders!A730","v":0},{"$f":"VLOOKUP(A729,'Product-tool'!A:E,5,0)","v":{"$error":"#N/A"}},{"$f":"VLOOKUP(A729&B729,'Standard output'!A:D,4,0)","v":{"$error":"#N/A"}},{"$f":"INDEX(Orders!A:D,ROW()+1,FindCol(\"orders\",2,TimeBucketName))/$C729","v":{"$error":"#N/A"}}]
[{"$f":"Orders!A731","v":0},{"$f":"VLOOKUP(A730,'Product-tool'!A:E,5,0)","v":{"$error":"#N/A"}},{"$f":"VLOOKUP(A730&B730,'Standard output'!A:D,4,0)","v":{"$error":"#N/A"}},{"$f":"INDEX(Orders!A:D,ROW()+1,FindCol(\"orders\",2,TimeBucketName))/$C730","v":{"$error":"#N/A"}}]
[{"$f":"Orders!A732","v":0},{"$f":"VLOOKUP(A731,'Product-tool'!A:E,5,0)","v":{"$error":"#N/A"}},{"$f":"VLOOKUP(A731&B731,'Standard output'!A:D,4,0)","v":{"$error":"#N/A"}},{"$f":"INDEX(Orders!A:D,ROW()+1,FindCol(\"orders\",2,TimeBucketName))/$C731","v":{"$error":"#N/A"}}]
[{"$f":"Orders!A733","v":0},{"$f":"VLOOKUP(A732,'Product-tool'!A:E,5,0)","v":{"$error":"#N/A"}},{"$f":"VLOOKUP(A732&B732,'Standard output'!A:D,4,0)","v":{"$error":"#N/A"}},{"$f":"INDEX(Orders!A:D,ROW()+1,FindCol(\"orders\",2,TimeBucketName))/$C732","v":{"$error":"#N/A"}}]
[{"$f":"Orders!A734","v":0},{"$f":"VLOOKUP(A733,'Product-tool'!A:E,5,0)","v":{"$error":"#N/A"}},{"$f":"VLOOKUP(A733&B733,'Standard output'!A:D,4,0)","v":{"$error":"#N/A"}},{"$f":"INDEX(Orders!A:D,ROW()+1,FindCol(\"orders\",2,TimeBucketName))/$C733","v":{"$error":"#N/A"}}]
[{"$f":"Orders!A735","v":0},{"$f":"VLOOKUP(A734,'Product-tool'!A:E,5,0)","v":{"$error":"#N/A"}},{"$f":"VLOOKUP(A734&B734,'Standard output'!A:D,4,0)","v":{"$error":"#N/A"}},{"$f":"INDEX(Orders!A:D,ROW()+1,FindCol(\"orders\",2,TimeBucketName))/$C734","v":{"$error":"#N/A"}}]
[{"$f":"Orders!A736","v":0},{"$f":"VLOOKUP(A735,'Product-tool'!A:E,5,0)","v":{"$error":"#N/A"}},{"$f":"VLOOKUP(A735&B735,'Standard output'!A:D,4,0)","v":{"$error":"#N/A"}},{"$f":"INDEX(Orders!A:D,ROW()+1,FindCol(\"orders\",2,TimeBucketName))/$C735","v":{"$error":"#N/A"}}]
[{"$f":"Orders!A737","v":0},{"$f":"VLOOKUP(A736,'Product-tool'!A:E,5,0)","v":{"$error":"#N/A"}},{"$f":"VLOOKUP(A736&B736,'Standard output'!A:D,4,0)","v":{"$error":"#N/A"}},{"$f":"INDEX(Orders!A:D,ROW()+1,FindCol(\"orders\",2,TimeBucketName))/$C736","v":{"$error":"#N/A"}}]
[{"$f":"Orders!A738","v":0},{"$f":"VLOOKUP(A737,'Product-tool'!A:E,5,0)","v":{"$error":"#N/A"}},{"$f":"VLOOKUP(A737&B737,'Standard output'!A:D,4,0)","v":{"$error":"#N/A"}},{"$f":"INDEX(Orders!A:D,ROW()+1,FindCol(\"orders\",2,TimeBucketName))/$C737","v":{"$error":"#N/A"}}]
[{"$f":"Orders!A739","v":0},{"$f":"VLOOKUP(A738,'Product-tool'!A:E,5,0)","v":{"$error":"#N/A"}},{"$f":"VLOOKUP(A738&B738,'Standard output'!A:D,4,0)","v":{"$error":"#N/A"}},{"$f":"INDEX(Orders!A:D,ROW()+1,FindCol(\"orders\",2,TimeBucketName))/$C738","v":{"$error":"#N/A"}}]
[{"$f":"Orders!A740","v":0},{"$f":"VLOOKUP(A739,'Product-tool'!A:E,5,0)","v":{"$error":"#N/A"}},{"$f":"VLOOKUP(A739&B739,'Standard output'!A:D,4,0)","v":{"$error":"#N/A"}},{"$f":"INDEX(Orders!A:D,ROW()+1,FindCol(\"orders\",2,TimeBucketName))/$C739","v":{"$error":"#N/A"}}]
[{"$f":"Orders!A741","v":0},{"$f":"VLOOKUP(A740,'Product-tool'!A:E,5,0)","v":{"$error":"#N/A"}},{"$f":"VLOOKUP(A740&B740,'Standard output'!A:D,4,0)","v":{"$error":"#N/A"}},{"$f":"INDEX(Orders!A:D,ROW()+1,FindCol(\"orders\",2,TimeBucketName))/$C740","v":{"$error":"#N/A"}}]
[{"$f":"Orders!A742","v":0},{"$f":"VLOOKUP(A741,'Product-tool'!A:E,5,0)","v":{"$error":"#N/A"}},{"$f":"VLOOKUP(A741&B741,'Standard output'!A:D,4,0)","v":{"$error":"#N/A"}},{"$f":"INDEX(Orders!A:D,ROW()+1,FindCol(\"orders\",2,TimeBucketName))/$C741","v":{"$error":"#N/A"}}]
[{"$f":"Orders!A743","v":0},{"$f":"VLOOKUP(A742,'Product-tool'!A:E,5,0)","v":{"$error":"#N/A"}},{"$f":"VLOOKUP(A742&B742,'Standard output'!A:D,4,0)","v":{"$error":"#N/A"}},{"$f":"INDEX(Orders!A:D,ROW()+1,FindCol(\"orders\",2,TimeBucketName))/$C742","v":{"$error":"#N/A"}}]
[{"$f":"Orders!A744","v":0},{"$f":"VLOOKUP(A743,'Product-tool'!A:E,5,0)","v":{"$error":"#N/A"}},{"$f":"VLOOKUP(A743&B743,'Standard output'!A:D,4,0)","v":{"$error":"#N/A"}},{"$f":"INDEX(Orders!A:D,ROW()+1,FindCol(\"orders\",2,TimeBucketName))/$C743","v":{"$error":"#N/A"}}]
[{"$f":"Orders!A745","v":0},{"$f":"VLOOKUP(A744,'Product-tool'!A:E,5,0)","v":{"$error":"#N/A"}},{"$f":"VLOOKUP(A744&B744,'Standard output'!A:D,4,0)","v":{"$error":"#N/A"}},{"$f":"INDEX(Orders!A:D,ROW()+1,FindCol(\"orders\",2,TimeBucketName))/$C744","v":{"$error":"#N/A"}}]
[{"$f":"Orders!A746","v":0},{"$f":"VLOOKUP(A745,'Product-tool'!A:E,5,0)","v":{"$error":"#N/A"}},{"$f":"VLOOKUP(A745&B745,'Standard output'!A:D,4,0)","v":{"$error":"#N/A"}},{"$f":"INDEX(Orders!A:D,ROW()+1,FindCol(\"orders\",2,TimeBucketName))/$C745","v":{"$error":"#N/A"}}]
[{"$f":"Orders!A747","v":0},{"$f":"VLOOKUP(A746,'Product-tool'!A:E,5,0)","v":{"$error":"#N/A"}},{"$f":"VLOOKUP(A746&B746,'Standard output'!A:D,4,0)","v":{"$error":"#N/A"}},{"$f":"INDEX(Orders!A:D,ROW()+1,FindCol(\"orders\",2,TimeBucketName))/$C746","v":{"$error":"#N/A"}}]
[{"$f":"Orders!A748","v":0},{"$f":"VLOOKUP(A747,'Product-tool'!A:E,5,0)","v":{"$error":"#N/A"}},{"$f":"VLOOKUP(A747&B747,'Standard output'!A:D,4,0)","v":{"$error":"#N/A"}},{"$f":"INDEX(Orders!A:D,ROW()+1,FindCol(\"orders\",2,TimeBucketName))/$C747","v":{"$error":"#N/A"}}]
[{"$f":"Orders!A749","v":0},{"$f":"VLOOKUP(A748,'Product-tool'!A:E,5,0)","v":{"$error":"#N/A"}},{"$f":"VLOOKUP(A748&B748,'Standard output'!A:D,4,0)","v":{"$error":"#N/A"}},{"$f":"INDEX(Orders!A:D,ROW()+1,FindCol(\"orders\",2,TimeBucketName))/$C748","v":{"$error":"#N/A"}}]
[{"$f":"Orders!A750","v":0},{"$f":"VLOOKUP(A749,'Product-tool'!A:E,5,0)","v":{"$error":"#N/A"}},{"$f":"VLOOKUP(A749&B749,'Standard output'!A:D,4,0)","v":{"$error":"#N/A"}},{"$f":"INDEX(Orders!A:D,ROW()+1,FindCol(\"orders\",2,TimeBucketName))/$C749","v":{"$error":"#N/A"}}]
[{"$f":"Orders!A751","v":0},{"$f":"VLOOKUP(A750,'Product-tool'!A:E,5,0)","v":{"$error":"#N/A"}},{"$f":"VLOOKUP(A750&B750,'Standard output'!A:D,4,0)","v":{"$error":"#N/A"}},{"$f":"INDEX(Orders!A:D,ROW()+1,FindCol(\"orders\",2,TimeBucketName))/$C750","v":{"$error":"#N/A"}}]
[{"$f":"Orders!A752","v":0},{"$f":"VLOOKUP(A751,'Product-tool'!A:E,5,0)","v":{"$error":"#N/A"}},{"$f":"VLOOKUP(A751&B751,'Standard output'!A:D,4,0)","v":{"$error":"#N/A"}},{"$f":"INDEX(Orders!A:D,ROW()+1,FindCol(\"orders\",2,TimeBucketName))/$C751","v":{"$error":"#N/A"}}]
[{"$f":"Orders!A753","v":0},{"$f":"VLOOKUP(A752,'Product-tool'!A:E,5,0)","v":{"$error":"#N/A"}},{"$f":"VLOOKUP(A752&B752,'Standard output'!A:D,4,0)","v":{"$error":"#N/A"}},{"$f":"INDEX(Orders!A:D,ROW()+1,FindCol(\"orders\",2,TimeBucketName))/$C752","v":{"$error":"#N/A"}}]
[{"$f":"Orders!A754","v":0},{"$f":"VLOOKUP(A753,'Product-tool'!A:E,5,0)","v":{"$error":"#N/A"}},{"$f":"VLOOKUP(A753&B753,'Standard output'!A:D,4,0)","v":{"$error":"#N/A"}},{"$f":"INDEX(Orders!A:D,ROW()+1,FindCol(\"orders\",2,TimeBucketName))/$C753","v":{"$error":"#N/A"}}]
[{"$f":"Orders!A755","v":0},{"$f":"VLOOKUP(A754,'Product-tool'!A:E,5,0)","v":{"$error":"#N/A"}},{"$f":"VLOOKUP(A754&B754,'Standard output'!A:D,4,0)","v":{"$error":"#N/A"}},{"$f":"INDEX(Orders!A:D,ROW()+1,FindCol(\"orders\",2,TimeBucketName))/$C754","v":{"$error":"#N/A"}}]
[{"$f":"Orders!A756","v":0},{"$f":"VLOOKUP(A755,'Product-tool'!A:E,5,0)","v":{"$error":"#N/A"}},{"$f":"VLOOKUP(A755&B755,'Standard output'!A:D,4,0)","v":{"$error":"#N/A"}},{"$f":"INDEX(Orders!A:D,ROW()+1,FindCol(\"orders\",2,TimeBucketName))/$C755","v":{"$error":"#N/A"}}]
[{"$f":"Orders!A757","v":0},{"$f":"VLOOKUP(A756,'Product-tool'!A:E,5,0)","v":{"$error":"#N/A"}},{"$f":"VLOOKUP(A756&B756,'Standard output'!A:D,4,0)","v":{"$error":"#N/A"}},{"$f":"INDEX(Orders!A:D,ROW()+1,FindCol(\"orders\",2,TimeBucketName))/$C756","v":{"$error":"#N/A"}}]
[{"$f":"Orders!A758","v":0},{"$f":"VLOOKUP(A757,'Product-tool'!A:E,5,0)","v":{"$error":"#N/A"}},{"$f":"VLOOKUP(A757&B757,'Standard output'!A:D,4,0)","v":{"$error":"#N/A"}},{"$f":"INDEX(Orders!A:D,ROW()+1,FindCol(\"orders\",2,TimeBucketName))/$C757","v":{"$error":"#N/A"}}]
[{"$f":"Orders!A759","v":0},{"$f":"VLOOKUP(A758,'Product-tool'!A:E,5,0)","v":{"$error":"#N/A"}},{"$f":"VLOOKUP(A758&B758,'Standard output'!A:D,4,0)","v":{"$error":"#N/A"}},{"$f":"INDEX(Orders!A:D,ROW()+1,FindCol(\"orders\",2,TimeBucketName))/$C758","v":{"$error":"#N/A"}}]
[{"$f":"Orders!A760","v":0},{"$f":"VLOOKUP(A759,'Product-tool'!A:E,5,0)","v":{"$error":"#N/A"}},{"$f":"VLOOKUP(A759&B759,'Standard output'!A:D,4,0)","v":{"$error":"#N/A"}},{"$f":"INDEX(Orders!A:D,ROW()+1,FindCol(\"orders\",2,TimeBucketName))/$C759","v":{"$error":"#N/A"}}]
[{"$f":"Orders!A761","v":0},{"$f":"VLOOKUP(A760,'Product-tool'!A:E,5,0)","v":{"$error":"#N/A"}},{"$f":"VLOOKUP(A760&B760,'Standard output'!A:D,4,0)","v":{"$error":"#N/A"}},{"$f":"INDEX(Orders!A:D,ROW()+1,FindCol(\"orders\",2,TimeBucketName))/$C760","v":{"$error":"#N/A"}}]
[{"$f":"Orders!A762","v":0},{"$f":"VLOOKUP(A761,'Product-tool'!A:E,5,0)","v":{"$error":"#N/A"}},{"$f":"VLOOKUP(A761&B761,'Standard output'!A:D,4,0)","v":{"$error":"#N/A"}},{"$f":"INDEX(Orders!A:D,ROW()+1,FindCol(\"orders\",2,TimeBucketName))/$C761","v":{"$error":"#N/A"}}]
[{"$f":"Orders!A763","v":0},{"$f":"VLOOKUP(A762,'Product-tool'!A:E,5,0)","v":{"$error":"#N/A"}},{"$f":"VLOOKUP(A762&B762,'Standard output'!A:D,4,0)","v":{"$error":"#N/A"}},{"$f":"INDEX(Orders!A:D,ROW()+1,FindCol(\"orders\",2,TimeBucketName))/$C762","v":{"$error":"#N/A"}}]
[{"$f":"Orders!A764","v":0},{"$f":"VLOOKUP(A763,'Product-tool'!A:E,5,0)","v":{"$error":"#N/A"}},{"$f":"VLOOKUP(A763&B763,'Standard output'!A:D,4,0)","v":{"$error":"#N/A"}},{"$f":"INDEX(Orders!A:D,ROW()+1,FindCol(\"orders\",2,TimeBucketName))/$C763","v":{"$error":"#N/A"}}]
[{"$f":"Orders!A765","v":0},{"$f":"VLOOKUP(A764,'Product-tool'!A:E,5,0)","v":{"$error":"#N/A"}},{"$f":"VLOOKUP(A764&B764,'Standard output'!A:D,4,0)","v":{"$error":"#N/A"}},{"$f":"INDEX(Orders!A:D,ROW()+1,FindCol(\"orders\",2,TimeBucketName))/$C764","v":{"$error":"#N/A"}}]
[{"$f":"Orders!A766","v":0},{"$f":"VLOOKUP(A765,'Product-tool'!A:E,5,0)","v":{"$error":"#N/A"}},{"$f":"VLOOKUP(A765&B765,'Standard output'!A:D,4,0)","v":{"$error":"#N/A"}},{"$f":"INDEX(Orders!A:D,ROW()+1,FindCol(\"orders\",2,TimeBucketName))/$C765","v":{"$error":"#N/A"}}]
[{"$f":"Orders!A767","v":0},{"$f":"VLOOKUP(A766,'Product-tool'!A:E,5,0)","v":{"$error":"#N/A"}},{"$f":"VLOOKUP(A766&B766,'Standard output'!A:D,4,0)","v":{"$error":"#N/A"}},{"$f":"INDEX(Orders!A:D,ROW()+1,FindCol(\"orders\",2,TimeBucketName))/$C766","v":{"$error":"#N/A"}}]
[{"$f":"Orders!A768","v":0},{"$f":"VLOOKUP(A767,'Product-tool'!A:E,5,0)","v":{"$error":"#N/A"}},{"$f":"VLOOKUP(A767&B767,'Standard output'!A:D,4,0)","v":{"$error":"#N/A"}},{"$f":"INDEX(Orders!A:D,ROW()+1,FindCol(\"orders\",2,TimeBucketName))/$C767","v":{"$error":"#N/A"}}]
[{"$f":"Orders!A769","v":0},{"$f":"VLOOKUP(A768,'Product-tool'!A:E,5,0)","v":{"$error":"#N/A"}},{"$f":"VLOOKUP(A768&B768,'Standard output'!A:D,4,0)","v":{"$error":"#N/A"}},{"$f":"INDEX(Orders!A:D,ROW()+1,FindCol(\"orders\",2,TimeBucketName))/$C768","v":{"$error":"#N/A"}}]
[{"$f":"Orders!A770","v":0},{"$f":"VLOOKUP(A769,'Product-tool'!A:E,5,0)","v":{"$error":"#N/A"}},{"$f":"VLOOKUP(A769&B769,'Standard output'!A:D,4,0)","v":{"$error":"#N/A"}},{"$f":"INDEX(Orders!A:D,ROW()+1,FindCol(\"orders\",2,TimeBucketName))/$C769","v":{"$error":"#N/A"}}]
[{"$f":"Orders!A771","v":0},{"$f":"VLOOKUP(A770,'Product-tool'!A:E,5,0)","v":{"$error":"#N/A"}},{"$f":"VLOOKUP(A770&B770,'Standard output'!A:D,4,0)","v":{"$error":"#N/A"}},{"$f":"INDEX(Orders!A:D,ROW()+1,FindCol(\"orders\",2,TimeBucketName))/$C770","v":{"$error":"#N/A"}}]
[{"$f":"Orders!A772","v":0},{"$f":"VLOOKUP(A771,'Product-tool'!A:E,5,0)","v":{"$error":"#N/A"}},{"$f":"VLOOKUP(A771&B771,'Standard output'!A:D,4,0)","v":{"$error":"#N/A"}},{"$f":"INDEX(Orders!A:D,ROW()+1,FindCol(\"orders\",2,TimeBucketName))/$C771","v":{"$error":"#N/A"}}]
[{"$f":"Orders!A773","v":0},{"$f":"VLOOKUP(A772,'Product-tool'!A:E,5,0)","v":{"$error":"#N/A"}},{"$f":"VLOOKUP(A772&B772,'Standard output'!A:D,4,0)","v":{"$error":"#N/A"}},{"$f":"INDEX(Orders!A:D,ROW()+1,FindCol(\"orders\",2,TimeBucketName))/$C772","v":{"$error":"#N/A"}}]
[{"$f":"Orders!A774","v":0},{"$f":"VLOOKUP(A773,'Product-tool'!A:E,5,0)","v":{"$error":"#N/A"}},{"$f":"VLOOKUP(A773&B773,'Standard output'!A:D,4,0)","v":{"$error":"#N/A"}},{"$f":"INDEX(Orders!A:D,ROW()+1,FindCol(\"orders\",2,TimeBucketName))/$C773","v":{"$error":"#N/A"}}]
[{"$f":"Orders!A775","v":0},{"$f":"VLOOKUP(A774,'Product-tool'!A:E,5,0)","v":{"$error":"#N/A"}},{"$f":"VLOOKUP(A774&B774,'Standard output'!A:D,4,0)","v":{"$error":"#N/A"}},{"$f":"INDEX(Orders!A:D,ROW()+1,FindCol(\"orders\",2,TimeBucketName))/$C774","v":{"$error":"#N/A"}}]
[{"$f":"Orders!A776","v":0},{"$f":"VLOOKUP(A775,'Product-tool'!A:E,5,0)","v":{"$error":"#N/A"}},{"$f":"VLOOKUP(A775&B775,'Standard output'!A:D,4,0)","v":{"$error":"#N/A"}},{"$f":"INDEX(Orders!A:D,ROW()+1,FindCol(\"orders\",2,TimeBucketName))/$C775","v":{"$error":"#N/A"}}]
[{"$f":"Orders!A777","v":0},{"$f":"VLOOKUP(A776,'Product-tool'!A:E,5,0)","v":{"$error":"#N/A"}},{"$f":"VLOOKUP(A776&B776,'Standard output'!A:D,4,0)","v":{"$error":"#N/A"}},{"$f":"INDEX(Orders!A:D,ROW()+1,FindCol(\"orders\",2,TimeBucketName))/$C776","v":{"$error":"#N/A"}}]
[{"$f":"Orders!A778","v":0},{"$f":"VLOOKUP(A777,'Product-tool'!A:E,5,0)","v":{"$error":"#N/A"}},{"$f":"VLOOKUP(A777&B777,'Standard output'!A:D,4,0)","v":{"$error":"#N/A"}},{"$f":"INDEX(Orders!A:D,ROW()+1,FindCol(\"orders\",2,TimeBucketName))/$C777","v":{"$error":"#N/A"}}]
[{"$f":"Orders!A779","v":0},{"$f":"VLOOKUP(A778,'Product-tool'!A:E,5,0)","v":{"$error":"#N/A"}},{"$f":"VLOOKUP(A778&B778,'Standard output'!A:D,4,0)","v":{"$error":"#N/A"}},{"$f":"INDEX(Orders!A:D,ROW()+1,FindCol(\"orders\",2,TimeBucketName))/$C778","v":{"$error":"#N/A"}}]
[{"$f":"Orders!A780","v":0},{"$f":"VLOOKUP(A779,'Product-tool'!A:E,5,0)","v":{"$error":"#N/A"}},{"$f":"VLOOKUP(A779&B779,'Standard output'!A:D,4,0)","v":{"$error":"#N/A"}},{"$f":"INDEX(Orders!A:D,ROW()+1,FindCol(\"orders\",2,TimeBucketName))/$C779","v":{"$error":"#N/A"}}]
[{"$f":"Orders!A781","v":0},{"$f":"VLOOKUP(A780,'Product-tool'!A:E,5,0)","v":{"$error":"#N/A"}},{"$f":"VLOOKUP(A780&B780,'Standard output'!A:D,4,0)","v":{"$error":"#N/A"}},{"$f":"INDEX(Orders!A:D,ROW()+1,FindCol(\"orders\",2,TimeBucketName))/$C780","v":{"$error":"#N/A"}}]
[{"$f":"Orders!A782","v":0},{"$f":"VLOOKUP(A781,'Product-tool'!A:E,5,0)","v":{"$error":"#N/A"}},{"$f":"VLOOKUP(A781&B781,'Standard output'!A:D,4,0)","v":{"$error":"#N/A"}},{"$f":"INDEX(Orders!A:D,ROW()+1,FindCol(\"orders\",2,TimeBucketName))/$C781","v":{"$error":"#N/A"}}]
[{"$f":"Orders!A783","v":0},{"$f":"VLOOKUP(A782,'Product-tool'!A:E,5,0)","v":{"$error":"#N/A"}},{"$f":"VLOOKUP(A782&B782,'Standard output'!A:D,4,0)","v":{"$error":"#N/A"}},{"$f":"INDEX(Orders!A:D,ROW()+1,FindCol(\"orders\",2,TimeBucketName))/$C782","v":{"$error":"#N/A"}}]
[{"$f":"Orders!A784","v":0},{"$f":"VLOOKUP(A783,'Product-tool'!A:E,5,0)","v":{"$error":"#N/A"}},{"$f":"VLOOKUP(A783&B783,'Standard output'!A:D,4,0)","v":{"$error":"#N/A"}},{"$f":"INDEX(Orders!A:D,ROW()+1,FindCol(\"orders\",2,TimeBucketName))/$C783","v":{"$error":"#N/A"}}]
[{"$f":"Orders!A785","v":0},{"$f":"VLOOKUP(A784,'Product-tool'!A:E,5,0)","v":{"$error":"#N/A"}},{"$f":"VLOOKUP(A784&B784,'Standard output'!A:D,4,0)","v":{"$error":"#N/A"}},{"$f":"INDEX(Orders!A:D,ROW()+1,FindCol(\"orders\",2,TimeBucketName))/$C784","v":{"$error":"#N/A"}}]
[{"$f":"Orders!A786","v":0},{"$f":"VLOOKUP(A785,'Product-tool'!A:E,5,0)","v":{"$error":"#N/A"}},{"$f":"VLOOKUP(A785&B785,'Standard output'!A:D,4,0)","v":{"$error":"#N/A"}},{"$f":"INDEX(Orders!A:D,ROW()+1,FindCol(\"orders\",2,TimeBucketName))/$C785","v":{"$error":"#N/A"}}]
[{"$f":"Orders!A787","v":0},{"$f":"VLOOKUP(A786,'Product-tool'!A:E,5,0)","v":{"$error":"#N/A"}},{"$f":"VLOOKUP(A786&B786,'Standard output'!A:D,4,0)","v":{"$error":"#N/A"}},{"$f":"INDEX(Orders!A:D,ROW()+1,FindCol(\"orders\",2,TimeBucketName))/$C786","v":{"$error":"#N/A"}}]
[{"$f":"Orders!A788","v":0},{"$f":"VLOOKUP(A787,'Product-tool'!A:E,5,0)","v":{"$error":"#N/A"}},{"$f":"VLOOKUP(A787&B787,'Standard output'!A:D,4,0)","v":{"$error":"#N/A"}},{"$f":"INDEX(Orders!A:D,ROW()+1,FindCol(\"orders\",2,TimeBucketName))/$C787","v":{"$error":"#N/A"}}]
[{"$f":"Orders!A789","v":0},{"$f":"VLOOKUP(A788,'Product-tool'!A:E,5,0)","v":{"$error":"#N/A"}},{"$f":"VLOOKUP(A788&B788,'Standard output'!A:D,4,0)","v":{"$error":"#N/A"}},{"$f":"INDEX(Orders!A:D,ROW()+1,FindCol(\"orders\",2,TimeBucketName))/$C788","v":{"$error":"#N/A"}}]
[{"$f":"Orders!A790","v":0},{"$f":"VLOOKUP(A789,'Product-tool'!A:E,5,0)","v":{"$error":"#N/A"}},{"$f":"VLOOKUP(A789&B789,'Standard output'!A:D,4,0)","v":{"$error":"#N/A"}},{"$f":"INDEX(Orders!A:D,ROW()+1,FindCol(\"orders\",2,TimeBucketName))/$C789","v":{"$error":"#N/A"}}]
[{"$f":"Orders!A791","v":0},{"$f":"VLOOKUP(A790,'Product-tool'!A:E,5,0)","v":{"$error":"#N/A"}},{"$f":"VLOOKUP(A790&B790,'Standard output'!A:D,4,0)","v":{"$error":"#N/A"}},{"$f":"INDEX(Orders!A:D,ROW()+1,FindCol(\"orders\",2,TimeBucketName))/$C790","v":{"$error":"#N/A"}}]
[{"$f":"Orders!A792","v":0},{"$f":"VLOOKUP(A791,'Product-tool'!A:E,5,0)","v":{"$error":"#N/A"}},{"$f":"VLOOKUP(A791&B791,'Standard output'!A:D,4,0)","v":{"$error":"#N/A"}},{"$f":"INDEX(Orders!A:D,ROW()+1,FindCol(\"orders\",2,TimeBucketName))/$C791","v":{"$error":"#N/A"}}]
[{"$f":"Orders!A793","v":0},{"$f":"VLOOKUP(A792,'Product-tool'!A:E,5,0)","v":{"$error":"#N/A"}},{"$f":"VLOOKUP(A792&B792,'Standard output'!A:D,4,0)","v":{"$error":"#N/A"}},{"$f":"INDEX(Orders!A:D,ROW()+1,FindCol(\"orders\",2,TimeBucketName))/$C792","v":{"$error":"#N/A"}}]
[{"$f":"Orders!A794","v":0},{"$f":"VLOOKUP(A793,'Product-tool'!A:E,5,0)","v":{"$error":"#N/A"}},{"$f":"VLOOKUP(A793&B793,'Standard output'!A:D,4,0)","v":{"$error":"#N/A"}},{"$f":"INDEX(Orders!A:D,ROW()+1,FindCol(\"orders\",2,TimeBucketName))/$C793","v":{"$error":"#N/A"}}]
[{"$f":"Orders!A795","v":0},{"$f":"VLOOKUP(A794,'Product-tool'!A:E,5,0)","v":{"$error":"#N/A"}},{"$f":"VLOOKUP(A794&B794,'Standard output'!A:D,4,0)","v":{"$error":"#N/A"}},{"$f":"INDEX(Orders!A:D,ROW()+1,FindCol(\"orders\",2,TimeBucketName))/$C794","v":{"$error":"#N/A"}}]
[{"$f":"Orders!A796","v":0},{"$f":"VLOOKUP(A795,'Product-tool'!A:E,5,0)","v":{"$error":"#N/A"}},{"$f":"VLOOKUP(A795&B795,'Standard output'!A:D,4,0)","v":{"$error":"#N/A"}},{"$f":"INDEX(Orders!A:D,ROW()+1,FindCol(\"orders\",2,TimeBucketName))/$C795","v":{"$error":"#N/A"}}]
[{"$f":"Orders!A797","v":0},{"$f":"VLOOKUP(A796,'Product-tool'!A:E,5,0)","v":{"$error":"#N/A"}},{"$f":"VLOOKUP(A796&B796,'Standard output'!A:D,4,0)","v":{"$error":"#N/A"}},{"$f":"INDEX(Orders!A:D,ROW()+1,FindCol(\"orders\",2,TimeBucketName))/$C796","v":{"$error":"#N/A"}}]
[{"$f":"Orders!A798","v":0},{"$f":"VLOOKUP(A797,'Product-tool'!A:E,5,0)","v":{"$error":"#N/A"}},{"$f":"VLOOKUP(A797&B797,'Standard output'!A:D,4,0)","v":{"$error":"#N/A"}},{"$f":"INDEX(Orders!A:D,ROW()+1,FindCol(\"orders\",2,TimeBucketName))/$C797","v":{"$error":"#N/A"}}]
[{"$f":"Orders!A799","v":0},{"$f":"VLOOKUP(A798,'Product-tool'!A:E,5,0)","v":{"$error":"#N/A"}},{"$f":"VLOOKUP(A798&B798,'Standard output'!A:D,4,0)","v":{"$error":"#N/A"}},{"$f":"INDEX(Orders!A:D,ROW()+1,FindCol(\"orders\",2,TimeBucketName))/$C798","v":{"$error":"#N/A"}}]
[{"$f":"Orders!A800","v":0},{"$f":"VLOOKUP(A799,'Product-tool'!A:E,5,0)","v":{"$error":"#N/A"}},{"$f":"VLOOKUP(A799&B799,'Standard output'!A:D,4,0)","v":{"$error":"#N/A"}},{"$f":"INDEX(Orders!A:D,ROW()+1,FindCol(\"orders\",2,TimeBucketName))/$C799","v":{"$error":"#N/A"}}]
[{"$f":"Orders!A801","v":0},{"$f":"VLOOKUP(A800,'Product-tool'!A:E,5,0)","v":{"$error":"#N/A"}},{"$f":"VLOOKUP(A800&B800,'Standard output'!A:D,4,0)","v":{"$error":"#N/A"}},{"$f":"INDEX(Orders!A:D,ROW()+1,FindCol(\"orders\",2,TimeBucketName))/$C800","v":{"$error":"#N/A"}}]
[{"$f":"Orders!A802","v":0},{"$f":"VLOOKUP(A801,'Product-tool'!A:E,5,0)","v":{"$error":"#N/A"}},{"$f":"VLOOKUP(A801&B801,'Standard output'!A:D,4,0)","v":{"$error":"#N/A"}},{"$f":"INDEX(Orders!A:D,ROW()+1,FindCol(\"orders\",2,TimeBucketName))/$C801","v":{"$error":"#N/A"}}]
[{"$f":"Orders!A803","v":0},{"$f":"VLOOKUP(A802,'Product-tool'!A:E,5,0)","v":{"$error":"#N/A"}},{"$f":"VLOOKUP(A802&B802,'Standard output'!A:D,4,0)","v":{"$error":"#N/A"}},{"$f":"INDEX(Orders!A:D,ROW()+1,FindCol(\"orders\",2,TimeBucketName))/$C802","v":{"$error":"#N/A"}}]
[{"$f":"Orders!A804","v":0},{"$f":"VLOOKUP(A803,'Product-tool'!A:E,5,0)","v":{"$error":"#N/A"}},{"$f":"VLOOKUP(A803&B803,'Standard output'!A:D,4,0)","v":{"$error":"#N/A"}},{"$f":"INDEX(Orders!A:D,ROW()+1,FindCol(\"orders\",2,TimeBucketName))/$C803","v":{"$error":"#N/A"}}]
[{"$f":"Orders!A805","v":0},{"$f":"VLOOKUP(A804,'Product-tool'!A:E,5,0)","v":{"$error":"#N/A"}},{"$f":"VLOOKUP(A804&B804,'Standard output'!A:D,4,0)","v":{"$error":"#N/A"}},{"$f":"INDEX(Orders!A:D,ROW()+1,FindCol(\"orders\",2,TimeBucketName))/$C804","v":{"$error":"#N/A"}}]
[{"$f":"Orders!A806","v":0},{"$f":"VLOOKUP(A805,'Product-tool'!A:E,5,0)","v":{"$error":"#N/A"}},{"$f":"VLOOKUP(A805&B805,'Standard output'!A:D,4,0)","v":{"$error":"#N/A"}},{"$f":"INDEX(Orders!A:D,ROW()+1,FindCol(\"orders\",2,TimeBucketName))/$C805","v":{"$error":"#N/A"}}]
[{"$f":"Orders!A807","v":0},{"$f":"VLOOKUP(A806,'Product-tool'!A:E,5,0)","v":{"$error":"#N/A"}},{"$f":"VLOOKUP(A806&B806,'Standard output'!A:D,4,0)","v":{"$error":"#N/A"}},{"$f":"INDEX(Orders!A:D,ROW()+1,FindCol(\"orders\",2,TimeBucketName))/$C806","v":{"$error":"#N/A"}}]
[{"$f":"Orders!A808","v":0},{"$f":"VLOOKUP(A807,'Product-tool'!A:E,5,0)","v":{"$error":"#N/A"}},{"$f":"VLOOKUP(A807&B807,'Standard output'!A:D,4,0)","v":{"$error":"#N/A"}},{"$f":"INDEX(Orders!A:D,ROW()+1,FindCol(\"orders\",2,TimeBucketName))/$C807","v":{"$error":"#N/A"}}]
[{"$f":"Orders!A809","v":0},{"$f":"VLOOKUP(A808,'Product-tool'!A:E,5,0)","v":{"$error":"#N/A"}},{"$f":"VLOOKUP(A808&B808,'Standard output'!A:D,4,0)","v":{"$error":"#N/A"}},{"$f":"INDEX(Orders!A:D,ROW()+1,FindCol(\"orders\",2,TimeBucketName))/$C808","v":{"$error":"#N/A"}}]
[{"$f":"Orders!A810","v":0},{"$f":"VLOOKUP(A809,'Product-tool'!A:E,5,0)","v":{"$error":"#N/A"}},{"$f":"VLOOKUP(A809&B809,'Standard output'!A:D,4,0)","v":{"$error":"#N/A"}},{"$f":"INDEX(Orders!A:D,ROW()+1,FindCol(\"orders\",2,TimeBucketName))/$C809","v":{"$error":"#N/A"}}]
[{"$f":"Orders!A811","v":0},{"$f":"VLOOKUP(A810,'Product-tool'!A:E,5,0)","v":{"$error":"#N/A"}},{"$f":"VLOOKUP(A810&B810,'Standard output'!A:D,4,0)","v":{"$error":"#N/A"}},{"$f":"INDEX(Orders!A:D,ROW()+1,FindCol(\"orders\",2,TimeBucketName))/$C810","v":{"$error":"#N/A"}}]
[{"$f":"Orders!A812","v":0},{"$f":"VLOOKUP(A811,'Product-tool'!A:E,5,0)","v":{"$error":"#N/A"}},{"$f":"VLOOKUP(A811&B811,'Standard output'!A:D,4,0)","v":{"$error":"#N/A"}},{"$f":"INDEX(Orders!A:D,ROW()+1,FindCol(\"orders\",2,TimeBucketName))/$C811","v":{"$error":"#N/A"}}]
[{"$f":"Orders!A813","v":0},{"$f":"VLOOKUP(A812,'Product-tool'!A:E,5,0)","v":{"$error":"#N/A"}},{"$f":"VLOOKUP(A812&B812,'Standard output'!A:D,4,0)","v":{"$error":"#N/A"}},{"$f":"INDEX(Orders!A:D,ROW()+1,FindCol(\"orders\",2,TimeBucketName))/$C812","v":{"$error":"#N/A"}}]
[{"$f":"Orders!A814","v":0},{"$f":"VLOOKUP(A813,'Product-tool'!A:E,5,0)","v":{"$error":"#N/A"}},{"$f":"VLOOKUP(A813&B813,'Standard output'!A:D,4,0)","v":{"$error":"#N/A"}},{"$f":"INDEX(Orders!A:D,ROW()+1,FindCol(\"orders\",2,TimeBucketName))/$C813","v":{"$error":"#N/A"}}]
[{"$f":"Orders!A815","v":0},{"$f":"VLOOKUP(A814,'Product-tool'!A:E,5,0)","v":{"$error":"#N/A"}},{"$f":"VLOOKUP(A814&B814,'Standard output'!A:D,4,0)","v":{"$error":"#N/A"}},{"$f":"INDEX(Orders!A:D,ROW()+1,FindCol(\"orders\",2,TimeBucketName))/$C814","v":{"$error":"#N/A"}}]
[{"$f":"Orders!A816","v":0},{"$f":"VLOOKUP(A815,'Product-tool'!A:E,5,0)","v":{"$error":"#N/A"}},{"$f":"VLOOKUP(A815&B815,'Standard output'!A:D,4,0)","v":{"$error":"#N/A"}},{"$f":"INDEX(Orders!A:D,ROW()+1,FindCol(\"orders\",2,TimeBucketName))/$C815","v":{"$error":"#N/A"}}]
[{"$f":"Orders!A817","v":0},{"$f":"VLOOKUP(A816,'Product-tool'!A:E,5,0)","v":{"$error":"#N/A"}},{"$f":"VLOOKUP(A816&B816,'Standard output'!A:D,4,0)","v":{"$error":"#N/A"}},{"$f":"INDEX(Orders!A:D,ROW()+1,FindCol(\"orders\",2,TimeBucketName))/$C816","v":{"$error":"#N/A"}}]
[{"$f":"Orders!A818","v":0},{"$f":"VLOOKUP(A817,'Product-tool'!A:E,5,0)","v":{"$error":"#N/A"}},{"$f":"VLOOKUP(A817&B817,'Standard output'!A:D,4,0)","v":{"$error":"#N/A"}},{"$f":"INDEX(Orders!A:D,ROW()+1,FindCol(\"orders\",2,TimeBucketName))/$C817","v":{"$error":"#N/A"}}]
[{"$f":"Orders!A819","v":0},{"$f":"VLOOKUP(A818,'Product-tool'!A:E,5,0)","v":{"$error":"#N/A"}},{"$f":"VLOOKUP(A818&B818,'Standard output'!A:D,4,0)","v":{"$error":"#N/A"}},{"$f":"INDEX(Orders!A:D,ROW()+1,FindCol(\"orders\",2,TimeBucketName))/$C818","v":{"$error":"#N/A"}}]
[{"$f":"Orders!A820","v":0},{"$f":"VLOOKUP(A819,'Product-tool'!A:E,5,0)","v":{"$error":"#N/A"}},{"$f":"VLOOKUP(A819&B819,'Standard output'!A:D,4,0)","v":{"$error":"#N/A"}},{"$f":"INDEX(Orders!A:D,ROW()+1,FindCol(\"orders\",2,TimeBucketName))/$C819","v":{"$error":"#N/A"}}]
[{"$f":"Orders!A821","v":0},{"$f":"VLOOKUP(A820,'Product-tool'!A:E,5,0)","v":{"$error":"#N/A"}},{"$f":"VLOOKUP(A820&B820,'Standard output'!A:D,4,0)","v":{"$error":"#N/A"}},{"$f":"INDEX(Orders!A:D,ROW()+1,FindCol(\"orders\",2,TimeBucketName))/$C820","v":{"$error":"#N/A"}}]
[{"$f":"Orders!A822","v":0},{"$f":"VLOOKUP(A821,'Product-tool'!A:E,5,0)","v":{"$error":"#N/A"}},{"$f":"VLOOKUP(A821&B821,'Standard output'!A:D,4,0)","v":{"$error":"#N/A"}},{"$f":"INDEX(Orders!A:D,ROW()+1,FindCol(\"orders\",2,TimeBucketName))/$C821","v":{"$error":"#N/A"}}]
[{"$f":"Orders!A823","v":0},{"$f":"VLOOKUP(A822,'Product-tool'!A:E,5,0)","v":{"$error":"#N/A"}},{"$f":"VLOOKUP(A822&B822,'Standard output'!A:D,4,0)","v":{"$error":"#N/A"}},{"$f":"INDEX(Orders!A:D,ROW()+1,FindCol(\"orders\",2,TimeBucketName))/$C822","v":{"$error":"#N/A"}}]
[{"$f":"Orders!A824","v":0},{"$f":"VLOOKUP(A823,'Product-tool'!A:E,5,0)","v":{"$error":"#N/A"}},{"$f":"VLOOKUP(A823&B823,'Standard output'!A:D,4,0)","v":{"$error":"#N/A"}},{"$f":"INDEX(Orders!A:D,ROW()+1,FindCol(\"orders\",2,TimeBucketName))/$C823","v":{"$error":"#N/A"}}]
[{"$f":"Orders!A825","v":0},{"$f":"VLOOKUP(A824,'Product-tool'!A:E,5,0)","v":{"$error":"#N/A"}},{"$f":"VLOOKUP(A824&B824,'Standard output'!A:D,4,0)","v":{"$error":"#N/A"}},{"$f":"INDEX(Orders!A:D,ROW()+1,FindCol(\"orders\",2,TimeBucketName))/$C824","v":{"$error":"#N/A"}}]
[{"$f":"Orders!A826","v":0},{"$f":"VLOOKUP(A825,'Product-tool'!A:E,5,0)","v":{"$error":"#N/A"}},{"$f":"VLOOKUP(A825&B825,'Standard output'!A:D,4,0)","v":{"$error":"#N/A"}},{"$f":"INDEX(Orders!A:D,ROW()+1,FindCol(\"orders\",2,TimeBucketName))/$C825","v":{"$error":"#N/A"}}]
[{"$f":"Orders!A827","v":0},{"$f":"VLOOKUP(A826,'Product-tool'!A:E,5,0)","v":{"$error":"#N/A"}},{"$f":"VLOOKUP(A826&B826,'Standard output'!A:D,4,0)","v":{"$error":"#N/A"}},{"$f":"INDEX(Orders!A:D,ROW()+1,FindCol(\"orders\",2,TimeBucketName))/$C826","v":{"$error":"#N/A"}}]
[{"$f":"Orders!A828","v":0},{"$f":"VLOOKUP(A827,'Product-tool'!A:E,5,0)","v":{"$error":"#N/A"}},{"$f":"VLOOKUP(A827&B827,'Standard output'!A:D,4,0)","v":{"$error":"#N/A"}},{"$f":"INDEX(Orders!A:D,ROW()+1,FindCol(\"orders\",2,TimeBucketName))/$C827","v":{"$error":"#N/A"}}]
[{"$f":"Orders!A829","v":0},{"$f":"VLOOKUP(A828,'Product-tool'!A:E,5,0)","v":{"$error":"#N/A"}},{"$f":"VLOOKUP(A828&B828,'Standard output'!A:D,4,0)","v":{"$error":"#N/A"}},{"$f":"INDEX(Orders!A:D,ROW()+1,FindCol(\"orders\",2,TimeBucketName))/$C828","v":{"$error":"#N/A"}}]
[{"$f":"Orders!A830","v":0},{"$f":"VLOOKUP(A829,'Product-tool'!A:E,5,0)","v":{"$error":"#N/A"}},{"$f":"VLOOKUP(A829&B829,'Standard output'!A:D,4,0)","v":{"$error":"#N/A"}},{"$f":"INDEX(Orders!A:D,ROW()+1,FindCol(\"orders\",2,TimeBucketName))/$C829","v":{"$error":"#N/A"}}]
[{"$f":"Orders!A831","v":0},{"$f":"VLOOKUP(A830,'Product-tool'!A:E,5,0)","v":{"$error":"#N/A"}},{"$f":"VLOOKUP(A830&B830,'Standard output'!A:D,4,0)","v":{"$error":"#N/A"}},{"$f":"INDEX(Orders!A:D,ROW()+1,FindCol(\"orders\",2,TimeBucketName))/$C830","v":{"$error":"#N/A"}}]
[{"$f":"Orders!A832","v":0},{"$f":"VLOOKUP(A831,'Product-tool'!A:E,5,0)","v":{"$error":"#N/A"}},{"$f":"VLOOKUP(A831&B831,'Standard output'!A:D,4,0)","v":{"$error":"#N/A"}},{"$f":"INDEX(Orders!A:D,ROW()+1,FindCol(\"orders\",2,TimeBucketName))/$C831","v":{"$error":"#N/A"}}]
[{"$f":"Orders!A833","v":0},{"$f":"VLOOKUP(A832,'Product-tool'!A:E,5,0)","v":{"$error":"#N/A"}},{"$f":"VLOOKUP(A832&B832,'Standard output'!A:D,4,0)","v":{"$error":"#N/A"}},{"$f":"INDEX(Orders!A:D,ROW()+1,FindCol(\"orders\",2,TimeBucketName))/$C832","v":{"$error":"#N/A"}}]
[{"$f":"Orders!A834","v":0},{"$f":"VLOOKUP(A833,'Product-tool'!A:E,5,0)","v":{"$error":"#N/A"}},{"$f":"VLOOKUP(A833&B833,'Standard output'!A:D,4,0)","v":{"$error":"#N/A"}},{"$f":"INDEX(Orders!A:D,ROW()+1,FindCol(\"orders\",2,TimeBucketName))/$C833","v":{"$error":"#N/A"}}]
[{"$f":"Orders!A835","v":0},{"$f":"VLOOKUP(A834,'Product-tool'!A:E,5,0)","v":{"$error":"#N/A"}},{"$f":"VLOOKUP(A834&B834,'Standard output'!A:D,4,0)","v":{"$error":"#N/A"}},{"$f":"INDEX(Orders!A:D,ROW()+1,FindCol(\"orders\",2,TimeBucketName))/$C834","v":{"$error":"#N/A"}}]
[{"$f":"Orders!A836","v":0},{"$f":"VLOOKUP(A835,'Product-tool'!A:E,5,0)","v":{"$error":"#N/A"}},{"$f":"VLOOKUP(A835&B835,'Standard output'!A:D,4,0)","v":{"$error":"#N/A"}},{"$f":"INDEX(Orders!A:D,ROW()+1,FindCol(\"orders\",2,TimeBucketName))/$C835","v":{"$error":"#N/A"}}]
[{"$f":"Orders!A837","v":0},{"$f":"VLOOKUP(A836,'Product-tool'!A:E,5,0)","v":{"$error":"#N/A"}},{"$f":"VLOOKUP(A836&B836,'Standard output'!A:D,4,0)","v":{"$error":"#N/A"}},{"$f":"INDEX(Orders!A:D,ROW()+1,FindCol(\"orders\",2,TimeBucketName))/$C836","v":{"$error":"#N/A"}}]
[{"$f":"Orders!A838","v":0},{"$f":"VLOOKUP(A837,'Product-tool'!A:E,5,0)","v":{"$error":"#N/A"}},{"$f":"VLOOKUP(A837&B837,'Standard output'!A:D,4,0)","v":{"$error":"#N/A"}},{"$f":"INDEX(Orders!A:D,ROW()+1,FindCol(\"orders\",2,TimeBucketName))/$C837","v":{"$error":"#N/A"}}]
[{"$f":"Orders!A839","v":0},{"$f":"VLOOKUP(A838,'Product-tool'!A:E,5,0)","v":{"$error":"#N/A"}},{"$f":"VLOOKUP(A838&B838,'Standard output'!A:D,4,0)","v":{"$error":"#N/A"}},{"$f":"INDEX(Orders!A:D,ROW()+1,FindCol(\"orders\",2,TimeBucketName))/$C838","v":{"$error":"#N/A"}}]
[{"$f":"Orders!A840","v":0},{"$f":"VLOOKUP(A839,'Product-tool'!A:E,5,0)","v":{"$error":"#N/A"}},{"$f":"VLOOKUP(A839&B839,'Standard output'!A:D,4,0)","v":{"$error":"#N/A"}},{"$f":"INDEX(Orders!A:D,ROW()+1,FindCol(\"orders\",2,TimeBucketName))/$C839","v":{"$error":"#N/A"}}]
[{"$f":"Orders!A841","v":0},{"$f":"VLOOKUP(A840,'Product-tool'!A:E,5,0)","v":{"$error":"#N/A"}},{"$f":"VLOOKUP(A840&B840,'Standard output'!A:D,4,0)","v":{"$error":"#N/A"}},{"$f":"INDEX(Orders!A:D,ROW()+1,FindCol(\"orders\",2,TimeBucketName))/$C840","v":{"$error":"#N/A"}}]
[{"$f":"Orders!A842","v":0},{"$f":"VLOOKUP(A841,'Product-tool'!A:E,5,0)","v":{"$error":"#N/A"}},{"$f":"VLOOKUP(A841&B841,'Standard output'!A:D,4,0)","v":{"$error":"#N/A"}},{"$f":"INDEX(Orders!A:D,ROW()+1,FindCol(\"orders\",2,TimeBucketName))/$C841","v":{"$error":"#N/A"}}]
[{"$f":"Orders!A843","v":0},{"$f":"VLOOKUP(A842,'Product-tool'!A:E,5,0)","v":{"$error":"#N/A"}},{"$f":"VLOOKUP(A842&B842,'Standard output'!A:D,4,0)","v":{"$error":"#N/A"}},{"$f":"INDEX(Orders!A:D,ROW()+1,FindCol(\"orders\",2,TimeBucketName))/$C842","v":{"$error":"#N/A"}}]
[{"$f":"Orders!A844","v":0},{"$f":"VLOOKUP(A843,'Product-tool'!A:E,5,0)","v":{"$error":"#N/A"}},{"$f":"VLOOKUP(A843&B843,'Standard output'!A:D,4,0)","v":{"$error":"#N/A"}},{"$f":"INDEX(Orders!A:D,ROW()+1,FindCol(\"orders\",2,TimeBucketName))/$C843","v":{"$error":"#N/A"}}]
[{"$f":"Orders!A845","v":0},{"$f":"VLOOKUP(A844,'Product-tool'!A:E,5,0)","v":{"$error":"#N/A"}},{"$f":"VLOOKUP(A844&B844,'Standard output'!A:D,4,0)","v":{"$error":"#N/A"}},{"$f":"INDEX(Orders!A:D,ROW()+1,FindCol(\"orders\",2,TimeBucketName))/$C844","v":{"$error":"#N/A"}}]
[{"$f":"Orders!A846","v":0},{"$f":"VLOOKUP(A845,'Product-tool'!A:E,5,0)","v":{"$error":"#N/A"}},{"$f":"VLOOKUP(A845&B845,'Standard output'!A:D,4,0)","v":{"$error":"#N/A"}},{"$f":"INDEX(Orders!A:D,ROW()+1,FindCol(\"orders\",2,TimeBucketName))/$C845","v":{"$error":"#N/A"}}]
[{"$f":"Orders!A847","v":0},{"$f":"VLOOKUP(A846,'Product-tool'!A:E,5,0)","v":{"$error":"#N/A"}},{"$f":"VLOOKUP(A846&B846,'Standard output'!A:D,4,0)","v":{"$error":"#N/A"}},{"$f":"INDEX(Orders!A:D,ROW()+1,FindCol(\"orders\",2,TimeBucketName))/$C846","v":{"$error":"#N/A"}}]
[{"$f":"Orders!A848","v":0},{"$f":"VLOOKUP(A847,'Product-tool'!A:E,5,0)","v":{"$error":"#N/A"}},{"$f":"VLOOKUP(A847&B847,'Standard output'!A:D,4,0)","v":{"$error":"#N/A"}},{"$f":"INDEX(Orders!A:D,ROW()+1,FindCol(\"orders\",2,TimeBucketName))/$C847","v":{"$error":"#N/A"}}]
[{"$f":"Orders!A849","v":0},{"$f":"VLOOKUP(A848,'Product-tool'!A:E,5,0)","v":{"$error":"#N/A"}},{"$f":"VLOOKUP(A848&B848,'Standard output'!A:D,4,0)","v":{"$error":"#N/A"}},{"$f":"INDEX(Orders!A:D,ROW()+1,FindCol(\"orders\",2,TimeBucketName))/$C848","v":{"$error":"#N/A"}}]
[{"$f":"Orders!A850","v":0},{"$f":"VLOOKUP(A849,'Product-tool'!A:E,5,0)","v":{"$error":"#N/A"}},{"$f":"VLOOKUP(A849&B849,'Standard output'!A:D,4,0)","v":{"$error":"#N/A"}},{"$f":"INDEX(Orders!A:D,ROW()+1,FindCol(\"orders\",2,TimeBucketName))/$C849","v":{"$error":"#N/A"}}]
[{"$f":"Orders!A851","v":0},{"$f":"VLOOKUP(A850,'Product-tool'!A:E,5,0)","v":{"$error":"#N/A"}},{"$f":"VLOOKUP(A850&B850,'Standard output'!A:D,4,0)","v":{"$error":"#N/A"}},{"$f":"INDEX(Orders!A:D,ROW()+1,FindCol(\"orders\",2,TimeBucketName))/$C850","v":{"$error":"#N/A"}}]
[{"$f":"Orders!A852","v":0},{"$f":"VLOOKUP(A851,'Product-tool'!A:E,5,0)","v":{"$error":"#N/A"}},{"$f":"VLOOKUP(A851&B851,'Standard output'!A:D,4,0)","v":{"$error":"#N/A"}},{"$f":"INDEX(Orders!A:D,ROW()+1,FindCol(\"orders\",2,TimeBucketName))/$C851","v":{"$error":"#N/A"}}]
[{"$f":"Orders!A853","v":0},{"$f":"VLOOKUP(A852,'Product-tool'!A:E,5,0)","v":{"$error":"#N/A"}},{"$f":"VLOOKUP(A852&B852,'Standard output'!A:D,4,0)","v":{"$error":"#N/A"}},{"$f":"INDEX(Orders!A:D,ROW()+1,FindCol(\"orders\",2,TimeBucketName))/$C852","v":{"$error":"#N/A"}}]
[{"$f":"Orders!A854","v":0},{"$f":"VLOOKUP(A853,'Product-tool'!A:E,5,0)","v":{"$error":"#N/A"}},{"$f":"VLOOKUP(A853&B853,'Standard output'!A:D,4,0)","v":{"$error":"#N/A"}},{"$f":"INDEX(Orders!A:D,ROW()+1,FindCol(\"orders\",2,TimeBucketName))/$C853","v":{"$error":"#N/A"}}]
[{"$f":"Orders!A855","v":0},{"$f":"VLOOKUP(A854,'Product-tool'!A:E,5,0)","v":{"$error":"#N/A"}},{"$f":"VLOOKUP(A854&B854,'Standard output'!A:D,4,0)","v":{"$error":"#N/A"}},{"$f":"INDEX(Orders!A:D,ROW()+1,FindCol(\"orders\",2,TimeBucketName))/$C854","v":{"$error":"#N/A"}}]
[{"$f":"Orders!A856","v":0},{"$f":"VLOOKUP(A855,'Product-tool'!A:E,5,0)","v":{"$error":"#N/A"}},{"$f":"VLOOKUP(A855&B855,'Standard output'!A:D,4,0)","v":{"$error":"#N/A"}},{"$f":"INDEX(Orders!A:D,ROW()+1,FindCol(\"orders\",2,TimeBucketName))/$C855","v":{"$error":"#N/A"}}]
[{"$f":"Orders!A857","v":0},{"$f":"VLOOKUP(A856,'Product-tool'!A:E,5,0)","v":{"$error":"#N/A"}},{"$f":"VLOOKUP(A856&B856,'Standard output'!A:D,4,0)","v":{"$error":"#N/A"}},{"$f":"INDEX(Orders!A:D,ROW()+1,FindCol(\"orders\",2,TimeBucketName))/$C856","v":{"$error":"#N/A"}}]
[{"$f":"Orders!A858","v":0},{"$f":"VLOOKUP(A857,'Product-tool'!A:E,5,0)","v":{"$error":"#N/A"}},{"$f":"VLOOKUP(A857&B857,'Standard output'!A:D,4,0)","v":{"$error":"#N/A"}},{"$f":"INDEX(Orders!A:D,ROW()+1,FindCol(\"orders\",2,TimeBucketName))/$C857","v":{"$error":"#N/A"}}]
[{"$f":"Orders!A859","v":0},{"$f":"VLOOKUP(A858,'Product-tool'!A:E,5,0)","v":{"$error":"#N/A"}},{"$f":"VLOOKUP(A858&B858,'Standard output'!A:D,4,0)","v":{"$error":"#N/A"}},{"$f":"INDEX(Orders!A:D,ROW()+1,FindCol(\"orders\",2,TimeBucketName))/$C858","v":{"$error":"#N/A"}}]
[{"$f":"Orders!A860","v":0},{"$f":"VLOOKUP(A859,'Product-tool'!A:E,5,0)","v":{"$error":"#N/A"}},{"$f":"VLOOKUP(A859&B859,'Standard output'!A:D,4,0)","v":{"$error":"#N/A"}},{"$f":"INDEX(Orders!A:D,ROW()+1,FindCol(\"orders\",2,TimeBucketName))/$C859","v":{"$error":"#N/A"}}]
[{"$f":"Orders!A861","v":0},{"$f":"VLOOKUP(A860,'Product-tool'!A:E,5,0)","v":{"$error":"#N/A"}},{"$f":"VLOOKUP(A860&B860,'Standard output'!A:D,4,0)","v":{"$error":"#N/A"}},{"$f":"INDEX(Orders!A:D,ROW()+1,FindCol(\"orders\",2,TimeBucketName))/$C860","v":{"$error":"#N/A"}}]
[{"$f":"Orders!A862","v":0},{"$f":"VLOOKUP(A861,'Product-tool'!A:E,5,0)","v":{"$error":"#N/A"}},{"$f":"VLOOKUP(A861&B861,'Standard output'!A:D,4,0)","v":{"$error":"#N/A"}},{"$f":"INDEX(Orders!A:D,ROW()+1,FindCol(\"orders\",2,TimeBucketName))/$C861","v":{"$error":"#N/A"}}]
[{"$f":"Orders!A863","v":0},{"$f":"VLOOKUP(A862,'Product-tool'!A:E,5,0)","v":{"$error":"#N/A"}},{"$f":"VLOOKUP(A862&B862,'Standard output'!A:D,4,0)","v":{"$error":"#N/A"}},{"$f":"INDEX(Orders!A:D,ROW()+1,FindCol(\"orders\",2,TimeBucketName))/$C862","v":{"$error":"#N/A"}}]
[{"$f":"Orders!A864","v":0},{"$f":"VLOOKUP(A863,'Product-tool'!A:E,5,0)","v":{"$error":"#N/A"}},{"$f":"VLOOKUP(A863&B863,'Standard output'!A:D,4,0)","v":{"$error":"#N/A"}},{"$f":"INDEX(Orders!A:D,ROW()+1,FindCol(\"orders\",2,TimeBucketName))/$C863","v":{"$error":"#N/A"}}]
[{"$f":"Orders!A865","v":0},{"$f":"VLOOKUP(A864,'Product-tool'!A:E,5,0)","v":{"$error":"#N/A"}},{"$f":"VLOOKUP(A864&B864,'Standard output'!A:D,4,0)","v":{"$error":"#N/A"}},{"$f":"INDEX(Orders!A:D,ROW()+1,FindCol(\"orders\",2,TimeBucketName))/$C864","v":{"$error":"#N/A"}}]
[{"$f":"Orders!A866","v":0},{"$f":"VLOOKUP(A865,'Product-tool'!A:E,5,0)","v":{"$error":"#N/A"}},{"$f":"VLOOKUP(A865&B865,'Standard output'!A:D,4,0)","v":{"$error":"#N/A"}},{"$f":"INDEX(Orders!A:D,ROW()+1,FindCol(\"orders\",2,TimeBucketName))/$C865","v":{"$error":"#N/A"}}]
[{"$f":"Orders!A867","v":0},{"$f":"VLOOKUP(A866,'Product-tool'!A:E,5,0)","v":{"$error":"#N/A"}},{"$f":"VLOOKUP(A866&B866,'Standard output'!A:D,4,0)","v":{"$error":"#N/A"}},{"$f":"INDEX(Orders!A:D,ROW()+1,FindCol(\"orders\",2,TimeBucketName))/$C866","v":{"$error":"#N/A"}}]
[{"$f":"Orders!A868","v":0},{"$f":"VLOOKUP(A867,'Product-tool'!A:E,5,0)","v":{"$error":"#N/A"}},{"$f":"VLOOKUP(A867&B867,'Standard output'!A:D,4,0)","v":{"$error":"#N/A"}},{"$f":"INDEX(Orders!A:D,ROW()+1,FindCol(\"orders\",2,TimeBucketName))/$C867","v":{"$error":"#N/A"}}]
[{"$f":"Orders!A869","v":0},{"$f":"VLOOKUP(A868,'Product-tool'!A:E,5,0)","v":{"$error":"#N/A"}},{"$f":"VLOOKUP(A868&B868,'Standard output'!A:D,4,0)","v":{"$error":"#N/A"}},{"$f":"INDEX(Orders!A:D,ROW()+1,FindCol(\"orders\",2,TimeBucketName))/$C868","v":{"$error":"#N/A"}}]
[{"$f":"Orders!A870","v":0},{"$f":"VLOOKUP(A869,'Product-tool'!A:E,5,0)","v":{"$error":"#N/A"}},{"$f":"VLOOKUP(A869&B869,'Standard output'!A:D,4,0)","v":{"$error":"#N/A"}},{"$f":"INDEX(Orders!A:D,ROW()+1,FindCol(\"orders\",2,TimeBucketName))/$C869","v":{"$error":"#N/A"}}]
[{"$f":"Orders!A871","v":0},{"$f":"VLOOKUP(A870,'Product-tool'!A:E,5,0)","v":{"$error":"#N/A"}},{"$f":"VLOOKUP(A870&B870,'Standard output'!A:D,4,0)","v":{"$error":"#N/A"}},{"$f":"INDEX(Orders!A:D,ROW()+1,FindCol(\"orders\",2,TimeBucketName))/$C870","v":{"$error":"#N/A"}}]
[{"$f":"Orders!A872","v":0},{"$f":"VLOOKUP(A871,'Product-tool'!A:E,5,0)","v":{"$error":"#N/A"}},{"$f":"VLOOKUP(A871&B871,'Standard output'!A:D,4,0)","v":{"$error":"#N/A"}},{"$f":"INDEX(Orders!A:D,ROW()+1,FindCol(\"orders\",2,TimeBucketName))/$C871","v":{"$error":"#N/A"}}]
[{"$f":"Orders!A873","v":0},{"$f":"VLOOKUP(A872,'Product-tool'!A:E,5,0)","v":{"$error":"#N/A"}},{"$f":"VLOOKUP(A872&B872,'Standard output'!A:D,4,0)","v":{"$error":"#N/A"}},{"$f":"INDEX(Orders!A:D,ROW()+1,FindCol(\"orders\",2,TimeBucketName))/$C872","v":{"$error":"#N/A"}}]
[{"$f":"Orders!A874","v":0},{"$f":"VLOOKUP(A873,'Product-tool'!A:E,5,0)","v":{"$error":"#N/A"}},{"$f":"VLOOKUP(A873&B873,'Standard output'!A:D,4,0)","v":{"$error":"#N/A"}},{"$f":"INDEX(Orders!A:D,ROW()+1,FindCol(\"orders\",2,TimeBucketName))/$C873","v":{"$error":"#N/A"}}]
[{"$f":"Orders!A875","v":0},{"$f":"VLOOKUP(A874,'Product-tool'!A:E,5,0)","v":{"$error":"#N/A"}},{"$f":"VLOOKUP(A874&B874,'Standard output'!A:D,4,0)","v":{"$error":"#N/A"}},{"$f":"INDEX(Orders!A:D,ROW()+1,FindCol(\"orders\",2,TimeBucketName))/$C874","v":{"$error":"#N/A"}}]
[{"$f":"Orders!A876","v":0},{"$f":"VLOOKUP(A875,'Product-tool'!A:E,5,0)","v":{"$error":"#N/A"}},{"$f":"VLOOKUP(A875&B875,'Standard output'!A:D,4,0)","v":{"$error":"#N/A"}},{"$f":"INDEX(Orders!A:D,ROW()+1,FindCol(\"orders\",2,TimeBucketName))/$C875","v":{"$error":"#N/A"}}]
[{"$f":"Orders!A877","v":0},{"$f":"VLOOKUP(A876,'Product-tool'!A:E,5,0)","v":{"$error":"#N/A"}},{"$f":"VLOOKUP(A876&B876,'Standard output'!A:D,4,0)","v":{"$error":"#N/A"}},{"$f":"INDEX(Orders!A:D,ROW()+1,FindCol(\"orders\",2,TimeBucketName))/$C876","v":{"$error":"#N/A"}}]
[{"$f":"Orders!A878","v":0},{"$f":"VLOOKUP(A877,'Product-tool'!A:E,5,0)","v":{"$error":"#N/A"}},{"$f":"VLOOKUP(A877&B877,'Standard output'!A:D,4,0)","v":{"$error":"#N/A"}},{"$f":"INDEX(Orders!A:D,ROW()+1,FindCol(\"orders\",2,TimeBucketName))/$C877","v":{"$error":"#N/A"}}]
[{"$f":"Orders!A879","v":0},{"$f":"VLOOKUP(A878,'Product-tool'!A:E,5,0)","v":{"$error":"#N/A"}},{"$f":"VLOOKUP(A878&B878,'Standard output'!A:D,4,0)","v":{"$error":"#N/A"}},{"$f":"INDEX(Orders!A:D,ROW()+1,FindCol(\"orders\",2,TimeBucketName))/$C878","v":{"$error":"#N/A"}}]
[{"$f":"Orders!A880","v":0},{"$f":"VLOOKUP(A879,'Product-tool'!A:E,5,0)","v":{"$error":"#N/A"}},{"$f":"VLOOKUP(A879&B879,'Standard output'!A:D,4,0)","v":{"$error":"#N/A"}},{"$f":"INDEX(Orders!A:D,ROW()+1,FindCol(\"orders\",2,TimeBucketName))/$C879","v":{"$error":"#N/A"}}]
[{"$f":"Orders!A881","v":0},{"$f":"VLOOKUP(A880,'Product-tool'!A:E,5,0)","v":{"$error":"#N/A"}},{"$f":"VLOOKUP(A880&B880,'Standard output'!A:D,4,0)","v":{"$error":"#N/A"}},{"$f":"INDEX(Orders!A:D,ROW()+1,FindCol(\"orders\",2,TimeBucketName))/$C880","v":{"$error":"#N/A"}}]
[{"$f":"Orders!A882","v":0},{"$f":"VLOOKUP(A881,'Product-tool'!A:E,5,0)","v":{"$error":"#N/A"}},{"$f":"VLOOKUP(A881&B881,'Standard output'!A:D,4,0)","v":{"$error":"#N/A"}},{"$f":"INDEX(Orders!A:D,ROW()+1,FindCol(\"orders\",2,TimeBucketName))/$C881","v":{"$error":"#N/A"}}]
[{"$f":"Orders!A883","v":0},{"$f":"VLOOKUP(A882,'Product-tool'!A:E,5,0)","v":{"$error":"#N/A"}},{"$f":"VLOOKUP(A882&B882,'Standard output'!A:D,4,0)","v":{"$error":"#N/A"}},{"$f":"INDEX(Orders!A:D,ROW()+1,FindCol(\"orders\",2,TimeBucketName))/$C882","v":{"$error":"#N/A"}}]
[{"$f":"Orders!A884","v":0},{"$f":"VLOOKUP(A883,'Product-tool'!A:E,5,0)","v":{"$error":"#N/A"}},{"$f":"VLOOKUP(A883&B883,'Standard output'!A:D,4,0)","v":{"$error":"#N/A"}},{"$f":"INDEX(Orders!A:D,ROW()+1,FindCol(\"orders\",2,TimeBucketName))/$C883","v":{"$error":"#N/A"}}]
[{"$f":"Orders!A885","v":0},{"$f":"VLOOKUP(A884,'Product-tool'!A:E,5,0)","v":{"$error":"#N/A"}},{"$f":"VLOOKUP(A884&B884,'Standard output'!A:D,4,0)","v":{"$error":"#N/A"}},{"$f":"INDEX(Orders!A:D,ROW()+1,FindCol(\"orders\",2,TimeBucketName))/$C884","v":{"$error":"#N/A"}}]
[{"$f":"Orders!A886","v":0},{"$f":"VLOOKUP(A885,'Product-tool'!A:E,5,0)","v":{"$error":"#N/A"}},{"$f":"VLOOKUP(A885&B885,'Standard output'!A:D,4,0)","v":{"$error":"#N/A"}},{"$f":"INDEX(Orders!A:D,ROW()+1,FindCol(\"orders\",2,TimeBucketName))/$C885","v":{"$error":"#N/A"}}]
[{"$f":"Orders!A887","v":0},{"$f":"VLOOKUP(A886,'Product-tool'!A:E,5,0)","v":{"$error":"#N/A"}},{"$f":"VLOOKUP(A886&B886,'Standard output'!A:D,4,0)","v":{"$error":"#N/A"}},{"$f":"INDEX(Orders!A:D,ROW()+1,FindCol(\"orders\",2,TimeBucketName))/$C886","v":{"$error":"#N/A"}}]
[{"$f":"Orders!A888","v":0},{"$f":"VLOOKUP(A887,'Product-tool'!A:E,5,0)","v":{"$error":"#N/A"}},{"$f":"VLOOKUP(A887&B887,'Standard output'!A:D,4,0)","v":{"$error":"#N/A"}},{"$f":"INDEX(Orders!A:D,ROW()+1,FindCol(\"orders\",2,TimeBucketName))/$C887","v":{"$error":"#N/A"}}]
[{"$f":"Orders!A889","v":0},{"$f":"VLOOKUP(A888,'Product-tool'!A:E,5,0)","v":{"$error":"#N/A"}},{"$f":"VLOOKUP(A888&B888,'Standard output'!A:D,4,0)","v":{"$error":"#N/A"}},{"$f":"INDEX(Orders!A:D,ROW()+1,FindCol(\"orders\",2,TimeBucketName))/$C888","v":{"$error":"#N/A"}}]
[{"$f":"Orders!A890","v":0},{"$f":"VLOOKUP(A889,'Product-tool'!A:E,5,0)","v":{"$error":"#N/A"}},{"$f":"VLOOKUP(A889&B889,'Standard output'!A:D,4,0)","v":{"$error":"#N/A"}},{"$f":"INDEX(Orders!A:D,ROW()+1,FindCol(\"orders\",2,TimeBucketName))/$C889","v":{"$error":"#N/A"}}]
[{"$f":"Orders!A891","v":0},{"$f":"VLOOKUP(A890,'Product-tool'!A:E,5,0)","v":{"$error":"#N/A"}},{"$f":"VLOOKUP(A890&B890,'Standard output'!A:D,4,0)","v":{"$error":"#N/A"}},{"$f":"INDEX(Orders!A:D,ROW()+1,FindCol(\"orders\",2,TimeBucketName))/$C890","v":{"$error":"#N/A"}}]
[{"$f":"Orders!A892","v":0},{"$f":"VLOOKUP(A891,'Product-tool'!A:E,5,0)","v":{"$error":"#N/A"}},{"$f":"VLOOKUP(A891&B891,'Standard output'!A:D,4,0)","v":{"$error":"#N/A"}},{"$f":"INDEX(Orders!A:D,ROW()+1,FindCol(\"orders\",2,TimeBucketName))/$C891","v":{"$error":"#N/A"}}]
[{"$f":"Orders!A893","v":0},{"$f":"VLOOKUP(A892,'Product-tool'!A:E,5,0)","v":{"$error":"#N/A"}},{"$f":"VLOOKUP(A892&B892,'Standard output'!A:D,4,0)","v":{"$error":"#N/A"}},{"$f":"INDEX(Orders!A:D,ROW()+1,FindCol(\"orders\",2,TimeBucketName))/$C892","v":{"$error":"#N/A"}}]
[{"$f":"Orders!A894","v":0},{"$f":"VLOOKUP(A893,'Product-tool'!A:E,5,0)","v":{"$error":"#N/A"}},{"$f":"VLOOKUP(A893&B893,'Standard output'!A:D,4,0)","v":{"$error":"#N/A"}},{"$f":"INDEX(Orders!A:D,ROW()+1,FindCol(\"orders\",2,TimeBucketName))/$C893","v":{"$error":"#N/A"}}]
[{"$f":"Orders!A895","v":0},{"$f":"VLOOKUP(A894,'Product-tool'!A:E,5,0)","v":{"$error":"#N/A"}},{"$f":"VLOOKUP(A894&B894,'Standard output'!A:D,4,0)","v":{"$error":"#N/A"}},{"$f":"INDEX(Orders!A:D,ROW()+1,FindCol(\"orders\",2,TimeBucketName))/$C894","v":{"$error":"#N/A"}}]
[{"$f":"Orders!A896","v":0},{"$f":"VLOOKUP(A895,'Product-tool'!A:E,5,0)","v":{"$error":"#N/A"}},{"$f":"VLOOKUP(A895&B895,'Standard output'!A:D,4,0)","v":{"$error":"#N/A"}},{"$f":"INDEX(Orders!A:D,ROW()+1,FindCol(\"orders\",2,TimeBucketName))/$C895","v":{"$error":"#N/A"}}]
[{"$f":"Orders!A897","v":0},{"$f":"VLOOKUP(A896,'Product-tool'!A:E,5,0)","v":{"$error":"#N/A"}},{"$f":"VLOOKUP(A896&B896,'Standard output'!A:D,4,0)","v":{"$error":"#N/A"}},{"$f":"INDEX(Orders!A:D,ROW()+1,FindCol(\"orders\",2,TimeBucketName))/$C896","v":{"$error":"#N/A"}}]
[{"$f":"Orders!A898","v":0},{"$f":"VLOOKUP(A897,'Product-tool'!A:E,5,0)","v":{"$error":"#N/A"}},{"$f":"VLOOKUP(A897&B897,'Standard output'!A:D,4,0)","v":{"$error":"#N/A"}},{"$f":"INDEX(Orders!A:D,ROW()+1,FindCol(\"orders\",2,TimeBucketName))/$C897","v":{"$error":"#N/A"}}]
[{"$f":"Orders!A899","v":0},{"$f":"VLOOKUP(A898,'Product-tool'!A:E,5,0)","v":{"$error":"#N/A"}},{"$f":"VLOOKUP(A898&B898,'Standard output'!A:D,4,0)","v":{"$error":"#N/A"}},{"$f":"INDEX(Orders!A:D,ROW()+1,FindCol(\"orders\",2,TimeBucketName))/$C898","v":{"$error":"#N/A"}}]
[{"$f":"Orders!A900","v":0},{"$f":"VLOOKUP(A899,'Product-tool'!A:E,5,0)","v":{"$error":"#N/A"}},{"$f":"VLOOKUP(A899&B899,'Standard output'!A:D,4,0)","v":{"$error":"#N/A"}},{"$f":"INDEX(Orders!A:D,ROW()+1,FindCol(\"orders\",2,TimeBucketName))/$C899","v":{"$error":"#N/A"}}]
[{"$f":"Orders!A901","v":0},{"$f":"VLOOKUP(A900,'Product-tool'!A:E,5,0)","v":{"$error":"#N/A"}},{"$f":"VLOOKUP(A900&B900,'Standard output'!A:D,4,0)","v":{"$error":"#N/A"}},{"$f":"INDEX(Orders!A:D,ROW()+1,FindCol(\"orders\",2,TimeBucketName))/$C900","v":{"$error":"#N/A"}}]
[{"$f":"Orders!A902","v":0},{"$f":"VLOOKUP(A901,'Product-tool'!A:E,5,0)","v":{"$error":"#N/A"}},{"$f":"VLOOKUP(A901&B901,'Standard output'!A:D,4,0)","v":{"$error":"#N/A"}},{"$f":"INDEX(Orders!A:D,ROW()+1,FindCol(\"orders\",2,TimeBucketName))/$C901","v":{"$error":"#N/A"}}]
[{"$f":"Orders!A903","v":0},{"$f":"VLOOKUP(A902,'Product-tool'!A:E,5,0)","v":{"$error":"#N/A"}},{"$f":"VLOOKUP(A902&B902,'Standard output'!A:D,4,0)","v":{"$error":"#N/A"}},{"$f":"INDEX(Orders!A:D,ROW()+1,FindCol(\"orders\",2,TimeBucketName))/$C902","v":{"$error":"#N/A"}}]
[{"$f":"Orders!A904","v":0},{"$f":"VLOOKUP(A903,'Product-tool'!A:E,5,0)","v":{"$error":"#N/A"}},{"$f":"VLOOKUP(A903&B903,'Standard output'!A:D,4,0)","v":{"$error":"#N/A"}},{"$f":"INDEX(Orders!A:D,ROW()+1,FindCol(\"orders\",2,TimeBucketName))/$C903","v":{"$error":"#N/A"}}]
[{"$f":"Orders!A905","v":0},{"$f":"VLOOKUP(A904,'Product-tool'!A:E,5,0)","v":{"$error":"#N/A"}},{"$f":"VLOOKUP(A904&B904,'Standard output'!A:D,4,0)","v":{"$error":"#N/A"}},{"$f":"INDEX(Orders!A:D,ROW()+1,FindCol(\"orders\",2,TimeBucketName))/$C904","v":{"$error":"#N/A"}}]
[{"$f":"Orders!A906","v":0},{"$f":"VLOOKUP(A905,'Product-tool'!A:E,5,0)","v":{"$error":"#N/A"}},{"$f":"VLOOKUP(A905&B905,'Standard output'!A:D,4,0)","v":{"$error":"#N/A"}},{"$f":"INDEX(Orders!A:D,ROW()+1,FindCol(\"orders\",2,TimeBucketName))/$C905","v":{"$error":"#N/A"}}]
[{"$f":"Orders!A907","v":0},{"$f":"VLOOKUP(A906,'Product-tool'!A:E,5,0)","v":{"$error":"#N/A"}},{"$f":"VLOOKUP(A906&B906,'Standard output'!A:D,4,0)","v":{"$error":"#N/A"}},{"$f":"INDEX(Orders!A:D,ROW()+1,FindCol(\"orders\",2,TimeBucketName))/$C906","v":{"$error":"#N/A"}}]
[{"$f":"Orders!A908","v":0},{"$f":"VLOOKUP(A907,'Product-tool'!A:E,5,0)","v":{"$error":"#N/A"}},{"$f":"VLOOKUP(A907&B907,'Standard output'!A:D,4,0)","v":{"$error":"#N/A"}},{"$f":"INDEX(Orders!A:D,ROW()+1,FindCol(\"orders\",2,TimeBucketName))/$C907","v":{"$error":"#N/A"}}]
[{"$f":"Orders!A909","v":0},{"$f":"VLOOKUP(A908,'Product-tool'!A:E,5,0)","v":{"$error":"#N/A"}},{"$f":"VLOOKUP(A908&B908,'Standard output'!A:D,4,0)","v":{"$error":"#N/A"}},{"$f":"INDEX(Orders!A:D,ROW()+1,FindCol(\"orders\",2,TimeBucketName))/$C908","v":{"$error":"#N/A"}}]
[{"$f":"Orders!A910","v":0},{"$f":"VLOOKUP(A909,'Product-tool'!A:E,5,0)","v":{"$error":"#N/A"}},{"$f":"VLOOKUP(A909&B909,'Standard output'!A:D,4,0)","v":{"$error":"#N/A"}},{"$f":"INDEX(Orders!A:D,ROW()+1,FindCol(\"orders\",2,TimeBucketName))/$C909","v":{"$error":"#N/A"}}]
[{"$f":"Orders!A911","v":0},{"$f":"VLOOKUP(A910,'Product-tool'!A:E,5,0)","v":{"$error":"#N/A"}},{"$f":"VLOOKUP(A910&B910,'Standard output'!A:D,4,0)","v":{"$error":"#N/A"}},{"$f":"INDEX(Orders!A:D,ROW()+1,FindCol(\"orders\",2,TimeBucketName))/$C910","v":{"$error":"#N/A"}}]
[{"$f":"Orders!A912","v":0},{"$f":"VLOOKUP(A911,'Product-tool'!A:E,5,0)","v":{"$error":"#N/A"}},{"$f":"VLOOKUP(A911&B911,'Standard output'!A:D,4,0)","v":{"$error":"#N/A"}},{"$f":"INDEX(Orders!A:D,ROW()+1,FindCol(\"orders\",2,TimeBucketName))/$C911","v":{"$error":"#N/A"}}]
[{"$f":"Orders!A913","v":0},{"$f":"VLOOKUP(A912,'Product-tool'!A:E,5,0)","v":{"$error":"#N/A"}},{"$f":"VLOOKUP(A912&B912,'Standard output'!A:D,4,0)","v":{"$error":"#N/A"}},{"$f":"INDEX(Orders!A:D,ROW()+1,FindCol(\"orders\",2,TimeBucketName))/$C912","v":{"$error":"#N/A"}}]
[{"$f":"Orders!A914","v":0},{"$f":"VLOOKUP(A913,'Product-tool'!A:E,5,0)","v":{"$error":"#N/A"}},{"$f":"VLOOKUP(A913&B913,'Standard output'!A:D,4,0)","v":{"$error":"#N/A"}},{"$f":"INDEX(Orders!A:D,ROW()+1,FindCol(\"orders\",2,TimeBucketName))/$C913","v":{"$error":"#N/A"}}]
[{"$f":"Orders!A915","v":0},{"$f":"VLOOKUP(A914,'Product-tool'!A:E,5,0)","v":{"$error":"#N/A"}},{"$f":"VLOOKUP(A914&B914,'Standard output'!A:D,4,0)","v":{"$error":"#N/A"}},{"$f":"INDEX(Orders!A:D,ROW()+1,FindCol(\"orders\",2,TimeBucketName))/$C914","v":{"$error":"#N/A"}}]
[{"$f":"Orders!A916","v":0},{"$f":"VLOOKUP(A915,'Product-tool'!A:E,5,0)","v":{"$error":"#N/A"}},{"$f":"VLOOKUP(A915&B915,'Standard output'!A:D,4,0)","v":{"$error":"#N/A"}},{"$f":"INDEX(Orders!A:D,ROW()+1,FindCol(\"orders\",2,TimeBucketName))/$C915","v":{"$error":"#N/A"}}]
[{"$f":"Orders!A917","v":0},{"$f":"VLOOKUP(A916,'Product-tool'!A:E,5,0)","v":{"$error":"#N/A"}},{"$f":"VLOOKUP(A916&B916,'Standard output'!A:D,4,0)","v":{"$error":"#N/A"}},{"$f":"INDEX(Orders!A:D,ROW()+1,FindCol(\"orders\",2,TimeBucketName))/$C916","v":{"$error":"#N/A"}}]
[{"$f":"Orders!A918","v":0},{"$f":"VLOOKUP(A917,'Product-tool'!A:E,5,0)","v":{"$error":"#N/A"}},{"$f":"VLOOKUP(A917&B917,'Standard output'!A:D,4,0)","v":{"$error":"#N/A"}},{"$f":"INDEX(Orders!A:D,ROW()+1,FindCol(\"orders\",2,TimeBucketName))/$C917","v":{"$error":"#N/A"}}]
[{"$f":"Orders!A919","v":0},{"$f":"VLOOKUP(A918,'Product-tool'!A:E,5,0)","v":{"$error":"#N/A"}},{"$f":"VLOOKUP(A918&B918,'Standard output'!A:D,4,0)","v":{"$error":"#N/A"}},{"$f":"INDEX(Orders!A:D,ROW()+1,FindCol(\"orders\",2,TimeBucketName))/$C918","v":{"$error":"#N/A"}}]
[{"$f":"Orders!A920","v":0},{"$f":"VLOOKUP(A919,'Product-tool'!A:E,5,0)","v":{"$error":"#N/A"}},{"$f":"VLOOKUP(A919&B919,'Standard output'!A:D,4,0)","v":{"$error":"#N/A"}},{"$f":"INDEX(Orders!A:D,ROW()+1,FindCol(\"orders\",2,TimeBucketName))/$C919","v":{"$error":"#N/A"}}]
[{"$f":"Orders!A921","v":0},{"$f":"VLOOKUP(A920,'Product-tool'!A:E,5,0)","v":{"$error":"#N/A"}},{"$f":"VLOOKUP(A920&B920,'Standard output'!A:D,4,0)","v":{"$error":"#N/A"}},{"$f":"INDEX(Orders!A:D,ROW()+1,FindCol(\"orders\",2,TimeBucketName))/$C920","v":{"$error":"#N/A"}}]
[{"$f":"Orders!A922","v":0},{"$f":"VLOOKUP(A921,'Product-tool'!A:E,5,0)","v":{"$error":"#N/A"}},{"$f":"VLOOKUP(A921&B921,'Standard output'!A:D,4,0)","v":{"$error":"#N/A"}},{"$f":"INDEX(Orders!A:D,ROW()+1,FindCol(\"orders\",2,TimeBucketName))/$C921","v":{"$error":"#N/A"}}]
[{"$f":"Orders!A923","v":0},{"$f":"VLOOKUP(A922,'Product-tool'!A:E,5,0)","v":{"$error":"#N/A"}},{"$f":"VLOOKUP(A922&B922,'Standard output'!A:D,4,0)","v":{"$error":"#N/A"}},{"$f":"INDEX(Orders!A:D,ROW()+1,FindCol(\"orders\",2,TimeBucketName))/$C922","v":{"$error":"#N/A"}}]
[{"$f":"Orders!A924","v":0},{"$f":"VLOOKUP(A923,'Product-tool'!A:E,5,0)","v":{"$error":"#N/A"}},{"$f":"VLOOKUP(A923&B923,'Standard output'!A:D,4,0)","v":{"$error":"#N/A"}},{"$f":"INDEX(Orders!A:D,ROW()+1,FindCol(\"orders\",2,TimeBucketName))/$C923","v":{"$error":"#N/A"}}]
[{"$f":"Orders!A925","v":0},{"$f":"VLOOKUP(A924,'Product-tool'!A:E,5,0)","v":{"$error":"#N/A"}},{"$f":"VLOOKUP(A924&B924,'Standard output'!A:D,4,0)","v":{"$error":"#N/A"}},{"$f":"INDEX(Orders!A:D,ROW()+1,FindCol(\"orders\",2,TimeBucketName))/$C924","v":{"$error":"#N/A"}}]
[{"$f":"Orders!A926","v":0},{"$f":"VLOOKUP(A925,'Product-tool'!A:E,5,0)","v":{"$error":"#N/A"}},{"$f":"VLOOKUP(A925&B925,'Standard output'!A:D,4,0)","v":{"$error":"#N/A"}},{"$f":"INDEX(Orders!A:D,ROW()+1,FindCol(\"orders\",2,TimeBucketName))/$C925","v":{"$error":"#N/A"}}]
[{"$f":"Orders!A927","v":0},{"$f":"VLOOKUP(A926,'Product-tool'!A:E,5,0)","v":{"$error":"#N/A"}},{"$f":"VLOOKUP(A926&B926,'Standard output'!A:D,4,0)","v":{"$error":"#N/A"}},{"$f":"INDEX(Orders!A:D,ROW()+1,FindCol(\"orders\",2,TimeBucketName))/$C926","v":{"$error":"#N/A"}}]
[{"$f":"Orders!A928","v":0},{"$f":"VLOOKUP(A927,'Product-tool'!A:E,5,0)","v":{"$error":"#N/A"}},{"$f":"VLOOKUP(A927&B927,'Standard output'!A:D,4,0)","v":{"$error":"#N/A"}},{"$f":"INDEX(Orders!A:D,ROW()+1,FindCol(\"orders\",2,TimeBucketName))/$C927","v":{"$error":"#N/A"}}]
[{"$f":"Orders!A929","v":0},{"$f":"VLOOKUP(A928,'Product-tool'!A:E,5,0)","v":{"$error":"#N/A"}},{"$f":"VLOOKUP(A928&B928,'Standard output'!A:D,4,0)","v":{"$error":"#N/A"}},{"$f":"INDEX(Orders!A:D,ROW()+1,FindCol(\"orders\",2,TimeBucketName))/$C928","v":{"$error":"#N/A"}}]
[{"$f":"Orders!A930","v":0},{"$f":"VLOOKUP(A929,'Product-tool'!A:E,5,0)","v":{"$error":"#N/A"}},{"$f":"VLOOKUP(A929&B929,'Standard output'!A:D,4,0)","v":{"$error":"#N/A"}},{"$f":"INDEX(Orders!A:D,ROW()+1,FindCol(\"orders\",2,TimeBucketName))/$C929","v":{"$error":"#N/A"}}]
[{"$f":"Orders!A931","v":0},{"$f":"VLOOKUP(A930,'Product-tool'!A:E,5,0)","v":{"$error":"#N/A"}},{"$f":"VLOOKUP(A930&B930,'Standard output'!A:D,4,0)","v":{"$error":"#N/A"}},{"$f":"INDEX(Orders!A:D,ROW()+1,FindCol(\"orders\",2,TimeBucketName))/$C930","v":{"$error":"#N/A"}}]
[{"$f":"Orders!A932","v":0},{"$f":"VLOOKUP(A931,'Product-tool'!A:E,5,0)","v":{"$error":"#N/A"}},{"$f":"VLOOKUP(A931&B931,'Standard output'!A:D,4,0)","v":{"$error":"#N/A"}},{"$f":"INDEX(Orders!A:D,ROW()+1,FindCol(\"orders\",2,TimeBucketName))/$C931","v":{"$error":"#N/A"}}]
[{"$f":"Orders!A933","v":0},{"$f":"VLOOKUP(A932,'Product-tool'!A:E,5,0)","v":{"$error":"#N/A"}},{"$f":"VLOOKUP(A932&B932,'Standard output'!A:D,4,0)","v":{"$error":"#N/A"}},{"$f":"INDEX(Orders!A:D,ROW()+1,FindCol(\"orders\",2,TimeBucketName))/$C932","v":{"$error":"#N/A"}}]
[{"$f":"Orders!A934","v":0},{"$f":"VLOOKUP(A933,'Product-tool'!A:E,5,0)","v":{"$error":"#N/A"}},{"$f":"VLOOKUP(A933&B933,'Standard output'!A:D,4,0)","v":{"$error":"#N/A"}},{"$f":"INDEX(Orders!A:D,ROW()+1,FindCol(\"orders\",2,TimeBucketName))/$C933","v":{"$error":"#N/A"}}]
[{"$f":"Orders!A935","v":0},{"$f":"VLOOKUP(A934,'Product-tool'!A:E,5,0)","v":{"$error":"#N/A"}},{"$f":"VLOOKUP(A934&B934,'Standard output'!A:D,4,0)","v":{"$error":"#N/A"}},{"$f":"INDEX(Orders!A:D,ROW()+1,FindCol(\"orders\",2,TimeBucketName))/$C934","v":{"$error":"#N/A"}}]
[{"$f":"Orders!A936","v":0},{"$f":"VLOOKUP(A935,'Product-tool'!A:E,5,0)","v":{"$error":"#N/A"}},{"$f":"VLOOKUP(A935&B935,'Standard output'!A:D,4,0)","v":{"$error":"#N/A"}},{"$f":"INDEX(Orders!A:D,ROW()+1,FindCol(\"orders\",2,TimeBucketName))/$C935","v":{"$error":"#N/A"}}]
[{"$f":"Orders!A937","v":0},{"$f":"VLOOKUP(A936,'Product-tool'!A:E,5,0)","v":{"$error":"#N/A"}},{"$f":"VLOOKUP(A936&B936,'Standard output'!A:D,4,0)","v":{"$error":"#N/A"}},{"$f":"INDEX(Orders!A:D,ROW()+1,FindCol(\"orders\",2,TimeBucketName))/$C936","v":{"$error":"#N/A"}}]
[{"$f":"Orders!A938","v":0},{"$f":"VLOOKUP(A937,'Product-tool'!A:E,5,0)","v":{"$error":"#N/A"}},{"$f":"VLOOKUP(A937&B937,'Standard output'!A:D,4,0)","v":{"$error":"#N/A"}},{"$f":"INDEX(Orders!A:D,ROW()+1,FindCol(\"orders\",2,TimeBucketName))/$C937","v":{"$error":"#N/A"}}]
[{"$f":"Orders!A939","v":0},{"$f":"VLOOKUP(A938,'Product-tool'!A:E,5,0)","v":{"$error":"#N/A"}},{"$f":"VLOOKUP(A938&B938,'Standard output'!A:D,4,0)","v":{"$error":"#N/A"}},{"$f":"INDEX(Orders!A:D,ROW()+1,FindCol(\"orders\",2,TimeBucketName))/$C938","v":{"$error":"#N/A"}}]
[{"$f":"Orders!A940","v":0},{"$f":"VLOOKUP(A939,'Product-tool'!A:E,5,0)","v":{"$error":"#N/A"}},{"$f":"VLOOKUP(A939&B939,'Standard output'!A:D,4,0)","v":{"$error":"#N/A"}},{"$f":"INDEX(Orders!A:D,ROW()+1,FindCol(\"orders\",2,TimeBucketName))/$C939","v":{"$error":"#N/A"}}]
[{"$f":"Orders!A941","v":0},{"$f":"VLOOKUP(A940,'Product-tool'!A:E,5,0)","v":{"$error":"#N/A"}},{"$f":"VLOOKUP(A940&B940,'Standard output'!A:D,4,0)","v":{"$error":"#N/A"}},{"$f":"INDEX(Orders!A:D,ROW()+1,FindCol(\"orders\",2,TimeBucketName))/$C940","v":{"$error":"#N/A"}}]
[{"$f":"Orders!A942","v":0},{"$f":"VLOOKUP(A941,'Product-tool'!A:E,5,0)","v":{"$error":"#N/A"}},{"$f":"VLOOKUP(A941&B941,'Standard output'!A:D,4,0)","v":{"$error":"#N/A"}},{"$f":"INDEX(Orders!A:D,ROW()+1,FindCol(\"orders\",2,TimeBucketName))/$C941","v":{"$error":"#N/A"}}]
[{"$f":"Orders!A943","v":0},{"$f":"VLOOKUP(A942,'Product-tool'!A:E,5,0)","v":{"$error":"#N/A"}},{"$f":"VLOOKUP(A942&B942,'Standard output'!A:D,4,0)","v":{"$error":"#N/A"}},{"$f":"INDEX(Orders!A:D,ROW()+1,FindCol(\"orders\",2,TimeBucketName))/$C942","v":{"$error":"#N/A"}}]
[{"$f":"Orders!A944","v":0},{"$f":"VLOOKUP(A943,'Product-tool'!A:E,5,0)","v":{"$error":"#N/A"}},{"$f":"VLOOKUP(A943&B943,'Standard output'!A:D,4,0)","v":{"$error":"#N/A"}},{"$f":"INDEX(Orders!A:D,ROW()+1,FindCol(\"orders\",2,TimeBucketName))/$C943","v":{"$error":"#N/A"}}]
[{"$f":"Orders!A945","v":0},{"$f":"VLOOKUP(A944,'Product-tool'!A:E,5,0)","v":{"$error":"#N/A"}},{"$f":"VLOOKUP(A944&B944,'Standard output'!A:D,4,0)","v":{"$error":"#N/A"}},{"$f":"INDEX(Orders!A:D,ROW()+1,FindCol(\"orders\",2,TimeBucketName))/$C944","v":{"$error":"#N/A"}}]
[{"$f":"Orders!A946","v":0},{"$f":"VLOOKUP(A945,'Product-tool'!A:E,5,0)","v":{"$error":"#N/A"}},{"$f":"VLOOKUP(A945&B945,'Standard output'!A:D,4,0)","v":{"$error":"#N/A"}},{"$f":"INDEX(Orders!A:D,ROW()+1,FindCol(\"orders\",2,TimeBucketName))/$C945","v":{"$error":"#N/A"}}]
[{"$f":"Orders!A947","v":0},{"$f":"VLOOKUP(A946,'Product-tool'!A:E,5,0)","v":{"$error":"#N/A"}},{"$f":"VLOOKUP(A946&B946,'Standard output'!A:D,4,0)","v":{"$error":"#N/A"}},{"$f":"INDEX(Orders!A:D,ROW()+1,FindCol(\"orders\",2,TimeBucketName))/$C946","v":{"$error":"#N/A"}}]
[{"$f":"Orders!A948","v":0},{"$f":"VLOOKUP(A947,'Product-tool'!A:E,5,0)","v":{"$error":"#N/A"}},{"$f":"VLOOKUP(A947&B947,'Standard output'!A:D,4,0)","v":{"$error":"#N/A"}},{"$f":"INDEX(Orders!A:D,ROW()+1,FindCol(\"orders\",2,TimeBucketName))/$C947","v":{"$error":"#N/A"}}]
[{"$f":"Orders!A949","v":0},{"$f":"VLOOKUP(A948,'Product-tool'!A:E,5,0)","v":{"$error":"#N/A"}},{"$f":"VLOOKUP(A948&B948,'Standard output'!A:D,4,0)","v":{"$error":"#N/A"}},{"$f":"INDEX(Orders!A:D,ROW()+1,FindCol(\"orders\",2,TimeBucketName))/$C948","v":{"$error":"#N/A"}}]
[{"$f":"Orders!A950","v":0},{"$f":"VLOOKUP(A949,'Product-tool'!A:E,5,0)","v":{"$error":"#N/A"}},{"$f":"VLOOKUP(A949&B949,'Standard output'!A:D,4,0)","v":{"$error":"#N/A"}},{"$f":"INDEX(Orders!A:D,ROW()+1,FindCol(\"orders\",2,TimeBucketName))/$C949","v":{"$error":"#N/A"}}]
[{"$f":"Orders!A951","v":0},{"$f":"VLOOKUP(A950,'Product-tool'!A:E,5,0)","v":{"$error":"#N/A"}},{"$f":"VLOOKUP(A950&B950,'Standard output'!A:D,4,0)","v":{"$error":"#N/A"}},{"$f":"INDEX(Orders!A:D,ROW()+1,FindCol(\"orders\",2,TimeBucketName))/$C950","v":{"$error":"#N/A"}}]
[{"$f":"Orders!A952","v":0},{"$f":"VLOOKUP(A951,'Product-tool'!A:E,5,0)","v":{"$error":"#N/A"}},{"$f":"VLOOKUP(A951&B951,'Standard output'!A:D,4,0)","v":{"$error":"#N/A"}},{"$f":"INDEX(Orders!A:D,ROW()+1,FindCol(\"orders\",2,TimeBucketName))/$C951","v":{"$error":"#N/A"}}]
[{"$f":"Orders!A953","v":0},{"$f":"VLOOKUP(A952,'Product-tool'!A:E,5,0)","v":{"$error":"#N/A"}},{"$f":"VLOOKUP(A952&B952,'Standard output'!A:D,4,0)","v":{"$error":"#N/A"}},{"$f":"INDEX(Orders!A:D,ROW()+1,FindCol(\"orders\",2,TimeBucketName))/$C952","v":{"$error":"#N/A"}}]
[{"$f":"Orders!A954","v":0},{"$f":"VLOOKUP(A953,'Product-tool'!A:E,5,0)","v":{"$error":"#N/A"}},{"$f":"VLOOKUP(A953&B953,'Standard output'!A:D,4,0)","v":{"$error":"#N/A"}},{"$f":"INDEX(Orders!A:D,ROW()+1,FindCol(\"orders\",2,TimeBucketName))/$C953","v":{"$error":"#N/A"}}]
[{"$f":"Orders!A955","v":0},{"$f":"VLOOKUP(A954,'Product-tool'!A:E,5,0)","v":{"$error":"#N/A"}},{"$f":"VLOOKUP(A954&B954,'Standard output'!A:D,4,0)","v":{"$error":"#N/A"}},{"$f":"INDEX(Orders!A:D,ROW()+1,FindCol(\"orders\",2,TimeBucketName))/$C954","v":{"$error":"#N/A"}}]
[{"$f":"Orders!A956","v":0},{"$f":"VLOOKUP(A955,'Product-tool'!A:E,5,0)","v":{"$error":"#N/A"}},{"$f":"VLOOKUP(A955&B955,'Standard output'!A:D,4,0)","v":{"$error":"#N/A"}},{"$f":"INDEX(Orders!A:D,ROW()+1,FindCol(\"orders\",2,TimeBucketName))/$C955","v":{"$error":"#N/A"}}]
[{"$f":"Orders!A957","v":0},{"$f":"VLOOKUP(A956,'Product-tool'!A:E,5,0)","v":{"$error":"#N/A"}},{"$f":"VLOOKUP(A956&B956,'Standard output'!A:D,4,0)","v":{"$error":"#N/A"}},{"$f":"INDEX(Orders!A:D,ROW()+1,FindCol(\"orders\",2,TimeBucketName))/$C956","v":{"$error":"#N/A"}}]
[{"$f":"Orders!A958","v":0},{"$f":"VLOOKUP(A957,'Product-tool'!A:E,5,0)","v":{"$error":"#N/A"}},{"$f":"VLOOKUP(A957&B957,'Standard output'!A:D,4,0)","v":{"$error":"#N/A"}},{"$f":"INDEX(Orders!A:D,ROW()+1,FindCol(\"orders\",2,TimeBucketName))/$C957","v":{"$error":"#N/A"}}]
[{"$f":"Orders!A959","v":0},{"$f":"VLOOKUP(A958,'Product-tool'!A:E,5,0)","v":{"$error":"#N/A"}},{"$f":"VLOOKUP(A958&B958,'Standard output'!A:D,4,0)","v":{"$error":"#N/A"}},{"$f":"INDEX(Orders!A:D,ROW()+1,FindCol(\"orders\",2,TimeBucketName))/$C958","v":{"$error":"#N/A"}}]
[{"$f":"Orders!A960","v":0},{"$f":"VLOOKUP(A959,'Product-tool'!A:E,5,0)","v":{"$error":"#N/A"}},{"$f":"VLOOKUP(A959&B959,'Standard output'!A:D,4,0)","v":{"$error":"#N/A"}},{"$f":"INDEX(Orders!A:D,ROW()+1,FindCol(\"orders\",2,TimeBucketName))/$C959","v":{"$error":"#N/A"}}]
[{"$f":"Orders!A961","v":0},{"$f":"VLOOKUP(A960,'Product-tool'!A:E,5,0)","v":{"$error":"#N/A"}},{"$f":"VLOOKUP(A960&B960,'Standard output'!A:D,4,0)","v":{"$error":"#N/A"}},{"$f":"INDEX(Orders!A:D,ROW()+1,FindCol(\"orders\",2,TimeBucketName))/$C960","v":{"$error":"#N/A"}}]
[{"$f":"Orders!A962","v":0},{"$f":"VLOOKUP(A961,'Product-tool'!A:E,5,0)","v":{"$error":"#N/A"}},{"$f":"VLOOKUP(A961&B961,'Standard output'!A:D,4,0)","v":{"$error":"#N/A"}},{"$f":"INDEX(Orders!A:D,ROW()+1,FindCol(\"orders\",2,TimeBucketName))/$C961","v":{"$error":"#N/A"}}]
[{"$f":"Orders!A963","v":0},{"$f":"VLOOKUP(A962,'Product-tool'!A:E,5,0)","v":{"$error":"#N/A"}},{"$f":"VLOOKUP(A962&B962,'Standard output'!A:D,4,0)","v":{"$error":"#N/A"}},{"$f":"INDEX(Orders!A:D,ROW()+1,FindCol(\"orders\",2,TimeBucketName))/$C962","v":{"$error":"#N/A"}}]
[{"$f":"Orders!A964","v":0},{"$f":"VLOOKUP(A963,'Product-tool'!A:E,5,0)","v":{"$error":"#N/A"}},{"$f":"VLOOKUP(A963&B963,'Standard output'!A:D,4,0)","v":{"$error":"#N/A"}},{"$f":"INDEX(Orders!A:D,ROW()+1,FindCol(\"orders\",2,TimeBucketName))/$C963","v":{"$error":"#N/A"}}]
[{"$f":"Orders!A965","v":0},{"$f":"VLOOKUP(A964,'Product-tool'!A:E,5,0)","v":{"$error":"#N/A"}},{"$f":"VLOOKUP(A964&B964,'Standard output'!A:D,4,0)","v":{"$error":"#N/A"}},{"$f":"INDEX(Orders!A:D,ROW()+1,FindCol(\"orders\",2,TimeBucketName))/$C964","v":{"$error":"#N/A"}}]
[{"$f":"Orders!A966","v":0},{"$f":"VLOOKUP(A965,'Product-tool'!A:E,5,0)","v":{"$error":"#N/A"}},{"$f":"VLOOKUP(A965&B965,'Standard output'!A:D,4,0)","v":{"$error":"#N/A"}},{"$f":"INDEX(Orders!A:D,ROW()+1,FindCol(\"orders\",2,TimeBucketName))/$C965","v":{"$error":"#N/A"}}]
[{"$f":"Orders!A967","v":0},{"$f":"VLOOKUP(A966,'Product-tool'!A:E,5,0)","v":{"$error":"#N/A"}},{"$f":"VLOOKUP(A966&B966,'Standard output'!A:D,4,0)","v":{"$error":"#N/A"}},{"$f":"INDEX(Orders!A:D,ROW()+1,FindCol(\"orders\",2,TimeBucketName))/$C966","v":{"$error":"#N/A"}}]
[{"$f":"Orders!A968","v":0},{"$f":"VLOOKUP(A967,'Product-tool'!A:E,5,0)","v":{"$error":"#N/A"}},{"$f":"VLOOKUP(A967&B967,'Standard output'!A:D,4,0)","v":{"$error":"#N/A"}},{"$f":"INDEX(Orders!A:D,ROW()+1,FindCol(\"orders\",2,TimeBucketName))/$C967","v":{"$error":"#N/A"}}]
[{"$f":"Orders!A969","v":0},{"$f":"VLOOKUP(A968,'Product-tool'!A:E,5,0)","v":{"$error":"#N/A"}},{"$f":"VLOOKUP(A968&B968,'Standard output'!A:D,4,0)","v":{"$error":"#N/A"}},{"$f":"INDEX(Orders!A:D,ROW()+1,FindCol(\"orders\",2,TimeBucketName))/$C968","v":{"$error":"#N/A"}}]
[{"$f":"Orders!A970","v":0},{"$f":"VLOOKUP(A969,'Product-tool'!A:E,5,0)","v":{"$error":"#N/A"}},{"$f":"VLOOKUP(A969&B969,'Standard output'!A:D,4,0)","v":{"$error":"#N/A"}},{"$f":"INDEX(Orders!A:D,ROW()+1,FindCol(\"orders\",2,TimeBucketName))/$C969","v":{"$error":"#N/A"}}]
[{"$f":"Orders!A971","v":0},{"$f":"VLOOKUP(A970,'Product-tool'!A:E,5,0)","v":{"$error":"#N/A"}},{"$f":"VLOOKUP(A970&B970,'Standard output'!A:D,4,0)","v":{"$error":"#N/A"}},{"$f":"INDEX(Orders!A:D,ROW()+1,FindCol(\"orders\",2,TimeBucketName))/$C970","v":{"$error":"#N/A"}}]
[{"$f":"Orders!A972","v":0},{"$f":"VLOOKUP(A971,'Product-tool'!A:E,5,0)","v":{"$error":"#N/A"}},{"$f":"VLOOKUP(A971&B971,'Standard output'!A:D,4,0)","v":{"$error":"#N/A"}},{"$f":"INDEX(Orders!A:D,ROW()+1,FindCol(\"orders\",2,TimeBucketName))/$C971","v":{"$error":"#N/A"}}]
[{"$f":"Orders!A973","v":0},{"$f":"VLOOKUP(A972,'Product-tool'!A:E,5,0)","v":{"$error":"#N/A"}},{"$f":"VLOOKUP(A972&B972,'Standard output'!A:D,4,0)","v":{"$error":"#N/A"}},{"$f":"INDEX(Orders!A:D,ROW()+1,FindCol(\"orders\",2,TimeBucketName))/$C972","v":{"$error":"#N/A"}}]
[{"$f":"Orders!A974","v":0},{"$f":"VLOOKUP(A973,'Product-tool'!A:E,5,0)","v":{"$error":"#N/A"}},{"$f":"VLOOKUP(A973&B973,'Standard output'!A:D,4,0)","v":{"$error":"#N/A"}},{"$f":"INDEX(Orders!A:D,ROW()+1,FindCol(\"orders\",2,TimeBucketName))/$C973","v":{"$error":"#N/A"}}]
[{"$f":"Orders!A975","v":0},{"$f":"VLOOKUP(A974,'Product-tool'!A:E,5,0)","v":{"$error":"#N/A"}},{"$f":"VLOOKUP(A974&B974,'Standard output'!A:D,4,0)","v":{"$error":"#N/A"}},{"$f":"INDEX(Orders!A:D,ROW()+1,FindCol(\"orders\",2,TimeBucketName))/$C974","v":{"$error":"#N/A"}}]
[{"$f":"Orders!A976","v":0},{"$f":"VLOOKUP(A975,'Product-tool'!A:E,5,0)","v":{"$error":"#N/A"}},{"$f":"VLOOKUP(A975&B975,'Standard output'!A:D,4,0)","v":{"$error":"#N/A"}},{"$f":"INDEX(Orders!A:D,ROW()+1,FindCol(\"orders\",2,TimeBucketName))/$C975","v":{"$error":"#N/A"}}]
[{"$f":"Orders!A977","v":0},{"$f":"VLOOKUP(A976,'Product-tool'!A:E,5,0)","v":{"$error":"#N/A"}},{"$f":"VLOOKUP(A976&B976,'Standard output'!A:D,4,0)","v":{"$error":"#N/A"}},{"$f":"INDEX(Orders!A:D,ROW()+1,FindCol(\"orders\",2,TimeBucketName))/$C976","v":{"$error":"#N/A"}}]
[{"$f":"Orders!A978","v":0},{"$f":"VLOOKUP(A977,'Product-tool'!A:E,5,0)","v":{"$error":"#N/A"}},{"$f":"VLOOKUP(A977&B977,'Standard output'!A:D,4,0)","v":{"$error":"#N/A"}},{"$f":"INDEX(Orders!A:D,ROW()+1,FindCol(\"orders\",2,TimeBucketName))/$C977","v":{"$error":"#N/A"}}]
[{"$f":"Orders!A979","v":0},{"$f":"VLOOKUP(A978,'Product-tool'!A:E,5,0)","v":{"$error":"#N/A"}},{"$f":"VLOOKUP(A978&B978,'Standard output'!A:D,4,0)","v":{"$error":"#N/A"}},{"$f":"INDEX(Orders!A:D,ROW()+1,FindCol(\"orders\",2,TimeBucketName))/$C978","v":{"$error":"#N/A"}}]
[{"$f":"Orders!A980","v":0},{"$f":"VLOOKUP(A979,'Product-tool'!A:E,5,0)","v":{"$error":"#N/A"}},{"$f":"VLOOKUP(A979&B979,'Standard output'!A:D,4,0)","v":{"$error":"#N/A"}},{"$f":"INDEX(Orders!A:D,ROW()+1,FindCol(\"orders\",2,TimeBucketName))/$C979","v":{"$error":"#N/A"}}]
[{"$f":"Orders!A981","v":0},{"$f":"VLOOKUP(A980,'Product-tool'!A:E,5,0)","v":{"$error":"#N/A"}},{"$f":"VLOOKUP(A980&B980,'Standard output'!A:D,4,0)","v":{"$error":"#N/A"}},{"$f":"INDEX(Orders!A:D,ROW()+1,FindCol(\"orders\",2,TimeBucketName))/$C980","v":{"$error":"#N/A"}}]
[{"$f":"Orders!A982","v":0},{"$f":"VLOOKUP(A981,'Product-tool'!A:E,5,0)","v":{"$error":"#N/A"}},{"$f":"VLOOKUP(A981&B981,'Standard output'!A:D,4,0)","v":{"$error":"#N/A"}},{"$f":"INDEX(Orders!A:D,ROW()+1,FindCol(\"orders\",2,TimeBucketName))/$C981","v":{"$error":"#N/A"}}]
[{"$f":"Orders!A983","v":0},{"$f":"VLOOKUP(A982,'Product-tool'!A:E,5,0)","v":{"$error":"#N/A"}},{"$f":"VLOOKUP(A982&B982,'Standard output'!A:D,4,0)","v":{"$error":"#N/A"}},{"$f":"INDEX(Orders!A:D,ROW()+1,FindCol(\"orders\",2,TimeBucketName))/$C982","v":{"$error":"#N/A"}}]
[{"$f":"Orders!A984","v":0},{"$f":"VLOOKUP(A983,'Product-tool'!A:E,5,0)","v":{"$error":"#N/A"}},{"$f":"VLOOKUP(A983&B983,'Standard output'!A:D,4,0)","v":{"$error":"#N/A"}},{"$f":"INDEX(Orders!A:D,ROW()+1,FindCol(\"orders\",2,TimeBucketName))/$C983","v":{"$error":"#N/A"}}]
[{"$f":"Orders!A985","v":0},{"$f":"VLOOKUP(A984,'Product-tool'!A:E,5,0)","v":{"$error":"#N/A"}},{"$f":"VLOOKUP(A984&B984,'Standard output'!A:D,4,0)","v":{"$error":"#N/A"}},{"$f":"INDEX(Orders!A:D,ROW()+1,FindCol(\"orders\",2,TimeBucketName))/$C984","v":{"$error":"#N/A"}}]
[{"$f":"Orders!A986","v":0},{"$f":"VLOOKUP(A985,'Product-tool'!A:E,5,0)","v":{"$error":"#N/A"}},{"$f":"VLOOKUP(A985&B985,'Standard output'!A:D,4,0)","v":{"$error":"#N/A"}},{"$f":"INDEX(Orders!A:D,ROW()+1,FindCol(\"orders\",2,TimeBucketName))/$C985","v":{"$error":"#N/A"}}]
[{"$f":"Orders!A987","v":0},{"$f":"VLOOKUP(A986,'Product-tool'!A:E,5,0)","v":{"$error":"#N/A"}},{"$f":"VLOOKUP(A986&B986,'Standard output'!A:D,4,0)","v":{"$error":"#N/A"}},{"$f":"INDEX(Orders!A:D,ROW()+1,FindCol(\"orders\",2,TimeBucketName))/$C986","v":{"$error":"#N/A"}}]
[{"$f":"Orders!A988","v":0},{"$f":"VLOOKUP(A987,'Product-tool'!A:E,5,0)","v":{"$error":"#N/A"}},{"$f":"VLOOKUP(A987&B987,'Standard output'!A:D,4,0)","v":{"$error":"#N/A"}},{"$f":"INDEX(Orders!A:D,ROW()+1,FindCol(\"orders\",2,TimeBucketName))/$C987","v":{"$error":"#N/A"}}]
[{"$f":"Orders!A989","v":0},{"$f":"VLOOKUP(A988,'Product-tool'!A:E,5,0)","v":{"$error":"#N/A"}},{"$f":"VLOOKUP(A988&B988,'Standard output'!A:D,4,0)","v":{"$error":"#N/A"}},{"$f":"INDEX(Orders!A:D,ROW()+1,FindCol(\"orders\",2,TimeBucketName))/$C988","v":{"$error":"#N/A"}}]
[{"$f":"Orders!A990","v":0},{"$f":"VLOOKUP(A989,'Product-tool'!A:E,5,0)","v":{"$error":"#N/A"}},{"$f":"VLOOKUP(A989&B989,'Standard output'!A:D,4,0)","v":{"$error":"#N/A"}},{"$f":"INDEX(Orders!A:D,ROW()+1,FindCol(\"orders\",2,TimeBucketName))/$C989","v":{"$error":"#N/A"}}]
[{"$f":"Orders!A991","v":0},{"$f":"VLOOKUP(A990,'Product-tool'!A:E,5,0)","v":{"$error":"#N/A"}},{"$f":"VLOOKUP(A990&B990,'Standard output'!A:D,4,0)","v":{"$error":"#N/A"}},{"$f":"INDEX(Orders!A:D,ROW()+1,FindCol(\"orders\",2,TimeBucketName))/$C990","v":{"$error":"#N/A"}}]
[{"$f":"Orders!A992","v":0},{"$f":"VLOOKUP(A991,'Product-tool'!A:E,5,0)","v":{"$error":"#N/A"}},{"$f":"VLOOKUP(A991&B991,'Standard output'!A:D,4,0)","v":{"$error":"#N/A"}},{"$f":"INDEX(Orders!A:D,ROW()+1,FindCol(\"orders\",2,TimeBucketName))/$C991","v":{"$error":"#N/A"}}]
[{"$f":"Orders!A993","v":0},{"$f":"VLOOKUP(A992,'Product-tool'!A:E,5,0)","v":{"$error":"#N/A"}},{"$f":"VLOOKUP(A992&B992,'Standard output'!A:D,4,0)","v":{"$error":"#N/A"}},{"$f":"INDEX(Orders!A:D,ROW()+1,FindCol(\"orders\",2,TimeBucketName))/$C992","v":{"$error":"#N/A"}}]
[{"$f":"Orders!A994","v":0},{"$f":"VLOOKUP(A993,'Product-tool'!A:E,5,0)","v":{"$error":"#N/A"}},{"$f":"VLOOKUP(A993&B993,'Standard output'!A:D,4,0)","v":{"$error":"#N/A"}},{"$f":"INDEX(Orders!A:D,ROW()+1,FindCol(\"orders\",2,TimeBucketName))/$C993","v":{"$error":"#N/A"}}]
[{"$f":"Orders!A995","v":0},{"$f":"VLOOKUP(A994,'Product-tool'!A:E,5,0)","v":{"$error":"#N/A"}},{"$f":"VLOOKUP(A994&B994,'Standard output'!A:D,4,0)","v":{"$error":"#N/A"}},{"$f":"INDEX(Orders!A:D,ROW()+1,FindCol(\"orders\",2,TimeBucketName))/$C994","v":{"$error":"#N/A"}}]
[{"$f":"Orders!A996","v":0},{"$f":"VLOOKUP(A995,'Product-tool'!A:E,5,0)","v":{"$error":"#N/A"}},{"$f":"VLOOKUP(A995&B995,'Standard output'!A:D,4,0)","v":{"$error":"#N/A"}},{"$f":"INDEX(Orders!A:D,ROW()+1,FindCol(\"orders\",2,TimeBucketName))/$C995","v":{"$error":"#N/A"}}]
[{"$f":"Orders!A997","v":0},{"$f":"VLOOKUP(A996,'Product-tool'!A:E,5,0)","v":{"$error":"#N/A"}},{"$f":"VLOOKUP(A996&B996,'Standard output'!A:D,4,0)","v":{"$error":"#N/A"}},{"$f":"INDEX(Orders!A:D,ROW()+1,FindCol(\"orders\",2,TimeBucketName))/$C996","v":{"$error":"#N/A"}}]
[{"$f":"Orders!A998","v":0},{"$f":"VLOOKUP(A997,'Product-tool'!A:E,5,0)","v":{"$error":"#N/A"}},{"$f":"VLOOKUP(A997&B997,'Standard output'!A:D,4,0)","v":{"$error":"#N/A"}},{"$f":"INDEX(Orders!A:D,ROW()+1,FindCol(\"orders\",2,TimeBucketName))/$C997","v":{"$error":"#N/A"}}]
[{"$f":"Orders!A999","v":0},{"$f":"VLOOKUP(A998,'Product-tool'!A:E,5,0)","v":{"$error":"#N/A"}},{"$f":"VLOOKUP(A998&B998,'Standard output'!A:D,4,0)","v":{"$error":"#N/A"}},{"$f":"INDEX(Orders!A:D,ROW()+1,FindCol(\"orders\",2,TimeBucketName))/$C998","v":{"$error":"#N/A"}}]
[{"$f":"Orders!A1000","v":0},{"$f":"VLOOKUP(A999,'Product-tool'!A:E,5,0)","v":{"$error":"#N/A"}},{"$f":"VLOOKUP(A999&B999,'Standard output'!A:D,4,0)","v":{"$error":"#N/A"}},{"$f":"INDEX(Orders!A:D,ROW()+1,FindCol(\"orders\",2,TimeBucketName))/$C999","v":{"$error":"#N/A"}}]
[{"$f":"Orders!A1001","v":0},{"$f":"VLOOKUP(A1000,'Product-tool'!A:E,5,0)","v":{"$error":"#N/A"}},{"$f":"VLOOKUP(A1000&B1000,'Standard output'!A:D,4,0)","v":{"$error":"#N/A"}},{"$f":"INDEX(Orders!A:D,ROW()+1,FindCol(\"orders\",2,TimeBucketName))/$C1000","v":{"$error":"#N/A"}}]
[{"$f":"Orders!A1002","v":0},{"$f":"VLOOKUP(A1001,'Product-tool'!A:E,5,0)","v":{"$error":"#N/A"}},{"$f":"VLOOKUP(A1001&B1001,'Standard output'!A:D,4,0)","v":{"$error":"#N/A"}},{"$f":"INDEX(Orders!A:D,ROW()+1,FindCol(\"orders\",2,TimeBucketName))/$C1001","v":{"$error":"#N/A"}}]
[{"$f":"Orders!A1003","v":0},{"$f":"VLOOKUP(A1002,'Product-tool'!A:E,5,0)","v":{"$error":"#N/A"}},{"$f":"VLOOKUP(A1002&B1002,'Standard output'!A:D,4,0)","v":{"$error":"#N/A"}},{"$f":"INDEX(Orders!A:D,ROW()+1,FindCol(\"orders\",2,TimeBucketName))/$C1002","v":{"$error":"#N/A"}}]
[{"$f":"Orders!A1004","v":0},{"$f":"VLOOKUP(A1003,'Product-tool'!A:E,5,0)","v":{"$error":"#N/A"}},{"$f":"VLOOKUP(A1003&B1003,'Standard output'!A:D,4,0)","v":{"$error":"#N/A"}},{"$f":"INDEX(Orders!A:D,ROW()+1,FindCol(\"orders\",2,TimeBucketName))/$C1003","v":{"$error":"#N/A"}}]
[{"$f":"Orders!A1005","v":0},{"$f":"VLOOKUP(A1004,'Product-tool'!A:E,5,0)","v":{"$error":"#N/A"}},{"$f":"VLOOKUP(A1004&B1004,'Standard output'!A:D,4,0)","v":{"$error":"#N/A"}},{"$f":"INDEX(Orders!A:D,ROW()+1,FindCol(\"orders\",2,TimeBucketName))/$C1004","v":{"$error":"#N/A"}}]
[{"$f":"Orders!A1006","v":0},{"$f":"VLOOKUP(A1005,'Product-tool'!A:E,5,0)","v":{"$error":"#N/A"}},{"$f":"VLOOKUP(A1005&B1005,'Standard output'!A:D,4,0)","v":{"$error":"#N/A"}},{"$f":"INDEX(Orders!A:D,ROW()+1,FindCol(\"orders\",2,TimeBucketName))/$C1005","v":{"$error":"#N/A"}}]
[{"$f":"Orders!A1007","v":0},{"$f":"VLOOKUP(A1006,'Product-tool'!A:E,5,0)","v":{"$error":"#N/A"}},{"$f":"VLOOKUP(A1006&B1006,'Standard output'!A:D,4,0)","v":{"$error":"#N/A"}},{"$f":"INDEX(Orders!A:D,ROW()+1,FindCol(\"orders\",2,TimeBucketName))/$C1006","v":{"$error":"#N/A"}}]
[{"$f":"Orders!A1008","v":0},{"$f":"VLOOKUP(A1007,'Product-tool'!A:E,5,0)","v":{"$error":"#N/A"}},{"$f":"VLOOKUP(A1007&B1007,'Standard output'!A:D,4,0)","v":{"$error":"#N/A"}},{"$f":"INDEX(Orders!A:D,ROW()+1,FindCol(\"orders\",2,TimeBucketName))/$C1007","v":{"$error":"#N/A"}}]
[{"$f":"Orders!A1009","v":0},{"$f":"VLOOKUP(A1008,'Product-tool'!A:E,5,0)","v":{"$error":"#N/A"}},{"$f":"VLOOKUP(A1008&B1008,'Standard output'!A:D,4,0)","v":{"$error":"#N/A"}},{"$f":"INDEX(Orders!A:D,ROW()+1,FindCol(\"orders\",2,TimeBucketName))/$C1008","v":{"$error":"#N/A"}}]
[{"$f":"Orders!A1010","v":0},{"$f":"VLOOKUP(A1009,'Product-tool'!A:E,5,0)","v":{"$error":"#N/A"}},{"$f":"VLOOKUP(A1009&B1009,'Standard output'!A:D,4,0)","v":{"$error":"#N/A"}},{"$f":"INDEX(Orders!A:D,ROW()+1,FindCol(\"orders\",2,TimeBucketName))/$C1009","v":{"$error":"#N/A"}}]
[{"$f":"Orders!A1011","v":0},{"$f":"VLOOKUP(A1010,'Product-tool'!A:E,5,0)","v":{"$error":"#N/A"}},{"$f":"VLOOKUP(A1010&B1010,'Standard output'!A:D,4,0)","v":{"$error":"#N/A"}},{"$f":"INDEX(Orders!A:D,ROW()+1,FindCol(\"orders\",2,TimeBucketName))/$C1010","v":{"$error":"#N/A"}}]
[{"$f":"Orders!A1012","v":0},{"$f":"VLOOKUP(A1011,'Product-tool'!A:E,5,0)","v":{"$error":"#N/A"}},{"$f":"VLOOKUP(A1011&B1011,'Standard output'!A:D,4,0)","v":{"$error":"#N/A"}},{"$f":"INDEX(Orders!A:D,ROW()+1,FindCol(\"orders\",2,TimeBucketName))/$C1011","v":{"$error":"#N/A"}}]
[{"$f":"Orders!A1013","v":0},{"$f":"VLOOKUP(A1012,'Product-tool'!A:E,5,0)","v":{"$error":"#N/A"}},{"$f":"VLOOKUP(A1012&B1012,'Standard output'!A:D,4,0)","v":{"$error":"#N/A"}},{"$f":"INDEX(Orders!A:D,ROW()+1,FindCol(\"orders\",2,TimeBucketName))/$C1012","v":{"$error":"#N/A"}}]
[{"$f":"Orders!A1014","v":0},{"$f":"VLOOKUP(A1013,'Product-tool'!A:E,5,0)","v":{"$error":"#N/A"}},{"$f":"VLOOKUP(A1013&B1013,'Standard output'!A:D,4,0)","v":{"$error":"#N/A"}},{"$f":"INDEX(Orders!A:D,ROW()+1,FindCol(\"orders\",2,TimeBucketName))/$C1013","v":{"$error":"#N/A"}}]
[{"$f":"Orders!A1015","v":0},{"$f":"VLOOKUP(A1014,'Product-tool'!A:E,5,0)","v":{"$error":"#N/A"}},{"$f":"VLOOKUP(A1014&B1014,'Standard output'!A:D,4,0)","v":{"$error":"#N/A"}},{"$f":"INDEX(Orders!A:D,ROW()+1,FindCol(\"orders\",2,TimeBucketName))/$C1014","v":{"$error":"#N/A"}}]
[{"$f":"Orders!A1016","v":0},{"$f":"VLOOKUP(A1015,'Product-tool'!A:E,5,0)","v":{"$error":"#N/A"}},{"$f":"VLOOKUP(A1015&B1015,'Standard output'!A:D,4,0)","v":{"$error":"#N/A"}},{"$f":"INDEX(Orders!A:D,ROW()+1,FindCol(\"orders\",2,TimeBucketName))/$C1015","v":{"$error":"#N/A"}}]
[{"$f":"Orders!A1017","v":0},{"$f":"VLOOKUP(A1016,'Product-tool'!A:E,5,0)","v":{"$error":"#N/A"}},{"$f":"VLOOKUP(A1016&B1016,'Standard output'!A:D,4,0)","v":{"$error":"#N/A"}},{"$f":"INDEX(Orders!A:D,ROW()+1,FindCol(\"orders\",2,TimeBucketName))/$C1016","v":{"$error":"#N/A"}}]
[{"$f":"Orders!A1018","v":0},{"$f":"VLOOKUP(A1017,'Product-tool'!A:E,5,0)","v":{"$error":"#N/A"}},{"$f":"VLOOKUP(A1017&B1017,'Standard output'!A:D,4,0)","v":{"$error":"#N/A"}},{"$f":"INDEX(Orders!A:D,ROW()+1,FindCol(\"orders\",2,TimeBucketName))/$C1017","v":{"$error":"#N/A"}}]
[{"$f":"Orders!A1019","v":0},{"$f":"VLOOKUP(A1018,'Product-tool'!A:E,5,0)","v":{"$error":"#N/A"}},{"$f":"VLOOKUP(A1018&B1018,'Standard output'!A:D,4,0)","v":{"$error":"#N/A"}},{"$f":"INDEX(Orders!A:D,ROW()+1,FindCol(\"orders\",2,TimeBucketName))/$C1018","v":{"$error":"#N/A"}}]
[{"$f":"Orders!A1020","v":0},{"$f":"VLOOKUP(A1019,'Product-tool'!A:E,5,0)","v":{"$error":"#N/A"}},{"$f":"VLOOKUP(A1019&B1019,'Standard output'!A:D,4,0)","v":{"$error":"#N/A"}},{"$f":"INDEX(Orders!A:D,ROW()+1,FindCol(\"orders\",2,TimeBucketName))/$C1019","v":{"$error":"#N/A"}}]
[{"$f":"Orders!A1021","v":0},{"$f":"VLOOKUP(A1020,'Product-tool'!A:E,5,0)","v":{"$error":"#N/A"}},{"$f":"VLOOKUP(A1020&B1020,'Standard output'!A:D,4,0)","v":{"$error":"#N/A"}},{"$f":"INDEX(Orders!A:D,ROW()+1,FindCol(\"orders\",2,TimeBucketName))/$C1020","v":{"$error":"#N/A"}}]
[{"$f":"Orders!A1022","v":0},{"$f":"VLOOKUP(A1021,'Product-tool'!A:E,5,0)","v":{"$error":"#N/A"}},{"$f":"VLOOKUP(A1021&B1021,'Standard output'!A:D,4,0)","v":{"$error":"#N/A"}},{"$f":"INDEX(Orders!A:D,ROW()+1,FindCol(\"orders\",2,TimeBucketName))/$C1021","v":{"$error":"#N/A"}}]
[{"$f":"Orders!A1023","v":0},{"$f":"VLOOKUP(A1022,'Product-tool'!A:E,5,0)","v":{"$error":"#N/A"}},{"$f":"VLOOKUP(A1022&B1022,'Standard output'!A:D,4,0)","v":{"$error":"#N/A"}},{"$f":"INDEX(Orders!A:D,ROW()+1,FindCol(\"orders\",2,TimeBucketName))/$C1022","v":{"$error":"#N/A"}}]
[{"$f":"Orders!A1024","v":0},{"$f":"VLOOKUP(A1023,'Product-tool'!A:E,5,0)","v":{"$error":"#N/A"}},{"$f":"VLOOKUP(A1023&B1023,'Standard output'!A:D,4,0)","v":{"$error":"#N/A"}},{"$f":"INDEX(Orders!A:D,ROW()+1,FindCol(\"orders\",2,TimeBucketName))/$C1023","v":{"$error":"#N/A"}}]
[{"$f":"Orders!A1025","v":0},{"$f":"VLOOKUP(A1024,'Product-tool'!A:E,5,0)","v":{"$error":"#N/A"}},{"$f":"VLOOKUP(A1024&B1024,'Standard output'!A:D,4,0)","v":{"$error":"#N/A"}},{"$f":"INDEX(Orders!A:D,ROW()+1,FindCol(\"orders\",2,TimeBucketName))/$C1024","v":{"$error":"#N/A"}}]
[{"$f":"Orders!A1026","v":0},{"$f":"VLOOKUP(A1025,'Product-tool'!A:E,5,0)","v":{"$error":"#N/A"}},{"$f":"VLOOKUP(A1025&B1025,'Standard output'!A:D,4,0)","v":{"$error":"#N/A"}},{"$f":"INDEX(Orders!A:D,ROW()+1,FindCol(\"orders\",2,TimeBucketName))/$C1025","v":{"$error":"#N/A"}}]
[{"$f":"Orders!A1027","v":0},{"$f":"VLOOKUP(A1026,'Product-tool'!A:E,5,0)","v":{"$error":"#N/A"}},{"$f":"VLOOKUP(A1026&B1026,'Standard output'!A:D,4,0)","v":{"$error":"#N/A"}},{"$f":"INDEX(Orders!A:D,ROW()+1,FindCol(\"orders\",2,TimeBucketName))/$C1026","v":{"$error":"#N/A"}}]
[{"$f":"Orders!A1028","v":0},{"$f":"VLOOKUP(A1027,'Product-tool'!A:E,5,0)","v":{"$error":"#N/A"}},{"$f":"VLOOKUP(A1027&B1027,'Standard output'!A:D,4,0)","v":{"$error":"#N/A"}},{"$f":"INDEX(Orders!A:D,ROW()+1,FindCol(\"orders\",2,TimeBucketName))/$C1027","v":{"$error":"#N/A"}}]
[{"$f":"Orders!A1029","v":0},{"$f":"VLOOKUP(A1028,'Product-tool'!A:E,5,0)","v":{"$error":"#N/A"}},{"$f":"VLOOKUP(A1028&B1028,'Standard output'!A:D,4,0)","v":{"$error":"#N/A"}},{"$f":"INDEX(Orders!A:D,ROW()+1,FindCol(\"orders\",2,TimeBucketName))/$C1028","v":{"$error":"#N/A"}}]
[{"$f":"Orders!A1030","v":0},{"$f":"VLOOKUP(A1029,'Product-tool'!A:E,5,0)","v":{"$error":"#N/A"}},{"$f":"VLOOKUP(A1029&B1029,'Standard output'!A:D,4,0)","v":{"$error":"#N/A"}},{"$f":"INDEX(Orders!A:D,ROW()+1,FindCol(\"orders\",2,TimeBucketName))/$C1029","v":{"$error":"#N/A"}}]
[{"$f":"Orders!A1031","v":0},{"$f":"VLOOKUP(A1030,'Product-tool'!A:E,5,0)","v":{"$error":"#N/A"}},{"$f":"VLOOKUP(A1030&B1030,'Standard output'!A:D,4,0)","v":{"$error":"#N/A"}},{"$f":"INDEX(Orders!A:D,ROW()+1,FindCol(\"orders\",2,TimeBucketName))/$C1030","v":{"$error":"#N/A"}}]
[{"$f":"Orders!A1032","v":0},{"$f":"VLOOKUP(A1031,'Product-tool'!A:E,5,0)","v":{"$error":"#N/A"}},{"$f":"VLOOKUP(A1031&B1031,'Standard output'!A:D,4,0)","v":{"$error":"#N/A"}},{"$f":"INDEX(Orders!A:D,ROW()+1,FindCol(\"orders\",2,TimeBucketName))/$C1031","v":{"$error":"#N/A"}}]
[{"$f":"Orders!A1033","v":0},{"$f":"VLOOKUP(A1032,'Product-tool'!A:E,5,0)","v":{"$error":"#N/A"}},{"$f":"VLOOKUP(A1032&B1032,'Standard output'!A:D,4,0)","v":{"$error":"#N/A"}},{"$f":"INDEX(Orders!A:D,ROW()+1,FindCol(\"orders\",2,TimeBucketName))/$C1032","v":{"$error":"#N/A"}}]
[{"$f":"Orders!A1034","v":0},{"$f":"VLOOKUP(A1033,'Product-tool'!A:E,5,0)","v":{"$error":"#N/A"}},{"$f":"VLOOKUP(A1033&B1033,'Standard output'!A:D,4,0)","v":{"$error":"#N/A"}},{"$f":"INDEX(Orders!A:D,ROW()+1,FindCol(\"orders\",2,TimeBucketName))/$C1033","v":{"$error":"#N/A"}}]
[{"$f":"Orders!A1035","v":0},{"$f":"VLOOKUP(A1034,'Product-tool'!A:E,5,0)","v":{"$error":"#N/A"}},{"$f":"VLOOKUP(A1034&B1034,'Standard output'!A:D,4,0)","v":{"$error":"#N/A"}},{"$f":"INDEX(Orders!A:D,ROW()+1,FindCol(\"orders\",2,TimeBucketName))/$C1034","v":{"$error":"#N/A"}}]
[{"$f":"Orders!A1036","v":0},{"$f":"VLOOKUP(A1035,'Product-tool'!A:E,5,0)","v":{"$error":"#N/A"}},{"$f":"VLOOKUP(A1035&B1035,'Standard output'!A:D,4,0)","v":{"$error":"#N/A"}},{"$f":"INDEX(Orders!A:D,ROW()+1,FindCol(\"orders\",2,TimeBucketName))/$C1035","v":{"$error":"#N/A"}}]
[{"$f":"Orders!A1037","v":0},{"$f":"VLOOKUP(A1036,'Product-tool'!A:E,5,0)","v":{"$error":"#N/A"}},{"$f":"VLOOKUP(A1036&B1036,'Standard output'!A:D,4,0)","v":{"$error":"#N/A"}},{"$f":"INDEX(Orders!A:D,ROW()+1,FindCol(\"orders\",2,TimeBucketName))/$C1036","v":{"$error":"#N/A"}}]
[{"$f":"Orders!A1038","v":0},{"$f":"VLOOKUP(A1037,'Product-tool'!A:E,5,0)","v":{"$error":"#N/A"}},{"$f":"VLOOKUP(A1037&B1037,'Standard output'!A:D,4,0)","v":{"$error":"#N/A"}},{"$f":"INDEX(Orders!A:D,ROW()+1,FindCol(\"orders\",2,TimeBucketName))/$C1037","v":{"$error":"#N/A"}}]
[{"$f":"Orders!A1039","v":0},{"$f":"VLOOKUP(A1038,'Product-tool'!A:E,5,0)","v":{"$error":"#N/A"}},{"$f":"VLOOKUP(A1038&B1038,'Standard output'!A:D,4,0)","v":{"$error":"#N/A"}},{"$f":"INDEX(Orders!A:D,ROW()+1,FindCol(\"orders\",2,TimeBucketName))/$C1038","v":{"$error":"#N/A"}}]
[{"$f":"Orders!A1040","v":0},{"$f":"VLOOKUP(A1039,'Product-tool'!A:E,5,0)","v":{"$error":"#N/A"}},{"$f":"VLOOKUP(A1039&B1039,'Standard output'!A:D,4,0)","v":{"$error":"#N/A"}},{"$f":"INDEX(Orders!A:D,ROW()+1,FindCol(\"orders\",2,TimeBucketName))/$C1039","v":{"$error":"#N/A"}}]
[{"$f":"Orders!A1041","v":0},{"$f":"VLOOKUP(A1040,'Product-tool'!A:E,5,0)","v":{"$error":"#N/A"}},{"$f":"VLOOKUP(A1040&B1040,'Standard output'!A:D,4,0)","v":{"$error":"#N/A"}},{"$f":"INDEX(Orders!A:D,ROW()+1,FindCol(\"orders\",2,TimeBucketName))/$C1040","v":{"$error":"#N/A"}}]
[{"$f":"Orders!A1042","v":0},{"$f":"VLOOKUP(A1041,'Product-tool'!A:E,5,0)","v":{"$error":"#N/A"}},{"$f":"VLOOKUP(A1041&B1041,'Standard output'!A:D,4,0)","v":{"$error":"#N/A"}},{"$f":"INDEX(Orders!A:D,ROW()+1,FindCol(\"orders\",2,TimeBucketName))/$C1041","v":{"$error":"#N/A"}}]
[{"$f":"Orders!A1043","v":0},{"$f":"VLOOKUP(A1042,'Product-tool'!A:E,5,0)","v":{"$error":"#N/A"}},{"$f":"VLOOKUP(A1042&B1042,'Standard output'!A:D,4,0)","v":{"$error":"#N/A"}},{"$f":"INDEX(Orders!A:D,ROW()+1,FindCol(\"orders\",2,TimeBucketName))/$C1042","v":{"$error":"#N/A"}}]
[{"$f":"Orders!A1044","v":0},{"$f":"VLOOKUP(A1043,'Product-tool'!A:E,5,0)","v":{"$error":"#N/A"}},{"$f":"VLOOKUP(A1043&B1043,'Standard output'!A:D,4,0)","v":{"$error":"#N/A"}},{"$f":"INDEX(Orders!A:D,ROW()+1,FindCol(\"orders\",2,TimeBucketName))/$C1043","v":{"$error":"#N/A"}}]
[{"$f":"Orders!A1045","v":0},{"$f":"VLOOKUP(A1044,'Product-tool'!A:E,5,0)","v":{"$error":"#N/A"}},{"$f":"VLOOKUP(A1044&B1044,'Standard output'!A:D,4,0)","v":{"$error":"#N/A"}},{"$f":"INDEX(Orders!A:D,ROW()+1,FindCol(\"orders\",2,TimeBucketName))/$C1044","v":{"$error":"#N/A"}}]
[{"$f":"Orders!A1046","v":0},{"$f":"VLOOKUP(A1045,'Product-tool'!A:E,5,0)","v":{"$error":"#N/A"}},{"$f":"VLOOKUP(A1045&B1045,'Standard output'!A:D,4,0)","v":{"$error":"#N/A"}},{"$f":"INDEX(Orders!A:D,ROW()+1,FindCol(\"orders\",2,TimeBucketName))/$C1045","v":{"$error":"#N/A"}}]
[{"$f":"Orders!A1047","v":0},{"$f":"VLOOKUP(A1046,'Product-tool'!A:E,5,0)","v":{"$error":"#N/A"}},{"$f":"VLOOKUP(A1046&B1046,'Standard output'!A:D,4,0)","v":{"$error":"#N/A"}},{"$f":"INDEX(Orders!A:D,ROW()+1,FindCol(\"orders\",2,TimeBucketName))/$C1046","v":{"$error":"#N/A"}}]
[{"$f":"Orders!A1048","v":0},{"$f":"VLOOKUP(A1047,'Product-tool'!A:E,5,0)","v":{"$error":"#N/A"}},{"$f":"VLOOKUP(A1047&B1047,'Standard output'!A:D,4,0)","v":{"$error":"#N/A"}},{"$f":"INDEX(Orders!A:D,ROW()+1,FindCol(\"orders\",2,TimeBucketName))/$C1047","v":{"$error":"#N/A"}}]
[{"$f":"Orders!A1049","v":0},{"$f":"VLOOKUP(A1048,'Product-tool'!A:E,5,0)","v":{"$error":"#N/A"}},{"$f":"VLOOKUP(A1048&B1048,'Standard output'!A:D,4,0)","v":{"$error":"#N/A"}},{"$f":"INDEX(Orders!A:D,ROW()+1,FindCol(\"orders\",2,TimeBucketName))/$C1048","v":{"$error":"#N/A"}}]
[{"$f":"Orders!A1050","v":0},{"$f":"VLOOKUP(A1049,'Product-tool'!A:E,5,0)","v":{"$error":"#N/A"}},{"$f":"VLOOKUP(A1049&B1049,'Standard output'!A:D,4,0)","v":{"$error":"#N/A"}},{"$f":"INDEX(Orders!A:D,ROW()+1,FindCol(\"orders\",2,TimeBucketName))/$C1049","v":{"$error":"#N/A"}}]
[{"$f":"Orders!A1051","v":0},{"$f":"VLOOKUP(A1050,'Product-tool'!A:E,5,0)","v":{"$error":"#N/A"}},{"$f":"VLOOKUP(A1050&B1050,'Standard output'!A:D,4,0)","v":{"$error":"#N/A"}},{"$f":"INDEX(Orders!A:D,ROW()+1,FindCol(\"orders\",2,TimeBucketName))/$C1050","v":{"$error":"#N/A"}}]
[{"$f":"Orders!A1052","v":0},{"$f":"VLOOKUP(A1051,'Product-tool'!A:E,5,0)","v":{"$error":"#N/A"}},{"$f":"VLOOKUP(A1051&B1051,'Standard output'!A:D,4,0)","v":{"$error":"#N/A"}},{"$f":"INDEX(Orders!A:D,ROW()+1,FindCol(\"orders\",2,TimeBucketName))/$C1051","v":{"$error":"#N/A"}}]
[{"$f":"Orders!A1053","v":0},{"$f":"VLOOKUP(A1052,'Product-tool'!A:E,5,0)","v":{"$error":"#N/A"}},{"$f":"VLOOKUP(A1052&B1052,'Standard output'!A:D,4,0)","v":{"$error":"#N/A"}},{"$f":"INDEX(Orders!A:D,ROW()+1,FindCol(\"orders\",2,TimeBucketName))/$C1052","v":{"$error":"#N/A"}}]
[{"$f":"Orders!A1054","v":0},{"$f":"VLOOKUP(A1053,'Product-tool'!A:E,5,0)","v":{"$error":"#N/A"}},{"$f":"VLOOKUP(A1053&B1053,'Standard output'!A:D,4,0)","v":{"$error":"#N/A"}},{"$f":"INDEX(Orders!A:D,ROW()+1,FindCol(\"orders\",2,TimeBucketName))/$C1053","v":{"$error":"#N/A"}}]
[{"$f":"Orders!A1055","v":0},{"$f":"VLOOKUP(A1054,'Product-tool'!A:E,5,0)","v":{"$error":"#N/A"}},{"$f":"VLOOKUP(A1054&B1054,'Standard output'!A:D,4,0)","v":{"$error":"#N/A"}},{"$f":"INDEX(Orders!A:D,ROW()+1,FindCol(\"orders\",2,TimeBucketName))/$C1054","v":{"$error":"#N/A"}}]
[{"$f":"Orders!A1056","v":0},{"$f":"VLOOKUP(A1055,'Product-tool'!A:E,5,0)","v":{"$error":"#N/A"}},{"$f":"VLOOKUP(A1055&B1055,'Standard output'!A:D,4,0)","v":{"$error":"#N/A"}},{"$f":"INDEX(Orders!A:D,ROW()+1,FindCol(\"orders\",2,TimeBucketName))/$C1055","v":{"$error":"#N/A"}}]
[{"$f":"Orders!A1057","v":0},{"$f":"VLOOKUP(A1056,'Product-tool'!A:E,5,0)","v":{"$error":"#N/A"}},{"$f":"VLOOKUP(A1056&B1056,'Standard output'!A:D,4,0)","v":{"$error":"#N/A"}},{"$f":"INDEX(Orders!A:D,ROW()+1,FindCol(\"orders\",2,TimeBucketName))/$C1056","v":{"$error":"#N/A"}}]
[{"$f":"Orders!A1058","v":0},{"$f":"VLOOKUP(A1057,'Product-tool'!A:E,5,0)","v":{"$error":"#N/A"}},{"$f":"VLOOKUP(A1057&B1057,'Standard output'!A:D,4,0)","v":{"$error":"#N/A"}},{"$f":"INDEX(Orders!A:D,ROW()+1,FindCol(\"orders\",2,TimeBucketName))/$C1057","v":{"$error":"#N/A"}}]
[{"$f":"Orders!A1059","v":0},{"$f":"VLOOKUP(A1058,'Product-tool'!A:E,5,0)","v":{"$error":"#N/A"}},{"$f":"VLOOKUP(A1058&B1058,'Standard output'!A:D,4,0)","v":{"$error":"#N/A"}},{"$f":"INDEX(Orders!A:D,ROW()+1,FindCol(\"orders\",2,TimeBucketName))/$C1058","v":{"$error":"#N/A"}}]
[{"$f":"Orders!A1060","v":0},{"$f":"VLOOKUP(A1059,'Product-tool'!A:E,5,0)","v":{"$error":"#N/A"}},{"$f":"VLOOKUP(A1059&B1059,'Standard output'!A:D,4,0)","v":{"$error":"#N/A"}},{"$f":"INDEX(Orders!A:D,ROW()+1,FindCol(\"orders\",2,TimeBucketName))/$C1059","v":{"$error":"#N/A"}}]
[{"$f":"Orders!A1061","v":0},{"$f":"VLOOKUP(A1060,'Product-tool'!A:E,5,0)","v":{"$error":"#N/A"}},{"$f":"VLOOKUP(A1060&B1060,'Standard output'!A:D,4,0)","v":{"$error":"#N/A"}},{"$f":"INDEX(Orders!A:D,ROW()+1,FindCol(\"orders\",2,TimeBucketName))/$C1060","v":{"$error":"#N/A"}}]
[{"$f":"Orders!A1062","v":0},{"$f":"VLOOKUP(A1061,'Product-tool'!A:E,5,0)","v":{"$error":"#N/A"}},{"$f":"VLOOKUP(A1061&B1061,'Standard output'!A:D,4,0)","v":{"$error":"#N/A"}},{"$f":"INDEX(Orders!A:D,ROW()+1,FindCol(\"orders\",2,TimeBucketName))/$C1061","v":{"$error":"#N/A"}}]
[{"$f":"Orders!A1063","v":0},{"$f":"VLOOKUP(A1062,'Product-tool'!A:E,5,0)","v":{"$error":"#N/A"}},{"$f":"VLOOKUP(A1062&B1062,'Standard output'!A:D,4,0)","v":{"$error":"#N/A"}},{"$f":"INDEX(Orders!A:D,ROW()+1,FindCol(\"orders\",2,TimeBucketName))/$C1062","v":{"$error":"#N/A"}}]
[{"$f":"Orders!A1064","v":0},{"$f":"VLOOKUP(A1063,'Product-tool'!A:E,5,0)","v":{"$error":"#N/A"}},{"$f":"VLOOKUP(A1063&B1063,'Standard output'!A:D,4,0)","v":{"$error":"#N/A"}},{"$f":"INDEX(Orders!A:D,ROW()+1,FindCol(\"orders\",2,TimeBucketName))/$C1063","v":{"$error":"#N/A"}}]
[{"$f":"Orders!A1065","v":0},{"$f":"VLOOKUP(A1064,'Product-tool'!A:E,5,0)","v":{"$error":"#N/A"}},{"$f":"VLOOKUP(A1064&B1064,'Standard output'!A:D,4,0)","v":{"$error":"#N/A"}},{"$f":"INDEX(Orders!A:D,ROW()+1,FindCol(\"orders\",2,TimeBucketName))/$C1064","v":{"$error":"#N/A"}}]
[{"$f":"Orders!A1066","v":0},{"$f":"VLOOKUP(A1065,'Product-tool'!A:E,5,0)","v":{"$error":"#N/A"}},{"$f":"VLOOKUP(A1065&B1065,'Standard output'!A:D,4,0)","v":{"$error":"#N/A"}},{"$f":"INDEX(Orders!A:D,ROW()+1,FindCol(\"orders\",2,TimeBucketName))/$C1065","v":{"$error":"#N/A"}}]
[{"$f":"Orders!A1067","v":0},{"$f":"VLOOKUP(A1066,'Product-tool'!A:E,5,0)","v":{"$error":"#N/A"}},{"$f":"VLOOKUP(A1066&B1066,'Standard output'!A:D,4,0)","v":{"$error":"#N/A"}},{"$f":"INDEX(Orders!A:D,ROW()+1,FindCol(\"orders\",2,TimeBucketName))/$C1066","v":{"$error":"#N/A"}}]
[{"$f":"Orders!A1068","v":0},{"$f":"VLOOKUP(A1067,'Product-tool'!A:E,5,0)","v":{"$error":"#N/A"}},{"$f":"VLOOKUP(A1067&B1067,'Standard output'!A:D,4,0)","v":{"$error":"#N/A"}},{"$f":"INDEX(Orders!A:D,ROW()+1,FindCol(\"orders\",2,TimeBucketName))/$C1067","v":{"$error":"#N/A"}}]
[{"$f":"Orders!A1069","v":0},{"$f":"VLOOKUP(A1068,'Product-tool'!A:E,5,0)","v":{"$error":"#N/A"}},{"$f":"VLOOKUP(A1068&B1068,'Standard output'!A:D,4,0)","v":{"$error":"#N/A"}},{"$f":"INDEX(Orders!A:D,ROW()+1,FindCol(\"orders\",2,TimeBucketName))/$C1068","v":{"$error":"#N/A"}}]
[{"$f":"Orders!A1070","v":0},{"$f":"VLOOKUP(A1069,'Product-tool'!A:E,5,0)","v":{"$error":"#N/A"}},{"$f":"VLOOKUP(A1069&B1069,'Standard output'!A:D,4,0)","v":{"$error":"#N/A"}},{"$f":"INDEX(Orders!A:D,ROW()+1,FindCol(\"orders\",2,TimeBucketName))/$C1069","v":{"$error":"#N/A"}}]
[{"$f":"Orders!A1071","v":0},{"$f":"VLOOKUP(A1070,'Product-tool'!A:E,5,0)","v":{"$error":"#N/A"}},{"$f":"VLOOKUP(A1070&B1070,'Standard output'!A:D,4,0)","v":{"$error":"#N/A"}},{"$f":"INDEX(Orders!A:D,ROW()+1,FindCol(\"orders\",2,TimeBucketName))/$C1070","v":{"$error":"#N/A"}}]
[{"$f":"Orders!A1072","v":0},{"$f":"VLOOKUP(A1071,'Product-tool'!A:E,5,0)","v":{"$error":"#N/A"}},{"$f":"VLOOKUP(A1071&B1071,'Standard output'!A:D,4,0)","v":{"$error":"#N/A"}},{"$f":"INDEX(Orders!A:D,ROW()+1,FindCol(\"orders\",2,TimeBucketName))/$C1071","v":{"$error":"#N/A"}}]
[{"$f":"Orders!A1073","v":0},{"$f":"VLOOKUP(A1072,'Product-tool'!A:E,5,0)","v":{"$error":"#N/A"}},{"$f":"VLOOKUP(A1072&B1072,'Standard output'!A:D,4,0)","v":{"$error":"#N/A"}},{"$f":"INDEX(Orders!A:D,ROW()+1,FindCol(\"orders\",2,TimeBucketName))/$C1072","v":{"$error":"#N/A"}}]
[{"$f":"Orders!A1074","v":0},{"$f":"VLOOKUP(A1073,'Product-tool'!A:E,5,0)","v":{"$error":"#N/A"}},{"$f":"VLOOKUP(A1073&B1073,'Standard output'!A:D,4,0)","v":{"$error":"#N/A"}},{"$f":"INDEX(Orders!A:D,ROW()+1,FindCol(\"orders\",2,TimeBucketName))/$C1073","v":{"$error":"#N/A"}}]
[{"$f":"Orders!A1075","v":0},{"$f":"VLOOKUP(A1074,'Product-tool'!A:E,5,0)","v":{"$error":"#N/A"}},{"$f":"VLOOKUP(A1074&B1074,'Standard output'!A:D,4,0)","v":{"$error":"#N/A"}},{"$f":"INDEX(Orders!A:D,ROW()+1,FindCol(\"orders\",2,TimeBucketName))/$C1074","v":{"$error":"#N/A"}}]
[{"$f":"Orders!A1076","v":0},{"$f":"VLOOKUP(A1075,'Product-tool'!A:E,5,0)","v":{"$error":"#N/A"}},{"$f":"VLOOKUP(A1075&B1075,'Standard output'!A:D,4,0)","v":{"$error":"#N/A"}},{"$f":"INDEX(Orders!A:D,ROW()+1,FindCol(\"orders\",2,TimeBucketName))/$C1075","v":{"$error":"#N/A"}}]
[{"$f":"Orders!A1077","v":0},{"$f":"VLOOKUP(A1076,'Product-tool'!A:E,5,0)","v":{"$error":"#N/A"}},{"$f":"VLOOKUP(A1076&B1076,'Standard output'!A:D,4,0)","v":{"$error":"#N/A"}},{"$f":"INDEX(Orders!A:D,ROW()+1,FindCol(\"orders\",2,TimeBucketName))/$C1076","v":{"$error":"#N/A"}}]
[{"$f":"Orders!A1078","v":0},{"$f":"VLOOKUP(A1077,'Product-tool'!A:E,5,0)","v":{"$error":"#N/A"}},{"$f":"VLOOKUP(A1077&B1077,'Standard output'!A:D,4,0)","v":{"$error":"#N/A"}},{"$f":"INDEX(Orders!A:D,ROW()+1,FindCol(\"orders\",2,TimeBucketName))/$C1077","v":{"$error":"#N/A"}}]
[{"$f":"Orders!A1079","v":0},{"$f":"VLOOKUP(A1078,'Product-tool'!A:E,5,0)","v":{"$error":"#N/A"}},{"$f":"VLOOKUP(A1078&B1078,'Standard output'!A:D,4,0)","v":{"$error":"#N/A"}},{"$f":"INDEX(Orders!A:D,ROW()+1,FindCol(\"orders\",2,TimeBucketName))/$C1078","v":{"$error":"#N/A"}}]
[{"$f":"Orders!A1080","v":0},{"$f":"VLOOKUP(A1079,'Product-tool'!A:E,5,0)","v":{"$error":"#N/A"}},{"$f":"VLOOKUP(A1079&B1079,'Standard output'!A:D,4,0)","v":{"$error":"#N/A"}},{"$f":"INDEX(Orders!A:D,ROW()+1,FindCol(\"orders\",2,TimeBucketName))/$C1079","v":{"$error":"#N/A"}}]
[{"$f":"Orders!A1081","v":0},{"$f":"VLOOKUP(A1080,'Product-tool'!A:E,5,0)","v":{"$error":"#N/A"}},{"$f":"VLOOKUP(A1080&B1080,'Standard output'!A:D,4,0)","v":{"$error":"#N/A"}},{"$f":"INDEX(Orders!A:D,ROW()+1,FindCol(\"orders\",2,TimeBucketName))/$C1080","v":{"$error":"#N/A"}}]
[{"$f":"Orders!A1082","v":0},{"$f":"VLOOKUP(A1081,'Product-tool'!A:E,5,0)","v":{"$error":"#N/A"}},{"$f":"VLOOKUP(A1081&B1081,'Standard output'!A:D,4,0)","v":{"$error":"#N/A"}},{"$f":"INDEX(Orders!A:D,ROW()+1,FindCol(\"orders\",2,TimeBucketName))/$C1081","v":{"$error":"#N/A"}}]
[{"$f":"Orders!A1083","v":0},{"$f":"VLOOKUP(A1082,'Product-tool'!A:E,5,0)","v":{"$error":"#N/A"}},{"$f":"VLOOKUP(A1082&B1082,'Standard output'!A:D,4,0)","v":{"$error":"#N/A"}},{"$f":"INDEX(Orders!A:D,ROW()+1,FindCol(\"orders\",2,TimeBucketName))/$C1082","v":{"$error":"#N/A"}}]
[{"$f":"Orders!A1084","v":0},{"$f":"VLOOKUP(A1083,'Product-tool'!A:E,5,0)","v":{"$error":"#N/A"}},{"$f":"VLOOKUP(A1083&B1083,'Standard output'!A:D,4,0)","v":{"$error":"#N/A"}},{"$f":"INDEX(Orders!A:D,ROW()+1,FindCol(\"orders\",2,TimeBucketName))/$C1083","v":{"$error":"#N/A"}}]
[{"$f":"Orders!A1085","v":0},{"$f":"VLOOKUP(A1084,'Product-tool'!A:E,5,0)","v":{"$error":"#N/A"}},{"$f":"VLOOKUP(A1084&B1084,'Standard output'!A:D,4,0)","v":{"$error":"#N/A"}},{"$f":"INDEX(Orders!A:D,ROW()+1,FindCol(\"orders\",2,TimeBucketName))/$C1084","v":{"$error":"#N/A"}}]
[{"$f":"Orders!A1086","v":0},{"$f":"VLOOKUP(A1085,'Product-tool'!A:E,5,0)","v":{"$error":"#N/A"}},{"$f":"VLOOKUP(A1085&B1085,'Standard output'!A:D,4,0)","v":{"$error":"#N/A"}},{"$f":"INDEX(Orders!A:D,ROW()+1,FindCol(\"orders\",2,TimeBucketName))/$C1085","v":{"$error":"#N/A"}}]
[{"$f":"Orders!A1087","v":0},{"$f":"VLOOKUP(A1086,'Product-tool'!A:E,5,0)","v":{"$error":"#N/A"}},{"$f":"VLOOKUP(A1086&B1086,'Standard output'!A:D,4,0)","v":{"$error":"#N/A"}},{"$f":"INDEX(Orders!A:D,ROW()+1,FindCol(\"orders\",2,TimeBucketName))/$C1086","v":{"$error":"#N/A"}}]
[{"$f":"Orders!A1088","v":0},{"$f":"VLOOKUP(A1087,'Product-tool'!A:E,5,0)","v":{"$error":"#N/A"}},{"$f":"VLOOKUP(A1087&B1087,'Standard output'!A:D,4,0)","v":{"$error":"#N/A"}},{"$f":"INDEX(Orders!A:D,ROW()+1,FindCol(\"orders\",2,TimeBucketName))/$C1087","v":{"$error":"#N/A"}}]
[{"$f":"Orders!A1089","v":0},{"$f":"VLOOKUP(A1088,'Product-tool'!A:E,5,0)","v":{"$error":"#N/A"}},{"$f":"VLOOKUP(A1088&B1088,'Standard output'!A:D,4,0)","v":{"$error":"#N/A"}},{"$f":"INDEX(Orders!A:D,ROW()+1,FindCol(\"orders\",2,TimeBucketName))/$C1088","v":{"$error":"#N/A"}}]
[{"$f":"Orders!A1090","v":0},{"$f":"VLOOKUP(A1089,'Product-tool'!A:E,5,0)","v":{"$error":"#N/A"}},{"$f":"VLOOKUP(A1089&B1089,'Standard output'!A:D,4,0)","v":{"$error":"#N/A"}},{"$f":"INDEX(Orders!A:D,ROW()+1,FindCol(\"orders\",2,TimeBucketName))/$C1089","v":{"$error":"#N/A"}}]
[{"$f":"Orders!A1091","v":0},{"$f":"VLOOKUP(A1090,'Product-tool'!A:E,5,0)","v":{"$error":"#N/A"}},{"$f":"VLOOKUP(A1090&B1090,'Standard output'!A:D,4,0)","v":{"$error":"#N/A"}},{"$f":"INDEX(Orders!A:D,ROW()+1,FindCol(\"orders\",2,TimeBucketName))/$C1090","v":{"$error":"#N/A"}}]
[{"$f":"Orders!A1092","v":0},{"$f":"VLOOKUP(A1091,'Product-tool'!A:E,5,0)","v":{"$error":"#N/A"}},{"$f":"VLOOKUP(A1091&B1091,'Standard output'!A:D,4,0)","v":{"$error":"#N/A"}},{"$f":"INDEX(Orders!A:D,ROW()+1,FindCol(\"orders\",2,TimeBucketName))/$C1091","v":{"$error":"#N/A"}}]
[{"$f":"Orders!A1093","v":0},{"$f":"VLOOKUP(A1092,'Product-tool'!A:E,5,0)","v":{"$error":"#N/A"}},{"$f":"VLOOKUP(A1092&B1092,'Standard output'!A:D,4,0)","v":{"$error":"#N/A"}},{"$f":"INDEX(Orders!A:D,ROW()+1,FindCol(\"orders\",2,TimeBucketName))/$C1092","v":{"$error":"#N/A"}}]
[{"$f":"Orders!A1094","v":0},{"$f":"VLOOKUP(A1093,'Product-tool'!A:E,5,0)","v":{"$error":"#N/A"}},{"$f":"VLOOKUP(A1093&B1093,'Standard output'!A:D,4,0)","v":{"$error":"#N/A"}},{"$f":"INDEX(Orders!A:D,ROW()+1,FindCol(\"orders\",2,TimeBucketName))/$C1093","v":{"$error":"#N/A"}}]
[{"$f":"Orders!A1095","v":0},{"$f":"VLOOKUP(A1094,'Product-tool'!A:E,5,0)","v":{"$error":"#N/A"}},{"$f":"VLOOKUP(A1094&B1094,'Standard output'!A:D,4,0)","v":{"$error":"#N/A"}},{"$f":"INDEX(Orders!A:D,ROW()+1,FindCol(\"orders\",2,TimeBucketName))/$C1094","v":{"$error":"#N/A"}}]
[{"$f":"Orders!A1096","v":0},{"$f":"VLOOKUP(A1095,'Product-tool'!A:E,5,0)","v":{"$error":"#N/A"}},{"$f":"VLOOKUP(A1095&B1095,'Standard output'!A:D,4,0)","v":{"$error":"#N/A"}},{"$f":"INDEX(Orders!A:D,ROW()+1,FindCol(\"orders\",2,TimeBucketName))/$C1095","v":{"$error":"#N/A"}}]
[{"$f":"Orders!A1097","v":0},{"$f":"VLOOKUP(A1096,'Product-tool'!A:E,5,0)","v":{"$error":"#N/A"}},{"$f":"VLOOKUP(A1096&B1096,'Standard output'!A:D,4,0)","v":{"$error":"#N/A"}},{"$f":"INDEX(Orders!A:D,ROW()+1,FindCol(\"orders\",2,TimeBucketName))/$C1096","v":{"$error":"#N/A"}}]
[{"$f":"Orders!A1098","v":0},{"$f":"VLOOKUP(A1097,'Product-tool'!A:E,5,0)","v":{"$error":"#N/A"}},{"$f":"VLOOKUP(A1097&B1097,'Standard output'!A:D,4,0)","v":{"$error":"#N/A"}},{"$f":"INDEX(Orders!A:D,ROW()+1,FindCol(\"orders\",2,TimeBucketName))/$C1097","v":{"$error":"#N/A"}}]
[{"$f":"Orders!A1099","v":0},{"$f":"VLOOKUP(A1098,'Product-tool'!A:E,5,0)","v":{"$error":"#N/A"}},{"$f":"VLOOKUP(A1098&B1098,'Standard output'!A:D,4,0)","v":{"$error":"#N/A"}},{"$f":"INDEX(Orders!A:D,ROW()+1,FindCol(\"orders\",2,TimeBucketName))/$C1098","v":{"$error":"#N/A"}}]
[{"$f":"Orders!A1100","v":0},{"$f":"VLOOKUP(A1099,'Product-tool'!A:E,5,0)","v":{"$error":"#N/A"}},{"$f":"VLOOKUP(A1099&B1099,'Standard output'!A:D,4,0)","v":{"$error":"#N/A"}},{"$f":"INDEX(Orders!A:D,ROW()+1,FindCol(\"orders\",2,TimeBucketName))/$C1099","v":{"$error":"#N/A"}}]
[{"$f":"Orders!A1101","v":0},{"$f":"VLOOKUP(A1100,'Product-tool'!A:E,5,0)","v":{"$error":"#N/A"}},{"$f":"VLOOKUP(A1100&B1100,'Standard output'!A:D,4,0)","v":{"$error":"#N/A"}},{"$f":"INDEX(Orders!A:D,ROW()+1,FindCol(\"orders\",2,TimeBucketName))/$C1100","v":{"$error":"#N/A"}}]
[{"$f":"Orders!A1102","v":0},{"$f":"VLOOKUP(A1101,'Product-tool'!A:E,5,0)","v":{"$error":"#N/A"}},{"$f":"VLOOKUP(A1101&B1101,'Standard output'!A:D,4,0)","v":{"$error":"#N/A"}},{"$f":"INDEX(Orders!A:D,ROW()+1,FindCol(\"orders\",2,TimeBucketName))/$C1101","v":{"$error":"#N/A"}}]
[{"$f":"Orders!A1103","v":0},{"$f":"VLOOKUP(A1102,'Product-tool'!A:E,5,0)","v":{"$error":"#N/A"}},{"$f":"VLOOKUP(A1102&B1102,'Standard output'!A:D,4,0)","v":{"$error":"#N/A"}},{"$f":"INDEX(Orders!A:D,ROW()+1,FindCol(\"orders\",2,TimeBucketName))/$C1102","v":{"$error":"#N/A"}}]
[{"$f":"Orders!A1104","v":0},{"$f":"VLOOKUP(A1103,'Product-tool'!A:E,5,0)","v":{"$error":"#N/A"}},{"$f":"VLOOKUP(A1103&B1103,'Standard output'!A:D,4,0)","v":{"$error":"#N/A"}},{"$f":"INDEX(Orders!A:D,ROW()+1,FindCol(\"orders\",2,TimeBucketName))/$C1103","v":{"$error":"#N/A"}}]
[{"$f":"Orders!A1105","v":0},{"$f":"VLOOKUP(A1104,'Product-tool'!A:E,5,0)","v":{"$error":"#N/A"}},{"$f":"VLOOKUP(A1104&B1104,'Standard output'!A:D,4,0)","v":{"$error":"#N/A"}},{"$f":"INDEX(Orders!A:D,ROW()+1,FindCol(\"orders\",2,TimeBucketName))/$C1104","v":{"$error":"#N/A"}}]
[{"$f":"Orders!A1106","v":0},{"$f":"VLOOKUP(A1105,'Product-tool'!A:E,5,0)","v":{"$error":"#N/A"}},{"$f":"VLOOKUP(A1105&B1105,'Standard output'!A:D,4,0)","v":{"$error":"#N/A"}},{"$f":"INDEX(Orders!A:D,ROW()+1,FindCol(\"orders\",2,TimeBucketName))/$C1105","v":{"$error":"#N/A"}}]
[{"$f":"Orders!A1107","v":0},{"$f":"VLOOKUP(A1106,'Product-tool'!A:E,5,0)","v":{"$error":"#N/A"}},{"$f":"VLOOKUP(A1106&B1106,'Standard output'!A:D,4,0)","v":{"$error":"#N/A"}},{"$f":"INDEX(Orders!A:D,ROW()+1,FindCol(\"orders\",2,TimeBucketName))/$C1106","v":{"$error":"#N/A"}}]
[{"$f":"Orders!A1108","v":0},{"$f":"VLOOKUP(A1107,'Product-tool'!A:E,5,0)","v":{"$error":"#N/A"}},{"$f":"VLOOKUP(A1107&B1107,'Standard output'!A:D,4,0)","v":{"$error":"#N/A"}},{"$f":"INDEX(Orders!A:D,ROW()+1,FindCol(\"orders\",2,TimeBucketName))/$C1107","v":{"$error":"#N/A"}}]
[{"$f":"Orders!A1109","v":0},{"$f":"VLOOKUP(A1108,'Product-tool'!A:E,5,0)","v":{"$error":"#N/A"}},{"$f":"VLOOKUP(A1108&B1108,'Standard output'!A:D,4,0)","v":{"$error":"#N/A"}},{"$f":"INDEX(Orders!A:D,ROW()+1,FindCol(\"orders\",2,TimeBucketName))/$C1108","v":{"$error":"#N/A"}}]
[{"$f":"Orders!A1110","v":0},{"$f":"VLOOKUP(A1109,'Product-tool'!A:E,5,0)","v":{"$error":"#N/A"}},{"$f":"VLOOKUP(A1109&B1109,'Standard output'!A:D,4,0)","v":{"$error":"#N/A"}},{"$f":"INDEX(Orders!A:D,ROW()+1,FindCol(\"orders\",2,TimeBucketName))/$C1109","v":{"$error":"#N/A"}}]
[{"$f":"Orders!A1111","v":0},{"$f":"VLOOKUP(A1110,'Product-tool'!A:E,5,0)","v":{"$error":"#N/A"}},{"$f":"VLOOKUP(A1110&B1110,'Standard output'!A:D,4,0)","v":{"$error":"#N/A"}},{"$f":"INDEX(Orders!A:D,ROW()+1,FindCol(\"orders\",2,TimeBucketName))/$C1110","v":{"$error":"#N/A"}}]
[{"$f":"Orders!A1112","v":0},{"$f":"VLOOKUP(A1111,'Product-tool'!A:E,5,0)","v":{"$error":"#N/A"}},{"$f":"VLOOKUP(A1111&B1111,'Standard output'!A:D,4,0)","v":{"$error":"#N/A"}},{"$f":"INDEX(Orders!A:D,ROW()+1,FindCol(\"orders\",2,TimeBucketName))/$C1111","v":{"$error":"#N/A"}}]
[{"$f":"Orders!A1113","v":0},{"$f":"VLOOKUP(A1112,'Product-tool'!A:E,5,0)","v":{"$error":"#N/A"}},{"$f":"VLOOKUP(A1112&B1112,'Standard output'!A:D,4,0)","v":{"$error":"#N/A"}},{"$f":"INDEX(Orders!A:D,ROW()+1,FindCol(\"orders\",2,TimeBucketName))/$C1112","v":{"$error":"#N/A"}}]
[{"$f":"Orders!A1114","v":0},{"$f":"VLOOKUP(A1113,'Product-tool'!A:E,5,0)","v":{"$error":"#N/A"}},{"$f":"VLOOKUP(A1113&B1113,'Standard output'!A:D,4,0)","v":{"$error":"#N/A"}},{"$f":"INDEX(Orders!A:D,ROW()+1,FindCol(\"orders\",2,TimeBucketName))/$C1113","v":{"$error":"#N/A"}}]
[{"$f":"Orders!A1115","v":0},{"$f":"VLOOKUP(A1114,'Product-tool'!A:E,5,0)","v":{"$error":"#N/A"}},{"$f":"VLOOKUP(A1114&B1114,'Standard output'!A:D,4,0)","v":{"$error":"#N/A"}},{"$f":"INDEX(Orders!A:D,ROW()+1,FindCol(\"orders\",2,TimeBucketName))/$C1114","v":{"$error":"#N/A"}}]
[{"$f":"Orders!A1116","v":0},{"$f":"VLOOKUP(A1115,'Product-tool'!A:E,5,0)","v":{"$error":"#N/A"}},{"$f":"VLOOKUP(A1115&B1115,'Standard output'!A:D,4,0)","v":{"$error":"#N/A"}},{"$f":"INDEX(Orders!A:D,ROW()+1,FindCol(\"orders\",2,TimeBucketName))/$C1115","v":{"$error":"#N/A"}}]
[{"$f":"Orders!A1117","v":0},{"$f":"VLOOKUP(A1116,'Product-tool'!A:E,5,0)","v":{"$error":"#N/A"}},{"$f":"VLOOKUP(A1116&B1116,'Standard output'!A:D,4,0)","v":{"$error":"#N/A"}},{"$f":"INDEX(Orders!A:D,ROW()+1,FindCol(\"orders\",2,TimeBucketName))/$C1116","v":{"$error":"#N/A"}}]
[{"$f":"Orders!A1118","v":0},{"$f":"VLOOKUP(A1117,'Product-tool'!A:E,5,0)","v":{"$error":"#N/A"}},{"$f":"VLOOKUP(A1117&B1117,'Standard output'!A:D,4,0)","v":{"$error":"#N/A"}},{"$f":"INDEX(Orders!A:D,ROW()+1,FindCol(\"orders\",2,TimeBucketName))/$C1117","v":{"$error":"#N/A"}}]
[{"$f":"Orders!A1119","v":0},{"$f":"VLOOKUP(A1118,'Product-tool'!A:E,5,0)","v":{"$error":"#N/A"}},{"$f":"VLOOKUP(A1118&B1118,'Standard output'!A:D,4,0)","v":{"$error":"#N/A"}},{"$f":"INDEX(Orders!A:D,ROW()+1,FindCol(\"orders\",2,TimeBucketName))/$C1118","v":{"$error":"#N/A"}}]
[{"$f":"Orders!A1120","v":0},{"$f":"VLOOKUP(A1119,'Product-tool'!A:E,5,0)","v":{"$error":"#N/A"}},{"$f":"VLOOKUP(A1119&B1119,'Standard output'!A:D,4,0)","v":{"$error":"#N/A"}},{"$f":"INDEX(Orders!A:D,ROW()+1,FindCol(\"orders\",2,TimeBucketName))/$C1119","v":{"$error":"#N/A"}}]
[{"$f":"Orders!A1121","v":0},{"$f":"VLOOKUP(A1120,'Product-tool'!A:E,5,0)","v":{"$error":"#N/A"}},{"$f":"VLOOKUP(A1120&B1120,'Standard output'!A:D,4,0)","v":{"$error":"#N/A"}},{"$f":"INDEX(Orders!A:D,ROW()+1,FindCol(\"orders\",2,TimeBucketName))/$C1120","v":{"$error":"#N/A"}}]
[{"$f":"Orders!A1122","v":0},{"$f":"VLOOKUP(A1121,'Product-tool'!A:E,5,0)","v":{"$error":"#N/A"}},{"$f":"VLOOKUP(A1121&B1121,'Standard output'!A:D,4,0)","v":{"$error":"#N/A"}},{"$f":"INDEX(Orders!A:D,ROW()+1,FindCol(\"orders\",2,TimeBucketName))/$C1121","v":{"$error":"#N/A"}}]
[{"$f":"Orders!A1123","v":0},{"$f":"VLOOKUP(A1122,'Product-tool'!A:E,5,0)","v":{"$error":"#N/A"}},{"$f":"VLOOKUP(A1122&B1122,'Standard output'!A:D,4,0)","v":{"$error":"#N/A"}},{"$f":"INDEX(Orders!A:D,ROW()+1,FindCol(\"orders\",2,TimeBucketName))/$C1122","v":{"$error":"#N/A"}}]
[{"$f":"Orders!A1124","v":0},{"$f":"VLOOKUP(A1123,'Product-tool'!A:E,5,0)","v":{"$error":"#N/A"}},{"$f":"VLOOKUP(A1123&B1123,'Standard output'!A:D,4,0)","v":{"$error":"#N/A"}},{"$f":"INDEX(Orders!A:D,ROW()+1,FindCol(\"orders\",2,TimeBucketName))/$C1123","v":{"$error":"#N/A"}}]
[{"$f":"Orders!A1125","v":0},{"$f":"VLOOKUP(A1124,'Product-tool'!A:E,5,0)","v":{"$error":"#N/A"}},{"$f":"VLOOKUP(A1124&B1124,'Standard output'!A:D,4,0)","v":{"$error":"#N/A"}},{"$f":"INDEX(Orders!A:D,ROW()+1,FindCol(\"orders\",2,TimeBucketName))/$C1124","v":{"$error":"#N/A"}}]
[{"$f":"Orders!A1126","v":0},{"$f":"VLOOKUP(A1125,'Product-tool'!A:E,5,0)","v":{"$error":"#N/A"}},{"$f":"VLOOKUP(A1125&B1125,'Standard output'!A:D,4,0)","v":{"$error":"#N/A"}},{"$f":"INDEX(Orders!A:D,ROW()+1,FindCol(\"orders\",2,TimeBucketName))/$C1125","v":{"$error":"#N/A"}}]
[{"$f":"Orders!A1127","v":0},{"$f":"VLOOKUP(A1126,'Product-tool'!A:E,5,0)","v":{"$error":"#N/A"}},{"$f":"VLOOKUP(A1126&B1126,'Standard output'!A:D,4,0)","v":{"$error":"#N/A"}},{"$f":"INDEX(Orders!A:D,ROW()+1,FindCol(\"orders\",2,TimeBucketName))/$C1126","v":{"$error":"#N/A"}}]
[{"$f":"Orders!A1128","v":0},{"$f":"VLOOKUP(A1127,'Product-tool'!A:E,5,0)","v":{"$error":"#N/A"}},{"$f":"VLOOKUP(A1127&B1127,'Standard output'!A:D,4,0)","v":{"$error":"#N/A"}},{"$f":"INDEX(Orders!A:D,ROW()+1,FindCol(\"orders\",2,TimeBucketName))/$C1127","v":{"$error":"#N/A"}}]
[{"$f":"Orders!A1129","v":0},{"$f":"VLOOKUP(A1128,'Product-tool'!A:E,5,0)","v":{"$error":"#N/A"}},{"$f":"VLOOKUP(A1128&B1128,'Standard output'!A:D,4,0)","v":{"$error":"#N/A"}},{"$f":"INDEX(Orders!A:D,ROW()+1,FindCol(\"orders\",2,TimeBucketName))/$C1128","v":{"$error":"#N/A"}}]
[{"$f":"Orders!A1130","v":0},{"$f":"VLOOKUP(A1129,'Product-tool'!A:E,5,0)","v":{"$error":"#N/A"}},{"$f":"VLOOKUP(A1129&B1129,'Standard output'!A:D,4,0)","v":{"$error":"#N/A"}},{"$f":"INDEX(Orders!A:D,ROW()+1,FindCol(\"orders\",2,TimeBucketName))/$C1129","v":{"$error":"#N/A"}}]
[{"$f":"Orders!A1131","v":0},{"$f":"VLOOKUP(A1130,'Product-tool'!A:E,5,0)","v":{"$error":"#N/A"}},{"$f":"VLOOKUP(A1130&B1130,'Standard output'!A:D,4,0)","v":{"$error":"#N/A"}},{"$f":"INDEX(Orders!A:D,ROW()+1,FindCol(\"orders\",2,TimeBucketName))/$C1130","v":{"$error":"#N/A"}}]
[{"$f":"Orders!A1132","v":0},{"$f":"VLOOKUP(A1131,'Product-tool'!A:E,5,0)","v":{"$error":"#N/A"}},{"$f":"VLOOKUP(A1131&B1131,'Standard output'!A:D,4,0)","v":{"$error":"#N/A"}},{"$f":"INDEX(Orders!A:D,ROW()+1,FindCol(\"orders\",2,TimeBucketName))/$C1131","v":{"$error":"#N/A"}}]
[{"$f":"Orders!A1133","v":0},{"$f":"VLOOKUP(A1132,'Product-tool'!A:E,5,0)","v":{"$error":"#N/A"}},{"$f":"VLOOKUP(A1132&B1132,'Standard output'!A:D,4,0)","v":{"$error":"#N/A"}},{"$f":"INDEX(Orders!A:D,ROW()+1,FindCol(\"orders\",2,TimeBucketName))/$C1132","v":{"$error":"#N/A"}}]
[{"$f":"Orders!A1134","v":0},{"$f":"VLOOKUP(A1133,'Product-tool'!A:E,5,0)","v":{"$error":"#N/A"}},{"$f":"VLOOKUP(A1133&B1133,'Standard output'!A:D,4,0)","v":{"$error":"#N/A"}},{"$f":"INDEX(Orders!A:D,ROW()+1,FindCol(\"orders\",2,TimeBucketName))/$C1133","v":{"$error":"#N/A"}}]
[{"$f":"Orders!A1135","v":0},{"$f":"VLOOKUP(A1134,'Product-tool'!A:E,5,0)","v":{"$error":"#N/A"}},{"$f":"VLOOKUP(A1134&B1134,'Standard output'!A:D,4,0)","v":{"$error":"#N/A"}},{"$f":"INDEX(Orders!A:D,ROW()+1,FindCol(\"orders\",2,TimeBucketName))/$C1134","v":{"$error":"#N/A"}}]
[{"$f":"Orders!A1136","v":0},{"$f":"VLOOKUP(A1135,'Product-tool'!A:E,5,0)","v":{"$error":"#N/A"}},{"$f":"VLOOKUP(A1135&B1135,'Standard output'!A:D,4,0)","v":{"$error":"#N/A"}},{"$f":"INDEX(Orders!A:D,ROW()+1,FindCol(\"orders\",2,TimeBucketName))/$C1135","v":{"$error":"#N/A"}}]
[{"$f":"Orders!A1137","v":0},{"$f":"VLOOKUP(A1136,'Product-tool'!A:E,5,0)","v":{"$error":"#N/A"}},{"$f":"VLOOKUP(A1136&B1136,'Standard output'!A:D,4,0)","v":{"$error":"#N/A"}},{"$f":"INDEX(Orders!A:D,ROW()+1,FindCol(\"orders\",2,TimeBucketName))/$C1136","v":{"$error":"#N/A"}}]
[{"$f":"Orders!A1138","v":0},{"$f":"VLOOKUP(A1137,'Product-tool'!A:E,5,0)","v":{"$error":"#N/A"}},{"$f":"VLOOKUP(A1137&B1137,'Standard output'!A:D,4,0)","v":{"$error":"#N/A"}},{"$f":"INDEX(Orders!A:D,ROW()+1,FindCol(\"orders\",2,TimeBucketName))/$C1137","v":{"$error":"#N/A"}}]
[{"$f":"Orders!A1139","v":0},{"$f":"VLOOKUP(A1138,'Product-tool'!A:E,5,0)","v":{"$error":"#N/A"}},{"$f":"VLOOKUP(A1138&B1138,'Standard output'!A:D,4,0)","v":{"$error":"#N/A"}},{"$f":"INDEX(Orders!A:D,ROW()+1,FindCol(\"orders\",2,TimeBucketName))/$C1138","v":{"$error":"#N/A"}}]
[{"$f":"Orders!A1140","v":0},{"$f":"VLOOKUP(A1139,'Product-tool'!A:E,5,0)","v":{"$error":"#N/A"}},{"$f":"VLOOKUP(A1139&B1139,'Standard output'!A:D,4,0)","v":{"$error":"#N/A"}},{"$f":"INDEX(Orders!A:D,ROW()+1,FindCol(\"orders\",2,TimeBucketName))/$C1139","v":{"$error":"#N/A"}}]
[{"$f":"Orders!A1141","v":0},{"$f":"VLOOKUP(A1140,'Product-tool'!A:E,5,0)","v":{"$error":"#N/A"}},{"$f":"VLOOKUP(A1140&B1140,'Standard output'!A:D,4,0)","v":{"$error":"#N/A"}},{"$f":"INDEX(Orders!A:D,ROW()+1,FindCol(\"orders\",2,TimeBucketName))/$C1140","v":{"$error":"#N/A"}}]
[{"$f":"Orders!A1142","v":0},{"$f":"VLOOKUP(A1141,'Product-tool'!A:E,5,0)","v":{"$error":"#N/A"}},{"$f":"VLOOKUP(A1141&B1141,'Standard output'!A:D,4,0)","v":{"$error":"#N/A"}},{"$f":"INDEX(Orders!A:D,ROW()+1,FindCol(\"orders\",2,TimeBucketName))/$C1141","v":{"$error":"#N/A"}}]
[{"$f":"Orders!A1143","v":0},{"$f":"VLOOKUP(A1142,'Product-tool'!A:E,5,0)","v":{"$error":"#N/A"}},{"$f":"VLOOKUP(A1142&B1142,'Standard output'!A:D,4,0)","v":{"$error":"#N/A"}},{"$f":"INDEX(Orders!A:D,ROW()+1,FindCol(\"orders\",2,TimeBucketName))/$C1142","v":{"$error":"#N/A"}}]
[{"$f":"Orders!A1144","v":0},{"$f":"VLOOKUP(A1143,'Product-tool'!A:E,5,0)","v":{"$error":"#N/A"}},{"$f":"VLOOKUP(A1143&B1143,'Standard output'!A:D,4,0)","v":{"$error":"#N/A"}},{"$f":"INDEX(Orders!A:D,ROW()+1,FindCol(\"orders\",2,TimeBucketName))/$C1143","v":{"$error":"#N/A"}}]
[{"$f":"Orders!A1145","v":0},{"$f":"VLOOKUP(A1144,'Product-tool'!A:E,5,0)","v":{"$error":"#N/A"}},{"$f":"VLOOKUP(A1144&B1144,'Standard output'!A:D,4,0)","v":{"$error":"#N/A"}},{"$f":"INDEX(Orders!A:D,ROW()+1,FindCol(\"orders\",2,TimeBucketName))/$C1144","v":{"$error":"#N/A"}}]
[{"$f":"Orders!A1146","v":0},{"$f":"VLOOKUP(A1145,'Product-tool'!A:E,5,0)","v":{"$error":"#N/A"}},{"$f":"VLOOKUP(A1145&B1145,'Standard output'!A:D,4,0)","v":{"$error":"#N/A"}},{"$f":"INDEX(Orders!A:D,ROW()+1,FindCol(\"orders\",2,TimeBucketName))/$C1145","v":{"$error":"#N/A"}}]
[{"$f":"Orders!A1147","v":0},{"$f":"VLOOKUP(A1146,'Product-tool'!A:E,5,0)","v":{"$error":"#N/A"}},{"$f":"VLOOKUP(A1146&B1146,'Standard output'!A:D,4,0)","v":{"$error":"#N/A"}},{"$f":"INDEX(Orders!A:D,ROW()+1,FindCol(\"orders\",2,TimeBucketName))/$C1146","v":{"$error":"#N/A"}}]
[{"$f":"Orders!A1148","v":0},{"$f":"VLOOKUP(A1147,'Product-tool'!A:E,5,0)","v":{"$error":"#N/A"}},{"$f":"VLOOKUP(A1147&B1147,'Standard output'!A:D,4,0)","v":{"$error":"#N/A"}},{"$f":"INDEX(Orders!A:D,ROW()+1,FindCol(\"orders\",2,TimeBucketName))/$C1147","v":{"$error":"#N/A"}}]
[{"$f":"Orders!A1149","v":0},{"$f":"VLOOKUP(A1148,'Product-tool'!A:E,5,0)","v":{"$error":"#N/A"}},{"$f":"VLOOKUP(A1148&B1148,'Standard output'!A:D,4,0)","v":{"$error":"#N/A"}},{"$f":"INDEX(Orders!A:D,ROW()+1,FindCol(\"orders\",2,TimeBucketName))/$C1148","v":{"$error":"#N/A"}}]
[{"$f":"Orders!A1150","v":0},{"$f":"VLOOKUP(A1149,'Product-tool'!A:E,5,0)","v":{"$error":"#N/A"}},{"$f":"VLOOKUP(A1149&B1149,'Standard output'!A:D,4,0)","v":{"$error":"#N/A"}},{"$f":"INDEX(Orders!A:D,ROW()+1,FindCol(\"orders\",2,TimeBucketName))/$C1149","v":{"$error":"#N/A"}}]
[{"$f":"Orders!A1151","v":0},{"$f":"VLOOKUP(A1150,'Product-tool'!A:E,5,0)","v":{"$error":"#N/A"}},{"$f":"VLOOKUP(A1150&B1150,'Standard output'!A:D,4,0)","v":{"$error":"#N/A"}},{"$f":"INDEX(Orders!A:D,ROW()+1,FindCol(\"orders\",2,TimeBucketName))/$C1150","v":{"$error":"#N/A"}}]
[{"$f":"Orders!A1152","v":0},{"$f":"VLOOKUP(A1151,'Product-tool'!A:E,5,0)","v":{"$error":"#N/A"}},{"$f":"VLOOKUP(A1151&B1151,'Standard output'!A:D,4,0)","v":{"$error":"#N/A"}},{"$f":"INDEX(Orders!A:D,ROW()+1,FindCol(\"orders\",2,TimeBucketName))/$C1151","v":{"$error":"#N/A"}}]
[{"$f":"Orders!A1153","v":0},{"$f":"VLOOKUP(A1152,'Product-tool'!A:E,5,0)","v":{"$error":"#N/A"}},{"$f":"VLOOKUP(A1152&B1152,'Standard output'!A:D,4,0)","v":{"$error":"#N/A"}},{"$f":"INDEX(Orders!A:D,ROW()+1,FindCol(\"orders\",2,TimeBucketName))/$C1152","v":{"$error":"#N/A"}}]
[{"$f":"Orders!A1154","v":0},{"$f":"VLOOKUP(A1153,'Product-tool'!A:E,5,0)","v":{"$error":"#N/A"}},{"$f":"VLOOKUP(A1153&B1153,'Standard output'!A:D,4,0)","v":{"$error":"#N/A"}},{"$f":"INDEX(Orders!A:D,ROW()+1,FindCol(\"orders\",2,TimeBucketName))/$C1153","v":{"$error":"#N/A"}}]
[{"$f":"Orders!A1155","v":0},{"$f":"VLOOKUP(A1154,'Product-tool'!A:E,5,0)","v":{"$error":"#N/A"}},{"$f":"VLOOKUP(A1154&B1154,'Standard output'!A:D,4,0)","v":{"$error":"#N/A"}},{"$f":"INDEX(Orders!A:D,ROW()+1,FindCol(\"orders\",2,TimeBucketName))/$C1154","v":{"$error":"#N/A"}}]
[{"$f":"Orders!A1156","v":0},{"$f":"VLOOKUP(A1155,'Product-tool'!A:E,5,0)","v":{"$error":"#N/A"}},{"$f":"VLOOKUP(A1155&B1155,'Standard output'!A:D,4,0)","v":{"$error":"#N/A"}},{"$f":"INDEX(Orders!A:D,ROW()+1,FindCol(\"orders\",2,TimeBucketName))/$C1155","v":{"$error":"#N/A"}}]
[{"$f":"Orders!A1157","v":0},{"$f":"VLOOKUP(A1156,'Product-tool'!A:E,5,0)","v":{"$error":"#N/A"}},{"$f":"VLOOKUP(A1156&B1156,'Standard output'!A:D,4,0)","v":{"$error":"#N/A"}},{"$f":"INDEX(Orders!A:D,ROW()+1,FindCol(\"orders\",2,TimeBucketName))/$C1156","v":{"$error":"#N/A"}}]
[{"$f":"Orders!A1158","v":0},{"$f":"VLOOKUP(A1157,'Product-tool'!A:E,5,0)","v":{"$error":"#N/A"}},{"$f":"VLOOKUP(A1157&B1157,'Standard output'!A:D,4,0)","v":{"$error":"#N/A"}},{"$f":"INDEX(Orders!A:D,ROW()+1,FindCol(\"orders\",2,TimeBucketName))/$C1157","v":{"$error":"#N/A"}}]
[{"$f":"Orders!A1159","v":0},{"$f":"VLOOKUP(A1158,'Product-tool'!A:E,5,0)","v":{"$error":"#N/A"}},{"$f":"VLOOKUP(A1158&B1158,'Standard output'!A:D,4,0)","v":{"$error":"#N/A"}},{"$f":"INDEX(Orders!A:D,ROW()+1,FindCol(\"orders\",2,TimeBucketName))/$C1158","v":{"$error":"#N/A"}}]
[{"$f":"Orders!A1160","v":0},{"$f":"VLOOKUP(A1159,'Product-tool'!A:E,5,0)","v":{"$error":"#N/A"}},{"$f":"VLOOKUP(A1159&B1159,'Standard output'!A:D,4,0)","v":{"$error":"#N/A"}},{"$f":"INDEX(Orders!A:D,ROW()+1,FindCol(\"orders\",2,TimeBucketName))/$C1159","v":{"$error":"#N/A"}}]
[{"$f":"Orders!A1161","v":0},{"$f":"VLOOKUP(A1160,'Product-tool'!A:E,5,0)","v":{"$error":"#N/A"}},{"$f":"VLOOKUP(A1160&B1160,'Standard output'!A:D,4,0)","v":{"$error":"#N/A"}},{"$f":"INDEX(Orders!A:D,ROW()+1,FindCol(\"orders\",2,TimeBucketName))/$C1160","v":{"$error":"#N/A"}}]
[{"$f":"Orders!A1162","v":0},{"$f":"VLOOKUP(A1161,'Product-tool'!A:E,5,0)","v":{"$error":"#N/A"}},{"$f":"VLOOKUP(A1161&B1161,'Standard output'!A:D,4,0)","v":{"$error":"#N/A"}},{"$f":"INDEX(Orders!A:D,ROW()+1,FindCol(\"orders\",2,TimeBucketName))/$C1161","v":{"$error":"#N/A"}}]
[{"$f":"Orders!A1163","v":0},{"$f":"VLOOKUP(A1162,'Product-tool'!A:E,5,0)","v":{"$error":"#N/A"}},{"$f":"VLOOKUP(A1162&B1162,'Standard output'!A:D,4,0)","v":{"$error":"#N/A"}},{"$f":"INDEX(Orders!A:D,ROW()+1,FindCol(\"orders\",2,TimeBucketName))/$C1162","v":{"$error":"#N/A"}}]
[{"$f":"Orders!A1164","v":0},{"$f":"VLOOKUP(A1163,'Product-tool'!A:E,5,0)","v":{"$error":"#N/A"}},{"$f":"VLOOKUP(A1163&B1163,'Standard output'!A:D,4,0)","v":{"$error":"#N/A"}},{"$f":"INDEX(Orders!A:D,ROW()+1,FindCol(\"orders\",2,TimeBucketName))/$C1163","v":{"$error":"#N/A"}}]
[{"$f":"Orders!A1165","v":0},{"$f":"VLOOKUP(A1164,'Product-tool'!A:E,5,0)","v":{"$error":"#N/A"}},{"$f":"VLOOKUP(A1164&B1164,'Standard output'!A:D,4,0)","v":{"$error":"#N/A"}},{"$f":"INDEX(Orders!A:D,ROW()+1,FindCol(\"orders\",2,TimeBucketName))/$C1164","v":{"$error":"#N/A"}}]
[{"$f":"Orders!A1166","v":0},{"$f":"VLOOKUP(A1165,'Product-tool'!A:E,5,0)","v":{"$error":"#N/A"}},{"$f":"VLOOKUP(A1165&B1165,'Standard output'!A:D,4,0)","v":{"$error":"#N/A"}},{"$f":"INDEX(Orders!A:D,ROW()+1,FindCol(\"orders\",2,TimeBucketName))/$C1165","v":{"$error":"#N/A"}}]
[{"$f":"Orders!A1167","v":0},{"$f":"VLOOKUP(A1166,'Product-tool'!A:E,5,0)","v":{"$error":"#N/A"}},{"$f":"VLOOKUP(A1166&B1166,'Standard output'!A:D,4,0)","v":{"$error":"#N/A"}},{"$f":"INDEX(Orders!A:D,ROW()+1,FindCol(\"orders\",2,TimeBucketName))/$C1166","v":{"$error":"#N/A"}}]
[{"$f":"Orders!A1168","v":0},{"$f":"VLOOKUP(A1167,'Product-tool'!A:E,5,0)","v":{"$error":"#N/A"}},{"$f":"VLOOKUP(A1167&B1167,'Standard output'!A:D,4,0)","v":{"$error":"#N/A"}},{"$f":"INDEX(Orders!A:D,ROW()+1,FindCol(\"orders\",2,TimeBucketName))/$C1167","v":{"$error":"#N/A"}}]
[{"$f":"Orders!A1169","v":0},{"$f":"VLOOKUP(A1168,'Product-tool'!A:E,5,0)","v":{"$error":"#N/A"}},{"$f":"VLOOKUP(A1168&B1168,'Standard output'!A:D,4,0)","v":{"$error":"#N/A"}},{"$f":"INDEX(Orders!A:D,ROW()+1,FindCol(\"orders\",2,TimeBucketName))/$C1168","v":{"$error":"#N/A"}}]
[{"$f":"Orders!A1170","v":0},{"$f":"VLOOKUP(A1169,'Product-tool'!A:E,5,0)","v":{"$error":"#N/A"}},{"$f":"VLOOKUP(A1169&B1169,'Standard output'!A:D,4,0)","v":{"$error":"#N/A"}},{"$f":"INDEX(Orders!A:D,ROW()+1,FindCol(\"orders\",2,TimeBucketName))/$C1169","v":{"$error":"#N/A"}}]
[{"$f":"Orders!A1171","v":0},{"$f":"VLOOKUP(A1170,'Product-tool'!A:E,5,0)","v":{"$error":"#N/A"}},{"$f":"VLOOKUP(A1170&B1170,'Standard output'!A:D,4,0)","v":{"$error":"#N/A"}},{"$f":"INDEX(Orders!A:D,ROW()+1,FindCol(\"orders\",2,TimeBucketName))/$C1170","v":{"$error":"#N/A"}}]
[{"$f":"Orders!A1172","v":0},{"$f":"VLOOKUP(A1171,'Product-tool'!A:E,5,0)","v":{"$error":"#N/A"}},{"$f":"VLOOKUP(A1171&B1171,'Standard output'!A:D,4,0)","v":{"$error":"#N/A"}},{"$f":"INDEX(Orders!A:D,ROW()+1,FindCol(\"orders\",2,TimeBucketName))/$C1171","v":{"$error":"#N/A"}}]
[{"$f":"Orders!A1173","v":0},{"$f":"VLOOKUP(A1172,'Product-tool'!A:E,5,0)","v":{"$error":"#N/A"}},{"$f":"VLOOKUP(A1172&B1172,'Standard output'!A:D,4,0)","v":{"$error":"#N/A"}},{"$f":"INDEX(Orders!A:D,ROW()+1,FindCol(\"orders\",2,TimeBucketName))/$C1172","v":{"$error":"#N/A"}}]
[{"$f":"Orders!A1174","v":0},{"$f":"VLOOKUP(A1173,'Product-tool'!A:E,5,0)","v":{"$error":"#N/A"}},{"$f":"VLOOKUP(A1173&B1173,'Standard output'!A:D,4,0)","v":{"$error":"#N/A"}},{"$f":"INDEX(Orders!A:D,ROW()+1,FindCol(\"orders\",2,TimeBucketName))/$C1173","v":{"$error":"#N/A"}}]
[{"$f":"Orders!A1175","v":0},{"$f":"VLOOKUP(A1174,'Product-tool'!A:E,5,0)","v":{"$error":"#N/A"}},{"$f":"VLOOKUP(A1174&B1174,'Standard output'!A:D,4,0)","v":{"$error":"#N/A"}},{"$f":"INDEX(Orders!A:D,ROW()+1,FindCol(\"orders\",2,TimeBucketName))/$C1174","v":{"$error":"#N/A"}}]
[{"$f":"Orders!A1176","v":0},{"$f":"VLOOKUP(A1175,'Product-tool'!A:E,5,0)","v":{"$error":"#N/A"}},{"$f":"VLOOKUP(A1175&B1175,'Standard output'!A:D,4,0)","v":{"$error":"#N/A"}},{"$f":"INDEX(Orders!A:D,ROW()+1,FindCol(\"orders\",2,TimeBucketName))/$C1175","v":{"$error":"#N/A"}}]
[{"$f":"Orders!A1177","v":0},{"$f":"VLOOKUP(A1176,'Product-tool'!A:E,5,0)","v":{"$error":"#N/A"}},{"$f":"VLOOKUP(A1176&B1176,'Standard output'!A:D,4,0)","v":{"$error":"#N/A"}},{"$f":"INDEX(Orders!A:D,ROW()+1,FindCol(\"orders\",2,TimeBucketName))/$C1176","v":{"$error":"#N/A"}}]
[{"$f":"Orders!A1178","v":0},{"$f":"VLOOKUP(A1177,'Product-tool'!A:E,5,0)","v":{"$error":"#N/A"}},{"$f":"VLOOKUP(A1177&B1177,'Standard output'!A:D,4,0)","v":{"$error":"#N/A"}},{"$f":"INDEX(Orders!A:D,ROW()+1,FindCol(\"orders\",2,TimeBucketName))/$C1177","v":{"$error":"#N/A"}}]
[{"$f":"Orders!A1179","v":0},{"$f":"VLOOKUP(A1178,'Product-tool'!A:E,5,0)","v":{"$error":"#N/A"}},{"$f":"VLOOKUP(A1178&B1178,'Standard output'!A:D,4,0)","v":{"$error":"#N/A"}},{"$f":"INDEX(Orders!A:D,ROW()+1,FindCol(\"orders\",2,TimeBucketName))/$C1178","v":{"$error":"#N/A"}}]
[{"$f":"Orders!A1180","v":0},{"$f":"VLOOKUP(A1179,'Product-tool'!A:E,5,0)","v":{"$error":"#N/A"}},{"$f":"VLOOKUP(A1179&B1179,'Standard output'!A:D,4,0)","v":{"$error":"#N/A"}},{"$f":"INDEX(Orders!A:D,ROW()+1,FindCol(\"orders\",2,TimeBucketName))/$C1179","v":{"$error":"#N/A"}}]
[{"$f":"Orders!A1181","v":0},{"$f":"VLOOKUP(A1180,'Product-tool'!A:E,5,0)","v":{"$error":"#N/A"}},{"$f":"VLOOKUP(A1180&B1180,'Standard output'!A:D,4,0)","v":{"$error":"#N/A"}},{"$f":"INDEX(Orders!A:D,ROW()+1,FindCol(\"orders\",2,TimeBucketName))/$C1180","v":{"$error":"#N/A"}}]
[{"$f":"Orders!A1182","v":0},{"$f":"VLOOKUP(A1181,'Product-tool'!A:E,5,0)","v":{"$error":"#N/A"}},{"$f":"VLOOKUP(A1181&B1181,'Standard output'!A:D,4,0)","v":{"$error":"#N/A"}},{"$f":"INDEX(Orders!A:D,ROW()+1,FindCol(\"orders\",2,TimeBucketName))/$C1181","v":{"$error":"#N/A"}}]
[{"$f":"Orders!A1183","v":0},{"$f":"VLOOKUP(A1182,'Product-tool'!A:E,5,0)","v":{"$error":"#N/A"}},{"$f":"VLOOKUP(A1182&B1182,'Standard output'!A:D,4,0)","v":{"$error":"#N/A"}},{"$f":"INDEX(Orders!A:D,ROW()+1,FindCol(\"orders\",2,TimeBucketName))/$C1182","v":{"$error":"#N/A"}}]
[{"$f":"Orders!A1184","v":0},{"$f":"VLOOKUP(A1183,'Product-tool'!A:E,5,0)","v":{"$error":"#N/A"}},{"$f":"VLOOKUP(A1183&B1183,'Standard output'!A:D,4,0)","v":{"$error":"#N/A"}},{"$f":"INDEX(Orders!A:D,ROW()+1,FindCol(\"orders\",2,TimeBucketName))/$C1183","v":{"$error":"#N/A"}}]
[{"$f":"Orders!A1185","v":0},{"$f":"VLOOKUP(A1184,'Product-tool'!A:E,5,0)","v":{"$error":"#N/A"}},{"$f":"VLOOKUP(A1184&B1184,'Standard output'!A:D,4,0)","v":{"$error":"#N/A"}},{"$f":"INDEX(Orders!A:D,ROW()+1,FindCol(\"orders\",2,TimeBucketName))/$C1184","v":{"$error":"#N/A"}}]
[{"$f":"Orders!A1186","v":0},{"$f":"VLOOKUP(A1185,'Product-tool'!A:E,5,0)","v":{"$error":"#N/A"}},{"$f":"VLOOKUP(A1185&B1185,'Standard output'!A:D,4,0)","v":{"$error":"#N/A"}},{"$f":"INDEX(Orders!A:D,ROW()+1,FindCol(\"orders\",2,TimeBucketName))/$C1185","v":{"$error":"#N/A"}}]
[{"$f":"Orders!A1187","v":0},{"$f":"VLOOKUP(A1186,'Product-tool'!A:E,5,0)","v":{"$error":"#N/A"}},{"$f":"VLOOKUP(A1186&B1186,'Standard output'!A:D,4,0)","v":{"$error":"#N/A"}},{"$f":"INDEX(Orders!A:D,ROW()+1,FindCol(\"orders\",2,TimeBucketName))/$C1186","v":{"$error":"#N/A"}}]
[{"$f":"Orders!A1188","v":0},{"$f":"VLOOKUP(A1187,'Product-tool'!A:E,5,0)","v":{"$error":"#N/A"}},{"$f":"VLOOKUP(A1187&B1187,'Standard output'!A:D,4,0)","v":{"$error":"#N/A"}},{"$f":"INDEX(Orders!A:D,ROW()+1,FindCol(\"orders\",2,TimeBucketName))/$C1187","v":{"$error":"#N/A"}}]
[{"$f":"Orders!A1189","v":0},{"$f":"VLOOKUP(A1188,'Product-tool'!A:E,5,0)","v":{"$error":"#N/A"}},{"$f":"VLOOKUP(A1188&B1188,'Standard output'!A:D,4,0)","v":{"$error":"#N/A"}},{"$f":"INDEX(Orders!A:D,ROW()+1,FindCol(\"orders\",2,TimeBucketName))/$C1188","v":{"$error":"#N/A"}}]
[{"$f":"Orders!A1190","v":0},{"$f":"VLOOKUP(A1189,'Product-tool'!A:E,5,0)","v":{"$error":"#N/A"}},{"$f":"VLOOKUP(A1189&B1189,'Standard output'!A:D,4,0)","v":{"$error":"#N/A"}},{"$f":"INDEX(Orders!A:D,ROW()+1,FindCol(\"orders\",2,TimeBucketName))/$C1189","v":{"$error":"#N/A"}}]
[{"$f":"Orders!A1191","v":0},{"$f":"VLOOKUP(A1190,'Product-tool'!A:E,5,0)","v":{"$error":"#N/A"}},{"$f":"VLOOKUP(A1190&B1190,'Standard output'!A:D,4,0)","v":{"$error":"#N/A"}},{"$f":"INDEX(Orders!A:D,ROW()+1,FindCol(\"orders\",2,TimeBucketName))/$C1190","v":{"$error":"#N/A"}}]
[{"$f":"Orders!A1192","v":0},{"$f":"VLOOKUP(A1191,'Product-tool'!A:E,5,0)","v":{"$error":"#N/A"}},{"$f":"VLOOKUP(A1191&B1191,'Standard output'!A:D,4,0)","v":{"$error":"#N/A"}},{"$f":"INDEX(Orders!A:D,ROW()+1,FindCol(\"orders\",2,TimeBucketName))/$C1191","v":{"$error":"#N/A"}}]
[{"$f":"Orders!A1193","v":0},{"$f":"VLOOKUP(A1192,'Product-tool'!A:E,5,0)","v":{"$error":"#N/A"}},{"$f":"VLOOKUP(A1192&B1192,'Standard output'!A:D,4,0)","v":{"$error":"#N/A"}},{"$f":"INDEX(Orders!A:D,ROW()+1,FindCol(\"orders\",2,TimeBucketName))/$C1192","v":{"$error":"#N/A"}}]
[{"$f":"Orders!A1194","v":0},{"$f":"VLOOKUP(A1193,'Product-tool'!A:E,5,0)","v":{"$error":"#N/A"}},{"$f":"VLOOKUP(A1193&B1193,'Standard output'!A:D,4,0)","v":{"$error":"#N/A"}},{"$f":"INDEX(Orders!A:D,ROW()+1,FindCol(\"orders\",2,TimeBucketName))/$C1193","v":{"$error":"#N/A"}}]
[{"$f":"Orders!A1195","v":0},{"$f":"VLOOKUP(A1194,'Product-tool'!A:E,5,0)","v":{"$error":"#N/A"}},{"$f":"VLOOKUP(A1194&B1194,'Standard output'!A:D,4,0)","v":{"$error":"#N/A"}},{"$f":"INDEX(Orders!A:D,ROW()+1,FindCol(\"orders\",2,TimeBucketName))/$C1194","v":{"$error":"#N/A"}}]
[{"$f":"Orders!A1196","v":0},{"$f":"VLOOKUP(A1195,'Product-tool'!A:E,5,0)","v":{"$error":"#N/A"}},{"$f":"VLOOKUP(A1195&B1195,'Standard output'!A:D,4,0)","v":{"$error":"#N/A"}},{"$f":"INDEX(Orders!A:D,ROW()+1,FindCol(\"orders\",2,TimeBucketName))/$C1195","v":{"$error":"#N/A"}}]
[{"$f":"Orders!A1197","v":0},{"$f":"VLOOKUP(A1196,'Product-tool'!A:E,5,0)","v":{"$error":"#N/A"}},{"$f":"VLOOKUP(A1196&B1196,'Standard output'!A:D,4,0)","v":{"$error":"#N/A"}},{"$f":"INDEX(Orders!A:D,ROW()+1,FindCol(\"orders\",2,TimeBucketName))/$C1196","v":{"$error":"#N/A"}}]
[{"$f":"Orders!A1198","v":0},{"$f":"VLOOKUP(A1197,'Product-tool'!A:E,5,0)","v":{"$error":"#N/A"}},{"$f":"VLOOKUP(A1197&B1197,'Standard output'!A:D,4,0)","v":{"$error":"#N/A"}},{"$f":"INDEX(Orders!A:D,ROW()+1,FindCol(\"orders\",2,TimeBucketName))/$C1197","v":{"$error":"#N/A"}}]
[{"$f":"Orders!A1199","v":0},{"$f":"VLOOKUP(A1198,'Product-tool'!A:E,5,0)","v":{"$error":"#N/A"}},{"$f":"VLOOKUP(A1198&B1198,'Standard output'!A:D,4,0)","v":{"$error":"#N/A"}},{"$f":"INDEX(Orders!A:D,ROW()+1,FindCol(\"orders\",2,TimeBucketName))/$C1198","v":{"$error":"#N/A"}}]
[{"$f":"Orders!A1200","v":0},{"$f":"VLOOKUP(A1199,'Product-tool'!A:E,5,0)","v":{"$error":"#N/A"}},{"$f":"VLOOKUP(A1199&B1199,'Standard output'!A:D,4,0)","v":{"$error":"#N/A"}},{"$f":"INDEX(Orders!A:D,ROW()+1,FindCol(\"orders\",2,TimeBucketName))/$C1199","v":{"$error":"#N/A"}}]
[{"$f":"Orders!A1201","v":0},{"$f":"VLOOKUP(A1200,'Product-tool'!A:E,5,0)","v":{"$error":"#N/A"}},{"$f":"VLOOKUP(A1200&B1200,'Standard output'!A:D,4,0)","v":{"$error":"#N/A"}},{"$f":"INDEX(Orders!A:D,ROW()+1,FindCol(\"orders\",2,TimeBucketName))/$C1200","v":{"$error":"#N/A"}}]
[{"$f":"Orders!A1202","v":0},{"$f":"VLOOKUP(A1201,'Product-tool'!A:E,5,0)","v":{"$error":"#N/A"}},{"$f":"VLOOKUP(A1201&B1201,'Standard output'!A:D,4,0)","v":{"$error":"#N/A"}},{"$f":"INDEX(Orders!A:D,ROW()+1,FindCol(\"orders\",2,TimeBucketName))/$C1201","v":{"$error":"#N/A"}}]
[{"$f":"Orders!A1203","v":0},{"$f":"VLOOKUP(A1202,'Product-tool'!A:E,5,0)","v":{"$error":"#N/A"}},{"$f":"VLOOKUP(A1202&B1202,'Standard output'!A:D,4,0)","v":{"$error":"#N/A"}},{"$f":"INDEX(Orders!A:D,ROW()+1,FindCol(\"orders\",2,TimeBucketName))/$C1202","v":{"$error":"#N/A"}}]
[{"$f":"Orders!A1204","v":0},{"$f":"VLOOKUP(A1203,'Product-tool'!A:E,5,0)","v":{"$error":"#N/A"}},{"$f":"VLOOKUP(A1203&B1203,'Standard output'!A:D,4,0)","v":{"$error":"#N/A"}},{"$f":"INDEX(Orders!A:D,ROW()+1,FindCol(\"orders\",2,TimeBucketName))/$C1203","v":{"$error":"#N/A"}}]
[{"$f":"Orders!A1205","v":0},{"$f":"VLOOKUP(A1204,'Product-tool'!A:E,5,0)","v":{"$error":"#N/A"}},{"$f":"VLOOKUP(A1204&B1204,'Standard output'!A:D,4,0)","v":{"$error":"#N/A"}},{"$f":"INDEX(Orders!A:D,ROW()+1,FindCol(\"orders\",2,TimeBucketName))/$C1204","v":{"$error":"#N/A"}}]
[{"$f":"Orders!A1206","v":0},{"$f":"VLOOKUP(A1205,'Product-tool'!A:E,5,0)","v":{"$error":"#N/A"}},{"$f":"VLOOKUP(A1205&B1205,'Standard output'!A:D,4,0)","v":{"$error":"#N/A"}},{"$f":"INDEX(Orders!A:D,ROW()+1,FindCol(\"orders\",2,TimeBucketName))/$C1205","v":{"$error":"#N/A"}}]
[{"$f":"Orders!A1207","v":0},{"$f":"VLOOKUP(A1206,'Product-tool'!A:E,5,0)","v":{"$error":"#N/A"}},{"$f":"VLOOKUP(A1206&B1206,'Standard output'!A:D,4,0)","v":{"$error":"#N/A"}},{"$f":"INDEX(Orders!A:D,ROW()+1,FindCol(\"orders\",2,TimeBucketName))/$C1206","v":{"$error":"#N/A"}}]
[{"$f":"Orders!A1208","v":0},{"$f":"VLOOKUP(A1207,'Product-tool'!A:E,5,0)","v":{"$error":"#N/A"}},{"$f":"VLOOKUP(A1207&B1207,'Standard output'!A:D,4,0)","v":{"$error":"#N/A"}},{"$f":"INDEX(Orders!A:D,ROW()+1,FindCol(\"orders\",2,TimeBucketName))/$C1207","v":{"$error":"#N/A"}}]
[{"$f":"Orders!A1209","v":0},{"$f":"VLOOKUP(A1208,'Product-tool'!A:E,5,0)","v":{"$error":"#N/A"}},{"$f":"VLOOKUP(A1208&B1208,'Standard output'!A:D,4,0)","v":{"$error":"#N/A"}},{"$f":"INDEX(Orders!A:D,ROW()+1,FindCol(\"orders\",2,TimeBucketName))/$C1208","v":{"$error":"#N/A"}}]
[{"$f":"Orders!A1210","v":0},{"$f":"VLOOKUP(A1209,'Product-tool'!A:E,5,0)","v":{"$error":"#N/A"}},{"$f":"VLOOKUP(A1209&B1209,'Standard output'!A:D,4,0)","v":{"$error":"#N/A"}},{"$f":"INDEX(Orders!A:D,ROW()+1,FindCol(\"orders\",2,TimeBucketName))/$C1209","v":{"$error":"#N/A"}}]
[{"$f":"Orders!A1211","v":0},{"$f":"VLOOKUP(A1210,'Product-tool'!A:E,5,0)","v":{"$error":"#N/A"}},{"$f":"VLOOKUP(A1210&B1210,'Standard output'!A:D,4,0)","v":{"$error":"#N/A"}},{"$f":"INDEX(Orders!A:D,ROW()+1,FindCol(\"orders\",2,TimeBucketName))/$C1210","v":{"$error":"#N/A"}}]
[{"$f":"Orders!A1212","v":0},{"$f":"VLOOKUP(A1211,'Product-tool'!A:E,5,0)","v":{"$error":"#N/A"}},{"$f":"VLOOKUP(A1211&B1211,'Standard output'!A:D,4,0)","v":{"$error":"#N/A"}},{"$f":"INDEX(Orders!A:D,ROW()+1,FindCol(\"orders\",2,TimeBucketName))/$C1211","v":{"$error":"#N/A"}}]
[{"$f":"Orders!A1213","v":0},{"$f":"VLOOKUP(A1212,'Product-tool'!A:E,5,0)","v":{"$error":"#N/A"}},{"$f":"VLOOKUP(A1212&B1212,'Standard output'!A:D,4,0)","v":{"$error":"#N/A"}},{"$f":"INDEX(Orders!A:D,ROW()+1,FindCol(\"orders\",2,TimeBucketName))/$C1212","v":{"$error":"#N/A"}}]
[{"$f":"Orders!A1214","v":0},{"$f":"VLOOKUP(A1213,'Product-tool'!A:E,5,0)","v":{"$error":"#N/A"}},{"$f":"VLOOKUP(A1213&B1213,'Standard output'!A:D,4,0)","v":{"$error":"#N/A"}},{"$f":"INDEX(Orders!A:D,ROW()+1,FindCol(\"orders\",2,TimeBucketName))/$C1213","v":{"$error":"#N/A"}}]
[{"$f":"Orders!A1215","v":0},{"$f":"VLOOKUP(A1214,'Product-tool'!A:E,5,0)","v":{"$error":"#N/A"}},{"$f":"VLOOKUP(A1214&B1214,'Standard output'!A:D,4,0)","v":{"$error":"#N/A"}},{"$f":"INDEX(Orders!A:D,ROW()+1,FindCol(\"orders\",2,TimeBucketName))/$C1214","v":{"$error":"#N/A"}}]
[{"$f":"Orders!A1216","v":0},{"$f":"VLOOKUP(A1215,'Product-tool'!A:E,5,0)","v":{"$error":"#N/A"}},{"$f":"VLOOKUP(A1215&B1215,'Standard output'!A:D,4,0)","v":{"$error":"#N/A"}},{"$f":"INDEX(Orders!A:D,ROW()+1,FindCol(\"orders\",2,TimeBucketName))/$C1215","v":{"$error":"#N/A"}}]
[{"$f":"Orders!A1217","v":0},{"$f":"VLOOKUP(A1216,'Product-tool'!A:E,5,0)","v":{"$error":"#N/A"}},{"$f":"VLOOKUP(A1216&B1216,'Standard output'!A:D,4,0)","v":{"$error":"#N/A"}},{"$f":"INDEX(Orders!A:D,ROW()+1,FindCol(\"orders\",2,TimeBucketName))/$C1216","v":{"$error":"#N/A"}}]
[{"$f":"Orders!A1218","v":0},{"$f":"VLOOKUP(A1217,'Product-tool'!A:E,5,0)","v":{"$error":"#N/A"}},{"$f":"VLOOKUP(A1217&B1217,'Standard output'!A:D,4,0)","v":{"$error":"#N/A"}},{"$f":"INDEX(Orders!A:D,ROW()+1,FindCol(\"orders\",2,TimeBucketName))/$C1217","v":{"$error":"#N/A"}}]
[{"$f":"Orders!A1219","v":0},{"$f":"VLOOKUP(A1218,'Product-tool'!A:E,5,0)","v":{"$error":"#N/A"}},{"$f":"VLOOKUP(A1218&B1218,'Standard output'!A:D,4,0)","v":{"$error":"#N/A"}},{"$f":"INDEX(Orders!A:D,ROW()+1,FindCol(\"orders\",2,TimeBucketName))/$C1218","v":{"$error":"#N/A"}}]
[{"$f":"Orders!A1220","v":0},{"$f":"VLOOKUP(A1219,'Product-tool'!A:E,5,0)","v":{"$error":"#N/A"}},{"$f":"VLOOKUP(A1219&B1219,'Standard output'!A:D,4,0)","v":{"$error":"#N/A"}},{"$f":"INDEX(Orders!A:D,ROW()+1,FindCol(\"orders\",2,TimeBucketName))/$C1219","v":{"$error":"#N/A"}}]
[{"$f":"Orders!A1221","v":0},{"$f":"VLOOKUP(A1220,'Product-tool'!A:E,5,0)","v":{"$error":"#N/A"}},{"$f":"VLOOKUP(A1220&B1220,'Standard output'!A:D,4,0)","v":{"$error":"#N/A"}},{"$f":"INDEX(Orders!A:D,ROW()+1,FindCol(\"orders\",2,TimeBucketName))/$C1220","v":{"$error":"#N/A"}}]
[{"$f":"Orders!A1222","v":0},{"$f":"VLOOKUP(A1221,'Product-tool'!A:E,5,0)","v":{"$error":"#N/A"}},{"$f":"VLOOKUP(A1221&B1221,'Standard output'!A:D,4,0)","v":{"$error":"#N/A"}},{"$f":"INDEX(Orders!A:D,ROW()+1,FindCol(\"orders\",2,TimeBucketName))/$C1221","v":{"$error":"#N/A"}}]
[{"$f":"Orders!A1223","v":0},{"$f":"VLOOKUP(A1222,'Product-tool'!A:E,5,0)","v":{"$error":"#N/A"}},{"$f":"VLOOKUP(A1222&B1222,'Standard output'!A:D,4,0)","v":{"$error":"#N/A"}},{"$f":"INDEX(Orders!A:D,ROW()+1,FindCol(\"orders\",2,TimeBucketName))/$C1222","v":{"$error":"#N/A"}}]
[{"$f":"Orders!A1224","v":0},{"$f":"VLOOKUP(A1223,'Product-tool'!A:E,5,0)","v":{"$error":"#N/A"}},{"$f":"VLOOKUP(A1223&B1223,'Standard output'!A:D,4,0)","v":{"$error":"#N/A"}},{"$f":"INDEX(Orders!A:D,ROW()+1,FindCol(\"orders\",2,TimeBucketName))/$C1223","v":{"$error":"#N/A"}}]
[{"$f":"Orders!A1225","v":0},{"$f":"VLOOKUP(A1224,'Product-tool'!A:E,5,0)","v":{"$error":"#N/A"}},{"$f":"VLOOKUP(A1224&B1224,'Standard output'!A:D,4,0)","v":{"$error":"#N/A"}},{"$f":"INDEX(Orders!A:D,ROW()+1,FindCol(\"orders\",2,TimeBucketName))/$C1224","v":{"$error":"#N/A"}}]
[{"$f":"Orders!A1226","v":0},{"$f":"VLOOKUP(A1225,'Product-tool'!A:E,5,0)","v":{"$error":"#N/A"}},{"$f":"VLOOKUP(A1225&B1225,'Standard output'!A:D,4,0)","v":{"$error":"#N/A"}},{"$f":"INDEX(Orders!A:D,ROW()+1,FindCol(\"orders\",2,TimeBucketName))/$C1225","v":{"$error":"#N/A"}}]
[{"$f":"Orders!A1227","v":0},{"$f":"VLOOKUP(A1226,'Product-tool'!A:E,5,0)","v":{"$error":"#N/A"}},{"$f":"VLOOKUP(A1226&B1226,'Standard output'!A:D,4,0)","v":{"$error":"#N/A"}},{"$f":"INDEX(Orders!A:D,ROW()+1,FindCol(\"orders\",2,TimeBucketName))/$C1226","v":{"$error":"#N/A"}}]
[{"$f":"Orders!A1228","v":0},{"$f":"VLOOKUP(A1227,'Product-tool'!A:E,5,0)","v":{"$error":"#N/A"}},{"$f":"VLOOKUP(A1227&B1227,'Standard output'!A:D,4,0)","v":{"$error":"#N/A"}},{"$f":"INDEX(Orders!A:D,ROW()+1,FindCol(\"orders\",2,TimeBucketName))/$C1227","v":{"$error":"#N/A"}}]
[{"$f":"Orders!A1229","v":0},{"$f":"VLOOKUP(A1228,'Product-tool'!A:E,5,0)","v":{"$error":"#N/A"}},{"$f":"VLOOKUP(A1228&B1228,'Standard output'!A:D,4,0)","v":{"$error":"#N/A"}},{"$f":"INDEX(Orders!A:D,ROW()+1,FindCol(\"orders\",2,TimeBucketName))/$C1228","v":{"$error":"#N/A"}}]
[{"$f":"Orders!A1230","v":0},{"$f":"VLOOKUP(A1229,'Product-tool'!A:E,5,0)","v":{"$error":"#N/A"}},{"$f":"VLOOKUP(A1229&B1229,'Standard output'!A:D,4,0)","v":{"$error":"#N/A"}},{"$f":"INDEX(Orders!A:D,ROW()+1,FindCol(\"orders\",2,TimeBucketName))/$C1229","v":{"$error":"#N/A"}}]
[{"$f":"Orders!A1231","v":0},{"$f":"VLOOKUP(A1230,'Product-tool'!A:E,5,0)","v":{"$error":"#N/A"}},{"$f":"VLOOKUP(A1230&B1230,'Standard output'!A:D,4,0)","v":{"$error":"#N/A"}},{"$f":"INDEX(Orders!A:D,ROW()+1,FindCol(\"orders\",2,TimeBucketName))/$C1230","v":{"$error":"#N/A"}}]
[{"$f":"Orders!A1232","v":0},{"$f":"VLOOKUP(A1231,'Product-tool'!A:E,5,0)","v":{"$error":"#N/A"}},{"$f":"VLOOKUP(A1231&B1231,'Standard output'!A:D,4,0)","v":{"$error":"#N/A"}},{"$f":"INDEX(Orders!A:D,ROW()+1,FindCol(\"orders\",2,TimeBucketName))/$C1231","v":{"$error":"#N/A"}}]
[{"$f":"Orders!A1233","v":0},{"$f":"VLOOKUP(A1232,'Product-tool'!A:E,5,0)","v":{"$error":"#N/A"}},{"$f":"VLOOKUP(A1232&B1232,'Standard output'!A:D,4,0)","v":{"$error":"#N/A"}},{"$f":"INDEX(Orders!A:D,ROW()+1,FindCol(\"orders\",2,TimeBucketName))/$C1232","v":{"$error":"#N/A"}}]
[{"$f":"Orders!A1234","v":0},{"$f":"VLOOKUP(A1233,'Product-tool'!A:E,5,0)","v":{"$error":"#N/A"}},{"$f":"VLOOKUP(A1233&B1233,'Standard output'!A:D,4,0)","v":{"$error":"#N/A"}},{"$f":"INDEX(Orders!A:D,ROW()+1,FindCol(\"orders\",2,TimeBucketName))/$C1233","v":{"$error":"#N/A"}}]
[{"$f":"Orders!A1235","v":0},{"$f":"VLOOKUP(A1234,'Product-tool'!A:E,5,0)","v":{"$error":"#N/A"}},{"$f":"VLOOKUP(A1234&B1234,'Standard output'!A:D,4,0)","v":{"$error":"#N/A"}},{"$f":"INDEX(Orders!A:D,ROW()+1,FindCol(\"orders\",2,TimeBucketName))/$C1234","v":{"$error":"#N/A"}}]
[{"$f":"Orders!A1236","v":0},{"$f":"VLOOKUP(A1235,'Product-tool'!A:E,5,0)","v":{"$error":"#N/A"}},{"$f":"VLOOKUP(A1235&B1235,'Standard output'!A:D,4,0)","v":{"$error":"#N/A"}},{"$f":"INDEX(Orders!A:D,ROW()+1,FindCol(\"orders\",2,TimeBucketName))/$C1235","v":{"$error":"#N/A"}}]
[{"$f":"Orders!A1237","v":0},{"$f":"VLOOKUP(A1236,'Product-tool'!A:E,5,0)","v":{"$error":"#N/A"}},{"$f":"VLOOKUP(A1236&B1236,'Standard output'!A:D,4,0)","v":{"$error":"#N/A"}},{"$f":"INDEX(Orders!A:D,ROW()+1,FindCol(\"orders\",2,TimeBucketName))/$C1236","v":{"$error":"#N/A"}}]
[{"$f":"Orders!A1238","v":0},{"$f":"VLOOKUP(A1237,'Product-tool'!A:E,5,0)","v":{"$error":"#N/A"}},{"$f":"VLOOKUP(A1237&B1237,'Standard output'!A:D,4,0)","v":{"$error":"#N/A"}},{"$f":"INDEX(Orders!A:D,ROW()+1,FindCol(\"orders\",2,TimeBucketName))/$C1237","v":{"$error":"#N/A"}}]
[{"$f":"Orders!A1239","v":0},{"$f":"VLOOKUP(A1238,'Product-tool'!A:E,5,0)","v":{"$error":"#N/A"}},{"$f":"VLOOKUP(A1238&B1238,'Standard output'!A:D,4,0)","v":{"$error":"#N/A"}},{"$f":"INDEX(Orders!A:D,ROW()+1,FindCol(\"orders\",2,TimeBucketName))/$C1238","v":{"$error":"#N/A"}}]
[{"$f":"Orders!A1240","v":0},{"$f":"VLOOKUP(A1239,'Product-tool'!A:E,5,0)","v":{"$error":"#N/A"}},{"$f":"VLOOKUP(A1239&B1239,'Standard output'!A:D,4,0)","v":{"$error":"#N/A"}},{"$f":"INDEX(Orders!A:D,ROW()+1,FindCol(\"orders\",2,TimeBucketName))/$C1239","v":{"$error":"#N/A"}}]
[{"$f":"Orders!A1241","v":0},{"$f":"VLOOKUP(A1240,'Product-tool'!A:E,5,0)","v":{"$error":"#N/A"}},{"$f":"VLOOKUP(A1240&B1240,'Standard output'!A:D,4,0)","v":{"$error":"#N/A"}},{"$f":"INDEX(Orders!A:D,ROW()+1,FindCol(\"orders\",2,TimeBucketName))/$C1240","v":{"$error":"#N/A"}}]
[{"$f":"Orders!A1242","v":0},{"$f":"VLOOKUP(A1241,'Product-tool'!A:E,5,0)","v":{"$error":"#N/A"}},{"$f":"VLOOKUP(A1241&B1241,'Standard output'!A:D,4,0)","v":{"$error":"#N/A"}},{"$f":"INDEX(Orders!A:D,ROW()+1,FindCol(\"orders\",2,TimeBucketName))/$C1241","v":{"$error":"#N/A"}}]
[{"$f":"Orders!A1243","v":0},{"$f":"VLOOKUP(A1242,'Product-tool'!A:E,5,0)","v":{"$error":"#N/A"}},{"$f":"VLOOKUP(A1242&B1242,'Standard output'!A:D,4,0)","v":{"$error":"#N/A"}},{"$f":"INDEX(Orders!A:D,ROW()+1,FindCol(\"orders\",2,TimeBucketName))/$C1242","v":{"$error":"#N/A"}}]
[{"$f":"Orders!A1244","v":0},{"$f":"VLOOKUP(A1243,'Product-tool'!A:E,5,0)","v":{"$error":"#N/A"}},{"$f":"VLOOKUP(A1243&B1243,'Standard output'!A:D,4,0)","v":{"$error":"#N/A"}},{"$f":"INDEX(Orders!A:D,ROW()+1,FindCol(\"orders\",2,TimeBucketName))/$C1243","v":{"$error":"#N/A"}}]
[{"$f":"Orders!A1245","v":0},{"$f":"VLOOKUP(A1244,'Product-tool'!A:E,5,0)","v":{"$error":"#N/A"}},{"$f":"VLOOKUP(A1244&B1244,'Standard output'!A:D,4,0)","v":{"$error":"#N/A"}},{"$f":"INDEX(Orders!A:D,ROW()+1,FindCol(\"orders\",2,TimeBucketName))/$C1244","v":{"$error":"#N/A"}}]
[{"$f":"Orders!A1246","v":0},{"$f":"VLOOKUP(A1245,'Product-tool'!A:E,5,0)","v":{"$error":"#N/A"}},{"$f":"VLOOKUP(A1245&B1245,'Standard output'!A:D,4,0)","v":{"$error":"#N/A"}},{"$f":"INDEX(Orders!A:D,ROW()+1,FindCol(\"orders\",2,TimeBucketName))/$C1245","v":{"$error":"#N/A"}}]
[{"$f":"Orders!A1247","v":0},{"$f":"VLOOKUP(A1246,'Product-tool'!A:E,5,0)","v":{"$error":"#N/A"}},{"$f":"VLOOKUP(A1246&B1246,'Standard output'!A:D,4,0)","v":{"$error":"#N/A"}},{"$f":"INDEX(Orders!A:D,ROW()+1,FindCol(\"orders\",2,TimeBucketName))/$C1246","v":{"$error":"#N/A"}}]
[{"$f":"Orders!A1248","v":0},{"$f":"VLOOKUP(A1247,'Product-tool'!A:E,5,0)","v":{"$error":"#N/A"}},{"$f":"VLOOKUP(A1247&B1247,'Standard output'!A:D,4,0)","v":{"$error":"#N/A"}},{"$f":"INDEX(Orders!A:D,ROW()+1,FindCol(\"orders\",2,TimeBucketName))/$C1247","v":{"$error":"#N/A"}}]
[{"$f":"Orders!A1249","v":0},{"$f":"VLOOKUP(A1248,'Product-tool'!A:E,5,0)","v":{"$error":"#N/A"}},{"$f":"VLOOKUP(A1248&B1248,'Standard output'!A:D,4,0)","v":{"$error":"#N/A"}},{"$f":"INDEX(Orders!A:D,ROW()+1,FindCol(\"orders\",2,TimeBucketName))/$C1248","v":{"$error":"#N/A"}}]
[{"$f":"Orders!A1250","v":0},{"$f":"VLOOKUP(A1249,'Product-tool'!A:E,5,0)","v":{"$error":"#N/A"}},{"$f":"VLOOKUP(A1249&B1249,'Standard output'!A:D,4,0)","v":{"$error":"#N/A"}},{"$f":"INDEX(Orders!A:D,ROW()+1,FindCol(\"orders\",2,TimeBucketName))/$C1249","v":{"$error":"#N/A"}}]
[{"$f":"Orders!A1251","v":0},{"$f":"VLOOKUP(A1250,'Product-tool'!A:E,5,0)","v":{"$error":"#N/A"}},{"$f":"VLOOKUP(A1250&B1250,'Standard output'!A:D,4,0)","v":{"$error":"#N/A"}},{"$f":"INDEX(Orders!A:D,ROW()+1,FindCol(\"orders\",2,TimeBucketName))/$C1250","v":{"$error":"#N/A"}}]
[{"$f":"Orders!A1252","v":0},{"$f":"VLOOKUP(A1251,'Product-tool'!A:E,5,0)","v":{"$error":"#N/A"}},{"$f":"VLOOKUP(A1251&B1251,'Standard output'!A:D,4,0)","v":{"$error":"#N/A"}},{"$f":"INDEX(Orders!A:D,ROW()+1,FindCol(\"orders\",2,TimeBucketName))/$C1251","v":{"$error":"#N/A"}}]
[{"$f":"Orders!A1253","v":0},{"$f":"VLOOKUP(A1252,'Product-tool'!A:E,5,0)","v":{"$error":"#N/A"}},{"$f":"VLOOKUP(A1252&B1252,'Standard output'!A:D,4,0)","v":{"$error":"#N/A"}},{"$f":"INDEX(Orders!A:D,ROW()+1,FindCol(\"orders\",2,TimeBucketName))/$C1252","v":{"$error":"#N/A"}}]
[{"$f":"Orders!A1254","v":0},{"$f":"VLOOKUP(A1253,'Product-tool'!A:E,5,0)","v":{"$error":"#N/A"}},{"$f":"VLOOKUP(A1253&B1253,'Standard output'!A:D,4,0)","v":{"$error":"#N/A"}},{"$f":"INDEX(Orders!A:D,ROW()+1,FindCol(\"orders\",2,TimeBucketName))/$C1253","v":{"$error":"#N/A"}}]
[{"$f":"Orders!A1255","v":0},{"$f":"VLOOKUP(A1254,'Product-tool'!A:E,5,0)","v":{"$error":"#N/A"}},{"$f":"VLOOKUP(A1254&B1254,'Standard output'!A:D,4,0)","v":{"$error":"#N/A"}},{"$f":"INDEX(Orders!A:D,ROW()+1,FindCol(\"orders\",2,TimeBucketName))/$C1254","v":{"$error":"#N/A"}}]
[{"$f":"Orders!A1256","v":0},{"$f":"VLOOKUP(A1255,'Product-tool'!A:E,5,0)","v":{"$error":"#N/A"}},{"$f":"VLOOKUP(A1255&B1255,'Standard output'!A:D,4,0)","v":{"$error":"#N/A"}},{"$f":"INDEX(Orders!A:D,ROW()+1,FindCol(\"orders\",2,TimeBucketName))/$C1255","v":{"$error":"#N/A"}}]
[{"$f":"Orders!A1257","v":0},{"$f":"VLOOKUP(A1256,'Product-tool'!A:E,5,0)","v":{"$error":"#N/A"}},{"$f":"VLOOKUP(A1256&B1256,'Standard output'!A:D,4,0)","v":{"$error":"#N/A"}},{"$f":"INDEX(Orders!A:D,ROW()+1,FindCol(\"orders\",2,TimeBucketName))/$C1256","v":{"$error":"#N/A"}}]
[{"$f":"Orders!A1258","v":0},{"$f":"VLOOKUP(A1257,'Product-tool'!A:E,5,0)","v":{"$error":"#N/A"}},{"$f":"VLOOKUP(A1257&B1257,'Standard output'!A:D,4,0)","v":{"$error":"#N/A"}},{"$f":"INDEX(Orders!A:D,ROW()+1,FindCol(\"orders\",2,TimeBucketName))/$C1257","v":{"$error":"#N/A"}}]
[{"$f":"Orders!A1259","v":0},{"$f":"VLOOKUP(A1258,'Product-tool'!A:E,5,0)","v":{"$error":"#N/A"}},{"$f":"VLOOKUP(A1258&B1258,'Standard output'!A:D,4,0)","v":{"$error":"#N/A"}},{"$f":"INDEX(Orders!A:D,ROW()+1,FindCol(\"orders\",2,TimeBucketName))/$C1258","v":{"$error":"#N/A"}}]
[{"$f":"Orders!A1260","v":0},{"$f":"VLOOKUP(A1259,'Product-tool'!A:E,5,0)","v":{"$error":"#N/A"}},{"$f":"VLOOKUP(A1259&B1259,'Standard output'!A:D,4,0)","v":{"$error":"#N/A"}},{"$f":"INDEX(Orders!A:D,ROW()+1,FindCol(\"orders\",2,TimeBucketName))/$C1259","v":{"$error":"#N/A"}}]
[{"$f":"Orders!A1261","v":0},{"$f":"VLOOKUP(A1260,'Product-tool'!A:E,5,0)","v":{"$error":"#N/A"}},{"$f":"VLOOKUP(A1260&B1260,'Standard output'!A:D,4,0)","v":{"$error":"#N/A"}},{"$f":"INDEX(Orders!A:D,ROW()+1,FindCol(\"orders\",2,TimeBucketName))/$C1260","v":{"$error":"#N/A"}}]
[{"$f":"Orders!A1262","v":0},{"$f":"VLOOKUP(A1261,'Product-tool'!A:E,5,0)","v":{"$error":"#N/A"}},{"$f":"VLOOKUP(A1261&B1261,'Standard output'!A:D,4,0)","v":{"$error":"#N/A"}},{"$f":"INDEX(Orders!A:D,ROW()+1,FindCol(\"orders\",2,TimeBucketName))/$C1261","v":{"$error":"#N/A"}}]
[{"$f":"Orders!A1263","v":0},{"$f":"VLOOKUP(A1262,'Product-tool'!A:E,5,0)","v":{"$error":"#N/A"}},{"$f":"VLOOKUP(A1262&B1262,'Standard output'!A:D,4,0)","v":{"$error":"#N/A"}},{"$f":"INDEX(Orders!A:D,ROW()+1,FindCol(\"orders\",2,TimeBucketName))/$C1262","v":{"$error":"#N/A"}}]
[{"$f":"Orders!A1264","v":0},{"$f":"VLOOKUP(A1263,'Product-tool'!A:E,5,0)","v":{"$error":"#N/A"}},{"$f":"VLOOKUP(A1263&B1263,'Standard output'!A:D,4,0)","v":{"$error":"#N/A"}},{"$f":"INDEX(Orders!A:D,ROW()+1,FindCol(\"orders\",2,TimeBucketName))/$C1263","v":{"$error":"#N/A"}}]
[{"$f":"Orders!A1265","v":0},{"$f":"VLOOKUP(A1264,'Product-tool'!A:E,5,0)","v":{"$error":"#N/A"}},{"$f":"VLOOKUP(A1264&B1264,'Standard output'!A:D,4,0)","v":{"$error":"#N/A"}},{"$f":"INDEX(Orders!A:D,ROW()+1,FindCol(\"orders\",2,TimeBucketName))/$C1264","v":{"$error":"#N/A"}}]
[{"$f":"Orders!A1266","v":0},{"$f":"VLOOKUP(A1265,'Product-tool'!A:E,5,0)","v":{"$error":"#N/A"}},{"$f":"VLOOKUP(A1265&B1265,'Standard output'!A:D,4,0)","v":{"$error":"#N/A"}},{"$f":"INDEX(Orders!A:D,ROW()+1,FindCol(\"orders\",2,TimeBucketName))/$C1265","v":{"$error":"#N/A"}}]
[{"$f":"Orders!A1267","v":0},{"$f":"VLOOKUP(A1266,'Product-tool'!A:E,5,0)","v":{"$error":"#N/A"}},{"$f":"VLOOKUP(A1266&B1266,'Standard output'!A:D,4,0)","v":{"$error":"#N/A"}},{"$f":"INDEX(Orders!A:D,ROW()+1,FindCol(\"orders\",2,TimeBucketName))/$C1266","v":{"$error":"#N/A"}}]
[{"$f":"Orders!A1268","v":0},{"$f":"VLOOKUP(A1267,'Product-tool'!A:E,5,0)","v":{"$error":"#N/A"}},{"$f":"VLOOKUP(A1267&B1267,'Standard output'!A:D,4,0)","v":{"$error":"#N/A"}},{"$f":"INDEX(Orders!A:D,ROW()+1,FindCol(\"orders\",2,TimeBucketName))/$C1267","v":{"$error":"#N/A"}}]
[{"$f":"Orders!A1269","v":0},{"$f":"VLOOKUP(A1268,'Product-tool'!A:E,5,0)","v":{"$error":"#N/A"}},{"$f":"VLOOKUP(A1268&B1268,'Standard output'!A:D,4,0)","v":{"$error":"#N/A"}},{"$f":"INDEX(Orders!A:D,ROW()+1,FindCol(\"orders\",2,TimeBucketName))/$C1268","v":{"$error":"#N/A"}}]
[{"$f":"Orders!A1270","v":0},{"$f":"VLOOKUP(A1269,'Product-tool'!A:E,5,0)","v":{"$error":"#N/A"}},{"$f":"VLOOKUP(A1269&B1269,'Standard output'!A:D,4,0)","v":{"$error":"#N/A"}},{"$f":"INDEX(Orders!A:D,ROW()+1,FindCol(\"orders\",2,TimeBucketName))/$C1269","v":{"$error":"#N/A"}}]
[{"$f":"Orders!A1271","v":0},{"$f":"VLOOKUP(A1270,'Product-tool'!A:E,5,0)","v":{"$error":"#N/A"}},{"$f":"VLOOKUP(A1270&B1270,'Standard output'!A:D,4,0)","v":{"$error":"#N/A"}},{"$f":"INDEX(Orders!A:D,ROW()+1,FindCol(\"orders\",2,TimeBucketName))/$C1270","v":{"$error":"#N/A"}}]
[{"$f":"Orders!A1272","v":0},{"$f":"VLOOKUP(A1271,'Product-tool'!A:E,5,0)","v":{"$error":"#N/A"}},{"$f":"VLOOKUP(A1271&B1271,'Standard output'!A:D,4,0)","v":{"$error":"#N/A"}},{"$f":"INDEX(Orders!A:D,ROW()+1,FindCol(\"orders\",2,TimeBucketName))/$C1271","v":{"$error":"#N/A"}}]
[{"$f":"Orders!A1273","v":0},{"$f":"VLOOKUP(A1272,'Product-tool'!A:E,5,0)","v":{"$error":"#N/A"}},{"$f":"VLOOKUP(A1272&B1272,'Standard output'!A:D,4,0)","v":{"$error":"#N/A"}},{"$f":"INDEX(Orders!A:D,ROW()+1,FindCol(\"orders\",2,TimeBucketName))/$C1272","v":{"$error":"#N/A"}}]
[{"$f":"Orders!A1274","v":0},{"$f":"VLOOKUP(A1273,'Product-tool'!A:E,5,0)","v":{"$error":"#N/A"}},{"$f":"VLOOKUP(A1273&B1273,'Standard output'!A:D,4,0)","v":{"$error":"#N/A"}},{"$f":"INDEX(Orders!A:D,ROW()+1,FindCol(\"orders\",2,TimeBucketName))/$C1273","v":{"$error":"#N/A"}}]
[{"$f":"Orders!A1275","v":0},{"$f":"VLOOKUP(A1274,'Product-tool'!A:E,5,0)","v":{"$error":"#N/A"}},{"$f":"VLOOKUP(A1274&B1274,'Standard output'!A:D,4,0)","v":{"$error":"#N/A"}},{"$f":"INDEX(Orders!A:D,ROW()+1,FindCol(\"orders\",2,TimeBucketName))/$C1274","v":{"$error":"#N/A"}}]
[{"$f":"Orders!A1276","v":0},{"$f":"VLOOKUP(A1275,'Product-tool'!A:E,5,0)","v":{"$error":"#N/A"}},{"$f":"VLOOKUP(A1275&B1275,'Standard output'!A:D,4,0)","v":{"$error":"#N/A"}},{"$f":"INDEX(Orders!A:D,ROW()+1,FindCol(\"orders\",2,TimeBucketName))/$C1275","v":{"$error":"#N/A"}}]
[{"$f":"Orders!A1277","v":0},{"$f":"VLOOKUP(A1276,'Product-tool'!A:E,5,0)","v":{"$error":"#N/A"}},{"$f":"VLOOKUP(A1276&B1276,'Standard output'!A:D,4,0)","v":{"$error":"#N/A"}},{"$f":"INDEX(Orders!A:D,ROW()+1,FindCol(\"orders\",2,TimeBucketName))/$C1276","v":{"$error":"#N/A"}}]
[{"$f":"Orders!A1278","v":0},{"$f":"VLOOKUP(A1277,'Product-tool'!A:E,5,0)","v":{"$error":"#N/A"}},{"$f":"VLOOKUP(A1277&B1277,'Standard output'!A:D,4,0)","v":{"$error":"#N/A"}},{"$f":"INDEX(Orders!A:D,ROW()+1,FindCol(\"orders\",2,TimeBucketName))/$C1277","v":{"$error":"#N/A"}}]
[{"$f":"Orders!A1279","v":0},{"$f":"VLOOKUP(A1278,'Product-tool'!A:E,5,0)","v":{"$error":"#N/A"}},{"$f":"VLOOKUP(A1278&B1278,'Standard output'!A:D,4,0)","v":{"$error":"#N/A"}},{"$f":"INDEX(Orders!A:D,ROW()+1,FindCol(\"orders\",2,TimeBucketName))/$C1278","v":{"$error":"#N/A"}}]
[{"$f":"Orders!A1280","v":0},{"$f":"VLOOKUP(A1279,'Product-tool'!A:E,5,0)","v":{"$error":"#N/A"}},{"$f":"VLOOKUP(A1279&B1279,'Standard output'!A:D,4,0)","v":{"$error":"#N/A"}},{"$f":"INDEX(Orders!A:D,ROW()+1,FindCol(\"orders\",2,TimeBucketName))/$C1279","v":{"$error":"#N/A"}}]
[{"$f":"Orders!A1281","v":0},{"$f":"VLOOKUP(A1280,'Product-tool'!A:E,5,0)","v":{"$error":"#N/A"}},{"$f":"VLOOKUP(A1280&B1280,'Standard output'!A:D,4,0)","v":{"$error":"#N/A"}},{"$f":"INDEX(Orders!A:D,ROW()+1,FindCol(\"orders\",2,TimeBucketName))/$C1280","v":{"$error":"#N/A"}}]
[{"$f":"Orders!A1282","v":0},{"$f":"VLOOKUP(A1281,'Product-tool'!A:E,5,0)","v":{"$error":"#N/A"}},{"$f":"VLOOKUP(A1281&B1281,'Standard output'!A:D,4,0)","v":{"$error":"#N/A"}},{"$f":"INDEX(Orders!A:D,ROW()+1,FindCol(\"orders\",2,TimeBucketName))/$C1281","v":{"$error":"#N/A"}}]
[{"$f":"Orders!A1283","v":0},{"$f":"VLOOKUP(A1282,'Product-tool'!A:E,5,0)","v":{"$error":"#N/A"}},{"$f":"VLOOKUP(A1282&B1282,'Standard output'!A:D,4,0)","v":{"$error":"#N/A"}},{"$f":"INDEX(Orders!A:D,ROW()+1,FindCol(\"orders\",2,TimeBucketName))/$C1282","v":{"$error":"#N/A"}}]
[{"$f":"Orders!A1284","v":0},{"$f":"VLOOKUP(A1283,'Product-tool'!A:E,5,0)","v":{"$error":"#N/A"}},{"$f":"VLOOKUP(A1283&B1283,'Standard output'!A:D,4,0)","v":{"$error":"#N/A"}},{"$f":"INDEX(Orders!A:D,ROW()+1,FindCol(\"orders\",2,TimeBucketName))/$C1283","v":{"$error":"#N/A"}}]
[{"$f":"Orders!A1285","v":0},{"$f":"VLOOKUP(A1284,'Product-tool'!A:E,5,0)","v":{"$error":"#N/A"}},{"$f":"VLOOKUP(A1284&B1284,'Standard output'!A:D,4,0)","v":{"$error":"#N/A"}},{"$f":"INDEX(Orders!A:D,ROW()+1,FindCol(\"orders\",2,TimeBucketName))/$C1284","v":{"$error":"#N/A"}}]
[{"$f":"Orders!A1286","v":0},{"$f":"VLOOKUP(A1285,'Product-tool'!A:E,5,0)","v":{"$error":"#N/A"}},{"$f":"VLOOKUP(A1285&B1285,'Standard output'!A:D,4,0)","v":{"$error":"#N/A"}},{"$f":"INDEX(Orders!A:D,ROW()+1,FindCol(\"orders\",2,TimeBucketName))/$C1285","v":{"$error":"#N/A"}}]
[{"$f":"Orders!A1287","v":0},{"$f":"VLOOKUP(A1286,'Product-tool'!A:E,5,0)","v":{"$error":"#N/A"}},{"$f":"VLOOKUP(A1286&B1286,'Standard output'!A:D,4,0)","v":{"$error":"#N/A"}},{"$f":"INDEX(Orders!A:D,ROW()+1,FindCol(\"orders\",2,TimeBucketName))/$C1286","v":{"$error":"#N/A"}}]
[{"$f":"Orders!A1288","v":0},{"$f":"VLOOKUP(A1287,'Product-tool'!A:E,5,0)","v":{"$error":"#N/A"}},{"$f":"VLOOKUP(A1287&B1287,'Standard output'!A:D,4,0)","v":{"$error":"#N/A"}},{"$f":"INDEX(Orders!A:D,ROW()+1,FindCol(\"orders\",2,TimeBucketName))/$C1287","v":{"$error":"#N/A"}}]
[{"$f":"Orders!A1289","v":0},{"$f":"VLOOKUP(A1288,'Product-tool'!A:E,5,0)","v":{"$error":"#N/A"}},{"$f":"VLOOKUP(A1288&B1288,'Standard output'!A:D,4,0)","v":{"$error":"#N/A"}},{"$f":"INDEX(Orders!A:D,ROW()+1,FindCol(\"orders\",2,TimeBucketName))/$C1288","v":{"$error":"#N/A"}}]
[{"$f":"Orders!A1290","v":0},{"$f":"VLOOKUP(A1289,'Product-tool'!A:E,5,0)","v":{"$error":"#N/A"}},{"$f":"VLOOKUP(A1289&B1289,'Standard output'!A:D,4,0)","v":{"$error":"#N/A"}},{"$f":"INDEX(Orders!A:D,ROW()+1,FindCol(\"orders\",2,TimeBucketName))/$C1289","v":{"$error":"#N/A"}}]
[{"$f":"Orders!A1291","v":0},{"$f":"VLOOKUP(A1290,'Product-tool'!A:E,5,0)","v":{"$error":"#N/A"}},{"$f":"VLOOKUP(A1290&B1290,'Standard output'!A:D,4,0)","v":{"$error":"#N/A"}},{"$f":"INDEX(Orders!A:D,ROW()+1,FindCol(\"orders\",2,TimeBucketName))/$C1290","v":{"$error":"#N/A"}}]
[{"$f":"Orders!A1292","v":0},{"$f":"VLOOKUP(A1291,'Product-tool'!A:E,5,0)","v":{"$error":"#N/A"}},{"$f":"VLOOKUP(A1291&B1291,'Standard output'!A:D,4,0)","v":{"$error":"#N/A"}},{"$f":"INDEX(Orders!A:D,ROW()+1,FindCol(\"orders\",2,TimeBucketName))/$C1291","v":{"$error":"#N/A"}}]
[{"$f":"Orders!A1293","v":0},{"$f":"VLOOKUP(A1292,'Product-tool'!A:E,5,0)","v":{"$error":"#N/A"}},{"$f":"VLOOKUP(A1292&B1292,'Standard output'!A:D,4,0)","v":{"$error":"#N/A"}},{"$f":"INDEX(Orders!A:D,ROW()+1,FindCol(\"orders\",2,TimeBucketName))/$C1292","v":{"$error":"#N/A"}}]
[{"$f":"Orders!A1294","v":0},{"$f":"VLOOKUP(A1293,'Product-tool'!A:E,5,0)","v":{"$error":"#N/A"}},{"$f":"VLOOKUP(A1293&B1293,'Standard output'!A:D,4,0)","v":{"$error":"#N/A"}},{"$f":"INDEX(Orders!A:D,ROW()+1,FindCol(\"orders\",2,TimeBucketName))/$C1293","v":{"$error":"#N/A"}}]
[{"$f":"Orders!A1295","v":0},{"$f":"VLOOKUP(A1294,'Product-tool'!A:E,5,0)","v":{"$error":"#N/A"}},{"$f":"VLOOKUP(A1294&B1294,'Standard output'!A:D,4,0)","v":{"$error":"#N/A"}},{"$f":"INDEX(Orders!A:D,ROW()+1,FindCol(\"orders\",2,TimeBucketName))/$C1294","v":{"$error":"#N/A"}}]
[{"$f":"Orders!A1296","v":0},{"$f":"VLOOKUP(A1295,'Product-tool'!A:E,5,0)","v":{"$error":"#N/A"}},{"$f":"VLOOKUP(A1295&B1295,'Standard output'!A:D,4,0)","v":{"$error":"#N/A"}},{"$f":"INDEX(Orders!A:D,ROW()+1,FindCol(\"orders\",2,TimeBucketName))/$C1295","v":{"$error":"#N/A"}}]
[{"$f":"Orders!A1297","v":0},{"$f":"VLOOKUP(A1296,'Product-tool'!A:E,5,0)","v":{"$error":"#N/A"}},{"$f":"VLOOKUP(A1296&B1296,'Standard output'!A:D,4,0)","v":{"$error":"#N/A"}},{"$f":"INDEX(Orders!A:D,ROW()+1,FindCol(\"orders\",2,TimeBucketName))/$C1296","v":{"$error":"#N/A"}}]
[{"$f":"Orders!A1298","v":0},{"$f":"VLOOKUP(A1297,'Product-tool'!A:E,5,0)","v":{"$error":"#N/A"}},{"$f":"VLOOKUP(A1297&B1297,'Standard output'!A:D,4,0)","v":{"$error":"#N/A"}},{"$f":"INDEX(Orders!A:D,ROW()+1,FindCol(\"orders\",2,TimeBucketName))/$C1297","v":{"$error":"#N/A"}}]
[{"$f":"Orders!A1299","v":0},{"$f":"VLOOKUP(A1298,'Product-tool'!A:E,5,0)","v":{"$error":"#N/A"}},{"$f":"VLOOKUP(A1298&B1298,'Standard output'!A:D,4,0)","v":{"$error":"#N/A"}},{"$f":"INDEX(Orders!A:D,ROW()+1,FindCol(\"orders\",2,TimeBucketName))/$C1298","v":{"$error":"#N/A"}}]
[{"$f":"Orders!A1300","v":0},{"$f":"VLOOKUP(A1299,'Product-tool'!A:E,5,0)","v":{"$error":"#N/A"}},{"$f":"VLOOKUP(A1299&B1299,'Standard output'!A:D,4,0)","v":{"$error":"#N/A"}},{"$f":"INDEX(Orders!A:D,ROW()+1,FindCol(\"orders\",2,TimeBucketName))/$C1299","v":{"$error":"#N/A"}}]
[{"$f":"Orders!A1301","v":0},{"$f":"VLOOKUP(A1300,'Product-tool'!A:E,5,0)","v":{"$error":"#N/A"}},{"$f":"VLOOKUP(A1300&B1300,'Standard output'!A:D,4,0)","v":{"$error":"#N/A"}},{"$f":"INDEX(Orders!A:D,ROW()+1,FindCol(\"orders\",2,TimeBucketName))/$C1300","v":{"$error":"#N/A"}}]
[{"$f":"Orders!A1302","v":0},{"$f":"VLOOKUP(A1301,'Product-tool'!A:E,5,0)","v":{"$error":"#N/A"}},{"$f":"VLOOKUP(A1301&B1301,'Standard output'!A:D,4,0)","v":{"$error":"#N/A"}},{"$f":"INDEX(Orders!A:D,ROW()+1,FindCol(\"orders\",2,TimeBucketName))/$C1301","v":{"$error":"#N/A"}}]
[{"$f":"Orders!A1303","v":0},{"$f":"VLOOKUP(A1302,'Product-tool'!A:E,5,0)","v":{"$error":"#N/A"}},{"$f":"VLOOKUP(A1302&B1302,'Standard output'!A:D,4,0)","v":{"$error":"#N/A"}},{"$f":"INDEX(Orders!A:D,ROW()+1,FindCol(\"orders\",2,TimeBucketName))/$C1302","v":{"$error":"#N/A"}}]
[{"$f":"Orders!A1304","v":0},{"$f":"VLOOKUP(A1303,'Product-tool'!A:E,5,0)","v":{"$error":"#N/A"}},{"$f":"VLOOKUP(A1303&B1303,'Standard output'!A:D,4,0)","v":{"$error":"#N/A"}},{"$f":"INDEX(Orders!A:D,ROW()+1,FindCol(\"orders\",2,TimeBucketName))/$C1303","v":{"$error":"#N/A"}}]
[{"$f":"Orders!A1305","v":0},{"$f":"VLOOKUP(A1304,'Product-tool'!A:E,5,0)","v":{"$error":"#N/A"}},{"$f":"VLOOKUP(A1304&B1304,'Standard output'!A:D,4,0)","v":{"$error":"#N/A"}},{"$f":"INDEX(Orders!A:D,ROW()+1,FindCol(\"orders\",2,TimeBucketName))/$C1304","v":{"$error":"#N/A"}}]
[{"$f":"Orders!A1306","v":0},{"$f":"VLOOKUP(A1305,'Product-tool'!A:E,5,0)","v":{"$error":"#N/A"}},{"$f":"VLOOKUP(A1305&B1305,'Standard output'!A:D,4,0)","v":{"$error":"#N/A"}},{"$f":"INDEX(Orders!A:D,ROW()+1,FindCol(\"orders\",2,TimeBucketName))/$C1305","v":{"$error":"#N/A"}}]
[{"$f":"Orders!A1307","v":0},{"$f":"VLOOKUP(A1306,'Product-tool'!A:E,5,0)","v":{"$error":"#N/A"}},{"$f":"VLOOKUP(A1306&B1306,'Standard output'!A:D,4,0)","v":{"$error":"#N/A"}},{"$f":"INDEX(Orders!A:D,ROW()+1,FindCol(\"orders\",2,TimeBucketName))/$C1306","v":{"$error":"#N/A"}}]
[{"$f":"Orders!A1308","v":0},{"$f":"VLOOKUP(A1307,'Product-tool'!A:E,5,0)","v":{"$error":"#N/A"}},{"$f":"VLOOKUP(A1307&B1307,'Standard output'!A:D,4,0)","v":{"$error":"#N/A"}},{"$f":"INDEX(Orders!A:D,ROW()+1,FindCol(\"orders\",2,TimeBucketName))/$C1307","v":{"$error":"#N/A"}}]
[{"$f":"Orders!A1309","v":0},{"$f":"VLOOKUP(A1308,'Product-tool'!A:E,5,0)","v":{"$error":"#N/A"}},{"$f":"VLOOKUP(A1308&B1308,'Standard output'!A:D,4,0)","v":{"$error":"#N/A"}},{"$f":"INDEX(Orders!A:D,ROW()+1,FindCol(\"orders\",2,TimeBucketName))/$C1308","v":{"$error":"#N/A"}}]
[{"$f":"Orders!A1310","v":0},{"$f":"VLOOKUP(A1309,'Product-tool'!A:E,5,0)","v":{"$error":"#N/A"}},{"$f":"VLOOKUP(A1309&B1309,'Standard output'!A:D,4,0)","v":{"$error":"#N/A"}},{"$f":"INDEX(Orders!A:D,ROW()+1,FindCol(\"orders\",2,TimeBucketName))/$C1309","v":{"$error":"#N/A"}}]
[{"$f":"Orders!A1311","v":0},{"$f":"VLOOKUP(A1310,'Product-tool'!A:E,5,0)","v":{"$error":"#N/A"}},{"$f":"VLOOKUP(A1310&B1310,'Standard output'!A:D,4,0)","v":{"$error":"#N/A"}},{"$f":"INDEX(Orders!A:D,ROW()+1,FindCol(\"orders\",2,TimeBucketName))/$C1310","v":{"$error":"#N/A"}}]
[{"$f":"Orders!A1312","v":0},{"$f":"VLOOKUP(A1311,'Product-tool'!A:E,5,0)","v":{"$error":"#N/A"}},{"$f":"VLOOKUP(A1311&B1311,'Standard output'!A:D,4,0)","v":{"$error":"#N/A"}},{"$f":"INDEX(Orders!A:D,ROW()+1,FindCol(\"orders\",2,TimeBucketName))/$C1311","v":{"$error":"#N/A"}}]
[{"$f":"Orders!A1313","v":0},{"$f":"VLOOKUP(A1312,'Product-tool'!A:E,5,0)","v":{"$error":"#N/A"}},{"$f":"VLOOKUP(A1312&B1312,'Standard output'!A:D,4,0)","v":{"$error":"#N/A"}},{"$f":"INDEX(Orders!A:D,ROW()+1,FindCol(\"orders\",2,TimeBucketName))/$C1312","v":{"$error":"#N/A"}}]
[{"$f":"Orders!A1314","v":0},{"$f":"VLOOKUP(A1313,'Product-tool'!A:E,5,0)","v":{"$error":"#N/A"}},{"$f":"VLOOKUP(A1313&B1313,'Standard output'!A:D,4,0)","v":{"$error":"#N/A"}},{"$f":"INDEX(Orders!A:D,ROW()+1,FindCol(\"orders\",2,TimeBucketName))/$C1313","v":{"$error":"#N/A"}}]
[{"$f":"Orders!A1315","v":0},{"$f":"VLOOKUP(A1314,'Product-tool'!A:E,5,0)","v":{"$error":"#N/A"}},{"$f":"VLOOKUP(A1314&B1314,'Standard output'!A:D,4,0)","v":{"$error":"#N/A"}},{"$f":"INDEX(Orders!A:D,ROW()+1,FindCol(\"orders\",2,TimeBucketName))/$C1314","v":{"$error":"#N/A"}}]
[{"$f":"Orders!A1316","v":0},{"$f":"VLOOKUP(A1315,'Product-tool'!A:E,5,0)","v":{"$error":"#N/A"}},{"$f":"VLOOKUP(A1315&B1315,'Standard output'!A:D,4,0)","v":{"$error":"#N/A"}},{"$f":"INDEX(Orders!A:D,ROW()+1,FindCol(\"orders\",2,TimeBucketName))/$C1315","v":{"$error":"#N/A"}}]
[{"$f":"Orders!A1317","v":0},{"$f":"VLOOKUP(A1316,'Product-tool'!A:E,5,0)","v":{"$error":"#N/A"}},{"$f":"VLOOKUP(A1316&B1316,'Standard output'!A:D,4,0)","v":{"$error":"#N/A"}},{"$f":"INDEX(Orders!A:D,ROW()+1,FindCol(\"orders\",2,TimeBucketName))/$C1316","v":{"$error":"#N/A"}}]
[{"$f":"Orders!A1318","v":0},{"$f":"VLOOKUP(A1317,'Product-tool'!A:E,5,0)","v":{"$error":"#N/A"}},{"$f":"VLOOKUP(A1317&B1317,'Standard output'!A:D,4,0)","v":{"$error":"#N/A"}},{"$f":"INDEX(Orders!A:D,ROW()+1,FindCol(\"orders\",2,TimeBucketName))/$C1317","v":{"$error":"#N/A"}}]
[{"$f":"Orders!A1319","v":0},{"$f":"VLOOKUP(A1318,'Product-tool'!A:E,5,0)","v":{"$error":"#N/A"}},{"$f":"VLOOKUP(A1318&B1318,'Standard output'!A:D,4,0)","v":{"$error":"#N/A"}},{"$f":"INDEX(Orders!A:D,ROW()+1,FindCol(\"orders\",2,TimeBucketName))/$C1318","v":{"$error":"#N/A"}}]
[{"$f":"Orders!A1320","v":0},{"$f":"VLOOKUP(A1319,'Product-tool'!A:E,5,0)","v":{"$error":"#N/A"}},{"$f":"VLOOKUP(A1319&B1319,'Standard output'!A:D,4,0)","v":{"$error":"#N/A"}},{"$f":"INDEX(Orders!A:D,ROW()+1,FindCol(\"orders\",2,TimeBucketName))/$C1319","v":{"$error":"#N/A"}}]
[{"$f":"Orders!A1321","v":0},{"$f":"VLOOKUP(A1320,'Product-tool'!A:E,5,0)","v":{"$error":"#N/A"}},{"$f":"VLOOKUP(A1320&B1320,'Standard output'!A:D,4,0)","v":{"$error":"#N/A"}},{"$f":"INDEX(Orders!A:D,ROW()+1,FindCol(\"orders\",2,TimeBucketName))/$C1320","v":{"$error":"#N/A"}}]
[{"$f":"Orders!A1322","v":0},{"$f":"VLOOKUP(A1321,'Product-tool'!A:E,5,0)","v":{"$error":"#N/A"}},{"$f":"VLOOKUP(A1321&B1321,'Standard output'!A:D,4,0)","v":{"$error":"#N/A"}},{"$f":"INDEX(Orders!A:D,ROW()+1,FindCol(\"orders\",2,TimeBucketName))/$C1321","v":{"$error":"#N/A"}}]
[{"$f":"Orders!A1323","v":0},{"$f":"VLOOKUP(A1322,'Product-tool'!A:E,5,0)","v":{"$error":"#N/A"}},{"$f":"VLOOKUP(A1322&B1322,'Standard output'!A:D,4,0)","v":{"$error":"#N/A"}},{"$f":"INDEX(Orders!A:D,ROW()+1,FindCol(\"orders\",2,TimeBucketName))/$C1322","v":{"$error":"#N/A"}}]
[{"$f":"Orders!A1324","v":0},{"$f":"VLOOKUP(A1323,'Product-tool'!A:E,5,0)","v":{"$error":"#N/A"}},{"$f":"VLOOKUP(A1323&B1323,'Standard output'!A:D,4,0)","v":{"$error":"#N/A"}},{"$f":"INDEX(Orders!A:D,ROW()+1,FindCol(\"orders\",2,TimeBucketName))/$C1323","v":{"$error":"#N/A"}}]
[{"$f":"Orders!A1325","v":0},{"$f":"VLOOKUP(A1324,'Product-tool'!A:E,5,0)","v":{"$error":"#N/A"}},{"$f":"VLOOKUP(A1324&B1324,'Standard output'!A:D,4,0)","v":{"$error":"#N/A"}},{"$f":"INDEX(Orders!A:D,ROW()+1,FindCol(\"orders\",2,TimeBucketName))/$C1324","v":{"$error":"#N/A"}}]
[{"$f":"Orders!A1326","v":0},{"$f":"VLOOKUP(A1325,'Product-tool'!A:E,5,0)","v":{"$error":"#N/A"}},{"$f":"VLOOKUP(A1325&B1325,'Standard output'!A:D,4,0)","v":{"$error":"#N/A"}},{"$f":"INDEX(Orders!A:D,ROW()+1,FindCol(\"orders\",2,TimeBucketName))/$C1325","v":{"$error":"#N/A"}}]
[{"$f":"Orders!A1327","v":0},{"$f":"VLOOKUP(A1326,'Product-tool'!A:E,5,0)","v":{"$error":"#N/A"}},{"$f":"VLOOKUP(A1326&B1326,'Standard output'!A:D,4,0)","v":{"$error":"#N/A"}},{"$f":"INDEX(Orders!A:D,ROW()+1,FindCol(\"orders\",2,TimeBucketName))/$C1326","v":{"$error":"#N/A"}}]
[{"$f":"Orders!A1328","v":0},{"$f":"VLOOKUP(A1327,'Product-tool'!A:E,5,0)","v":{"$error":"#N/A"}},{"$f":"VLOOKUP(A1327&B1327,'Standard output'!A:D,4,0)","v":{"$error":"#N/A"}},{"$f":"INDEX(Orders!A:D,ROW()+1,FindCol(\"orders\",2,TimeBucketName))/$C1327","v":{"$error":"#N/A"}}]
[{"$f":"Orders!A1329","v":0},{"$f":"VLOOKUP(A1328,'Product-tool'!A:E,5,0)","v":{"$error":"#N/A"}},{"$f":"VLOOKUP(A1328&B1328,'Standard output'!A:D,4,0)","v":{"$error":"#N/A"}},{"$f":"INDEX(Orders!A:D,ROW()+1,FindCol(\"orders\",2,TimeBucketName))/$C1328","v":{"$error":"#N/A"}}]
[{"$f":"Orders!A1330","v":0},{"$f":"VLOOKUP(A1329,'Product-tool'!A:E,5,0)","v":{"$error":"#N/A"}},{"$f":"VLOOKUP(A1329&B1329,'Standard output'!A:D,4,0)","v":{"$error":"#N/A"}},{"$f":"INDEX(Orders!A:D,ROW()+1,FindCol(\"orders\",2,TimeBucketName))/$C1329","v":{"$error":"#N/A"}}]
[{"$f":"Orders!A1331","v":0},{"$f":"VLOOKUP(A1330,'Product-tool'!A:E,5,0)","v":{"$error":"#N/A"}},{"$f":"VLOOKUP(A1330&B1330,'Standard output'!A:D,4,0)","v":{"$error":"#N/A"}},{"$f":"INDEX(Orders!A:D,ROW()+1,FindCol(\"orders\",2,TimeBucketName))/$C1330","v":{"$error":"#N/A"}}]
[{"$f":"Orders!A1332","v":0},{"$f":"VLOOKUP(A1331,'Product-tool'!A:E,5,0)","v":{"$error":"#N/A"}},{"$f":"VLOOKUP(A1331&B1331,'Standard output'!A:D,4,0)","v":{"$error":"#N/A"}},{"$f":"INDEX(Orders!A:D,ROW()+1,FindCol(\"orders\",2,TimeBucketName))/$C1331","v":{"$error":"#N/A"}}]
[{"$f":"Orders!A1333","v":0},{"$f":"VLOOKUP(A1332,'Product-tool'!A:E,5,0)","v":{"$error":"#N/A"}},{"$f":"VLOOKUP(A1332&B1332,'Standard output'!A:D,4,0)","v":{"$error":"#N/A"}},{"$f":"INDEX(Orders!A:D,ROW()+1,FindCol(\"orders\",2,TimeBucketName))/$C1332","v":{"$error":"#N/A"}}]
[{"$f":"Orders!A1334","v":0},{"$f":"VLOOKUP(A1333,'Product-tool'!A:E,5,0)","v":{"$error":"#N/A"}},{"$f":"VLOOKUP(A1333&B1333,'Standard output'!A:D,4,0)","v":{"$error":"#N/A"}},{"$f":"INDEX(Orders!A:D,ROW()+1,FindCol(\"orders\",2,TimeBucketName))/$C1333","v":{"$error":"#N/A"}}]
[{"$f":"Orders!A1335","v":0},{"$f":"VLOOKUP(A1334,'Product-tool'!A:E,5,0)","v":{"$error":"#N/A"}},{"$f":"VLOOKUP(A1334&B1334,'Standard output'!A:D,4,0)","v":{"$error":"#N/A"}},{"$f":"INDEX(Orders!A:D,ROW()+1,FindCol(\"orders\",2,TimeBucketName))/$C1334","v":{"$error":"#N/A"}}]
[{"$f":"Orders!A1336","v":0},{"$f":"VLOOKUP(A1335,'Product-tool'!A:E,5,0)","v":{"$error":"#N/A"}},{"$f":"VLOOKUP(A1335&B1335,'Standard output'!A:D,4,0)","v":{"$error":"#N/A"}},{"$f":"INDEX(Orders!A:D,ROW()+1,FindCol(\"orders\",2,TimeBucketName))/$C1335","v":{"$error":"#N/A"}}]
[{"$f":"Orders!A1337","v":0},{"$f":"VLOOKUP(A1336,'Product-tool'!A:E,5,0)","v":{"$error":"#N/A"}},{"$f":"VLOOKUP(A1336&B1336,'Standard output'!A:D,4,0)","v":{"$error":"#N/A"}},{"$f":"INDEX(Orders!A:D,ROW()+1,FindCol(\"orders\",2,TimeBucketName))/$C1336","v":{"$error":"#N/A"}}]
[{"$f":"Orders!A1338","v":0},{"$f":"VLOOKUP(A1337,'Product-tool'!A:E,5,0)","v":{"$error":"#N/A"}},{"$f":"VLOOKUP(A1337&B1337,'Standard output'!A:D,4,0)","v":{"$error":"#N/A"}},{"$f":"INDEX(Orders!A:D,ROW()+1,FindCol(\"orders\",2,TimeBucketName))/$C1337","v":{"$error":"#N/A"}}]
[{"$f":"Orders!A1339","v":0},{"$f":"VLOOKUP(A1338,'Product-tool'!A:E,5,0)","v":{"$error":"#N/A"}},{"$f":"VLOOKUP(A1338&B1338,'Standard output'!A:D,4,0)","v":{"$error":"#N/A"}},{"$f":"INDEX(Orders!A:D,ROW()+1,FindCol(\"orders\",2,TimeBucketName))/$C1338","v":{"$error":"#N/A"}}]
[{"$f":"Orders!A1340","v":0},{"$f":"VLOOKUP(A1339,'Product-tool'!A:E,5,0)","v":{"$error":"#N/A"}},{"$f":"VLOOKUP(A1339&B1339,'Standard output'!A:D,4,0)","v":{"$error":"#N/A"}},{"$f":"INDEX(Orders!A:D,ROW()+1,FindCol(\"orders\",2,TimeBucketName))/$C1339","v":{"$error":"#N/A"}}]
[{"$f":"Orders!A1341","v":0},{"$f":"VLOOKUP(A1340,'Product-tool'!A:E,5,0)","v":{"$error":"#N/A"}},{"$f":"VLOOKUP(A1340&B1340,'Standard output'!A:D,4,0)","v":{"$error":"#N/A"}},{"$f":"INDEX(Orders!A:D,ROW()+1,FindCol(\"orders\",2,TimeBucketName))/$C1340","v":{"$error":"#N/A"}}]
[{"$f":"Orders!A1342","v":0},{"$f":"VLOOKUP(A1341,'Product-tool'!A:E,5,0)","v":{"$error":"#N/A"}},{"$f":"VLOOKUP(A1341&B1341,'Standard output'!A:D,4,0)","v":{"$error":"#N/A"}},{"$f":"INDEX(Orders!A:D,ROW()+1,FindCol(\"orders\",2,TimeBucketName))/$C1341","v":{"$error":"#N/A"}}]
[{"$f":"Orders!A1343","v":0},{"$f":"VLOOKUP(A1342,'Product-tool'!A:E,5,0)","v":{"$error":"#N/A"}},{"$f":"VLOOKUP(A1342&B1342,'Standard output'!A:D,4,0)","v":{"$error":"#N/A"}},{"$f":"INDEX(Orders!A:D,ROW()+1,FindCol(\"orders\",2,TimeBucketName))/$C1342","v":{"$error":"#N/A"}}]
[{"$f":"Orders!A1344","v":0},{"$f":"VLOOKUP(A1343,'Product-tool'!A:E,5,0)","v":{"$error":"#N/A"}},{"$f":"VLOOKUP(A1343&B1343,'Standard output'!A:D,4,0)","v":{"$error":"#N/A"}},{"$f":"INDEX(Orders!A:D,ROW()+1,FindCol(\"orders\",2,TimeBucketName))/$C1343","v":{"$error":"#N/A"}}]
[{"$f":"Orders!A1345","v":0},{"$f":"VLOOKUP(A1344,'Product-tool'!A:E,5,0)","v":{"$error":"#N/A"}},{"$f":"VLOOKUP(A1344&B1344,'Standard output'!A:D,4,0)","v":{"$error":"#N/A"}},{"$f":"INDEX(Orders!A:D,ROW()+1,FindCol(\"orders\",2,TimeBucketName))/$C1344","v":{"$error":"#N/A"}}]
[{"$f":"Orders!A1346","v":0},{"$f":"VLOOKUP(A1345,'Product-tool'!A:E,5,0)","v":{"$error":"#N/A"}},{"$f":"VLOOKUP(A1345&B1345,'Standard output'!A:D,4,0)","v":{"$error":"#N/A"}},{"$f":"INDEX(Orders!A:D,ROW()+1,FindCol(\"orders\",2,TimeBucketName))/$C1345","v":{"$error":"#N/A"}}]
[{"$f":"Orders!A1347","v":0},{"$f":"VLOOKUP(A1346,'Product-tool'!A:E,5,0)","v":{"$error":"#N/A"}},{"$f":"VLOOKUP(A1346&B1346,'Standard output'!A:D,4,0)","v":{"$error":"#N/A"}},{"$f":"INDEX(Orders!A:D,ROW()+1,FindCol(\"orders\",2,TimeBucketName))/$C1346","v":{"$error":"#N/A"}}]
[{"$f":"Orders!A1348","v":0},{"$f":"VLOOKUP(A1347,'Product-tool'!A:E,5,0)","v":{"$error":"#N/A"}},{"$f":"VLOOKUP(A1347&B1347,'Standard output'!A:D,4,0)","v":{"$error":"#N/A"}},{"$f":"INDEX(Orders!A:D,ROW()+1,FindCol(\"orders\",2,TimeBucketName))/$C1347","v":{"$error":"#N/A"}}]
[{"$f":"Orders!A1349","v":0},{"$f":"VLOOKUP(A1348,'Product-tool'!A:E,5,0)","v":{"$error":"#N/A"}},{"$f":"VLOOKUP(A1348&B1348,'Standard output'!A:D,4,0)","v":{"$error":"#N/A"}},{"$f":"INDEX(Orders!A:D,ROW()+1,FindCol(\"orders\",2,TimeBucketName))/$C1348","v":{"$error":"#N/A"}}]
[{"$f":"Orders!A1350","v":0},{"$f":"VLOOKUP(A1349,'Product-tool'!A:E,5,0)","v":{"$error":"#N/A"}},{"$f":"VLOOKUP(A1349&B1349,'Standard output'!A:D,4,0)","v":{"$error":"#N/A"}},{"$f":"INDEX(Orders!A:D,ROW()+1,FindCol(\"orders\",2,TimeBucketName))/$C1349","v":{"$error":"#N/A"}}]
[{"$f":"Orders!A1351","v":0},{"$f":"VLOOKUP(A1350,'Product-tool'!A:E,5,0)","v":{"$error":"#N/A"}},{"$f":"VLOOKUP(A1350&B1350,'Standard output'!A:D,4,0)","v":{"$error":"#N/A"}},{"$f":"INDEX(Orders!A:D,ROW()+1,FindCol(\"orders\",2,TimeBucketName))/$C1350","v":{"$error":"#N/A"}}]
[{"$f":"Orders!A1352","v":0},{"$f":"VLOOKUP(A1351,'Product-tool'!A:E,5,0)","v":{"$error":"#N/A"}},{"$f":"VLOOKUP(A1351&B1351,'Standard output'!A:D,4,0)","v":{"$error":"#N/A"}},{"$f":"INDEX(Orders!A:D,ROW()+1,FindCol(\"orders\",2,TimeBucketName))/$C1351","v":{"$error":"#N/A"}}]
[{"$f":"Orders!A1353","v":0},{"$f":"VLOOKUP(A1352,'Product-tool'!A:E,5,0)","v":{"$error":"#N/A"}},{"$f":"VLOOKUP(A1352&B1352,'Standard output'!A:D,4,0)","v":{"$error":"#N/A"}},{"$f":"INDEX(Orders!A:D,ROW()+1,FindCol(\"orders\",2,TimeBucketName))/$C1352","v":{"$error":"#N/A"}}]
[{"$f":"Orders!A1354","v":0},{"$f":"VLOOKUP(A1353,'Product-tool'!A:E,5,0)","v":{"$error":"#N/A"}},{"$f":"VLOOKUP(A1353&B1353,'Standard output'!A:D,4,0)","v":{"$error":"#N/A"}},{"$f":"INDEX(Orders!A:D,ROW()+1,FindCol(\"orders\",2,TimeBucketName))/$C1353","v":{"$error":"#N/A"}}]
[{"$f":"Orders!A1355","v":0},{"$f":"VLOOKUP(A1354,'Product-tool'!A:E,5,0)","v":{"$error":"#N/A"}},{"$f":"VLOOKUP(A1354&B1354,'Standard output'!A:D,4,0)","v":{"$error":"#N/A"}},{"$f":"INDEX(Orders!A:D,ROW()+1,FindCol(\"orders\",2,TimeBucketName))/$C1354","v":{"$error":"#N/A"}}]
[{"$f":"Orders!A1356","v":0},{"$f":"VLOOKUP(A1355,'Product-tool'!A:E,5,0)","v":{"$error":"#N/A"}},{"$f":"VLOOKUP(A1355&B1355,'Standard output'!A:D,4,0)","v":{"$error":"#N/A"}},{"$f":"INDEX(Orders!A:D,ROW()+1,FindCol(\"orders\",2,TimeBucketName))/$C1355","v":{"$error":"#N/A"}}]
[{"$f":"Orders!A1357","v":0},{"$f":"VLOOKUP(A1356,'Product-tool'!A:E,5,0)","v":{"$error":"#N/A"}},{"$f":"VLOOKUP(A1356&B1356,'Standard output'!A:D,4,0)","v":{"$error":"#N/A"}},{"$f":"INDEX(Orders!A:D,ROW()+1,FindCol(\"orders\",2,TimeBucketName))/$C1356","v":{"$error":"#N/A"}}]
[{"$f":"Orders!A1358","v":0},{"$f":"VLOOKUP(A1357,'Product-tool'!A:E,5,0)","v":{"$error":"#N/A"}},{"$f":"VLOOKUP(A1357&B1357,'Standard output'!A:D,4,0)","v":{"$error":"#N/A"}},{"$f":"INDEX(Orders!A:D,ROW()+1,FindCol(\"orders\",2,TimeBucketName))/$C1357","v":{"$error":"#N/A"}}]
[{"$f":"Orders!A1359","v":0},{"$f":"VLOOKUP(A1358,'Product-tool'!A:E,5,0)","v":{"$error":"#N/A"}},{"$f":"VLOOKUP(A1358&B1358,'Standard output'!A:D,4,0)","v":{"$error":"#N/A"}},{"$f":"INDEX(Orders!A:D,ROW()+1,FindCol(\"orders\",2,TimeBucketName))/$C1358","v":{"$error":"#N/A"}}]
[{"$f":"Orders!A1360","v":0},{"$f":"VLOOKUP(A1359,'Product-tool'!A:E,5,0)","v":{"$error":"#N/A"}},{"$f":"VLOOKUP(A1359&B1359,'Standard output'!A:D,4,0)","v":{"$error":"#N/A"}},{"$f":"INDEX(Orders!A:D,ROW()+1,FindCol(\"orders\",2,TimeBucketName))/$C1359","v":{"$error":"#N/A"}}]
[{"$f":"Orders!A1361","v":0},{"$f":"VLOOKUP(A1360,'Product-tool'!A:E,5,0)","v":{"$error":"#N/A"}},{"$f":"VLOOKUP(A1360&B1360,'Standard output'!A:D,4,0)","v":{"$error":"#N/A"}},{"$f":"INDEX(Orders!A:D,ROW()+1,FindCol(\"orders\",2,TimeBucketName))/$C1360","v":{"$error":"#N/A"}}]
[{"$f":"Orders!A1362","v":0},{"$f":"VLOOKUP(A1361,'Product-tool'!A:E,5,0)","v":{"$error":"#N/A"}},{"$f":"VLOOKUP(A1361&B1361,'Standard output'!A:D,4,0)","v":{"$error":"#N/A"}},{"$f":"INDEX(Orders!A:D,ROW()+1,FindCol(\"orders\",2,TimeBucketName))/$C1361","v":{"$error":"#N/A"}}]
[{"$f":"Orders!A1363","v":0},{"$f":"VLOOKUP(A1362,'Product-tool'!A:E,5,0)","v":{"$error":"#N/A"}},{"$f":"VLOOKUP(A1362&B1362,'Standard output'!A:D,4,0)","v":{"$error":"#N/A"}},{"$f":"INDEX(Orders!A:D,ROW()+1,FindCol(\"orders\",2,TimeBucketName))/$C1362","v":{"$error":"#N/A"}}]
[{"$f":"Orders!A1364","v":0},{"$f":"VLOOKUP(A1363,'Product-tool'!A:E,5,0)","v":{"$error":"#N/A"}},{"$f":"VLOOKUP(A1363&B1363,'Standard output'!A:D,4,0)","v":{"$error":"#N/A"}},{"$f":"INDEX(Orders!A:D,ROW()+1,FindCol(\"orders\",2,TimeBucketName))/$C1363","v":{"$error":"#N/A"}}]
[{"$f":"Orders!A1365","v":0},{"$f":"VLOOKUP(A1364,'Product-tool'!A:E,5,0)","v":{"$error":"#N/A"}},{"$f":"VLOOKUP(A1364&B1364,'Standard output'!A:D,4,0)","v":{"$error":"#N/A"}},{"$f":"INDEX(Orders!A:D,ROW()+1,FindCol(\"orders\",2,TimeBucketName))/$C1364","v":{"$error":"#N/A"}}]
[{"$f":"Orders!A1366","v":0},{"$f":"VLOOKUP(A1365,'Product-tool'!A:E,5,0)","v":{"$error":"#N/A"}},{"$f":"VLOOKUP(A1365&B1365,'Standard output'!A:D,4,0)","v":{"$error":"#N/A"}},{"$f":"INDEX(Orders!A:D,ROW()+1,FindCol(\"orders\",2,TimeBucketName))/$C1365","v":{"$error":"#N/A"}}]
[{"$f":"Orders!A1367","v":0},{"$f":"VLOOKUP(A1366,'Product-tool'!A:E,5,0)","v":{"$error":"#N/A"}},{"$f":"VLOOKUP(A1366&B1366,'Standard output'!A:D,4,0)","v":{"$error":"#N/A"}},{"$f":"INDEX(Orders!A:D,ROW()+1,FindCol(\"orders\",2,TimeBucketName))/$C1366","v":{"$error":"#N/A"}}]
[{"$f":"Orders!A1368","v":0},{"$f":"VLOOKUP(A1367,'Product-tool'!A:E,5,0)","v":{"$error":"#N/A"}},{"$f":"VLOOKUP(A1367&B1367,'Standard output'!A:D,4,0)","v":{"$error":"#N/A"}},{"$f":"INDEX(Orders!A:D,ROW()+1,FindCol(\"orders\",2,TimeBucketName))/$C1367","v":{"$error":"#N/A"}}]
[{"$f":"Orders!A1369","v":0},{"$f":"VLOOKUP(A1368,'Product-tool'!A:E,5,0)","v":{"$error":"#N/A"}},{"$f":"VLOOKUP(A1368&B1368,'Standard output'!A:D,4,0)","v":{"$error":"#N/A"}},{"$f":"INDEX(Orders!A:D,ROW()+1,FindCol(\"orders\",2,TimeBucketName))/$C1368","v":{"$error":"#N/A"}}]
[{"$f":"Orders!A1370","v":0},{"$f":"VLOOKUP(A1369,'Product-tool'!A:E,5,0)","v":{"$error":"#N/A"}},{"$f":"VLOOKUP(A1369&B1369,'Standard output'!A:D,4,0)","v":{"$error":"#N/A"}},{"$f":"INDEX(Orders!A:D,ROW()+1,FindCol(\"orders\",2,TimeBucketName))/$C1369","v":{"$error":"#N/A"}}]
[{"$f":"Orders!A1371","v":0},{"$f":"VLOOKUP(A1370,'Product-tool'!A:E,5,0)","v":{"$error":"#N/A"}},{"$f":"VLOOKUP(A1370&B1370,'Standard output'!A:D,4,0)","v":{"$error":"#N/A"}},{"$f":"INDEX(Orders!A:D,ROW()+1,FindCol(\"orders\",2,TimeBucketName))/$C1370","v":{"$error":"#N/A"}}]
[{"$f":"Orders!A1372","v":0},{"$f":"VLOOKUP(A1371,'Product-tool'!A:E,5,0)","v":{"$error":"#N/A"}},{"$f":"VLOOKUP(A1371&B1371,'Standard output'!A:D,4,0)","v":{"$error":"#N/A"}},{"$f":"INDEX(Orders!A:D,ROW()+1,FindCol(\"orders\",2,TimeBucketName))/$C1371","v":{"$error":"#N/A"}}]
[{"$f":"Orders!A1373","v":0},{"$f":"VLOOKUP(A1372,'Product-tool'!A:E,5,0)","v":{"$error":"#N/A"}},{"$f":"VLOOKUP(A1372&B1372,'Standard output'!A:D,4,0)","v":{"$error":"#N/A"}},{"$f":"INDEX(Orders!A:D,ROW()+1,FindCol(\"orders\",2,TimeBucketName))/$C1372","v":{"$error":"#N/A"}}]
[{"$f":"Orders!A1374","v":0},{"$f":"VLOOKUP(A1373,'Product-tool'!A:E,5,0)","v":{"$error":"#N/A"}},{"$f":"VLOOKUP(A1373&B1373,'Standard output'!A:D,4,0)","v":{"$error":"#N/A"}},{"$f":"INDEX(Orders!A:D,ROW()+1,FindCol(\"orders\",2,TimeBucketName))/$C1373","v":{"$error":"#N/A"}}]
[{"$f":"Orders!A1375","v":0},{"$f":"VLOOKUP(A1374,'Product-tool'!A:E,5,0)","v":{"$error":"#N/A"}},{"$f":"VLOOKUP(A1374&B1374,'Standard output'!A:D,4,0)","v":{"$error":"#N/A"}},{"$f":"INDEX(Orders!A:D,ROW()+1,FindCol(\"orders\",2,TimeBucketName))/$C1374","v":{"$error":"#N/A"}}]
[{"$f":"Orders!A1376","v":0},{"$f":"VLOOKUP(A1375,'Product-tool'!A:E,5,0)","v":{"$error":"#N/A"}},{"$f":"VLOOKUP(A1375&B1375,'Standard output'!A:D,4,0)","v":{"$error":"#N/A"}},{"$f":"INDEX(Orders!A:D,ROW()+1,FindCol(\"orders\",2,TimeBucketName))/$C1375","v":{"$error":"#N/A"}}]
[{"$f":"Orders!A1377","v":0},{"$f":"VLOOKUP(A1376,'Product-tool'!A:E,5,0)","v":{"$error":"#N/A"}},{"$f":"VLOOKUP(A1376&B1376,'Standard output'!A:D,4,0)","v":{"$error":"#N/A"}},{"$f":"INDEX(Orders!A:D,ROW()+1,FindCol(\"orders\",2,TimeBucketName))/$C1376","v":{"$error":"#N/A"}}]
[{"$f":"Orders!A1378","v":0},{"$f":"VLOOKUP(A1377,'Product-tool'!A:E,5,0)","v":{"$error":"#N/A"}},{"$f":"VLOOKUP(A1377&B1377,'Standard output'!A:D,4,0)","v":{"$error":"#N/A"}},{"$f":"INDEX(Orders!A:D,ROW()+1,FindCol(\"orders\",2,TimeBucketName))/$C1377","v":{"$error":"#N/A"}}]
[{"$f":"Orders!A1379","v":0},{"$f":"VLOOKUP(A1378,'Product-tool'!A:E,5,0)","v":{"$error":"#N/A"}},{"$f":"VLOOKUP(A1378&B1378,'Standard output'!A:D,4,0)","v":{"$error":"#N/A"}},{"$f":"INDEX(Orders!A:D,ROW()+1,FindCol(\"orders\",2,TimeBucketName))/$C1378","v":{"$error":"#N/A"}}]
[{"$f":"Orders!A1380","v":0},{"$f":"VLOOKUP(A1379,'Product-tool'!A:E,5,0)","v":{"$error":"#N/A"}},{"$f":"VLOOKUP(A1379&B1379,'Standard output'!A:D,4,0)","v":{"$error":"#N/A"}},{"$f":"INDEX(Orders!A:D,ROW()+1,FindCol(\"orders\",2,TimeBucketName))/$C1379","v":{"$error":"#N/A"}}]
[{"$f":"Orders!A1381","v":0},{"$f":"VLOOKUP(A1380,'Product-tool'!A:E,5,0)","v":{"$error":"#N/A"}},{"$f":"VLOOKUP(A1380&B1380,'Standard output'!A:D,4,0)","v":{"$error":"#N/A"}},{"$f":"INDEX(Orders!A:D,ROW()+1,FindCol(\"orders\",2,TimeBucketName))/$C1380","v":{"$error":"#N/A"}}]
[{"$f":"Orders!A1382","v":0},{"$f":"VLOOKUP(A1381,'Product-tool'!A:E,5,0)","v":{"$error":"#N/A"}},{"$f":"VLOOKUP(A1381&B1381,'Standard output'!A:D,4,0)","v":{"$error":"#N/A"}},{"$f":"INDEX(Orders!A:D,ROW()+1,FindCol(\"orders\",2,TimeBucketName))/$C1381","v":{"$error":"#N/A"}}]
[{"$f":"Orders!A1383","v":0},{"$f":"VLOOKUP(A1382,'Product-tool'!A:E,5,0)","v":{"$error":"#N/A"}},{"$f":"VLOOKUP(A1382&B1382,'Standard output'!A:D,4,0)","v":{"$error":"#N/A"}},{"$f":"INDEX(Orders!A:D,ROW()+1,FindCol(\"orders\",2,TimeBucketName))/$C1382","v":{"$error":"#N/A"}}]
[{"$f":"Orders!A1384","v":0},{"$f":"VLOOKUP(A1383,'Product-tool'!A:E,5,0)","v":{"$error":"#N/A"}},{"$f":"VLOOKUP(A1383&B1383,'Standard output'!A:D,4,0)","v":{"$error":"#N/A"}},{"$f":"INDEX(Orders!A:D,ROW()+1,FindCol(\"orders\",2,TimeBucketName))/$C1383","v":{"$error":"#N/A"}}]
[{"$f":"Orders!A1385","v":0},{"$f":"VLOOKUP(A1384,'Product-tool'!A:E,5,0)","v":{"$error":"#N/A"}},{"$f":"VLOOKUP(A1384&B1384,'Standard output'!A:D,4,0)","v":{"$error":"#N/A"}},{"$f":"INDEX(Orders!A:D,ROW()+1,FindCol(\"orders\",2,TimeBucketName))/$C1384","v":{"$error":"#N/A"}}]
[{"$f":"Orders!A1386","v":0},{"$f":"VLOOKUP(A1385,'Product-tool'!A:E,5,0)","v":{"$error":"#N/A"}},{"$f":"VLOOKUP(A1385&B1385,'Standard output'!A:D,4,0)","v":{"$error":"#N/A"}},{"$f":"INDEX(Orders!A:D,ROW()+1,FindCol(\"orders\",2,TimeBucketName))/$C1385","v":{"$error":"#N/A"}}]
[{"$f":"Orders!A1387","v":0},{"$f":"VLOOKUP(A1386,'Product-tool'!A:E,5,0)","v":{"$error":"#N/A"}},{"$f":"VLOOKUP(A1386&B1386,'Standard output'!A:D,4,0)","v":{"$error":"#N/A"}},{"$f":"INDEX(Orders!A:D,ROW()+1,FindCol(\"orders\",2,TimeBucketName))/$C1386","v":{"$error":"#N/A"}}]
[{"$f":"Orders!A1388","v":0},{"$f":"VLOOKUP(A1387,'Product-tool'!A:E,5,0)","v":{"$error":"#N/A"}},{"$f":"VLOOKUP(A1387&B1387,'Standard output'!A:D,4,0)","v":{"$error":"#N/A"}},{"$f":"INDEX(Orders!A:D,ROW()+1,FindCol(\"orders\",2,TimeBucketName))/$C1387","v":{"$error":"#N/A"}}]
[{"$f":"Orders!A1389","v":0},{"$f":"VLOOKUP(A1388,'Product-tool'!A:E,5,0)","v":{"$error":"#N/A"}},{"$f":"VLOOKUP(A1388&B1388,'Standard output'!A:D,4,0)","v":{"$error":"#N/A"}},{"$f":"INDEX(Orders!A:D,ROW()+1,FindCol(\"orders\",2,TimeBucketName))/$C1388","v":{"$error":"#N/A"}}]
[{"$f":"Orders!A1390","v":0},{"$f":"VLOOKUP(A1389,'Product-tool'!A:E,5,0)","v":{"$error":"#N/A"}},{"$f":"VLOOKUP(A1389&B1389,'Standard output'!A:D,4,0)","v":{"$error":"#N/A"}},{"$f":"INDEX(Orders!A:D,ROW()+1,FindCol(\"orders\",2,TimeBucketName))/$C1389","v":{"$error":"#N/A"}}]
[{"$f":"Orders!A1391","v":0},{"$f":"VLOOKUP(A1390,'Product-tool'!A:E,5,0)","v":{"$error":"#N/A"}},{"$f":"VLOOKUP(A1390&B1390,'Standard output'!A:D,4,0)","v":{"$error":"#N/A"}},{"$f":"INDEX(Orders!A:D,ROW()+1,FindCol(\"orders\",2,TimeBucketName))/$C1390","v":{"$error":"#N/A"}}]
[{"$f":"Orders!A1392","v":0},{"$f":"VLOOKUP(A1391,'Product-tool'!A:E,5,0)","v":{"$error":"#N/A"}},{"$f":"VLOOKUP(A1391&B1391,'Standard output'!A:D,4,0)","v":{"$error":"#N/A"}},{"$f":"INDEX(Orders!A:D,ROW()+1,FindCol(\"orders\",2,TimeBucketName))/$C1391","v":{"$error":"#N/A"}}]
[{"$f":"Orders!A1393","v":0},{"$f":"VLOOKUP(A1392,'Product-tool'!A:E,5,0)","v":{"$error":"#N/A"}},{"$f":"VLOOKUP(A1392&B1392,'Standard output'!A:D,4,0)","v":{"$error":"#N/A"}},{"$f":"INDEX(Orders!A:D,ROW()+1,FindCol(\"orders\",2,TimeBucketName))/$C1392","v":{"$error":"#N/A"}}]
[{"$f":"Orders!A1394","v":0},{"$f":"VLOOKUP(A1393,'Product-tool'!A:E,5,0)","v":{"$error":"#N/A"}},{"$f":"VLOOKUP(A1393&B1393,'Standard output'!A:D,4,0)","v":{"$error":"#N/A"}},{"$f":"INDEX(Orders!A:D,ROW()+1,FindCol(\"orders\",2,TimeBucketName))/$C1393","v":{"$error":"#N/A"}}]
[{"$f":"Orders!A1395","v":0},{"$f":"VLOOKUP(A1394,'Product-tool'!A:E,5,0)","v":{"$error":"#N/A"}},{"$f":"VLOOKUP(A1394&B1394,'Standard output'!A:D,4,0)","v":{"$error":"#N/A"}},{"$f":"INDEX(Orders!A:D,ROW()+1,FindCol(\"orders\",2,TimeBucketName))/$C1394","v":{"$error":"#N/A"}}]
[{"$f":"Orders!A1396","v":0},{"$f":"VLOOKUP(A1395,'Product-tool'!A:E,5,0)","v":{"$error":"#N/A"}},{"$f":"VLOOKUP(A1395&B1395,'Standard output'!A:D,4,0)","v":{"$error":"#N/A"}},{"$f":"INDEX(Orders!A:D,ROW()+1,FindCol(\"orders\",2,TimeBucketName))/$C1395","v":{"$error":"#N/A"}}]
[{"$f":"Orders!A1397","v":0},{"$f":"VLOOKUP(A1396,'Product-tool'!A:E,5,0)","v":{"$error":"#N/A"}},{"$f":"VLOOKUP(A1396&B1396,'Standard output'!A:D,4,0)","v":{"$error":"#N/A"}},{"$f":"INDEX(Orders!A:D,ROW()+1,FindCol(\"orders\",2,TimeBucketName))/$C1396","v":{"$error":"#N/A"}}]
[{"$f":"Orders!A1398","v":0},{"$f":"VLOOKUP(A1397,'Product-tool'!A:E,5,0)","v":{"$error":"#N/A"}},{"$f":"VLOOKUP(A1397&B1397,'Standard output'!A:D,4,0)","v":{"$error":"#N/A"}},{"$f":"INDEX(Orders!A:D,ROW()+1,FindCol(\"orders\",2,TimeBucketName))/$C1397","v":{"$error":"#N/A"}}]
[{"$f":"Orders!A1399","v":0},{"$f":"VLOOKUP(A1398,'Product-tool'!A:E,5,0)","v":{"$error":"#N/A"}},{"$f":"VLOOKUP(A1398&B1398,'Standard output'!A:D,4,0)","v":{"$error":"#N/A"}},{"$f":"INDEX(Orders!A:D,ROW()+1,FindCol(\"orders\",2,TimeBucketName))/$C1398","v":{"$error":"#N/A"}}]
[{"$f":"Orders!A1400","v":0},{"$f":"VLOOKUP(A1399,'Product-tool'!A:E,5,0)","v":{"$error":"#N/A"}},{"$f":"VLOOKUP(A1399&B1399,'Standard output'!A:D,4,0)","v":{"$error":"#N/A"}},{"$f":"INDEX(Orders!A:D,ROW()+1,FindCol(\"orders\",2,TimeBucketName))/$C1399","v":{"$error":"#N/A"}}]
[{"$f":"Orders!A1401","v":0},{"$f":"VLOOKUP(A1400,'Product-tool'!A:E,5,0)","v":{"$error":"#N/A"}},{"$f":"VLOOKUP(A1400&B1400,'Standard output'!A:D,4,0)","v":{"$error":"#N/A"}},{"$f":"INDEX(Orders!A:D,ROW()+1,FindCol(\"orders\",2,TimeBucketName))/$C1400","v":{"$error":"#N/A"}}]
[{"$f":"Orders!A1402","v":0},{"$f":"VLOOKUP(A1401,'Product-tool'!A:E,5,0)","v":{"$error":"#N/A"}},{"$f":"VLOOKUP(A1401&B1401,'Standard output'!A:D,4,0)","v":{"$error":"#N/A"}},{"$f":"INDEX(Orders!A:D,ROW()+1,FindCol(\"orders\",2,TimeBucketName))/$C1401","v":{"$error":"#N/A"}}]
[{"$f":"Orders!A1403","v":0},{"$f":"VLOOKUP(A1402,'Product-tool'!A:E,5,0)","v":{"$error":"#N/A"}},{"$f":"VLOOKUP(A1402&B1402,'Standard output'!A:D,4,0)","v":{"$error":"#N/A"}},{"$f":"INDEX(Orders!A:D,ROW()+1,FindCol(\"orders\",2,TimeBucketName))/$C1402","v":{"$error":"#N/A"}}]
[{"$f":"Orders!A1404","v":0},{"$f":"VLOOKUP(A1403,'Product-tool'!A:E,5,0)","v":{"$error":"#N/A"}},{"$f":"VLOOKUP(A1403&B1403,'Standard output'!A:D,4,0)","v":{"$error":"#N/A"}},{"$f":"INDEX(Orders!A:D,ROW()+1,FindCol(\"orders\",2,TimeBucketName))/$C1403","v":{"$error":"#N/A"}}]
[{"$f":"Orders!A1405","v":0},{"$f":"VLOOKUP(A1404,'Product-tool'!A:E,5,0)","v":{"$error":"#N/A"}},{"$f":"VLOOKUP(A1404&B1404,'Standard output'!A:D,4,0)","v":{"$error":"#N/A"}},{"$f":"INDEX(Orders!A:D,ROW()+1,FindCol(\"orders\",2,TimeBucketName))/$C1404","v":{"$error":"#N/A"}}]
[{"$f":"Orders!A1406","v":0},{"$f":"VLOOKUP(A1405,'Product-tool'!A:E,5,0)","v":{"$error":"#N/A"}},{"$f":"VLOOKUP(A1405&B1405,'Standard output'!A:D,4,0)","v":{"$error":"#N/A"}},{"$f":"INDEX(Orders!A:D,ROW()+1,FindCol(\"orders\",2,TimeBucketName))/$C1405","v":{"$error":"#N/A"}}]
[{"$f":"Orders!A1407","v":0},{"$f":"VLOOKUP(A1406,'Product-tool'!A:E,5,0)","v":{"$error":"#N/A"}},{"$f":"VLOOKUP(A1406&B1406,'Standard output'!A:D,4,0)","v":{"$error":"#N/A"}},{"$f":"INDEX(Orders!A:D,ROW()+1,FindCol(\"orders\",2,TimeBucketName))/$C1406","v":{"$error":"#N/A"}}]
[{"$f":"Orders!A1408","v":0},{"$f":"VLOOKUP(A1407,'Product-tool'!A:E,5,0)","v":{"$error":"#N/A"}},{"$f":"VLOOKUP(A1407&B1407,'Standard output'!A:D,4,0)","v":{"$error":"#N/A"}},{"$f":"INDEX(Orders!A:D,ROW()+1,FindCol(\"orders\",2,TimeBucketName))/$C1407","v":{"$error":"#N/A"}}]
[{"$f":"Orders!A1409","v":0},{"$f":"VLOOKUP(A1408,'Product-tool'!A:E,5,0)","v":{"$error":"#N/A"}},{"$f":"VLOOKUP(A1408&B1408,'Standard output'!A:D,4,0)","v":{"$error":"#N/A"}},{"$f":"INDEX(Orders!A:D,ROW()+1,FindCol(\"orders\",2,TimeBucketName))/$C1408","v":{"$error":"#N/A"}}]
[{"$f":"Orders!A1410","v":0},{"$f":"VLOOKUP(A1409,'Product-tool'!A:E,5,0)","v":{"$error":"#N/A"}},{"$f":"VLOOKUP(A1409&B1409,'Standard output'!A:D,4,0)","v":{"$error":"#N/A"}},{"$f":"INDEX(Orders!A:D,ROW()+1,FindCol(\"orders\",2,TimeBucketName))/$C1409","v":{"$error":"#N/A"}}]
[{"$f":"Orders!A1411","v":0},{"$f":"VLOOKUP(A1410,'Product-tool'!A:E,5,0)","v":{"$error":"#N/A"}},{"$f":"VLOOKUP(A1410&B1410,'Standard output'!A:D,4,0)","v":{"$error":"#N/A"}},{"$f":"INDEX(Orders!A:D,ROW()+1,FindCol(\"orders\",2,TimeBucketName))/$C1410","v":{"$error":"#N/A"}}]
[{"$f":"Orders!A1412","v":0},{"$f":"VLOOKUP(A1411,'Product-tool'!A:E,5,0)","v":{"$error":"#N/A"}},{"$f":"VLOOKUP(A1411&B1411,'Standard output'!A:D,4,0)","v":{"$error":"#N/A"}},{"$f":"INDEX(Orders!A:D,ROW()+1,FindCol(\"orders\",2,TimeBucketName))/$C1411","v":{"$error":"#N/A"}}]
[{"$f":"Orders!A1413","v":0},{"$f":"VLOOKUP(A1412,'Product-tool'!A:E,5,0)","v":{"$error":"#N/A"}},{"$f":"VLOOKUP(A1412&B1412,'Standard output'!A:D,4,0)","v":{"$error":"#N/A"}},{"$f":"INDEX(Orders!A:D,ROW()+1,FindCol(\"orders\",2,TimeBucketName))/$C1412","v":{"$error":"#N/A"}}]
[{"$f":"Orders!A1414","v":0},{"$f":"VLOOKUP(A1413,'Product-tool'!A:E,5,0)","v":{"$error":"#N/A"}},{"$f":"VLOOKUP(A1413&B1413,'Standard output'!A:D,4,0)","v":{"$error":"#N/A"}},{"$f":"INDEX(Orders!A:D,ROW()+1,FindCol(\"orders\",2,TimeBucketName))/$C1413","v":{"$error":"#N/A"}}]
[{"$f":"Orders!A1415","v":0},{"$f":"VLOOKUP(A1414,'Product-tool'!A:E,5,0)","v":{"$error":"#N/A"}},{"$f":"VLOOKUP(A1414&B1414,'Standard output'!A:D,4,0)","v":{"$error":"#N/A"}},{"$f":"INDEX(Orders!A:D,ROW()+1,FindCol(\"orders\",2,TimeBucketName))/$C1414","v":{"$error":"#N/A"}}]
[{"$f":"Orders!A1416","v":0},{"$f":"VLOOKUP(A1415,'Product-tool'!A:E,5,0)","v":{"$error":"#N/A"}},{"$f":"VLOOKUP(A1415&B1415,'Standard output'!A:D,4,0)","v":{"$error":"#N/A"}},{"$f":"INDEX(Orders!A:D,ROW()+1,FindCol(\"orders\",2,TimeBucketName))/$C1415","v":{"$error":"#N/A"}}]
[{"$f":"Orders!A1417","v":0},{"$f":"VLOOKUP(A1416,'Product-tool'!A:E,5,0)","v":{"$error":"#N/A"}},{"$f":"VLOOKUP(A1416&B1416,'Standard output'!A:D,4,0)","v":{"$error":"#N/A"}},{"$f":"INDEX(Orders!A:D,ROW()+1,FindCol(\"orders\",2,TimeBucketName))/$C1416","v":{"$error":"#N/A"}}]
[{"$f":"Orders!A1418","v":0},{"$f":"VLOOKUP(A1417,'Product-tool'!A:E,5,0)","v":{"$error":"#N/A"}},{"$f":"VLOOKUP(A1417&B1417,'Standard output'!A:D,4,0)","v":{"$error":"#N/A"}},{"$f":"INDEX(Orders!A:D,ROW()+1,FindCol(\"orders\",2,TimeBucketName))/$C1417","v":{"$error":"#N/A"}}]
[{"$f":"Orders!A1419","v":0},{"$f":"VLOOKUP(A1418,'Product-tool'!A:E,5,0)","v":{"$error":"#N/A"}},{"$f":"VLOOKUP(A1418&B1418,'Standard output'!A:D,4,0)","v":{"$error":"#N/A"}},{"$f":"INDEX(Orders!A:D,ROW()+1,FindCol(\"orders\",2,TimeBucketName))/$C1418","v":{"$error":"#N/A"}}]
[{"$f":"Orders!A1420","v":0},{"$f":"VLOOKUP(A1419,'Product-tool'!A:E,5,0)","v":{"$error":"#N/A"}},{"$f":"VLOOKUP(A1419&B1419,'Standard output'!A:D,4,0)","v":{"$error":"#N/A"}},{"$f":"INDEX(Orders!A:D,ROW()+1,FindCol(\"orders\",2,TimeBucketName))/$C1419","v":{"$error":"#N/A"}}]
[{"$f":"Orders!A1421","v":0},{"$f":"VLOOKUP(A1420,'Product-tool'!A:E,5,0)","v":{"$error":"#N/A"}},{"$f":"VLOOKUP(A1420&B1420,'Standard output'!A:D,4,0)","v":{"$error":"#N/A"}},{"$f":"INDEX(Orders!A:D,ROW()+1,FindCol(\"orders\",2,TimeBucketName))/$C1420","v":{"$error":"#N/A"}}]
[{"$f":"Orders!A1422","v":0},{"$f":"VLOOKUP(A1421,'Product-tool'!A:E,5,0)","v":{"$error":"#N/A"}},{"$f":"VLOOKUP(A1421&B1421,'Standard output'!A:D,4,0)","v":{"$error":"#N/A"}},{"$f":"INDEX(Orders!A:D,ROW()+1,FindCol(\"orders\",2,TimeBucketName))/$C1421","v":{"$error":"#N/A"}}]
[{"$f":"Orders!A1423","v":0},{"$f":"VLOOKUP(A1422,'Product-tool'!A:E,5,0)","v":{"$error":"#N/A"}},{"$f":"VLOOKUP(A1422&B1422,'Standard output'!A:D,4,0)","v":{"$error":"#N/A"}},{"$f":"INDEX(Orders!A:D,ROW()+1,FindCol(\"orders\",2,TimeBucketName))/$C1422","v":{"$error":"#N/A"}}]
[{"$f":"Orders!A1424","v":0},{"$f":"VLOOKUP(A1423,'Product-tool'!A:E,5,0)","v":{"$error":"#N/A"}},{"$f":"VLOOKUP(A1423&B1423,'Standard output'!A:D,4,0)","v":{"$error":"#N/A"}},{"$f":"INDEX(Orders!A:D,ROW()+1,FindCol(\"orders\",2,TimeBucketName))/$C1423","v":{"$error":"#N/A"}}]
[{"$f":"Orders!A1425","v":0},{"$f":"VLOOKUP(A1424,'Product-tool'!A:E,5,0)","v":{"$error":"#N/A"}},{"$f":"VLOOKUP(A1424&B1424,'Standard output'!A:D,4,0)","v":{"$error":"#N/A"}},{"$f":"INDEX(Orders!A:D,ROW()+1,FindCol(\"orders\",2,TimeBucketName))/$C1424","v":{"$error":"#N/A"}}]
[{"$f":"Orders!A1426","v":0},{"$f":"VLOOKUP(A1425,'Product-tool'!A:E,5,0)","v":{"$error":"#N/A"}},{"$f":"VLOOKUP(A1425&B1425,'Standard output'!A:D,4,0)","v":{"$error":"#N/A"}},{"$f":"INDEX(Orders!A:D,ROW()+1,FindCol(\"orders\",2,TimeBucketName))/$C1425","v":{"$error":"#N/A"}}]
[{"$f":"Orders!A1427","v":0},{"$f":"VLOOKUP(A1426,'Product-tool'!A:E,5,0)","v":{"$error":"#N/A"}},{"$f":"VLOOKUP(A1426&B1426,'Standard output'!A:D,4,0)","v":{"$error":"#N/A"}},{"$f":"INDEX(Orders!A:D,ROW()+1,FindCol(\"orders\",2,TimeBucketName))/$C1426","v":{"$error":"#N/A"}}]
[{"$f":"Orders!A1428","v":0},{"$f":"VLOOKUP(A1427,'Product-tool'!A:E,5,0)","v":{"$error":"#N/A"}},{"$f":"VLOOKUP(A1427&B1427,'Standard output'!A:D,4,0)","v":{"$error":"#N/A"}},{"$f":"INDEX(Orders!A:D,ROW()+1,FindCol(\"orders\",2,TimeBucketName))/$C1427","v":{"$error":"#N/A"}}]
[{"$f":"Orders!A1429","v":0},{"$f":"VLOOKUP(A1428,'Product-tool'!A:E,5,0)","v":{"$error":"#N/A"}},{"$f":"VLOOKUP(A1428&B1428,'Standard output'!A:D,4,0)","v":{"$error":"#N/A"}},{"$f":"INDEX(Orders!A:D,ROW()+1,FindCol(\"orders\",2,TimeBucketName))/$C1428","v":{"$error":"#N/A"}}]
[{"$f":"Orders!A1430","v":0},{"$f":"VLOOKUP(A1429,'Product-tool'!A:E,5,0)","v":{"$error":"#N/A"}},{"$f":"VLOOKUP(A1429&B1429,'Standard output'!A:D,4,0)","v":{"$error":"#N/A"}},{"$f":"INDEX(Orders!A:D,ROW()+1,FindCol(\"orders\",2,TimeBucketName))/$C1429","v":{"$error":"#N/A"}}]
[{"$f":"Orders!A1431","v":0},{"$f":"VLOOKUP(A1430,'Product-tool'!A:E,5,0)","v":{"$error":"#N/A"}},{"$f":"VLOOKUP(A1430&B1430,'Standard output'!A:D,4,0)","v":{"$error":"#N/A"}},{"$f":"INDEX(Orders!A:D,ROW()+1,FindCol(\"orders\",2,TimeBucketName))/$C1430","v":{"$error":"#N/A"}}]
[{"$f":"Orders!A1432","v":0},{"$f":"VLOOKUP(A1431,'Product-tool'!A:E,5,0)","v":{"$error":"#N/A"}},{"$f":"VLOOKUP(A1431&B1431,'Standard output'!A:D,4,0)","v":{"$error":"#N/A"}},{"$f":"INDEX(Orders!A:D,ROW()+1,FindCol(\"orders\",2,TimeBucketName))/$C1431","v":{"$error":"#N/A"}}]
[{"$f":"Orders!A1433","v":0},{"$f":"VLOOKUP(A1432,'Product-tool'!A:E,5,0)","v":{"$error":"#N/A"}},{"$f":"VLOOKUP(A1432&B1432,'Standard output'!A:D,4,0)","v":{"$error":"#N/A"}},{"$f":"INDEX(Orders!A:D,ROW()+1,FindCol(\"orders\",2,TimeBucketName))/$C1432","v":{"$error":"#N/A"}}]
[{"$f":"Orders!A1434","v":0},{"$f":"VLOOKUP(A1433,'Product-tool'!A:E,5,0)","v":{"$error":"#N/A"}},{"$f":"VLOOKUP(A1433&B1433,'Standard output'!A:D,4,0)","v":{"$error":"#N/A"}},{"$f":"INDEX(Orders!A:D,ROW()+1,FindCol(\"orders\",2,TimeBucketName))/$C1433","v":{"$error":"#N/A"}}]
[{"$f":"Orders!A1435","v":0},{"$f":"VLOOKUP(A1434,'Product-tool'!A:E,5,0)","v":{"$error":"#N/A"}},{"$f":"VLOOKUP(A1434&B1434,'Standard output'!A:D,4,0)","v":{"$error":"#N/A"}},{"$f":"INDEX(Orders!A:D,ROW()+1,FindCol(\"orders\",2,TimeBucketName))/$C1434","v":{"$error":"#N/A"}}]
[{"$f":"Orders!A1436","v":0},{"$f":"VLOOKUP(A1435,'Product-tool'!A:E,5,0)","v":{"$error":"#N/A"}},{"$f":"VLOOKUP(A1435&B1435,'Standard output'!A:D,4,0)","v":{"$error":"#N/A"}},{"$f":"INDEX(Orders!A:D,ROW()+1,FindCol(\"orders\",2,TimeBucketName))/$C1435","v":{"$error":"#N/A"}}]
[{"$f":"Orders!A1437","v":0},{"$f":"VLOOKUP(A1436,'Product-tool'!A:E,5,0)","v":{"$error":"#N/A"}},{"$f":"VLOOKUP(A1436&B1436,'Standard output'!A:D,4,0)","v":{"$error":"#N/A"}},{"$f":"INDEX(Orders!A:D,ROW()+1,FindCol(\"orders\",2,TimeBucketName))/$C1436","v":{"$error":"#N/A"}}]
[{"$f":"Orders!A1438","v":0},{"$f":"VLOOKUP(A1437,'Product-tool'!A:E,5,0)","v":{"$error":"#N/A"}},{"$f":"VLOOKUP(A1437&B1437,'Standard output'!A:D,4,0)","v":{"$error":"#N/A"}},{"$f":"INDEX(Orders!A:D,ROW()+1,FindCol(\"orders\",2,TimeBucketName))/$C1437","v":{"$error":"#N/A"}}]
[{"$f":"Orders!A1439","v":0},{"$f":"VLOOKUP(A1438,'Product-tool'!A:E,5,0)","v":{"$error":"#N/A"}},{"$f":"VLOOKUP(A1438&B1438,'Standard output'!A:D,4,0)","v":{"$error":"#N/A"}},{"$f":"INDEX(Orders!A:D,ROW()+1,FindCol(\"orders\",2,TimeBucketName))/$C1438","v":{"$error":"#N/A"}}]
[{"$f":"Orders!A1440","v":0},{"$f":"VLOOKUP(A1439,'Product-tool'!A:E,5,0)","v":{"$error":"#N/A"}},{"$f":"VLOOKUP(A1439&B1439,'Standard output'!A:D,4,0)","v":{"$error":"#N/A"}},{"$f":"INDEX(Orders!A:D,ROW()+1,FindCol(\"orders\",2,TimeBucketName))/$C1439","v":{"$error":"#N/A"}}]
[{"$f":"Orders!A1441","v":0},{"$f":"VLOOKUP(A1440,'Product-tool'!A:E,5,0)","v":{"$error":"#N/A"}},{"$f":"VLOOKUP(A1440&B1440,'Standard output'!A:D,4,0)","v":{"$error":"#N/A"}},{"$f":"INDEX(Orders!A:D,ROW()+1,FindCol(\"orders\",2,TimeBucketName))/$C1440","v":{"$error":"#N/A"}}]
[{"$f":"Orders!A1442","v":0},{"$f":"VLOOKUP(A1441,'Product-tool'!A:E,5,0)","v":{"$error":"#N/A"}},{"$f":"VLOOKUP(A1441&B1441,'Standard output'!A:D,4,0)","v":{"$error":"#N/A"}},{"$f":"INDEX(Orders!A:D,ROW()+1,FindCol(\"orders\",2,TimeBucketName))/$C1441","v":{"$error":"#N/A"}}]
[{"$f":"Orders!A1443","v":0},{"$f":"VLOOKUP(A1442,'Product-tool'!A:E,5,0)","v":{"$error":"#N/A"}},{"$f":"VLOOKUP(A1442&B1442,'Standard output'!A:D,4,0)","v":{"$error":"#N/A"}},{"$f":"INDEX(Orders!A:D,ROW()+1,FindCol(\"orders\",2,TimeBucketName))/$C1442","v":{"$error":"#N/A"}}]
[{"$f":"Orders!A1444","v":0},{"$f":"VLOOKUP(A1443,'Product-tool'!A:E,5,0)","v":{"$error":"#N/A"}},{"$f":"VLOOKUP(A1443&B1443,'Standard output'!A:D,4,0)","v":{"$error":"#N/A"}},{"$f":"INDEX(Orders!A:D,ROW()+1,FindCol(\"orders\",2,TimeBucketName))/$C1443","v":{"$error":"#N/A"}}]
[{"$f":"Orders!A1445","v":0},{"$f":"VLOOKUP(A1444,'Product-tool'!A:E,5,0)","v":{"$error":"#N/A"}},{"$f":"VLOOKUP(A1444&B1444,'Standard output'!A:D,4,0)","v":{"$error":"#N/A"}},{"$f":"INDEX(Orders!A:D,ROW()+1,FindCol(\"orders\",2,TimeBucketName))/$C1444","v":{"$error":"#N/A"}}]
[{"$f":"Orders!A1446","v":0},{"$f":"VLOOKUP(A1445,'Product-tool'!A:E,5,0)","v":{"$error":"#N/A"}},{"$f":"VLOOKUP(A1445&B1445,'Standard output'!A:D,4,0)","v":{"$error":"#N/A"}},{"$f":"INDEX(Orders!A:D,ROW()+1,FindCol(\"orders\",2,TimeBucketName))/$C1445","v":{"$error":"#N/A"}}]
[{"$f":"Orders!A1447","v":0},{"$f":"VLOOKUP(A1446,'Product-tool'!A:E,5,0)","v":{"$error":"#N/A"}},{"$f":"VLOOKUP(A1446&B1446,'Standard output'!A:D,4,0)","v":{"$error":"#N/A"}},{"$f":"INDEX(Orders!A:D,ROW()+1,FindCol(\"orders\",2,TimeBucketName))/$C1446","v":{"$error":"#N/A"}}]
[{"$f":"Orders!A1448","v":0},{"$f":"VLOOKUP(A1447,'Product-tool'!A:E,5,0)","v":{"$error":"#N/A"}},{"$f":"VLOOKUP(A1447&B1447,'Standard output'!A:D,4,0)","v":{"$error":"#N/A"}},{"$f":"INDEX(Orders!A:D,ROW()+1,FindCol(\"orders\",2,TimeBucketName))/$C1447","v":{"$error":"#N/A"}}]
[{"$f":"Orders!A1449","v":0},{"$f":"VLOOKUP(A1448,'Product-tool'!A:E,5,0)","v":{"$error":"#N/A"}},{"$f":"VLOOKUP(A1448&B1448,'Standard output'!A:D,4,0)","v":{"$error":"#N/A"}},{"$f":"INDEX(Orders!A:D,ROW()+1,FindCol(\"orders\",2,TimeBucketName))/$C1448","v":{"$error":"#N/A"}}]
[{"$f":"Orders!A1450","v":0},{"$f":"VLOOKUP(A1449,'Product-tool'!A:E,5,0)","v":{"$error":"#N/A"}},{"$f":"VLOOKUP(A1449&B1449,'Standard output'!A:D,4,0)","v":{"$error":"#N/A"}},{"$f":"INDEX(Orders!A:D,ROW()+1,FindCol(\"orders\",2,TimeBucketName))/$C1449","v":{"$error":"#N/A"}}]
[{"$f":"Orders!A1451","v":0},{"$f":"VLOOKUP(A1450,'Product-tool'!A:E,5,0)","v":{"$error":"#N/A"}},{"$f":"VLOOKUP(A1450&B1450,'Standard output'!A:D,4,0)","v":{"$error":"#N/A"}},{"$f":"INDEX(Orders!A:D,ROW()+1,FindCol(\"orders\",2,TimeBucketName))/$C1450","v":{"$error":"#N/A"}}]
[{"$f":"Orders!A1452","v":0},{"$f":"VLOOKUP(A1451,'Product-tool'!A:E,5,0)","v":{"$error":"#N/A"}},{"$f":"VLOOKUP(A1451&B1451,'Standard output'!A:D,4,0)","v":{"$error":"#N/A"}},{"$f":"INDEX(Orders!A:D,ROW()+1,FindCol(\"orders\",2,TimeBucketName))/$C1451","v":{"$error":"#N/A"}}]
[{"$f":"Orders!A1453","v":0},{"$f":"VLOOKUP(A1452,'Product-tool'!A:E,5,0)","v":{"$error":"#N/A"}},{"$f":"VLOOKUP(A1452&B1452,'Standard output'!A:D,4,0)","v":{"$error":"#N/A"}},{"$f":"INDEX(Orders!A:D,ROW()+1,FindCol(\"orders\",2,TimeBucketName))/$C1452","v":{"$error":"#N/A"}}]
[{"$f":"Orders!A1454","v":0},{"$f":"VLOOKUP(A1453,'Product-tool'!A:E,5,0)","v":{"$error":"#N/A"}},{"$f":"VLOOKUP(A1453&B1453,'Standard output'!A:D,4,0)","v":{"$error":"#N/A"}},{"$f":"INDEX(Orders!A:D,ROW()+1,FindCol(\"orders\",2,TimeBucketName))/$C1453","v":{"$error":"#N/A"}}]
[{"$f":"Orders!A1455","v":0},{"$f":"VLOOKUP(A1454,'Product-tool'!A:E,5,0)","v":{"$error":"#N/A"}},{"$f":"VLOOKUP(A1454&B1454,'Standard output'!A:D,4,0)","v":{"$error":"#N/A"}},{"$f":"INDEX(Orders!A:D,ROW()+1,FindCol(\"orders\",2,TimeBucketName))/$C1454","v":{"$error":"#N/A"}}]
[{"$f":"Orders!A1456","v":0},{"$f":"VLOOKUP(A1455,'Product-tool'!A:E,5,0)","v":{"$error":"#N/A"}},{"$f":"VLOOKUP(A1455&B1455,'Standard output'!A:D,4,0)","v":{"$error":"#N/A"}},{"$f":"INDEX(Orders!A:D,ROW()+1,FindCol(\"orders\",2,TimeBucketName))/$C1455","v":{"$error":"#N/A"}}]
[{"$f":"Orders!A1457","v":0},{"$f":"VLOOKUP(A1456,'Product-tool'!A:E,5,0)","v":{"$error":"#N/A"}},{"$f":"VLOOKUP(A1456&B1456,'Standard output'!A:D,4,0)","v":{"$error":"#N/A"}},{"$f":"INDEX(Orders!A:D,ROW()+1,FindCol(\"orders\",2,TimeBucketName))/$C1456","v":{"$error":"#N/A"}}]
[{"$f":"Orders!A1458","v":0},{"$f":"VLOOKUP(A1457,'Product-tool'!A:E,5,0)","v":{"$error":"#N/A"}},{"$f":"VLOOKUP(A1457&B1457,'Standard output'!A:D,4,0)","v":{"$error":"#N/A"}},{"$f":"INDEX(Orders!A:D,ROW()+1,FindCol(\"orders\",2,TimeBucketName))/$C1457","v":{"$error":"#N/A"}}]
[{"$f":"Orders!A1459","v":0},{"$f":"VLOOKUP(A1458,'Product-tool'!A:E,5,0)","v":{"$error":"#N/A"}},{"$f":"VLOOKUP(A1458&B1458,'Standard output'!A:D,4,0)","v":{"$error":"#N/A"}},{"$f":"INDEX(Orders!A:D,ROW()+1,FindCol(\"orders\",2,TimeBucketName))/$C1458","v":{"$error":"#N/A"}}]
[{"$f":"Orders!A1460","v":0},{"$f":"VLOOKUP(A1459,'Product-tool'!A:E,5,0)","v":{"$error":"#N/A"}},{"$f":"VLOOKUP(A1459&B1459,'Standard output'!A:D,4,0)","v":{"$error":"#N/A"}},{"$f":"INDEX(Orders!A:D,ROW()+1,FindCol(\"orders\",2,TimeBucketName))/$C1459","v":{"$error":"#N/A"}}]
[{"$f":"Orders!A1461","v":0},{"$f":"VLOOKUP(A1460,'Product-tool'!A:E,5,0)","v":{"$error":"#N/A"}},{"$f":"VLOOKUP(A1460&B1460,'Standard output'!A:D,4,0)","v":{"$error":"#N/A"}},{"$f":"INDEX(Orders!A:D,ROW()+1,FindCol(\"orders\",2,TimeBucketName))/$C1460","v":{"$error":"#N/A"}}]
[{"$f":"Orders!A1462","v":0},{"$f":"VLOOKUP(A1461,'Product-tool'!A:E,5,0)","v":{"$error":"#N/A"}},{"$f":"VLOOKUP(A1461&B1461,'Standard output'!A:D,4,0)","v":{"$error":"#N/A"}},{"$f":"INDEX(Orders!A:D,ROW()+1,FindCol(\"orders\",2,TimeBucketName))/$C1461","v":{"$error":"#N/A"}}]
[{"$f":"Orders!A1463","v":0},{"$f":"VLOOKUP(A1462,'Product-tool'!A:E,5,0)","v":{"$error":"#N/A"}},{"$f":"VLOOKUP(A1462&B1462,'Standard output'!A:D,4,0)","v":{"$error":"#N/A"}},{"$f":"INDEX(Orders!A:D,ROW()+1,FindCol(\"orders\",2,TimeBucketName))/$C1462","v":{"$error":"#N/A"}}]
[{"$f":"Orders!A1464","v":0},{"$f":"VLOOKUP(A1463,'Product-tool'!A:E,5,0)","v":{"$error":"#N/A"}},{"$f":"VLOOKUP(A1463&B1463,'Standard output'!A:D,4,0)","v":{"$error":"#N/A"}},{"$f":"INDEX(Orders!A:D,ROW()+1,FindCol(\"orders\",2,TimeBucketName))/$C1463","v":{"$error":"#N/A"}}]
[{"$f":"Orders!A1465","v":0},{"$f":"VLOOKUP(A1464,'Product-tool'!A:E,5,0)","v":{"$error":"#N/A"}},{"$f":"VLOOKUP(A1464&B1464,'Standard output'!A:D,4,0)","v":{"$error":"#N/A"}},{"$f":"INDEX(Orders!A:D,ROW()+1,FindCol(\"orders\",2,TimeBucketName))/$C1464","v":{"$error":"#N/A"}}]
[{"$f":"Orders!A1466","v":0},{"$f":"VLOOKUP(A1465,'Product-tool'!A:E,5,0)","v":{"$error":"#N/A"}},{"$f":"VLOOKUP(A1465&B1465,'Standard output'!A:D,4,0)","v":{"$error":"#N/A"}},{"$f":"INDEX(Orders!A:D,ROW()+1,FindCol(\"orders\",2,TimeBucketName))/$C1465","v":{"$error":"#N/A"}}]
[{"$f":"Orders!A1467","v":0},{"$f":"VLOOKUP(A1466,'Product-tool'!A:E,5,0)","v":{"$error":"#N/A"}},{"$f":"VLOOKUP(A1466&B1466,'Standard output'!A:D,4,0)","v":{"$error":"#N/A"}},{"$f":"INDEX(Orders!A:D,ROW()+1,FindCol(\"orders\",2,TimeBucketName))/$C1466","v":{"$error":"#N/A"}}]
[{"$f":"Orders!A1468","v":0},{"$f":"VLOOKUP(A1467,'Product-tool'!A:E,5,0)","v":{"$error":"#N/A"}},{"$f":"VLOOKUP(A1467&B1467,'Standard output'!A:D,4,0)","v":{"$error":"#N/A"}},{"$f":"INDEX(Orders!A:D,ROW()+1,FindCol(\"orders\",2,TimeBucketName))/$C1467","v":{"$error":"#N/A"}}]
[{"$f":"Orders!A1469","v":0},{"$f":"VLOOKUP(A1468,'Product-tool'!A:E,5,0)","v":{"$error":"#N/A"}},{"$f":"VLOOKUP(A1468&B1468,'Standard output'!A:D,4,0)","v":{"$error":"#N/A"}},{"$f":"INDEX(Orders!A:D,ROW()+1,FindCol(\"orders\",2,TimeBucketName))/$C1468","v":{"$error":"#N/A"}}]
[{"$f":"Orders!A1470","v":0},{"$f":"VLOOKUP(A1469,'Product-tool'!A:E,5,0)","v":{"$error":"#N/A"}},{"$f":"VLOOKUP(A1469&B1469,'Standard output'!A:D,4,0)","v":{"$error":"#N/A"}},{"$f":"INDEX(Orders!A:D,ROW()+1,FindCol(\"orders\",2,TimeBucketName))/$C1469","v":{"$error":"#N/A"}}]
[{"$f":"Orders!A1471","v":0},{"$f":"VLOOKUP(A1470,'Product-tool'!A:E,5,0)","v":{"$error":"#N/A"}},{"$f":"VLOOKUP(A1470&B1470,'Standard output'!A:D,4,0)","v":{"$error":"#N/A"}},{"$f":"INDEX(Orders!A:D,ROW()+1,FindCol(\"orders\",2,TimeBucketName))/$C1470","v":{"$error":"#N/A"}}]
[{"$f":"Orders!A1472","v":0},{"$f":"VLOOKUP(A1471,'Product-tool'!A:E,5,0)","v":{"$error":"#N/A"}},{"$f":"VLOOKUP(A1471&B1471,'Standard output'!A:D,4,0)","v":{"$error":"#N/A"}},{"$f":"INDEX(Orders!A:D,ROW()+1,FindCol(\"orders\",2,TimeBucketName))/$C1471","v":{"$error":"#N/A"}}]
[{"$f":"Orders!A1473","v":0},{"$f":"VLOOKUP(A1472,'Product-tool'!A:E,5,0)","v":{"$error":"#N/A"}},{"$f":"VLOOKUP(A1472&B1472,'Standard output'!A:D,4,0)","v":{"$error":"#N/A"}},{"$f":"INDEX(Orders!A:D,ROW()+1,FindCol(\"orders\",2,TimeBucketName))/$C1472","v":{"$error":"#N/A"}}]
[{"$f":"Orders!A1474","v":0},{"$f":"VLOOKUP(A1473,'Product-tool'!A:E,5,0)","v":{"$error":"#N/A"}},{"$f":"VLOOKUP(A1473&B1473,'Standard output'!A:D,4,0)","v":{"$error":"#N/A"}},{"$f":"INDEX(Orders!A:D,ROW()+1,FindCol(\"orders\",2,TimeBucketName))/$C1473","v":{"$error":"#N/A"}}]
[{"$f":"Orders!A1475","v":0},{"$f":"VLOOKUP(A1474,'Product-tool'!A:E,5,0)","v":{"$error":"#N/A"}},{"$f":"VLOOKUP(A1474&B1474,'Standard output'!A:D,4,0)","v":{"$error":"#N/A"}},{"$f":"INDEX(Orders!A:D,ROW()+1,FindCol(\"orders\",2,TimeBucketName))/$C1474","v":{"$error":"#N/A"}}]
[{"$f":"Orders!A1476","v":0},{"$f":"VLOOKUP(A1475,'Product-tool'!A:E,5,0)","v":{"$error":"#N/A"}},{"$f":"VLOOKUP(A1475&B1475,'Standard output'!A:D,4,0)","v":{"$error":"#N/A"}},{"$f":"INDEX(Orders!A:D,ROW()+1,FindCol(\"orders\",2,TimeBucketName))/$C1475","v":{"$error":"#N/A"}}]
[{"$f":"Orders!A1477","v":0},{"$f":"VLOOKUP(A1476,'Product-tool'!A:E,5,0)","v":{"$error":"#N/A"}},{"$f":"VLOOKUP(A1476&B1476,'Standard output'!A:D,4,0)","v":{"$error":"#N/A"}},{"$f":"INDEX(Orders!A:D,ROW()+1,FindCol(\"orders\",2,TimeBucketName))/$C1476","v":{"$error":"#N/A"}}]
[{"$f":"Orders!A1478","v":0},{"$f":"VLOOKUP(A1477,'Product-tool'!A:E,5,0)","v":{"$error":"#N/A"}},{"$f":"VLOOKUP(A1477&B1477,'Standard output'!A:D,4,0)","v":{"$error":"#N/A"}},{"$f":"INDEX(Orders!A:D,ROW()+1,FindCol(\"orders\",2,TimeBucketName))/$C1477","v":{"$error":"#N/A"}}]
[{"$f":"Orders!A1479","v":0},{"$f":"VLOOKUP(A1478,'Product-tool'!A:E,5,0)","v":{"$error":"#N/A"}},{"$f":"VLOOKUP(A1478&B1478,'Standard output'!A:D,4,0)","v":{"$error":"#N/A"}},{"$f":"INDEX(Orders!A:D,ROW()+1,FindCol(\"orders\",2,TimeBucketName))/$C1478","v":{"$error":"#N/A"}}]
[{"$f":"Orders!A1480","v":0},{"$f":"VLOOKUP(A1479,'Product-tool'!A:E,5,0)","v":{"$error":"#N/A"}},{"$f":"VLOOKUP(A1479&B1479,'Standard output'!A:D,4,0)","v":{"$error":"#N/A"}},{"$f":"INDEX(Orders!A:D,ROW()+1,FindCol(\"orders\",2,TimeBucketName))/$C1479","v":{"$error":"#N/A"}}]
[{"$f":"Orders!A1481","v":0},{"$f":"VLOOKUP(A1480,'Product-tool'!A:E,5,0)","v":{"$error":"#N/A"}},{"$f":"VLOOKUP(A1480&B1480,'Standard output'!A:D,4,0)","v":{"$error":"#N/A"}},{"$f":"INDEX(Orders!A:D,ROW()+1,FindCol(\"orders\",2,TimeBucketName))/$C1480","v":{"$error":"#N/A"}}]
[{"$f":"Orders!A1482","v":0},{"$f":"VLOOKUP(A1481,'Product-tool'!A:E,5,0)","v":{"$error":"#N/A"}},{"$f":"VLOOKUP(A1481&B1481,'Standard output'!A:D,4,0)","v":{"$error":"#N/A"}},{"$f":"INDEX(Orders!A:D,ROW()+1,FindCol(\"orders\",2,TimeBucketName))/$C1481","v":{"$error":"#N/A"}}]
[{"$f":"Orders!A1483","v":0},{"$f":"VLOOKUP(A1482,'Product-tool'!A:E,5,0)","v":{"$error":"#N/A"}},{"$f":"VLOOKUP(A1482&B1482,'Standard output'!A:D,4,0)","v":{"$error":"#N/A"}},{"$f":"INDEX(Orders!A:D,ROW()+1,FindCol(\"orders\",2,TimeBucketName))/$C1482","v":{"$error":"#N/A"}}]
[{"$f":"Orders!A1484","v":0},{"$f":"VLOOKUP(A1483,'Product-tool'!A:E,5,0)","v":{"$error":"#N/A"}},{"$f":"VLOOKUP(A1483&B1483,'Standard output'!A:D,4,0)","v":{"$error":"#N/A"}},{"$f":"INDEX(Orders!A:D,ROW()+1,FindCol(\"orders\",2,TimeBucketName))/$C1483","v":{"$error":"#N/A"}}]
[{"$f":"Orders!A1485","v":0},{"$f":"VLOOKUP(A1484,'Product-tool'!A:E,5,0)","v":{"$error":"#N/A"}},{"$f":"VLOOKUP(A1484&B1484,'Standard output'!A:D,4,0)","v":{"$error":"#N/A"}},{"$f":"INDEX(Orders!A:D,ROW()+1,FindCol(\"orders\",2,TimeBucketName))/$C1484","v":{"$error":"#N/A"}}]
[{"$f":"Orders!A1486","v":0},{"$f":"VLOOKUP(A1485,'Product-tool'!A:E,5,0)","v":{"$error":"#N/A"}},{"$f":"VLOOKUP(A1485&B1485,'Standard output'!A:D,4,0)","v":{"$error":"#N/A"}},{"$f":"INDEX(Orders!A:D,ROW()+1,FindCol(\"orders\",2,TimeBucketName))/$C1485","v":{"$error":"#N/A"}}]
[{"$f":"Orders!A1487","v":0},{"$f":"VLOOKUP(A1486,'Product-tool'!A:E,5,0)","v":{"$error":"#N/A"}},{"$f":"VLOOKUP(A1486&B1486,'Standard output'!A:D,4,0)","v":{"$error":"#N/A"}},{"$f":"INDEX(Orders!A:D,ROW()+1,FindCol(\"orders\",2,TimeBucketName))/$C1486","v":{"$error":"#N/A"}}]
[{"$f":"Orders!A1488","v":0},{"$f":"VLOOKUP(A1487,'Product-tool'!A:E,5,0)","v":{"$error":"#N/A"}},{"$f":"VLOOKUP(A1487&B1487,'Standard output'!A:D,4,0)","v":{"$error":"#N/A"}},{"$f":"INDEX(Orders!A:D,ROW()+1,FindCol(\"orders\",2,TimeBucketName))/$C1487","v":{"$error":"#N/A"}}]
[{"$f":"Orders!A1489","v":0},{"$f":"VLOOKUP(A1488,'Product-tool'!A:E,5,0)","v":{"$error":"#N/A"}},{"$f":"VLOOKUP(A1488&B1488,'Standard output'!A:D,4,0)","v":{"$error":"#N/A"}},{"$f":"INDEX(Orders!A:D,ROW()+1,FindCol(\"orders\",2,TimeBucketName))/$C1488","v":{"$error":"#N/A"}}]
[{"$f":"Orders!A1490","v":0},{"$f":"VLOOKUP(A1489,'Product-tool'!A:E,5,0)","v":{"$error":"#N/A"}},{"$f":"VLOOKUP(A1489&B1489,'Standard output'!A:D,4,0)","v":{"$error":"#N/A"}},{"$f":"INDEX(Orders!A:D,ROW()+1,FindCol(\"orders\",2,TimeBucketName))/$C1489","v":{"$error":"#N/A"}}]
[{"$f":"Orders!A1491","v":0},{"$f":"VLOOKUP(A1490,'Product-tool'!A:E,5,0)","v":{"$error":"#N/A"}},{"$f":"VLOOKUP(A1490&B1490,'Standard output'!A:D,4,0)","v":{"$error":"#N/A"}},{"$f":"INDEX(Orders!A:D,ROW()+1,FindCol(\"orders\",2,TimeBucketName))/$C1490","v":{"$error":"#N/A"}}]
[{"$f":"Orders!A1492","v":0},{"$f":"VLOOKUP(A1491,'Product-tool'!A:E,5,0)","v":{"$error":"#N/A"}},{"$f":"VLOOKUP(A1491&B1491,'Standard output'!A:D,4,0)","v":{"$error":"#N/A"}},{"$f":"INDEX(Orders!A:D,ROW()+1,FindCol(\"orders\",2,TimeBucketName))/$C1491","v":{"$error":"#N/A"}}]
[{"$f":"Orders!A1493","v":0},{"$f":"VLOOKUP(A1492,'Product-tool'!A:E,5,0)","v":{"$error":"#N/A"}},{"$f":"VLOOKUP(A1492&B1492,'Standard output'!A:D,4,0)","v":{"$error":"#N/A"}},{"$f":"INDEX(Orders!A:D,ROW()+1,FindCol(\"orders\",2,TimeBucketName))/$C1492","v":{"$error":"#N/A"}}]
[{"$f":"Orders!A1494","v":0},{"$f":"VLOOKUP(A1493,'Product-tool'!A:E,5,0)","v":{"$error":"#N/A"}},{"$f":"VLOOKUP(A1493&B1493,'Standard output'!A:D,4,0)","v":{"$error":"#N/A"}},{"$f":"INDEX(Orders!A:D,ROW()+1,FindCol(\"orders\",2,TimeBucketName))/$C1493","v":{"$error":"#N/A"}}]
[{"$f":"Orders!A1495","v":0},{"$f":"VLOOKUP(A1494,'Product-tool'!A:E,5,0)","v":{"$error":"#N/A"}},{"$f":"VLOOKUP(A1494&B1494,'Standard output'!A:D,4,0)","v":{"$error":"#N/A"}},{"$f":"INDEX(Orders!A:D,ROW()+1,FindCol(\"orders\",2,TimeBucketName))/$C1494","v":{"$error":"#N/A"}}]
[{"$f":"Orders!A1496","v":0},{"$f":"VLOOKUP(A1495,'Product-tool'!A:E,5,0)","v":{"$error":"#N/A"}},{"$f":"VLOOKUP(A1495&B1495,'Standard output'!A:D,4,0)","v":{"$error":"#N/A"}},{"$f":"INDEX(Orders!A:D,ROW()+1,FindCol(\"orders\",2,TimeBucketName))/$C1495","v":{"$error":"#N/A"}}]
[{"$f":"Orders!A1497","v":0},{"$f":"VLOOKUP(A1496,'Product-tool'!A:E,5,0)","v":{"$error":"#N/A"}},{"$f":"VLOOKUP(A1496&B1496,'Standard output'!A:D,4,0)","v":{"$error":"#N/A"}},{"$f":"INDEX(Orders!A:D,ROW()+1,FindCol(\"orders\",2,TimeBucketName))/$C1496","v":{"$error":"#N/A"}}]
[{"$f":"Orders!A1498","v":0},{"$f":"VLOOKUP(A1497,'Product-tool'!A:E,5,0)","v":{"$error":"#N/A"}},{"$f":"VLOOKUP(A1497&B1497,'Standard output'!A:D,4,0)","v":{"$error":"#N/A"}},{"$f":"INDEX(Orders!A:D,ROW()+1,FindCol(\"orders\",2,TimeBucketName))/$C1497","v":{"$error":"#N/A"}}]
[{"$f":"Orders!A1499","v":0},{"$f":"VLOOKUP(A1498,'Product-tool'!A:E,5,0)","v":{"$error":"#N/A"}},{"$f":"VLOOKUP(A1498&B1498,'Standard output'!A:D,4,0)","v":{"$error":"#N/A"}},{"$f":"INDEX(Orders!A:D,ROW()+1,FindCol(\"orders\",2,TimeBucketName))/$C1498","v":{"$error":"#N/A"}}]
[{"$f":"Orders!A1500","v":0},{"$f":"VLOOKUP(A1499,'Product-tool'!A:E,5,0)","v":{"$error":"#N/A"}},{"$f":"VLOOKUP(A1499&B1499,'Standard output'!A:D,4,0)","v":{"$error":"#N/A"}},{"$f":"INDEX(Orders!A:D,ROW()+1,FindCol(\"orders\",2,TimeBucketName))/$C1499","v":{"$error":"#N/A"}}]
[{"$f":"Orders!A1501","v":0},{"$f":"VLOOKUP(A1500,'Product-tool'!A:E,5,0)","v":{"$error":"#N/A"}},{"$f":"VLOOKUP(A1500&B1500,'Standard output'!A:D,4,0)","v":{"$error":"#N/A"}},{"$f":"INDEX(Orders!A:D,ROW()+1,FindCol(\"orders\",2,TimeBucketName))/$C1500","v":{"$error":"#N/A"}}]

{"sheet":"After balance HoursPerProduct","index":12,"n_rows":516,"n_cols":2,"rows_kept":516,"cut":false,"hidden":false,"merged":[]}
["Tools"," Balanced column"]
["Tool 01",84.642178799472276]
["DP5007199",39.930023455824866]
["DP5908334",38.648510971786834]
["DP5383174",5.3200312989045386]
["DP5698799",0.65558157689305241]
["DA5685201",8.8031496062992126E-2]
["Tool 02",113.13295603420914]
["ZD2443045",12.438411854103345]
["UV2189115",11.947217987804878]
["UV6411805",8.4372066616199852]
["CP3651771",6.2468854904886246]
["UV4094667",5.026042456406369]
["UV2535805",4.6651960784313724]
["UV6241191",4.4815267175572524]
["SL4542202",4.2225228658536587]
["SB6619702",4.0893815201192245]
["VE8168353",3.9628952380952382]
["ST1444632",3.9603864734299514]
["ST0044507",3.8505039193729003]
["UV8505006",3.4571921749136938]
["UV3633599",3.3341994650363014]
["UV046672",3.1279863481228669]
["NU2703355",3.0881752927842845]
["VE8166035",2.7220428088621857]
["ST086120",1.7918521312712183]
["NU3708683",1.7010691103474611]
["UV0787788",1.6673062452972158]
["UV3595016",1.4853006681514478]
["UV2452537",1.3640607632456465]
["UV5379200",1.2201365187713311]
["UV2213161",1.2008812260536399]
["UV3942188",1.1453531598513012]
["UV8538779",0.96808510638297873]
["UV0008455",0.9531062874251498]
["UV0787562",0.92215045592705158]
["ST0904669",0.84211703317182263]
["SL1814144",0.78851656626506028]
["ST3795473",0.65873786407766999]
["NU3827246",0.58989974006683998]
["ST5444150",0.58208955223880599]
["SL1205692",0.58077794561933538]
["AP3728500",0.54760105780128443]
["AP4223947",0.466374380480366]
["ST3859207",0.46510556621881005]
["ST3078513",0.4216216216216217]
["AP3951566",0.33279610194902548]
["UV5473062",0.32768192048012001]
["ST1661696",0.30425531914893617]
["VE8096041",0.26472369417108249]
["UV5416692",0.24393149664929265]
["UV4926151",0.23490965013456364]
["UV579433",0.21014105985512774]
["UV2985514",0.20518602029312288]
["SL1739082",0.20011459129106188]
["UV4787798",0.17601641178664679]
["UV1106642",0.16286353467561521]
["ST0248243",0.15534901365705614]
["UV5677822",0.13959731543624163]
["ST5866857",0.13707651313285116]
["ST5622830",0.11956850870552613]
["AO0414069",9.5323606434717545E-2]
["UV5815295",8.7771942985746434E-2]
["SB4985987",6.333081570996979E-2]
["AP4745289",5.4311996933691077E-2]
["ST5775560",5.2193308550185877E-2]
["NU4893598",4.7651775486827037E-2]
["UV6937295",4.1810022438294688E-2]
["UV4105152",3.7485582468281431E-2]
["VE8008533",9.2061125605665296E-3]
["SB3338674",6.8318318318318317E-3]
["SL2223216",2.9115341545352747E-3]
["Tool 03",6.3077726815396709]
["UV562824",1.6395281456953641]
["UV5956413",1.1860744297719088]
["UV5947578",1.0577441765427054]
["CT3389630",0.70711074785451566]
["DP2404504",0.52158536585365856]
["UV5362907",0.38621255642183011]
["UV5813627",0.35787728026533999]
["UV2805946",0.22608695652173913]
["VE5219409",0.21972569584509885]
["UV5689814",3.1212484993997603E-3]
["FR3966167",2.7060782681099086E-3]
["Tool 04",70.720588421735513]
["MP8104858",43.382276281494356]
["MP8061520",19.525827814569535]
["CM5947011",4.2026544821583993]
["MP8109471",1.5203199308257673]
["FR066151",1.3529906956136466]
["CM2364748",0.56387645478961501]
["UV5494145",0.17264276228419656]
["Tool 05",116.66119561377944]
["AS0125536",58.335004042037191]
["MC5625753",20.216762530813476]
["ZD173254",11.789070146818924]
["AS1143091",9.150197005516155]
["NU2754771",5.7899922420480996]
["DA2128864",4.4612470402525659]
["BC6306450",2.6187349879903925]
["ZD1471989",2.19201581027668]
["ZD1446821",0.69616919393455712]
["IR539559",0.53718152866242042]
["AB3534415",0.4197693574958814]
["IP453302",0.30606060606060609]
["MC5663542",0.14899112187247779]
["Tool 06",24.477671085944351]
["AL1492544",8.4354180829367778]
["MP8026858",7.1311027008429377]
["AS6815735",3.2929466277672903]
["MP8004078",2.2680945853324195]
["BC2509115",1.7931880576527113]
["BC2465775",0.66272773710199218]
["BC1381899",0.29523071625344355]
["BC1086722",0.24409991386735572]
["BC1638233",0.12227171492204901]
["BC2965316",0.12170873124147341]
["ME8876987",5.9070567986230636E-2]
["AB2665756",4.1132204549341543E-2]
["BC5752252",1.067944549033031E-2]
["Tool 07",11.206386332649]
["MP8189416",4.2716594157862025]
["AB5677022",2.2768033292231813]
["UV2195087",2.191093117408907]
["UV4665563",1.0418238503507404]
["UV5555407",0.45404189294026381]
["AP0171319",0.23308687615526802]
["AO855133",0.20069541029207233]
["CT823663",0.16134036611852312]
["SB0898923",0.12102342786683108]
["AO5342652",0.11299937578027466]
["AP3078837",9.9347623485554523E-2]
["AP5897782",2.4783013019218848E-2]
["AP5614262",7.4182603331276993E-3]
["UV6252256",5.8504034761018009E-3]
["AP086256",2.4193548387096775E-3]
["AP4972828",2.0006155740227762E-3]
["Tool 08",120.73411859061646]
["CT3847465",26.184399494310998]
["ME8804901",23.996618357487922]
["CC5605066",16.755262490489475]
["ME8183894",8.0059047136340595]
["CL4179003",6.8369407648087988]
["CM2573429",5.8043511450381686]
["ME8183059",5.4099297893681042]
["CM3509051",3.019812278031456]
["ME8294469",2.9777137127099524]
["ME8203838",2.92646763672855]
["CM2144500",2.8001519371992911]
["ME8846873",2.5714214339245567]
["ME8219605",2.1403442166540114]
["ME8216708",1.8196088264794383]
["ME8004064",1.4714935557240334]
["ME8004536",1.4119335347432023]
["ME8009107",1.3558080808080808]
["ME8808939",0.86034699522252955]
["ME8182883",0.74602457988462501]
["CM2146129",0.67527318932655667]
["ME8144143",0.58387339864355692]
["MC594145",0.40037773860488546]
["ME8212034",0.39130325814536338]
["ME8082434",0.32838283828382836]
["ME8186457",0.30182636977733301]
["ME8809588",0.21347229283172345]
["ME8254069",0.20111590159776821]
["ME8314847",0.18576067949038222]
["ME81564",0.17267175572519083]
["ME8227923",5.610802624936901E-2]
["ME8115997",4.4770408163265309E-2]
["ME8007924",4.3984962406015037E-2]
["CM267912",3.9013224821973551E-2]
["CM350886",1.651003302006604E-3]
["Tool 09",138.07784161658466]
["SL0979997",28.828153564899452]
["CP2759269",20.423966942148763]
["AF4955974",19.072673267326735]
["ST1025440",15.919961240310078]
["MT458935",9.6829365079365068]
["AF4224863",8.8440414507772012]
["MT0524796",7.2379098360655734]
["UV251396",5.3917624521072796]
["UV2198207",4.5017271157167533]
["UV3287428",4.3930139720558881]
["UV0185671",4.0621676891615541]
["SS0108",2.8200000000000003]
["UV5762734",1.6690166975881262]
["AB0975463",1.1729124236252546]
["UV1585237",0.89980879541108993]
["SL6949404",0.89034608378870672]
["UV5311573",0.55942622950819676]
["UV2285856",0.53542757417102971]
["AF2797300",0.39144981412639407]
["AB6883086",0.28393501805054155]
["ST0249290",0.27309027777777778]
["UV5685234",0.16281800391389434]
["SL0454342",6.1296660117878196E-2]
["Tool 10",136.62992048269825]
["RT3164824",87.557334144856981]
["NU1816428",9.893826405867971]
["AB2092362",8.5938687921520547]
["AB0329160",7.5338055376690276]
["VE8109961",4.0045511221945143]
["AB4302436",3.3066666666666671]
["AB2569538",3.0167079207920793]
["SB699340",2.0903267136450991]
["SB1429502",2.0433354797166774]
["AB1018910",1.9677860696517415]
["SB6883672",1.781853281853282]
["AB0635046",1.7535626535626536]
["AB3839653",1.6782416192283367]
["NU3608271",0.64282208588957057]
["MC4291921",0.3945231958762887]
["MR0869382",0.1128361858190709]
["NU5785654",9.3897882938978841E-2]
["AB0513704",7.6609963547995139E-2]
["FR0679719",5.1028037383177571E-2]
["OX5859021",1.9390926041019267E-2]
["CM2981742",1.2847436689314392E-2]
["CT5387974",4.0983606557377051E-3]
["Tool 11",107.30724126757002]
["FR009628",24.73671613212063]
["FR2815273",23.918021873514029]
["FR5969812",17.656180319922445]
["FR0362571",10.644801149976043]
["FR378786",5.9516224188790563]
["FR3576193",3.4699714013346044]
["FR5992952",2.3809409505520884]
["FR5796610",1.9346698113207548]
["FR5342502",1.7079685194294147]
["FR5935871",1.6399805919456574]
["FR1415438",1.5005253104106973]
["FR0919209",1.3936149783965435]
["FR5384444",1.3673509286412511]
["FR4624850",1.18625]
["FR0667973",1.1592195121951221]
["FR4965335",1.1484472049689443]
["FR5979463",1.0373222167729279]
["FR0614261",0.94646416706217373]
["FR5744950",0.59916379734382696]
["FR0622263",0.50019656019656022]
["FR2948803",0.44450389105058363]
["FR317601",0.39491279069767443]
["FR5894727",0.3656447688564477]
["FR5454864",0.32764227642276422]
["FR5684287",0.26025145067698263]
["FR3659141",0.12863288718929256]
["FR2795111",0.11795245026686074]
["FR0935436",0.1171058936272161]
["FR5664727",0.10673031026252983]
["FR4539511",5.3238095238095237E-2]
["FR0061274",4.3354277428709523E-2]
["FR4526775",3.9839698255539839E-2]
["FR5682241",1.5432098765432098E-2]
["FR5608301",1.2572533849129593E-2]
["Tool 12",39.912212874241916]
["MC3717873",10.640064102564102]
["UV3281153",6.5230461922596756]
["MC4244977",5.2616927592954985]
["GF67655",3.2130808950086061]
["CT4696984",2.5102121361618153]
["CC0084549",1.5834780451500867]
["NU3927324",1.3753434923807144]
["CT2727204",1.239895600298285]
["ME8164351",1.1480099502487562]
["CC5603244",0.82606858846918485]
["AS0105077",0.75319520718921618]
["CT5424793",0.71314102564102566]
["IR5796915",0.68163716814159292]
["CT4625235",0.61918590220898495]
["CT2899279",0.59828641370869029]
["CC5877145",0.58672281397077031]
["CT5745914",0.53744449925999016]
["MC3543546",0.45358555885262114]
["CC4774419",0.35498632181049494]
["CT588550",0.14365]
["CT5745169",8.4622942765905179E-2]
["CP5891290",3.4653949620934217E-2]
["IR6327281",2.86E-2]
["CC5835642",1.6093092349591482E-3]
["Tool 13",56.474254111119862]
["CT3676279",21.877309893704005]
["DP4764853",11.105020746887968]
["CT3251740",3.2954601226993869]
["CC5844379",3.2397905759162304]
["CT1422602",3.1187005414410662]
["CT2356543",1.9665571076417421]
["CC3979402",1.7347436940602114]
["AO4874959",1.6205405405405406]
["CT5885641",1.4640725806451613]
["AS0888075",1.3534174125305127]
["FR3467978",1.3297544735746982]
["CT2976643",0.90004011231448067]
["CT5594793",0.86123686337914318]
["CT0911438",0.79946808510638301]
["CC4941594",0.5641509433962264]
["AS5378181",0.37492980344965904]
["AP853615",0.35839867932315311]
["FR457233",0.26490364903649039]
["CT5829315",0.13821839080459769]
["MC3428427",5.6172839506172842E-2]
["DP638679",3.2304609218436878E-2]
["AB617476",1.3211382113821139E-2]
["FR1452826",5.8510638297872347E-3]
["Tool 14",60.771230522884117]
["GF5885097",26.615700692041521]
["DP087138",23.865787234042553]
["FR6818423",2.2038412291933422]
["GF5886834",1.9133882149046795]
["GF0149565",1.752513966480447]
["GF1438930",1.4406144781144781]
["GF5892823",0.9275616896695944]
["GF5747120",0.6447154471544716]
["GF4305823",0.48340573414422239]
["GF586901",0.32667238421955408]
["GF0013491",0.27469422184732184]
["GF1349895",0.11447594501718213]
["GF5598636",7.5574837310195236E-2]
["GF5942175",6.8479657387580301E-2]
["GF498873",2.0155038759689926E-2]
["GF368849",1.6384180790960452E-2]
["GF3811858",1.6327414465136424E-2]
["AO8517171",1.093815734118637E-2]
["Tool 15",66.518810980811679]
["DP1792938",10.966167120799273]
["NU0449734",8.8783789902648866]
["CT54540",5.6033579583613164]
["CT2921184",4.8218023255813955]
["UV5313868",3.8427672955974841]
["CC2566445",3.8115152867663471]
["CC5949597",2.9752819124943617]
["ST5905549",2.4425850340136055]
["DP2403779",2.3371084884248754]
["UV252791",1.9341967734605772]
["AP5647883",1.7559855170853134]
["AP0202155",1.7208992318120198]
["NU290431",1.5755466309683177]
["CL1528731",1.4260218896582533]
["ST269903",1.3419069239500567]
["NU0913559",1.3011780697779793]
["SB6851891",1.1496322710051261]
["FR0905418",1.0485862926939606]
["FR0696557",0.91766413577489958]
["SB6782689",0.76211950394588501]
["UV5924094",0.70681044267877413]
["AO5834357",0.68566267780537371]
["AO2105290",0.5387732005432323]
["UV250174",0.53167299530935896]
["FR5671746",0.44595563522294418]
["UV091154",0.39286525789593274]
["FR2345868",0.38226678684091936]
["UV1394884",0.26046356139959886]
["UV3728968",0.24469561324977618]
["FR3998413",0.23145487202514595]
["FR1379592",0.20249221183800623]
["UV1187156",0.14579982126899019]
["SL035245",0.14260731319554848]
["UV5928329",0.13978809738503156]
["CC5859307",0.12968087480473109]
["AF5847200",0.10850347767556653]
["AL2661736",9.4152046783625737E-2]
["BC3857293",8.7131367292225204E-2]
["NU2694528",7.1082462769504334E-2]
["FR5371365",5.2929201538113549E-2]
["UV0002089",4.7854561878952123E-2]
["UV2636450",4.1043439319301392E-2]
["CC6514546",3.660308810172571E-2]
["FR141742",3.4984170058796928E-2]
["CT3513686",2.5669541534271451E-2]
["NU1662490",2.5667489342607135E-2]
["SB2162364",2.5588235294117648E-2]
["NU0799419",2.1880610412926393E-2]
["FR1615194",1.682179341657208E-2]
["SB0191101",1.3420107719928187E-2]
["MT4603768",1.2163065270661617E-2]
["FR4897160",9.6253085034776753E-3]
["Tool 16",18.157517462107432]
["UV1121941",6.6114339953271024]
["UV133670",2.7927966101694919]
["UV0924680",2.0710147058823529]
["SL6923987",1.7443906731192258]
["AP242884",1.2971619851549994]
["CT1344126",1.2419727791599591]
["CP3782517",0.89262498178108152]
["UV0167578",0.51042827808741564]
["UV0831317",0.2540735294117647]
["SL0973907",0.20883761427949502]
["UV5951712",0.18384984722828462]
["AB4952945",0.13072625698324022]
["UV4289343",5.0124141959982473E-2]
["CT1427436",4.8457827802952783E-2]
["UV0432519",4.1543849409017945E-2]
["UV3533088",2.941954445260838E-2]
["SB585933",1.9248076643925097E-2]
["UV6238373",1.4043795620437956E-2]
["OX5851901",1.0635500365230095E-2]
["AO0324556",4.7334692688610546E-3]
["Tool 17",63.831562922570086]
["AF2334989",32.435161620593831]
["CC4945569",9.5004936120789782]
["CT4394015",6.8734223124909333]
["CC3609599",5.5902463916022747]
["DP0098702",1.9171176470588234]
["CC5387633",1.7485501967069796]
["UV4917026",1.6110441176470589]
["AP352983",0.99124055781522369]
["CT0686710",0.54934631028471825]
["FR5931113",0.38040471684379096]
["SL04371",0.37096727060198714]
["UV631601",0.28083954951001905]
["CC5805891",0.27770309760374051]
["DP4769417",0.25836859769444043]
["UV2781330",0.16506129597197899]
["VE8207633",0.13836633663366338]
["UV495822",0.11305173925752704]
["UV5366748",0.10967039349499057]
["UV0436753",9.9545254510781875E-2]
["CP5915175",9.0100891943266564E-2]
["AB6803301",8.0797420111404283E-2]
["AB4133650",6.2057924610682581E-2]
["CT5982395",5.6439117088145009E-2]
["UV0685993",4.7035745422842196E-2]
["CC6069687",4.1831212520111162E-2]
["NU5305035",2.3546596552731523E-2]
["UV0122500",8.0058651026392955E-3]
["AB1305109",6.4253525221689206E-3]
["GF1114780",4.7217782943483949E-3]
["Tool 18",173.10151252180336]
["CC4618183",71.878510334996434]
["RM56355",33.894529085872577]
["CT593521",32.959305993690855]
["RT2887016",16.676923076923078]
["RT2524952",2.6209457092819615]
["UV2374219",2.3419951168468782]
["RM5699820",2.0515625000000002]
["RM4667709",1.9663865546218486]
["RM0095773",1.20617626648161]
["RM4695168",1.2031717747683535]
["RM2364622",1.1433955618175413]
["RC146190",1.0714136490250696]
["UV3439245",0.90335899230230932]
["RM6463347",0.846830985915493]
["UV4173990",0.59923637625824366]
["UV385351",0.56289131199437215]
["RM5986206",0.49807897545357527]
["RT2601597",0.41554385964912277]
["RM4934415",8.8990825688073399E-2]
["RC4928508",5.0138985406532319E-2]
["RM5456028",4.7847222222222228E-2]
["RM12722",2.5277777777777777E-2]
["RM5696783",2.4902447676481022E-2]
["RM4669200",1.1659192825112109E-2]
["UV1723988",7.4100463127894549E-3]
["RM1193363",5.0298979950756245E-3]
["Tool 19",71.15822482461175]
["MC4997628",17.326950838860711]
["CC5872620",14.112000781173714]
["CT2882108",12.323741217798595]
["CC4329116",8.6793481452481167]
["CC2575",7.92074421330208]
["CT4766693",2.3069437652811735]
["CT1693771",1.8035738697392834]
["CT4983245",1.555575117370892]
["CT5869387",1.3493686992267788]
["CM5946003",1.07609841827768]
["MC5823622",0.76550611246943767]
["CC6146771",0.29740897045833742]
["CC5671451",0.28886056089429302]
["CT1195860",0.27347715736040606]
["FR2492515",0.21634980988593155]
["CT5802839",0.19219502604934632]
["CM5648071",0.16472033815000492]
["UV120727",0.12668302257114819]
["CC642531",9.2784213626546236E-2]
["FR3597468",8.0892839699130609E-2]
["Z00307730",6.2529388714733555E-2]
["CT4998062",4.658354604358924E-2]
["IR1385574",1.9160852903606172E-2]
["CC5951749",1.3875832354093225E-2]
["FR4374057",1.273635740178309E-2]
["FR219333",1.2285658612626657E-2]
["CC5505924",1.0455080423695568E-2]
["CT5587547",1.0066653597333856E-2]
["CT4485707",8.0538892713147812E-3]
["MC4993575",2.5331254871395169E-3]
["FR4954051",1.7731878409976616E-3]
["FR5404360",1.6491022638563625E-3]
["FR3359591",1.3953942232630759E-3]
["CT5312249",1.3930832927423285E-3]
["UV588115",5.1055473735886112E-4]
["Tool 20",50.957560533043562]
["CT0314214",12.149796312169491]
["CT3866790",11.771570316925871]
["CT4972454",7.3218985283714897]
["CT3327591",4.6433007073801571]
["CC2965217",4.4042603040648007]
["CC5803851",3.1616579046888975]
["CC0921636",2.7723332296538503]
["CT6445143",1.0912674270153608]
["CT1153413",0.77306613009158065]
["CC5798817",0.7295175588582623]
["CC0189122",0.70500473433662736]
["CC2454697",0.56059879779422306]
["CC2936183",0.40615548784676181]
["CC5646794",0.20773288422081349]
["CT5668919",7.738249523014061E-2]
["CT2748008",6.5143495621161174E-2]
["CT5819298",4.1024898495596228E-2]
["CT5306052",3.8324486806078022E-2]
["CT5932817",2.3513999807474189E-2]
["CT5783436",5.451327864657649E-3]
["CT6358073",4.452256831824996E-3]
["CC092903",2.1309749575674753E-3]
["CT6438604",1.976274010877637E-3]
["#N/A",{"$error":"#N/A"}]
[0,{"$error":"#N/A"}]
["סכום כולל",{"$error":"#N/A"}]